* |SUCCESS| pw125727-125728 [PATCH] [2/2] telemetry: use portable syntax to initialize array
@ 2023-04-06 5:15 dpdklab
0 siblings, 0 replies; 23+ messages in thread
From: dpdklab @ 2023-04-06 5:15 UTC (permalink / raw)
To: Test Report; +Cc: dpdklab, David Marchand, Thomas Monjalon
Test-Label: iol-abi-testing
Test-Status: SUCCESS
http://dpdk.org/patch/125728
_Testing PASS_
Submitter: Tyler Retzlaff <roretzla@linux.microsoft.com>
Date: Monday, April 03 2023 16:30:24
DPDK git baseline: Repo:dpdk
Branch: master
CommitID:c682c8991963be243dcc3b7cdc9d6984a1961f4e
125727-125728 --> testing pass
Test environment and result as below:
+------------------+----------+
| Environment | abi_test |
+==================+==========+
| Ubuntu 22.04 | PASS |
+------------------+----------+
| CentOS Stream 9 | PASS |
+------------------+----------+
| openSUSE Leap 15 | PASS |
+------------------+----------+
| RHEL 7 | PASS |
+------------------+----------+
Ubuntu 22.04
Kernel: Container Host Kernel
Compiler: gcc 12.2.1-2
CentOS Stream 9
Kernel: 4.18.0-240.10.1.el8_3.x86_64
Compiler: gcc 11.3.1 20220421
openSUSE Leap 15
Kernel: 4.18.0-240.10.1.el8_3.x86_64
Compiler: gcc 7.5.0
RHEL 7
Kernel: 4.18.0-240.10.1.el8_3.x86_64
Compiler: gcc 4.8.5 20150623 (Red Hat 4.8.5-44)
To view detailed results, visit:
https://lab.dpdk.org/results/dashboard/patchsets/25908/
UNH-IOL DPDK Community Lab
To manage your email subscriptions, visit:
https://lab.dpdk.org/results/dashboard/preferences/subscriptions/
^ permalink raw reply [flat|nested] 23+ messages in thread
* |SUCCESS| pw125727-125728 [PATCH] [2/2] telemetry: use portable syntax to initialize array
@ 2023-04-06 5:47 dpdklab
0 siblings, 0 replies; 23+ messages in thread
From: dpdklab @ 2023-04-06 5:47 UTC (permalink / raw)
To: Test Report; +Cc: dpdklab, David Marchand, Thomas Monjalon
Test-Label: iol-abi-testing
Test-Status: SUCCESS
http://dpdk.org/patch/125728
_Testing PASS_
Submitter: Tyler Retzlaff <roretzla@linux.microsoft.com>
Date: Monday, April 03 2023 16:30:24
DPDK git baseline: Repo:dpdk
Branch: master
CommitID:c682c8991963be243dcc3b7cdc9d6984a1961f4e
125727-125728 --> testing pass
Test environment and result as below:
+------------------+----------+
| Environment | abi_test |
+==================+==========+
| Ubuntu 22.04 | PASS |
+------------------+----------+
| CentOS Stream 9 | PASS |
+------------------+----------+
| openSUSE Leap 15 | PASS |
+------------------+----------+
| RHEL 7 | PASS |
+------------------+----------+
| Debian Bullseye | PASS |
+------------------+----------+
| Debian Buster | PASS |
+------------------+----------+
| CentOS Stream 8 | PASS |
+------------------+----------+
| RHEL8 | PASS |
+------------------+----------+
Ubuntu 22.04
Kernel: Container Host Kernel
Compiler: gcc 12.2.1-2
CentOS Stream 9
Kernel: 4.18.0-240.10.1.el8_3.x86_64
Compiler: gcc 11.3.1 20220421
openSUSE Leap 15
Kernel: 4.18.0-240.10.1.el8_3.x86_64
Compiler: gcc 7.5.0
RHEL 7
Kernel: 4.18.0-240.10.1.el8_3.x86_64
Compiler: gcc 4.8.5 20150623 (Red Hat 4.8.5-44)
Debian Bullseye
Kernel: 5.4.0-122-generic
Compiler: gcc 10.2.1-6
Debian Buster
Kernel: 5.4.0-122-generic
Compiler: gcc 8.3.0-6
CentOS Stream 8
Kernel: 4.18.0-240.10.1.el8_3.x86_64
Compiler: gcc 8.4.1 20200928
RHEL8
Kernel: 4.18.0-240.10.1.el8_3.x86_64
Compiler: gcc 8.3.1 20191121 (Red Hat 8.3.1-5)
To view detailed results, visit:
https://lab.dpdk.org/results/dashboard/patchsets/25908/
UNH-IOL DPDK Community Lab
To manage your email subscriptions, visit:
https://lab.dpdk.org/results/dashboard/preferences/subscriptions/
^ permalink raw reply [flat|nested] 23+ messages in thread
* |SUCCESS| pw125727-125728 [PATCH] [2/2] telemetry: use portable syntax to initialize array
@ 2023-04-06 5:44 dpdklab
0 siblings, 0 replies; 23+ messages in thread
From: dpdklab @ 2023-04-06 5:44 UTC (permalink / raw)
To: Test Report; +Cc: dpdklab, David Marchand, Thomas Monjalon
Test-Label: iol-abi-testing
Test-Status: SUCCESS
http://dpdk.org/patch/125728
_Testing PASS_
Submitter: Tyler Retzlaff <roretzla@linux.microsoft.com>
Date: Monday, April 03 2023 16:30:24
DPDK git baseline: Repo:dpdk
Branch: master
CommitID:c682c8991963be243dcc3b7cdc9d6984a1961f4e
125727-125728 --> testing pass
Test environment and result as below:
+------------------+----------+
| Environment | abi_test |
+==================+==========+
| Ubuntu 22.04 | PASS |
+------------------+----------+
| CentOS Stream 9 | PASS |
+------------------+----------+
| openSUSE Leap 15 | PASS |
+------------------+----------+
| RHEL 7 | PASS |
+------------------+----------+
| Debian Bullseye | PASS |
+------------------+----------+
| Debian Buster | PASS |
+------------------+----------+
| CentOS Stream 8 | PASS |
+------------------+----------+
Ubuntu 22.04
Kernel: Container Host Kernel
Compiler: gcc 12.2.1-2
CentOS Stream 9
Kernel: 4.18.0-240.10.1.el8_3.x86_64
Compiler: gcc 11.3.1 20220421
openSUSE Leap 15
Kernel: 4.18.0-240.10.1.el8_3.x86_64
Compiler: gcc 7.5.0
RHEL 7
Kernel: 4.18.0-240.10.1.el8_3.x86_64
Compiler: gcc 4.8.5 20150623 (Red Hat 4.8.5-44)
Debian Bullseye
Kernel: 5.4.0-122-generic
Compiler: gcc 10.2.1-6
Debian Buster
Kernel: 5.4.0-122-generic
Compiler: gcc 8.3.0-6
CentOS Stream 8
Kernel: 4.18.0-240.10.1.el8_3.x86_64
Compiler: gcc 8.4.1 20200928
To view detailed results, visit:
https://lab.dpdk.org/results/dashboard/patchsets/25908/
UNH-IOL DPDK Community Lab
To manage your email subscriptions, visit:
https://lab.dpdk.org/results/dashboard/preferences/subscriptions/
^ permalink raw reply [flat|nested] 23+ messages in thread
* |SUCCESS| pw125727-125728 [PATCH] [2/2] telemetry: use portable syntax to initialize array
@ 2023-04-06 5:40 dpdklab
0 siblings, 0 replies; 23+ messages in thread
From: dpdklab @ 2023-04-06 5:40 UTC (permalink / raw)
To: Test Report; +Cc: Tyler Retzlaff, David Marchand, Thomas Monjalon
Test-Label: iol-abi-testing
Test-Status: SUCCESS
http://dpdk.org/patch/125728
_Testing PASS_
Submitter: Tyler Retzlaff <roretzla@linux.microsoft.com>
Date: Monday, April 03 2023 16:30:24
DPDK git baseline: Repo:dpdk
Branch: master
CommitID:c682c8991963be243dcc3b7cdc9d6984a1961f4e
125727-125728 --> testing pass
Test environment and result as below:
+------------------+----------+
| Environment | abi_test |
+==================+==========+
| Ubuntu 22.04 | PASS |
+------------------+----------+
| CentOS Stream 9 | PASS |
+------------------+----------+
| openSUSE Leap 15 | PASS |
+------------------+----------+
| RHEL 7 | PASS |
+------------------+----------+
| Debian Bullseye | PASS |
+------------------+----------+
| Debian Buster | PASS |
+------------------+----------+
Ubuntu 22.04
Kernel: Container Host Kernel
Compiler: gcc 12.2.1-2
CentOS Stream 9
Kernel: 4.18.0-240.10.1.el8_3.x86_64
Compiler: gcc 11.3.1 20220421
openSUSE Leap 15
Kernel: 4.18.0-240.10.1.el8_3.x86_64
Compiler: gcc 7.5.0
RHEL 7
Kernel: 4.18.0-240.10.1.el8_3.x86_64
Compiler: gcc 4.8.5 20150623 (Red Hat 4.8.5-44)
Debian Bullseye
Kernel: 5.4.0-122-generic
Compiler: gcc 10.2.1-6
Debian Buster
Kernel: 5.4.0-122-generic
Compiler: gcc 8.3.0-6
To view detailed results, visit:
https://lab.dpdk.org/results/dashboard/patchsets/25908/
UNH-IOL DPDK Community Lab
To manage your email subscriptions, visit:
https://lab.dpdk.org/results/dashboard/preferences/subscriptions/
^ permalink raw reply [flat|nested] 23+ messages in thread
* |SUCCESS| pw125727-125728 [PATCH] [2/2] telemetry: use portable syntax to initialize array
@ 2023-04-06 5:34 dpdklab
0 siblings, 0 replies; 23+ messages in thread
From: dpdklab @ 2023-04-06 5:34 UTC (permalink / raw)
To: Test Report; +Cc: dpdklab, David Marchand, Thomas Monjalon
Test-Label: iol-abi-testing
Test-Status: SUCCESS
http://dpdk.org/patch/125728
_Testing PASS_
Submitter: Tyler Retzlaff <roretzla@linux.microsoft.com>
Date: Monday, April 03 2023 16:30:24
DPDK git baseline: Repo:dpdk
Branch: master
CommitID:c682c8991963be243dcc3b7cdc9d6984a1961f4e
125727-125728 --> testing pass
Test environment and result as below:
+------------------+----------+
| Environment | abi_test |
+==================+==========+
| Ubuntu 22.04 | PASS |
+------------------+----------+
| CentOS Stream 9 | PASS |
+------------------+----------+
| openSUSE Leap 15 | PASS |
+------------------+----------+
| RHEL 7 | PASS |
+------------------+----------+
| Debian Bullseye | PASS |
+------------------+----------+
Ubuntu 22.04
Kernel: Container Host Kernel
Compiler: gcc 12.2.1-2
CentOS Stream 9
Kernel: 4.18.0-240.10.1.el8_3.x86_64
Compiler: gcc 11.3.1 20220421
openSUSE Leap 15
Kernel: 4.18.0-240.10.1.el8_3.x86_64
Compiler: gcc 7.5.0
RHEL 7
Kernel: 4.18.0-240.10.1.el8_3.x86_64
Compiler: gcc 4.8.5 20150623 (Red Hat 4.8.5-44)
Debian Bullseye
Kernel: 5.4.0-122-generic
Compiler: gcc 10.2.1-6
To view detailed results, visit:
https://lab.dpdk.org/results/dashboard/patchsets/25908/
UNH-IOL DPDK Community Lab
To manage your email subscriptions, visit:
https://lab.dpdk.org/results/dashboard/preferences/subscriptions/
^ permalink raw reply [flat|nested] 23+ messages in thread
* |SUCCESS| pw125727-125728 [PATCH] [2/2] telemetry: use portable syntax to initialize array
@ 2023-04-06 5:34 dpdklab
0 siblings, 0 replies; 23+ messages in thread
From: dpdklab @ 2023-04-06 5:34 UTC (permalink / raw)
To: Test Report; +Cc: Tyler Retzlaff, David Marchand, Thomas Monjalon
Test-Label: iol-abi-testing
Test-Status: SUCCESS
http://dpdk.org/patch/125728
_Testing PASS_
Submitter: Tyler Retzlaff <roretzla@linux.microsoft.com>
Date: Monday, April 03 2023 16:30:24
DPDK git baseline: Repo:dpdk
Branch: master
CommitID:c682c8991963be243dcc3b7cdc9d6984a1961f4e
125727-125728 --> testing pass
Test environment and result as below:
+------------------+----------+
| Environment | abi_test |
+==================+==========+
| Ubuntu 22.04 | PASS |
+------------------+----------+
| CentOS Stream 9 | PASS |
+------------------+----------+
| openSUSE Leap 15 | PASS |
+------------------+----------+
| RHEL 7 | PASS |
+------------------+----------+
| Debian Bullseye | PASS |
+------------------+----------+
Ubuntu 22.04
Kernel: Container Host Kernel
Compiler: gcc 12.2.1-2
CentOS Stream 9
Kernel: 4.18.0-240.10.1.el8_3.x86_64
Compiler: gcc 11.3.1 20220421
openSUSE Leap 15
Kernel: 4.18.0-240.10.1.el8_3.x86_64
Compiler: gcc 7.5.0
RHEL 7
Kernel: 4.18.0-240.10.1.el8_3.x86_64
Compiler: gcc 4.8.5 20150623 (Red Hat 4.8.5-44)
Debian Bullseye
Kernel: 5.4.0-122-generic
Compiler: gcc 10.2.1-6
To view detailed results, visit:
https://lab.dpdk.org/results/dashboard/patchsets/25908/
UNH-IOL DPDK Community Lab
To manage your email subscriptions, visit:
https://lab.dpdk.org/results/dashboard/preferences/subscriptions/
^ permalink raw reply [flat|nested] 23+ messages in thread
* |SUCCESS| pw125727-125728 [PATCH] [2/2] telemetry: use portable syntax to initialize array
@ 2023-04-06 5:16 dpdklab
0 siblings, 0 replies; 23+ messages in thread
From: dpdklab @ 2023-04-06 5:16 UTC (permalink / raw)
To: Test Report; +Cc: dpdklab, David Marchand, Thomas Monjalon
Test-Label: iol-abi-testing
Test-Status: SUCCESS
http://dpdk.org/patch/125728
_Testing PASS_
Submitter: Tyler Retzlaff <roretzla@linux.microsoft.com>
Date: Monday, April 03 2023 16:30:24
DPDK git baseline: Repo:dpdk
Branch: master
CommitID:c682c8991963be243dcc3b7cdc9d6984a1961f4e
125727-125728 --> testing pass
Test environment and result as below:
+------------------+----------+
| Environment | abi_test |
+==================+==========+
| Ubuntu 22.04 | PASS |
+------------------+----------+
| CentOS Stream 9 | PASS |
+------------------+----------+
| openSUSE Leap 15 | PASS |
+------------------+----------+
| RHEL 7 | PASS |
+------------------+----------+
Ubuntu 22.04
Kernel: Container Host Kernel
Compiler: gcc 12.2.1-2
CentOS Stream 9
Kernel: 4.18.0-240.10.1.el8_3.x86_64
Compiler: gcc 11.3.1 20220421
openSUSE Leap 15
Kernel: 4.18.0-240.10.1.el8_3.x86_64
Compiler: gcc 7.5.0
RHEL 7
Kernel: 4.18.0-240.10.1.el8_3.x86_64
Compiler: gcc 4.8.5 20150623 (Red Hat 4.8.5-44)
To view detailed results, visit:
https://lab.dpdk.org/results/dashboard/patchsets/25908/
UNH-IOL DPDK Community Lab
To manage your email subscriptions, visit:
https://lab.dpdk.org/results/dashboard/preferences/subscriptions/
^ permalink raw reply [flat|nested] 23+ messages in thread
* |SUCCESS| pw125727-125728 [PATCH] [2/2] telemetry: use portable syntax to initialize array
@ 2023-04-06 5:15 dpdklab
0 siblings, 0 replies; 23+ messages in thread
From: dpdklab @ 2023-04-06 5:15 UTC (permalink / raw)
To: Test Report; +Cc: dpdklab, David Marchand, Thomas Monjalon
Test-Label: iol-abi-testing
Test-Status: SUCCESS
http://dpdk.org/patch/125728
_Testing PASS_
Submitter: Tyler Retzlaff <roretzla@linux.microsoft.com>
Date: Monday, April 03 2023 16:30:24
DPDK git baseline: Repo:dpdk
Branch: master
CommitID:c682c8991963be243dcc3b7cdc9d6984a1961f4e
125727-125728 --> testing pass
Test environment and result as below:
+------------------+----------+
| Environment | abi_test |
+==================+==========+
| Ubuntu 22.04 | PASS |
+------------------+----------+
| CentOS Stream 9 | PASS |
+------------------+----------+
| openSUSE Leap 15 | PASS |
+------------------+----------+
| RHEL 7 | PASS |
+------------------+----------+
Ubuntu 22.04
Kernel: Container Host Kernel
Compiler: gcc 12.2.1-2
CentOS Stream 9
Kernel: 4.18.0-240.10.1.el8_3.x86_64
Compiler: gcc 11.3.1 20220421
openSUSE Leap 15
Kernel: 4.18.0-240.10.1.el8_3.x86_64
Compiler: gcc 7.5.0
RHEL 7
Kernel: 4.18.0-240.10.1.el8_3.x86_64
Compiler: gcc 4.8.5 20150623 (Red Hat 4.8.5-44)
To view detailed results, visit:
https://lab.dpdk.org/results/dashboard/patchsets/25908/
UNH-IOL DPDK Community Lab
To manage your email subscriptions, visit:
https://lab.dpdk.org/results/dashboard/preferences/subscriptions/
^ permalink raw reply [flat|nested] 23+ messages in thread
* |SUCCESS| pw125727-125728 [PATCH] [2/2] telemetry: use portable syntax to initialize array
@ 2023-04-06 5:14 dpdklab
0 siblings, 0 replies; 23+ messages in thread
From: dpdklab @ 2023-04-06 5:14 UTC (permalink / raw)
To: Test Report; +Cc: dpdk-test-reports, David Marchand, Thomas Monjalon
Test-Label: iol-abi-testing
Test-Status: SUCCESS
http://dpdk.org/patch/125728
_Testing PASS_
Submitter: Tyler Retzlaff <roretzla@linux.microsoft.com>
Date: Monday, April 03 2023 16:30:24
DPDK git baseline: Repo:dpdk
Branch: master
CommitID:c682c8991963be243dcc3b7cdc9d6984a1961f4e
125727-125728 --> testing pass
Test environment and result as below:
+------------------+----------+
| Environment | abi_test |
+==================+==========+
| Ubuntu 22.04 | PASS |
+------------------+----------+
| CentOS Stream 9 | PASS |
+------------------+----------+
| openSUSE Leap 15 | PASS |
+------------------+----------+
Ubuntu 22.04
Kernel: Container Host Kernel
Compiler: gcc 12.2.1-2
CentOS Stream 9
Kernel: 4.18.0-240.10.1.el8_3.x86_64
Compiler: gcc 11.3.1 20220421
openSUSE Leap 15
Kernel: 4.18.0-240.10.1.el8_3.x86_64
Compiler: gcc 7.5.0
To view detailed results, visit:
https://lab.dpdk.org/results/dashboard/patchsets/25908/
UNH-IOL DPDK Community Lab
To manage your email subscriptions, visit:
https://lab.dpdk.org/results/dashboard/preferences/subscriptions/
^ permalink raw reply [flat|nested] 23+ messages in thread
* |SUCCESS| pw125727-125728 [PATCH] [2/2] telemetry: use portable syntax to initialize array
@ 2023-04-03 17:28 dpdklab
0 siblings, 0 replies; 23+ messages in thread
From: dpdklab @ 2023-04-03 17:28 UTC (permalink / raw)
To: Test Report; +Cc: dpdk-test-reports, David Marchand, Thomas Monjalon
Test-Label: iol-intel-Performance
Test-Status: SUCCESS
http://dpdk.org/patch/125728
_Performance Testing PASS_
Submitter: Tyler Retzlaff <roretzla@linux.microsoft.com>
Date: Monday, April 03 2023 16:30:24
DPDK git baseline: Repo:dpdk
Branch: master
CommitID:c682c8991963be243dcc3b7cdc9d6984a1961f4e
125727-125728 --> performance testing pass
Test environment and result as below:
Ubuntu 20.04 ARM
Kernel: 4.15.0-132-generic
Compiler: gcc 7.5
NIC: Arm Intel Corporation Ethernet Converged Network Adapter XL710-QDA2 40000 Mbps
Target: x86_64-native-linuxapp-gcc
Fail/Total: 0/2
Detail performance results:
+------------+---------+----------+-------------+------------------------------+
| frame_size | txd/rxd | num_cpus | num_threads | throughput difference from |
| | | | | expected |
+============+=========+==========+=============+==============================+
| 64 | 512 | 1 | 1 | 6.4% |
+------------+---------+----------+-------------+------------------------------+
| 64 | 2048 | 1 | 1 | 4.8% |
+------------+---------+----------+-------------+------------------------------+
Arm Ampere Altra - Ubuntu 20.04.4
Kernel: 5.4.0-137-generic aarch64
Compiler: gcc 9.4
NIC: Intel Corporation Ethernet Converged Network Adapter XL710-QDA2 40000 Mbps
Target: x86_64-native-linuxapp-gcc
Fail/Total: 0/2
Detail performance results:
+------------+---------+----------+-------------+------------------------------+
| frame_size | txd/rxd | num_cpus | num_threads | throughput difference from |
| | | | | expected |
+============+=========+==========+=============+==============================+
| 64 | 512 | 1 | 1 | -0.1% |
+------------+---------+----------+-------------+------------------------------+
| 64 | 2048 | 1 | 1 | -0.3% |
+------------+---------+----------+-------------+------------------------------+
Ubuntu 20.04
Kernel: 4.15.0-generic
Compiler: gcc 7.4
NIC: Intel Corporation Ethernet Converged Network Adapter XL710-QDA2 40000 Mbps
Target: x86_64-native-linuxapp-gcc
Fail/Total: 0/4
Detail performance results:
+----------+-------------+---------+------------+------------------------------+
| num_cpus | num_threads | txd/rxd | frame_size | throughput difference from |
| | | | | expected |
+==========+=============+=========+============+==============================+
| 1 | 2 | 512 | 64 | 1.5% |
+----------+-------------+---------+------------+------------------------------+
| 1 | 2 | 2048 | 64 | -0.6% |
+----------+-------------+---------+------------+------------------------------+
| 1 | 1 | 512 | 64 | -0.2% |
+----------+-------------+---------+------------+------------------------------+
| 1 | 1 | 2048 | 64 | -0.5% |
+----------+-------------+---------+------------+------------------------------+
Ubuntu 20.04
Kernel: 4.15.0-generic
Compiler: gcc 7.4
NIC: Intel Corporation Ethernet Converged Network Adapter 82599ES 10000 Mbps
Target: x86_64-native-linuxapp-gcc
Fail/Total: 0/6
Detail performance results:
+----------+-------------+---------+------------+------------------------------+
| num_cpus | num_threads | txd/rxd | frame_size | throughput difference from |
| | | | | expected |
+==========+=============+=========+============+==============================+
| 1 | 2 | 128 | 64 | -0.1% |
+----------+-------------+---------+------------+------------------------------+
| 1 | 2 | 512 | 64 | 0.2% |
+----------+-------------+---------+------------+------------------------------+
| 1 | 2 | 2048 | 64 | -0.0% |
+----------+-------------+---------+------------+------------------------------+
| 1 | 1 | 128 | 64 | -0.2% |
+----------+-------------+---------+------------+------------------------------+
| 1 | 1 | 512 | 64 | -0.3% |
+----------+-------------+---------+------------+------------------------------+
| 1 | 1 | 2048 | 64 | 0.2% |
+----------+-------------+---------+------------+------------------------------+
To view detailed results, visit:
https://lab.dpdk.org/results/dashboard/patchsets/25908/
UNH-IOL DPDK Community Lab
To manage your email subscriptions, visit:
https://lab.dpdk.org/results/dashboard/preferences/subscriptions/
^ permalink raw reply [flat|nested] 23+ messages in thread
* |SUCCESS| pw125727-125728 [PATCH] [2/2] telemetry: use portable syntax to initialize array
@ 2023-04-03 17:24 dpdklab
0 siblings, 0 replies; 23+ messages in thread
From: dpdklab @ 2023-04-03 17:24 UTC (permalink / raw)
To: Test Report; +Cc: dpdk-test-reports, David Marchand, Thomas Monjalon
Test-Label: iol-intel-Functional
Test-Status: SUCCESS
http://dpdk.org/patch/125728
_Functional Testing PASS_
Submitter: Tyler Retzlaff <roretzla@linux.microsoft.com>
Date: Monday, April 03 2023 16:30:24
DPDK git baseline: Repo:dpdk
Branch: master
CommitID:c682c8991963be243dcc3b7cdc9d6984a1961f4e
125727-125728 --> functional testing pass
Test environment and result as below:
Ubuntu 20.04
Kernel: 4.15.0-generic
Compiler: gcc 7.4
NIC: Intel Corporation Ethernet Converged Network Adapter 82599ES 10000 Mbps
Target: x86_64-native-linuxapp-gcc
Fail/Total: 0/2
Arm Ampere Altra - Ubuntu 20.04.4
Kernel: 5.4.0-137-generic aarch64
Compiler: gcc 9.4
NIC: Intel Corporation Ethernet Converged Network Adapter XL710-QDA2 40000 Mbps
Target: x86_64-native-linuxapp-gcc
Fail/Total: 0/1
Ubuntu 20.04
Kernel: 4.15.0-generic
Compiler: gcc 7.4
NIC: Intel Corporation Ethernet Converged Network Adapter XL710-QDA2 40000 Mbps
Target: x86_64-native-linuxapp-gcc
Fail/Total: 0/2
Ubuntu 20.04 ARM
Kernel: 4.15.0-132-generic
Compiler: gcc 7.5
NIC: Arm Intel Corporation Ethernet Converged Network Adapter XL710-QDA2 40000 Mbps
Target: x86_64-native-linuxapp-gcc
Fail/Total: 0/2
To view detailed results, visit:
https://lab.dpdk.org/results/dashboard/patchsets/25908/
UNH-IOL DPDK Community Lab
To manage your email subscriptions, visit:
https://lab.dpdk.org/results/dashboard/preferences/subscriptions/
^ permalink raw reply [flat|nested] 23+ messages in thread
* |SUCCESS| pw125727-125728 [PATCH] [2/2] telemetry: use portable syntax to initialize array
@ 2023-04-03 17:20 dpdklab
0 siblings, 0 replies; 23+ messages in thread
From: dpdklab @ 2023-04-03 17:20 UTC (permalink / raw)
To: Test Report; +Cc: dpdk-test-reports, David Marchand, Thomas Monjalon
Test-Label: iol-broadcom-Functional
Test-Status: SUCCESS
http://dpdk.org/patch/125728
_Functional Testing PASS_
Submitter: Tyler Retzlaff <roretzla@linux.microsoft.com>
Date: Monday, April 03 2023 16:30:24
DPDK git baseline: Repo:dpdk
Branch: master
CommitID:c682c8991963be243dcc3b7cdc9d6984a1961f4e
125727-125728 --> functional testing pass
Test environment and result as below:
Ubuntu 22.04
Kernel: 5.15.0-58-generic x86_64
Compiler: gcc gcc (Ubuntu 11.2.0-19ubuntu1) 11.2.0
NIC: Broadcom Inc. and subsidiaries BCM957508-P2100G Dual-Port 100 Gb/s QSFP56 100 Mbps
Target: x86_64-native-linuxapp-gcc
Fail/Total: 0/2
Arm Ampere Altra - Ubuntu 20.04.4
Kernel: 5.4.0-137-generic aarch64
Compiler: gcc 9.4
NIC: Broadcom Inc. and subsidiaries BCM957508-P2100G Dual-Port 100 Gb/s QSFP56 100 Mbps
Target: x86_64-native-linuxapp-gcc
Fail/Total: 0/1
Ubuntu 20.04 ARM
Kernel: 4.15.0-132-generic
Compiler: gcc 7.5
NIC: Arm Broadcom Inc. brcm_57414 25000 Mbps
Target: x86_64-native-linuxapp-gcc
Fail/Total: 0/1
To view detailed results, visit:
https://lab.dpdk.org/results/dashboard/patchsets/25908/
UNH-IOL DPDK Community Lab
To manage your email subscriptions, visit:
https://lab.dpdk.org/results/dashboard/preferences/subscriptions/
^ permalink raw reply [flat|nested] 23+ messages in thread
* |SUCCESS| pw125727-125728 [PATCH] [2/2] telemetry: use portable syntax to initialize array
@ 2023-04-03 17:15 dpdklab
0 siblings, 0 replies; 23+ messages in thread
From: dpdklab @ 2023-04-03 17:15 UTC (permalink / raw)
To: Test Report; +Cc: dpdk-test-reports, David Marchand, Thomas Monjalon
Test-Label: iol-broadcom-Performance
Test-Status: SUCCESS
http://dpdk.org/patch/125728
_Performance Testing PASS_
Submitter: Tyler Retzlaff <roretzla@linux.microsoft.com>
Date: Monday, April 03 2023 16:30:24
DPDK git baseline: Repo:dpdk
Branch: master
CommitID:c682c8991963be243dcc3b7cdc9d6984a1961f4e
125727-125728 --> performance testing pass
Test environment and result as below:
Ubuntu 22.04
Kernel: 5.15.0-39-generic
Compiler: gcc gcc (Ubuntu 11.2.0-19ubuntu1) 11.2.0
NIC: Broadcom Inc. and subsidiaries BCM57414 NetXtreme-E 10Gb/25Gb RDMA Ethernet Controller 16d7 25 Mbps
Target: x86_64-native-linuxapp-gcc
Fail/Total: 0/3
Detail performance results:
+------------+---------+----------+-------------+------------------------------+
| frame_size | txd/rxd | num_cpus | num_threads | throughput difference from |
| | | | | expected |
+============+=========+==========+=============+==============================+
| 64 | 128 | 1 | 1 | 0.1% |
+------------+---------+----------+-------------+------------------------------+
| 64 | 512 | 1 | 1 | 0.1% |
+------------+---------+----------+-------------+------------------------------+
| 64 | 2048 | 1 | 1 | 0.1% |
+------------+---------+----------+-------------+------------------------------+
To view detailed results, visit:
https://lab.dpdk.org/results/dashboard/patchsets/25908/
UNH-IOL DPDK Community Lab
To manage your email subscriptions, visit:
https://lab.dpdk.org/results/dashboard/preferences/subscriptions/
^ permalink raw reply [flat|nested] 23+ messages in thread
* |SUCCESS| pw125727-125728 [PATCH] [2/2] telemetry: use portable syntax to initialize array
@ 2023-04-03 17:15 dpdklab
0 siblings, 0 replies; 23+ messages in thread
From: dpdklab @ 2023-04-03 17:15 UTC (permalink / raw)
To: Test Report; +Cc: dpdk-test-reports, David Marchand, Thomas Monjalon
Test-Label: iol-intel-Functional
Test-Status: SUCCESS
http://dpdk.org/patch/125728
_Functional Testing PASS_
Submitter: Tyler Retzlaff <roretzla@linux.microsoft.com>
Date: Monday, April 03 2023 16:30:24
DPDK git baseline: Repo:dpdk
Branch: master
CommitID:c682c8991963be243dcc3b7cdc9d6984a1961f4e
125727-125728 --> functional testing pass
Test environment and result as below:
Ubuntu 20.04
Kernel: 4.15.0-generic
Compiler: gcc 7.4
NIC: Intel Corporation Ethernet Converged Network Adapter 82599ES 10000 Mbps
Target: x86_64-native-linuxapp-gcc
Fail/Total: 0/2
Arm Ampere Altra - Ubuntu 20.04.4
Kernel: 5.4.0-137-generic aarch64
Compiler: gcc 9.4
NIC: Intel Corporation Ethernet Converged Network Adapter XL710-QDA2 40000 Mbps
Target: x86_64-native-linuxapp-gcc
Fail/Total: 0/1
Ubuntu 20.04 ARM
Kernel: 4.15.0-132-generic
Compiler: gcc 7.5
NIC: Arm Intel Corporation Ethernet Converged Network Adapter XL710-QDA2 40000 Mbps
Target: x86_64-native-linuxapp-gcc
Fail/Total: 0/2
To view detailed results, visit:
https://lab.dpdk.org/results/dashboard/patchsets/25908/
UNH-IOL DPDK Community Lab
To manage your email subscriptions, visit:
https://lab.dpdk.org/results/dashboard/preferences/subscriptions/
^ permalink raw reply [flat|nested] 23+ messages in thread
* |SUCCESS| pw125727-125728 [PATCH] [2/2] telemetry: use portable syntax to initialize array
@ 2023-04-03 17:12 dpdklab
0 siblings, 0 replies; 23+ messages in thread
From: dpdklab @ 2023-04-03 17:12 UTC (permalink / raw)
To: Test Report; +Cc: dpdk-test-reports, David Marchand, Thomas Monjalon
Test-Label: iol-intel-Performance
Test-Status: SUCCESS
http://dpdk.org/patch/125728
_Performance Testing PASS_
Submitter: Tyler Retzlaff <roretzla@linux.microsoft.com>
Date: Monday, April 03 2023 16:30:24
DPDK git baseline: Repo:dpdk
Branch: master
CommitID:c682c8991963be243dcc3b7cdc9d6984a1961f4e
125727-125728 --> performance testing pass
Test environment and result as below:
Ubuntu 20.04 ARM
Kernel: 4.15.0-132-generic
Compiler: gcc 7.5
NIC: Arm Intel Corporation Ethernet Converged Network Adapter XL710-QDA2 40000 Mbps
Target: x86_64-native-linuxapp-gcc
Fail/Total: 0/2
Detail performance results:
+------------+---------+----------+-------------+------------------------------+
| frame_size | txd/rxd | num_cpus | num_threads | throughput difference from |
| | | | | expected |
+============+=========+==========+=============+==============================+
| 64 | 512 | 1 | 1 | 6.4% |
+------------+---------+----------+-------------+------------------------------+
| 64 | 2048 | 1 | 1 | 4.8% |
+------------+---------+----------+-------------+------------------------------+
Arm Ampere Altra - Ubuntu 20.04.4
Kernel: 5.4.0-137-generic aarch64
Compiler: gcc 9.4
NIC: Intel Corporation Ethernet Converged Network Adapter XL710-QDA2 40000 Mbps
Target: x86_64-native-linuxapp-gcc
Fail/Total: 0/2
Detail performance results:
+------------+---------+----------+-------------+------------------------------+
| frame_size | txd/rxd | num_cpus | num_threads | throughput difference from |
| | | | | expected |
+============+=========+==========+=============+==============================+
| 64 | 512 | 1 | 1 | -0.1% |
+------------+---------+----------+-------------+------------------------------+
| 64 | 2048 | 1 | 1 | -0.3% |
+------------+---------+----------+-------------+------------------------------+
Ubuntu 20.04
Kernel: 4.15.0-generic
Compiler: gcc 7.4
NIC: Intel Corporation Ethernet Converged Network Adapter XL710-QDA2 40000 Mbps
Target: x86_64-native-linuxapp-gcc
Fail/Total: 0/4
Detail performance results:
+----------+-------------+---------+------------+------------------------------+
| num_cpus | num_threads | txd/rxd | frame_size | throughput difference from |
| | | | | expected |
+==========+=============+=========+============+==============================+
| 1 | 2 | 512 | 64 | 1.5% |
+----------+-------------+---------+------------+------------------------------+
| 1 | 2 | 2048 | 64 | -0.6% |
+----------+-------------+---------+------------+------------------------------+
| 1 | 1 | 512 | 64 | -0.2% |
+----------+-------------+---------+------------+------------------------------+
| 1 | 1 | 2048 | 64 | -0.5% |
+----------+-------------+---------+------------+------------------------------+
To view detailed results, visit:
https://lab.dpdk.org/results/dashboard/patchsets/25908/
UNH-IOL DPDK Community Lab
To manage your email subscriptions, visit:
https://lab.dpdk.org/results/dashboard/preferences/subscriptions/
^ permalink raw reply [flat|nested] 23+ messages in thread
* |SUCCESS| pw125727-125728 [PATCH] [2/2] telemetry: use portable syntax to initialize array
@ 2023-04-03 17:11 dpdklab
0 siblings, 0 replies; 23+ messages in thread
From: dpdklab @ 2023-04-03 17:11 UTC (permalink / raw)
To: Test Report; +Cc: dpdk-test-reports, David Marchand, Thomas Monjalon
Test-Label: iol-broadcom-Functional
Test-Status: SUCCESS
http://dpdk.org/patch/125728
_Functional Testing PASS_
Submitter: Tyler Retzlaff <roretzla@linux.microsoft.com>
Date: Monday, April 03 2023 16:30:24
DPDK git baseline: Repo:dpdk
Branch: master
CommitID:c682c8991963be243dcc3b7cdc9d6984a1961f4e
125727-125728 --> functional testing pass
Test environment and result as below:
Ubuntu 22.04
Kernel: 5.15.0-58-generic x86_64
Compiler: gcc gcc (Ubuntu 11.2.0-19ubuntu1) 11.2.0
NIC: Broadcom Inc. and subsidiaries BCM957508-P2100G Dual-Port 100 Gb/s QSFP56 100 Mbps
Target: x86_64-native-linuxapp-gcc
Fail/Total: 0/2
Ubuntu 20.04 ARM
Kernel: 4.15.0-132-generic
Compiler: gcc 7.5
NIC: Arm Broadcom Inc. brcm_57414 25000 Mbps
Target: x86_64-native-linuxapp-gcc
Fail/Total: 0/1
To view detailed results, visit:
https://lab.dpdk.org/results/dashboard/patchsets/25908/
UNH-IOL DPDK Community Lab
To manage your email subscriptions, visit:
https://lab.dpdk.org/results/dashboard/preferences/subscriptions/
^ permalink raw reply [flat|nested] 23+ messages in thread
* |SUCCESS| pw125727-125728 [PATCH] [2/2] telemetry: use portable syntax to initialize array
@ 2023-04-03 17:10 dpdklab
0 siblings, 0 replies; 23+ messages in thread
From: dpdklab @ 2023-04-03 17:10 UTC (permalink / raw)
To: Test Report; +Cc: dpdk-test-reports, David Marchand, Thomas Monjalon
Test-Label: iol-intel-Performance
Test-Status: SUCCESS
http://dpdk.org/patch/125728
_Performance Testing PASS_
Submitter: Tyler Retzlaff <roretzla@linux.microsoft.com>
Date: Monday, April 03 2023 16:30:24
DPDK git baseline: Repo:dpdk
Branch: master
CommitID:c682c8991963be243dcc3b7cdc9d6984a1961f4e
125727-125728 --> performance testing pass
Test environment and result as below:
Ubuntu 20.04 ARM
Kernel: 4.15.0-132-generic
Compiler: gcc 7.5
NIC: Arm Intel Corporation Ethernet Converged Network Adapter XL710-QDA2 40000 Mbps
Target: x86_64-native-linuxapp-gcc
Fail/Total: 0/2
Detail performance results:
+------------+---------+----------+-------------+------------------------------+
| frame_size | txd/rxd | num_cpus | num_threads | throughput difference from |
| | | | | expected |
+============+=========+==========+=============+==============================+
| 64 | 512 | 1 | 1 | 6.4% |
+------------+---------+----------+-------------+------------------------------+
| 64 | 2048 | 1 | 1 | 4.8% |
+------------+---------+----------+-------------+------------------------------+
Arm Ampere Altra - Ubuntu 20.04.4
Kernel: 5.4.0-137-generic aarch64
Compiler: gcc 9.4
NIC: Intel Corporation Ethernet Converged Network Adapter XL710-QDA2 40000 Mbps
Target: x86_64-native-linuxapp-gcc
Fail/Total: 0/2
Detail performance results:
+------------+---------+----------+-------------+------------------------------+
| frame_size | txd/rxd | num_cpus | num_threads | throughput difference from |
| | | | | expected |
+============+=========+==========+=============+==============================+
| 64 | 512 | 1 | 1 | -0.1% |
+------------+---------+----------+-------------+------------------------------+
| 64 | 2048 | 1 | 1 | -0.3% |
+------------+---------+----------+-------------+------------------------------+
To view detailed results, visit:
https://lab.dpdk.org/results/dashboard/patchsets/25908/
UNH-IOL DPDK Community Lab
To manage your email subscriptions, visit:
https://lab.dpdk.org/results/dashboard/preferences/subscriptions/
^ permalink raw reply [flat|nested] 23+ messages in thread
* |SUCCESS| pw125727-125728 [PATCH] [2/2] telemetry: use portable syntax to initialize array
@ 2023-04-03 17:09 dpdklab
0 siblings, 0 replies; 23+ messages in thread
From: dpdklab @ 2023-04-03 17:09 UTC (permalink / raw)
To: Ali Alnubani, Test Report
Cc: dpdk-test-reports, David Marchand, Thomas Monjalon
Test-Label: iol-mellanox-Performance
Test-Status: SUCCESS
http://dpdk.org/patch/125728
_Performance Testing PASS_
Submitter: Tyler Retzlaff <roretzla@linux.microsoft.com>
Date: Monday, April 03 2023 16:30:24
DPDK git baseline: Repo:dpdk
Branch: master
CommitID:c682c8991963be243dcc3b7cdc9d6984a1961f4e
125727-125728 --> performance testing pass
Test environment and result as below:
Ubuntu 20.04
Kernel: 4.15.0-generic
Compiler: gcc 7.4
NIC: Mellanox ConnectX-5 100000 Mbps
Target: x86_64-native-linuxapp-gcc
Fail/Total: 0/6
Detail performance results:
+------------+---------+----------+-------------+------------------------------+
| frame_size | txd/rxd | num_cpus | num_threads | throughput difference from |
| | | | | expected |
+============+=========+==========+=============+==============================+
| 64 | 256 | 1 | 1 | 0.1% |
+------------+---------+----------+-------------+------------------------------+
| 128 | 256 | 1 | 1 | -0.2% |
+------------+---------+----------+-------------+------------------------------+
| 1024 | 256 | 1 | 1 | 0.3% |
+------------+---------+----------+-------------+------------------------------+
| 256 | 256 | 1 | 1 | -0.1% |
+------------+---------+----------+-------------+------------------------------+
| 1518 | 256 | 1 | 1 | -0.1% |
+------------+---------+----------+-------------+------------------------------+
| 512 | 256 | 1 | 1 | 0.1% |
+------------+---------+----------+-------------+------------------------------+
To view detailed results, visit:
https://lab.dpdk.org/results/dashboard/patchsets/25908/
UNH-IOL DPDK Community Lab
To manage your email subscriptions, visit:
https://lab.dpdk.org/results/dashboard/preferences/subscriptions/
^ permalink raw reply [flat|nested] 23+ messages in thread
* |SUCCESS| pw125727-125728 [PATCH] [2/2] telemetry: use portable syntax to initialize array
@ 2023-04-03 17:09 dpdklab
0 siblings, 0 replies; 23+ messages in thread
From: dpdklab @ 2023-04-03 17:09 UTC (permalink / raw)
To: Test Report; +Cc: dpdk-test-reports, David Marchand, Thomas Monjalon
Test-Label: iol-intel-Functional
Test-Status: SUCCESS
http://dpdk.org/patch/125728
_Functional Testing PASS_
Submitter: Tyler Retzlaff <roretzla@linux.microsoft.com>
Date: Monday, April 03 2023 16:30:24
DPDK git baseline: Repo:dpdk
Branch: master
CommitID:c682c8991963be243dcc3b7cdc9d6984a1961f4e
125727-125728 --> functional testing pass
Test environment and result as below:
Ubuntu 20.04
Kernel: 4.15.0-generic
Compiler: gcc 7.4
NIC: Intel Corporation Ethernet Converged Network Adapter 82599ES 10000 Mbps
Target: x86_64-native-linuxapp-gcc
Fail/Total: 0/2
Ubuntu 20.04 ARM
Kernel: 4.15.0-132-generic
Compiler: gcc 7.5
NIC: Arm Intel Corporation Ethernet Converged Network Adapter XL710-QDA2 40000 Mbps
Target: x86_64-native-linuxapp-gcc
Fail/Total: 0/2
To view detailed results, visit:
https://lab.dpdk.org/results/dashboard/patchsets/25908/
UNH-IOL DPDK Community Lab
To manage your email subscriptions, visit:
https://lab.dpdk.org/results/dashboard/preferences/subscriptions/
^ permalink raw reply [flat|nested] 23+ messages in thread
* |SUCCESS| pw125727-125728 [PATCH] [2/2] telemetry: use portable syntax to initialize array
@ 2023-04-03 17:07 dpdklab
0 siblings, 0 replies; 23+ messages in thread
From: dpdklab @ 2023-04-03 17:07 UTC (permalink / raw)
To: Test Report; +Cc: dpdk-test-reports, David Marchand, Thomas Monjalon
Test-Label: iol-intel-Functional
Test-Status: SUCCESS
http://dpdk.org/patch/125728
_Functional Testing PASS_
Submitter: Tyler Retzlaff <roretzla@linux.microsoft.com>
Date: Monday, April 03 2023 16:30:24
DPDK git baseline: Repo:dpdk
Branch: master
CommitID:c682c8991963be243dcc3b7cdc9d6984a1961f4e
125727-125728 --> functional testing pass
Test environment and result as below:
Ubuntu 20.04
Kernel: 4.15.0-generic
Compiler: gcc 7.4
NIC: Intel Corporation Ethernet Converged Network Adapter 82599ES 10000 Mbps
Target: x86_64-native-linuxapp-gcc
Fail/Total: 0/2
To view detailed results, visit:
https://lab.dpdk.org/results/dashboard/patchsets/25908/
UNH-IOL DPDK Community Lab
To manage your email subscriptions, visit:
https://lab.dpdk.org/results/dashboard/preferences/subscriptions/
^ permalink raw reply [flat|nested] 23+ messages in thread
* |SUCCESS| pw125727-125728 [PATCH] [2/2] telemetry: use portable syntax to initialize array
@ 2023-04-03 17:03 dpdklab
0 siblings, 0 replies; 23+ messages in thread
From: dpdklab @ 2023-04-03 17:03 UTC (permalink / raw)
To: Test Report; +Cc: dpdk-test-reports, David Marchand, Thomas Monjalon
Test-Label: iol-broadcom-Functional
Test-Status: SUCCESS
http://dpdk.org/patch/125728
_Functional Testing PASS_
Submitter: Tyler Retzlaff <roretzla@linux.microsoft.com>
Date: Monday, April 03 2023 16:30:24
DPDK git baseline: Repo:dpdk
Branch: master
CommitID:c682c8991963be243dcc3b7cdc9d6984a1961f4e
125727-125728 --> functional testing pass
Test environment and result as below:
Ubuntu 22.04
Kernel: 5.15.0-58-generic x86_64
Compiler: gcc gcc (Ubuntu 11.2.0-19ubuntu1) 11.2.0
NIC: Broadcom Inc. and subsidiaries BCM957508-P2100G Dual-Port 100 Gb/s QSFP56 100 Mbps
Target: x86_64-native-linuxapp-gcc
Fail/Total: 0/2
To view detailed results, visit:
https://lab.dpdk.org/results/dashboard/patchsets/25908/
UNH-IOL DPDK Community Lab
To manage your email subscriptions, visit:
https://lab.dpdk.org/results/dashboard/preferences/subscriptions/
^ permalink raw reply [flat|nested] 23+ messages in thread
* |SUCCESS| pw125727-125728 [PATCH] [2/2] telemetry: use portable syntax to initialize array
@ 2023-04-03 17:02 dpdklab
0 siblings, 0 replies; 23+ messages in thread
From: dpdklab @ 2023-04-03 17:02 UTC (permalink / raw)
To: Test Report; +Cc: dpdk-test-reports, David Marchand, Thomas Monjalon
Test-Label: iol-intel-Performance
Test-Status: SUCCESS
http://dpdk.org/patch/125728
_Performance Testing PASS_
Submitter: Tyler Retzlaff <roretzla@linux.microsoft.com>
Date: Monday, April 03 2023 16:30:24
DPDK git baseline: Repo:dpdk
Branch: master
CommitID:c682c8991963be243dcc3b7cdc9d6984a1961f4e
125727-125728 --> performance testing pass
Test environment and result as below:
Ubuntu 20.04 ARM
Kernel: 4.15.0-132-generic
Compiler: gcc 7.5
NIC: Arm Intel Corporation Ethernet Converged Network Adapter XL710-QDA2 40000 Mbps
Target: x86_64-native-linuxapp-gcc
Fail/Total: 0/2
Detail performance results:
+------------+---------+----------+-------------+------------------------------+
| frame_size | txd/rxd | num_cpus | num_threads | throughput difference from |
| | | | | expected |
+============+=========+==========+=============+==============================+
| 64 | 512 | 1 | 1 | 6.4% |
+------------+---------+----------+-------------+------------------------------+
| 64 | 2048 | 1 | 1 | 4.8% |
+------------+---------+----------+-------------+------------------------------+
To view detailed results, visit:
https://lab.dpdk.org/results/dashboard/patchsets/25908/
UNH-IOL DPDK Community Lab
To manage your email subscriptions, visit:
https://lab.dpdk.org/results/dashboard/preferences/subscriptions/
^ permalink raw reply [flat|nested] 23+ messages in thread
[parent not found: <1680539424-20255-3-git-send-email-roretzla@linux.microsoft.com>]
end of thread, other threads:[~2023-04-06 5:47 UTC | newest]
Thread overview: 23+ messages (download: mbox.gz / follow: Atom feed)
-- links below jump to the message on this page --
2023-04-06 5:15 |SUCCESS| pw125727-125728 [PATCH] [2/2] telemetry: use portable syntax to initialize array dpdklab
-- strict thread matches above, loose matches on Subject: below --
2023-04-06 5:47 dpdklab
2023-04-06 5:44 dpdklab
2023-04-06 5:40 dpdklab
2023-04-06 5:34 dpdklab
2023-04-06 5:34 dpdklab
2023-04-06 5:16 dpdklab
2023-04-06 5:15 dpdklab
2023-04-06 5:14 dpdklab
2023-04-03 17:28 dpdklab
2023-04-03 17:24 dpdklab
2023-04-03 17:20 dpdklab
2023-04-03 17:15 dpdklab
2023-04-03 17:15 dpdklab
2023-04-03 17:12 dpdklab
2023-04-03 17:11 dpdklab
2023-04-03 17:10 dpdklab
2023-04-03 17:09 dpdklab
2023-04-03 17:09 dpdklab
2023-04-03 17:07 dpdklab
2023-04-03 17:03 dpdklab
2023-04-03 17:02 dpdklab
[not found] <1680539424-20255-3-git-send-email-roretzla@linux.microsoft.com>
2023-04-03 16:22 ` |SUCCESS| pw125727-125728 [PATCH 2/2] " qemudev
This is a public inbox, see mirroring instructions
for how to clone and mirror all data and code used for this inbox;
as well as URLs for NNTP newsgroup(s).