From mboxrd@z Thu Jan  1 00:00:00 1970
Return-Path: <test-report-bounces@dpdk.org>
Received: from mails.dpdk.org (mails.dpdk.org [217.70.189.124])
	by inbox.dpdk.org (Postfix) with ESMTP id D94884288F
	for <public@inbox.dpdk.org>; Thu,  6 Apr 2023 07:47:24 +0200 (CEST)
Received: from mails.dpdk.org (localhost [127.0.0.1])
	by mails.dpdk.org (Postfix) with ESMTP id D236C40DF6;
	Thu,  6 Apr 2023 07:47:24 +0200 (CEST)
Received: from mail-pj1-f97.google.com (mail-pj1-f97.google.com
 [209.85.216.97]) by mails.dpdk.org (Postfix) with ESMTP id 9D60C40DF6
 for <test-report@dpdk.org>; Thu,  6 Apr 2023 07:47:23 +0200 (CEST)
Received: by mail-pj1-f97.google.com with SMTP id
 o6-20020a17090a9f8600b0023f32869993so41866337pjp.1
 for <test-report@dpdk.org>; Wed, 05 Apr 2023 22:47:23 -0700 (PDT)
DKIM-Signature: v=1; a=rsa-sha256; c=relaxed/relaxed;
 d=iol.unh.edu; s=unh-iol; t=1680760043;
 h=date:message-id:cc:to:from:subject:from:to:cc:subject:date
 :message-id:reply-to;
 bh=FPlBE40nXoL9d4Ux2TGGjoCI0dNMY2i2ilQI16vjxgc=;
 b=afJakLf9Ustsicd5BZ7A+JaglNAiEMmM5XUbiTS5+5k4hrqNDreFp79wIgQ06fABgz
 hmnM1AN6ivxbdyH+xmtvOSop30hlX5p7B/PHX4i7LlpSs48RXStFhyDuOfYOlOtS1xZh
 IO0DxEmkeqdp4Aj5Rz9JLe5Vr1AKBXV4o9pFM=
X-Google-DKIM-Signature: v=1; a=rsa-sha256; c=relaxed/relaxed;
 d=1e100.net; s=20210112; t=1680760043;
 h=date:message-id:cc:to:from:subject:x-gm-message-state:from:to:cc
 :subject:date:message-id:reply-to;
 bh=FPlBE40nXoL9d4Ux2TGGjoCI0dNMY2i2ilQI16vjxgc=;
 b=m9sZ0CcJJRuB9MNnbm0v8mJ8XkuKcHSREoD7iR6oyLZ3OJNIaFpmkxBFVG05millIA
 om+TWlN26qDiBV2xPf5jn3iJojTp/47NCDumpKCrDuEC+SwXaF3LdEMLWzIVDuS9d1B2
 GZvBx1ZseiMU0J+KOGec/prP23sghJasROYFoFotSxDzrK3CsrXVr5QEVWdmKGThGPM5
 EeF2NEGHbcdZsqzY+4Uuu4JmRoM7CZ4TtqRIk3KW9D4+wLUU8lnPrgetQJXpRcqwE/kW
 jOk7iYivNFFmTTY9KDOFxnIMPN04/4mCTRlTtX2GDQ83AMtGi9PXrKlzaodmOPY+e7Me
 32wA==
X-Gm-Message-State: AAQBX9f7gSX6suzW0HR8SJcKMUe0USCgqxjRWiv8B16YChJ7/JLpGdJ3
 ynk27IveCfMY/PDhfyh85VarD4JrLtdxz4jUdTQli3wdijEIpy9tjM3rrA==
X-Google-Smtp-Source: AKy350ZtOH6nYvHsV3t52Ufdqa5eQg9IqkP4dUfHbodXS0Uof2OUhsMmD6p5tY1SNlTiqtcC3+QiXmIa1+Xv
X-Received: by 2002:a17:90a:e7cd:b0:23f:5fe7:25a1 with SMTP id
 kb13-20020a17090ae7cd00b0023f5fe725a1mr9844029pjb.13.1680760042815; 
 Wed, 05 Apr 2023 22:47:22 -0700 (PDT)
Received: from postal.iol.unh.edu (postal.iol.unh.edu. [132.177.123.84])
 by smtp-relay.gmail.com with ESMTPS id
 ot4-20020a17090b3b4400b0023f9c84f542sm347557pjb.14.2023.04.05.22.47.22
 (version=TLS1_2 cipher=ECDHE-ECDSA-AES128-GCM-SHA256 bits=128/128);
 Wed, 05 Apr 2023 22:47:22 -0700 (PDT)
X-Relaying-Domain: iol.unh.edu
Received: from dpdk-ubuntu.dpdklab.iol.unh.edu (unknown
 [IPv6:2606:4100:3880:1722::210])
 by postal.iol.unh.edu (Postfix) with ESMTP id 15EF9605246B;
 Thu,  6 Apr 2023 01:47:22 -0400 (EDT)
Received: from dpdk-ubuntu-2.dpdklab.iol.unh.edu (localhost [IPv6:::1])
 by dpdk-ubuntu.dpdklab.iol.unh.edu (Postfix) with ESMTP id 1565260092;
 Thu,  6 Apr 2023 05:47:22 +0000 (UTC)
Subject: |SUCCESS| pw125727-125728 [PATCH] [2/2] telemetry: use portable
 syntax to initialize array
From: dpdklab@iol.unh.edu
To: Test Report <test-report@dpdk.org>
Cc: dpdklab@iol.unh.edu, David Marchand <david.marchand@redhat.com>,
 Thomas Monjalon <thomas@monjalon.net>
Content-Type: text/plain
Message-Id: <20230406054722.1565260092@dpdk-ubuntu.dpdklab.iol.unh.edu>
Date: Thu,  6 Apr 2023 05:47:22 +0000 (UTC)
X-BeenThere: test-report@dpdk.org
X-Mailman-Version: 2.1.29
Precedence: list
List-Id: automatic DPDK test reports <test-report.dpdk.org>
List-Unsubscribe: <https://mails.dpdk.org/options/test-report>,
 <mailto:test-report-request@dpdk.org?subject=unsubscribe>
List-Archive: <http://mails.dpdk.org/archives/test-report/>
List-Post: <mailto:test-report@dpdk.org>
List-Help: <mailto:test-report-request@dpdk.org?subject=help>
List-Subscribe: <https://mails.dpdk.org/listinfo/test-report>,
 <mailto:test-report-request@dpdk.org?subject=subscribe>
Errors-To: test-report-bounces@dpdk.org

Test-Label: iol-abi-testing
Test-Status: SUCCESS
http://dpdk.org/patch/125728

_Testing PASS_

Submitter: Tyler Retzlaff <roretzla@linux.microsoft.com>
Date: Monday, April 03 2023 16:30:24 
DPDK git baseline: Repo:dpdk
  Branch: master
  CommitID:c682c8991963be243dcc3b7cdc9d6984a1961f4e

125727-125728 --> testing pass

Test environment and result as below:

+------------------+----------+
|   Environment    | abi_test |
+==================+==========+
| Ubuntu 22.04     | PASS     |
+------------------+----------+
| CentOS Stream 9  | PASS     |
+------------------+----------+
| openSUSE Leap 15 | PASS     |
+------------------+----------+
| RHEL 7           | PASS     |
+------------------+----------+
| Debian Bullseye  | PASS     |
+------------------+----------+
| Debian Buster    | PASS     |
+------------------+----------+
| CentOS Stream 8  | PASS     |
+------------------+----------+
| RHEL8            | PASS     |
+------------------+----------+


Ubuntu 22.04
	Kernel: Container Host Kernel
	Compiler: gcc 12.2.1-2

CentOS Stream 9
	Kernel: 4.18.0-240.10.1.el8_3.x86_64
	Compiler: gcc 11.3.1 20220421

openSUSE Leap 15
	Kernel: 4.18.0-240.10.1.el8_3.x86_64
	Compiler: gcc 7.5.0

RHEL 7
	Kernel: 4.18.0-240.10.1.el8_3.x86_64
	Compiler: gcc 4.8.5 20150623 (Red Hat 4.8.5-44)

Debian Bullseye
	Kernel: 5.4.0-122-generic
	Compiler: gcc 10.2.1-6

Debian Buster
	Kernel: 5.4.0-122-generic
	Compiler: gcc 8.3.0-6

CentOS Stream 8
	Kernel: 4.18.0-240.10.1.el8_3.x86_64
	Compiler: gcc 8.4.1 20200928

RHEL8
	Kernel: 4.18.0-240.10.1.el8_3.x86_64
	Compiler: gcc 8.3.1 20191121 (Red Hat 8.3.1-5)

To view detailed results, visit:
https://lab.dpdk.org/results/dashboard/patchsets/25908/

UNH-IOL DPDK Community Lab

To manage your email subscriptions, visit: 
https://lab.dpdk.org/results/dashboard/preferences/subscriptions/