From mboxrd@z Thu Jan  1 00:00:00 1970
Return-Path: <test-report-bounces@dpdk.org>
Received: from mails.dpdk.org (mails.dpdk.org [217.70.189.124])
	by inbox.dpdk.org (Postfix) with ESMTP id 29BA4428B5
	for <public@inbox.dpdk.org>; Thu,  6 Apr 2023 08:29:38 +0200 (CEST)
Received: from mails.dpdk.org (localhost [127.0.0.1])
	by mails.dpdk.org (Postfix) with ESMTP id 25A3B40DF6;
	Thu,  6 Apr 2023 08:29:38 +0200 (CEST)
Received: from mail-vs1-f98.google.com (mail-vs1-f98.google.com
 [209.85.217.98]) by mails.dpdk.org (Postfix) with ESMTP id 093DC40DF6
 for <test-report@dpdk.org>; Thu,  6 Apr 2023 08:29:37 +0200 (CEST)
Received: by mail-vs1-f98.google.com with SMTP id cz11so33556256vsb.6
 for <test-report@dpdk.org>; Wed, 05 Apr 2023 23:29:36 -0700 (PDT)
DKIM-Signature: v=1; a=rsa-sha256; c=relaxed/relaxed;
 d=iol.unh.edu; s=unh-iol; t=1680762576;
 h=date:message-id:cc:to:from:subject:from:to:cc:subject:date
 :message-id:reply-to;
 bh=vGUJbklIXF6GmM/alQ0Vgratu5btzfCie2flYKNaxLw=;
 b=F9RsA+QYztA0NiW/DhoS+CoMmJcxdS19+FeSvp668saCW+J6Z4avUjHZ6diXDWqa97
 W+5BUrZHMrRftmcFHBEhIS4jOjynQ6MV8oMEr6/aOmrX/zqbISCc6F9wEh6uokLoGD1P
 PYZwcMWWCeFIo+5KMoj+u7EJejjnoD0tc6bfs=
X-Google-DKIM-Signature: v=1; a=rsa-sha256; c=relaxed/relaxed;
 d=1e100.net; s=20210112; t=1680762576;
 h=date:message-id:cc:to:from:subject:x-gm-message-state:from:to:cc
 :subject:date:message-id:reply-to;
 bh=vGUJbklIXF6GmM/alQ0Vgratu5btzfCie2flYKNaxLw=;
 b=raF7wusxCqQO31/s3XWyAlWFs+s2/UO1qbw0K/T1Od/D4uC5dYqeIUGDuyyHusDoDV
 R5/wLYy9A55bhgPg6xYJP4v4JVkcUv0tLhu0jZ6ksQZ2tvOun3PA2YG0CQ9OBuMs+TJr
 RSQVm9NlEFIPnh+h2ohl43yG0TPYQu9YYNazODb5JxVHXh45dTaPSYbYzJFOq9tsHOuT
 koaNt8z9Itchagc+t9bIHMo35Xik8lNpOdvEuH+vg03NvlWaboJuN6LB4UtYB1QjLVBH
 93sfLhFAjXu+uKXbT+aVYPA1dUyPcZC8V1pV+oOX/7zCPhXwUox0tfheEhx91uLuLn++
 9xCg==
X-Gm-Message-State: AAQBX9d/QItZIqp4zl8C4jSuRE1pwewFY0YTHnLOb7uBRxN6UKLB/gEE
 hWNpybeXzefhoCngTRIqB4+x1jZ+NcJnB7ADDpMTnxJwuuZ5LDiKsjhckg==
X-Google-Smtp-Source: AKy350YizKvkynMPKHP6bTrIH+W46MVrgfxFy9pH0B0yreR0u6KHg0sO11fEBrLVECvEM/4KNUtYH8iSvW8p
X-Received: by 2002:a67:f70b:0:b0:426:38c6:26c8 with SMTP id
 m11-20020a67f70b000000b0042638c626c8mr3947287vso.13.1680762576407; 
 Wed, 05 Apr 2023 23:29:36 -0700 (PDT)
Received: from postal.iol.unh.edu (postal.iol.unh.edu. [132.177.123.84])
 by smtp-relay.gmail.com with ESMTPS id
 h41-20020a056130012900b0076676eabda6sm87357uag.20.2023.04.05.23.29.36
 (version=TLS1_2 cipher=ECDHE-ECDSA-AES128-GCM-SHA256 bits=128/128);
 Wed, 05 Apr 2023 23:29:36 -0700 (PDT)
X-Relaying-Domain: iol.unh.edu
Received: from dpdk-ubuntu.dpdklab.iol.unh.edu (unknown
 [IPv6:2606:4100:3880:1722::210])
 by postal.iol.unh.edu (Postfix) with ESMTP id 1DC07605246B;
 Thu,  6 Apr 2023 02:29:36 -0400 (EDT)
Received: from dpdk-ubuntu-2.dpdklab.iol.unh.edu (localhost [IPv6:::1])
 by dpdk-ubuntu.dpdklab.iol.unh.edu (Postfix) with ESMTP id 19A7260092;
 Thu,  6 Apr 2023 06:29:36 +0000 (UTC)
Subject: |SUCCESS| pw125721-125722 [PATCH] [v1,
 2/2] dts: replace pexpect with fabric
From: dpdklab@iol.unh.edu
To: Test Report <test-report@dpdk.org>
Cc: dpdklab@iol.unh.edu, David Marchand <david.marchand@redhat.com>,
 Thomas Monjalon <thomas@monjalon.net>
Content-Type: text/plain
Message-Id: <20230406062936.19A7260092@dpdk-ubuntu.dpdklab.iol.unh.edu>
Date: Thu,  6 Apr 2023 06:29:36 +0000 (UTC)
X-BeenThere: test-report@dpdk.org
X-Mailman-Version: 2.1.29
Precedence: list
List-Id: automatic DPDK test reports <test-report.dpdk.org>
List-Unsubscribe: <https://mails.dpdk.org/options/test-report>,
 <mailto:test-report-request@dpdk.org?subject=unsubscribe>
List-Archive: <http://mails.dpdk.org/archives/test-report/>
List-Post: <mailto:test-report@dpdk.org>
List-Help: <mailto:test-report-request@dpdk.org?subject=help>
List-Subscribe: <https://mails.dpdk.org/listinfo/test-report>,
 <mailto:test-report-request@dpdk.org?subject=subscribe>
Errors-To: test-report-bounces@dpdk.org

Test-Label: iol-abi-testing
Test-Status: SUCCESS
http://dpdk.org/patch/125722

_Testing PASS_

Submitter: Juraj Linkes <juraj.linkes@pantheon.tech>
Date: Monday, April 03 2023 11:46:08 
DPDK git baseline: Repo:dpdk
  Branch: master
  CommitID:c682c8991963be243dcc3b7cdc9d6984a1961f4e

125721-125722 --> testing pass

Test environment and result as below:

+------------------+----------+
|   Environment    | abi_test |
+==================+==========+
| CentOS Stream 9  | PASS     |
+------------------+----------+
| openSUSE Leap 15 | PASS     |
+------------------+----------+
| Ubuntu 22.04     | PASS     |
+------------------+----------+
| CentOS Stream 8  | PASS     |
+------------------+----------+
| RHEL8            | PASS     |
+------------------+----------+


CentOS Stream 9
	Kernel: 4.18.0-240.10.1.el8_3.x86_64
	Compiler: gcc 11.3.1 20220421

openSUSE Leap 15
	Kernel: 4.18.0-240.10.1.el8_3.x86_64
	Compiler: gcc 7.5.0

Ubuntu 22.04
	Kernel: Container Host Kernel
	Compiler: clang 14.0.5-1.fc36

CentOS Stream 8
	Kernel: 4.18.0-240.10.1.el8_3.x86_64
	Compiler: gcc 8.4.1 20200928

RHEL8
	Kernel: 4.18.0-240.10.1.el8_3.x86_64
	Compiler: gcc 8.3.1 20191121 (Red Hat 8.3.1-5)

To view detailed results, visit:
https://lab.dpdk.org/results/dashboard/patchsets/25905/

UNH-IOL DPDK Community Lab

To manage your email subscriptions, visit: 
https://lab.dpdk.org/results/dashboard/preferences/subscriptions/