From mboxrd@z Thu Jan  1 00:00:00 1970
Return-Path: <test-report-bounces@dpdk.org>
Received: from mails.dpdk.org (mails.dpdk.org [217.70.189.124])
	by inbox.dpdk.org (Postfix) with ESMTP id 64636428B5
	for <public@inbox.dpdk.org>; Thu,  6 Apr 2023 09:41:13 +0200 (CEST)
Received: from mails.dpdk.org (localhost [127.0.0.1])
	by mails.dpdk.org (Postfix) with ESMTP id 5026340DF6;
	Thu,  6 Apr 2023 09:41:13 +0200 (CEST)
Received: from mail-qv1-f99.google.com (mail-qv1-f99.google.com
 [209.85.219.99]) by mails.dpdk.org (Postfix) with ESMTP id 62BDD40DF6
 for <test-report@dpdk.org>; Thu,  6 Apr 2023 09:41:11 +0200 (CEST)
Received: by mail-qv1-f99.google.com with SMTP id jl13so27788790qvb.10
 for <test-report@dpdk.org>; Thu, 06 Apr 2023 00:41:11 -0700 (PDT)
DKIM-Signature: v=1; a=rsa-sha256; c=relaxed/relaxed;
 d=iol.unh.edu; s=unh-iol; t=1680766870;
 h=date:message-id:cc:to:from:subject:from:to:cc:subject:date
 :message-id:reply-to;
 bh=rmQuMyhieNng1zOLiBNfK7M6VhAnzZhZvDS7f3JZHjI=;
 b=NLwluQcOrXsxWLyZm2oietZYN+dA72pQO9AWU6liS/MeeRwvo280VoccTp3hOogc85
 WNv1eKkMA83jURcYHBZFSafZWz0K/DbBI4KzLEDG9gVq8nljaqb9sS45Pq6NUhNTiiOC
 vQIANQXf+BAicP0uTOnLZBgTmO1j0cnyROhYY=
X-Google-DKIM-Signature: v=1; a=rsa-sha256; c=relaxed/relaxed;
 d=1e100.net; s=20210112; t=1680766870;
 h=date:message-id:cc:to:from:subject:x-gm-message-state:from:to:cc
 :subject:date:message-id:reply-to;
 bh=rmQuMyhieNng1zOLiBNfK7M6VhAnzZhZvDS7f3JZHjI=;
 b=I9OFAlfTgGEsPxy0na2xVVYDxSwoQIPjHnUjnCpkglz4XxkJDCLnOq7+bvS9oZ/vqz
 SazZ4ttvmIsEgqm/DvZVPZZ243ynTdTkqd4MmuCrx0BKp0AHcFkosZQsDmNtmf8meyce
 jmPFmLbX2z2jjnew8kkBj3KYcb0CqKgIfv1XebqyEZZ2VtndEmVBu2ShQwHcBeRTCHHx
 dewti1NIVoGFTNJ9u3+09Uhl63vSrYRrakZ2tKfqdajol2GS7aCt8QDYY/fHAUVni6YH
 1pFRosqjHWbw0PWI4qt+44ahyISBD/9nzacDBRfMNaA9DvWuv7Agu2wXfox2o21HlkIx
 7cEA==
X-Gm-Message-State: AAQBX9fSPt++mQE+gVJTPwfaS5B3iRhEkuF6pggZ0oHIZzkv3c/R0mLu
 o9k3sUbeYVifhnPGP8Rz57otwuT3Fa6+s8WvXXBK7I0gUrkC6UgAnlM5eg==
X-Google-Smtp-Source: AKy350Y/FxbD4YyYmhb2aRGGiTO6Jv3SU14jR06D2mkQnDnJMagpdlOsfr3FuGTAG84dm7oLEgxpNjZ2q0fP
X-Received: by 2002:ad4:5ded:0:b0:56e:a35b:9aaf with SMTP id
 jn13-20020ad45ded000000b0056ea35b9aafmr2968747qvb.20.1680766870734; 
 Thu, 06 Apr 2023 00:41:10 -0700 (PDT)
Received: from postal.iol.unh.edu (postal.iol.unh.edu. [132.177.123.84])
 by smtp-relay.gmail.com with ESMTPS id
 od7-20020a0562142f0700b005e63fa33140sm61729qvb.24.2023.04.06.00.41.10
 (version=TLS1_2 cipher=ECDHE-ECDSA-AES128-GCM-SHA256 bits=128/128);
 Thu, 06 Apr 2023 00:41:10 -0700 (PDT)
X-Relaying-Domain: iol.unh.edu
Received: from dpdk-ubuntu.dpdklab.iol.unh.edu (unknown
 [IPv6:2606:4100:3880:1722::210])
 by postal.iol.unh.edu (Postfix) with ESMTP id 77AE2605246B;
 Thu,  6 Apr 2023 03:41:10 -0400 (EDT)
Received: from dpdk-ubuntu-2.dpdklab.iol.unh.edu (localhost [IPv6:::1])
 by dpdk-ubuntu.dpdklab.iol.unh.edu (Postfix) with ESMTP id 75CEE60092;
 Thu,  6 Apr 2023 07:41:10 +0000 (UTC)
Subject: |SUCCESS| pw125714 [PATCH] doc/ark: replace word segregation
From: dpdklab@iol.unh.edu
To: Test Report <test-report@dpdk.org>
Cc: dpdklab@iol.unh.edu, David Marchand <david.marchand@redhat.com>,
 Thomas Monjalon <thomas@monjalon.net>
Content-Type: text/plain
Message-Id: <20230406074110.75CEE60092@dpdk-ubuntu.dpdklab.iol.unh.edu>
Date: Thu,  6 Apr 2023 07:41:10 +0000 (UTC)
X-BeenThere: test-report@dpdk.org
X-Mailman-Version: 2.1.29
Precedence: list
List-Id: automatic DPDK test reports <test-report.dpdk.org>
List-Unsubscribe: <https://mails.dpdk.org/options/test-report>,
 <mailto:test-report-request@dpdk.org?subject=unsubscribe>
List-Archive: <http://mails.dpdk.org/archives/test-report/>
List-Post: <mailto:test-report@dpdk.org>
List-Help: <mailto:test-report-request@dpdk.org?subject=help>
List-Subscribe: <https://mails.dpdk.org/listinfo/test-report>,
 <mailto:test-report-request@dpdk.org?subject=subscribe>
Errors-To: test-report-bounces@dpdk.org

Test-Label: iol-abi-testing
Test-Status: SUCCESS
http://dpdk.org/patch/125714

_Testing PASS_

Submitter: Stephen Hemminger <stephen@networkplumber.org>
Date: Sunday, April 02 2023 22:53:56 
DPDK git baseline: Repo:dpdk
  Branch: master
  CommitID:c682c8991963be243dcc3b7cdc9d6984a1961f4e

125714 --> testing pass

Test environment and result as below:

+------------------+----------+
|   Environment    | abi_test |
+==================+==========+
| Debian Bullseye  | PASS     |
+------------------+----------+
| CentOS Stream 9  | PASS     |
+------------------+----------+
| CentOS Stream 8  | PASS     |
+------------------+----------+
| Debian Buster    | PASS     |
+------------------+----------+
| RHEL 7           | PASS     |
+------------------+----------+
| RHEL8            | PASS     |
+------------------+----------+
| openSUSE Leap 15 | PASS     |
+------------------+----------+
| Ubuntu 22.04     | PASS     |
+------------------+----------+


Debian Bullseye
	Kernel: 5.4.0-122-generic
	Compiler: gcc 10.2.1-6

CentOS Stream 9
	Kernel: 4.18.0-240.10.1.el8_3.x86_64
	Compiler: gcc 11.3.1 20220421

CentOS Stream 8
	Kernel: 4.18.0-240.10.1.el8_3.x86_64
	Compiler: gcc 8.4.1 20200928

Debian Buster
	Kernel: 5.4.0-122-generic
	Compiler: gcc 8.3.0-6

RHEL 7
	Kernel: 4.18.0-240.10.1.el8_3.x86_64
	Compiler: gcc 4.8.5 20150623 (Red Hat 4.8.5-44)

RHEL8
	Kernel: 4.18.0-240.10.1.el8_3.x86_64
	Compiler: gcc 8.3.1 20191121 (Red Hat 8.3.1-5)

openSUSE Leap 15
	Kernel: 4.18.0-240.10.1.el8_3.x86_64
	Compiler: gcc 7.5.0

Ubuntu 22.04
	Kernel: Container Host Kernel
	Compiler: gcc 12.2.1-2

To view detailed results, visit:
https://lab.dpdk.org/results/dashboard/patchsets/25901/

UNH-IOL DPDK Community Lab

To manage your email subscriptions, visit: 
https://lab.dpdk.org/results/dashboard/preferences/subscriptions/