From mboxrd@z Thu Jan  1 00:00:00 1970
Return-Path: <test-report-bounces@dpdk.org>
Received: from mails.dpdk.org (mails.dpdk.org [217.70.189.124])
	by inbox.dpdk.org (Postfix) with ESMTP id D05ED428D7
	for <public@inbox.dpdk.org>; Thu,  6 Apr 2023 10:11:02 +0200 (CEST)
Received: from mails.dpdk.org (localhost [127.0.0.1])
	by mails.dpdk.org (Postfix) with ESMTP id B779540DF6;
	Thu,  6 Apr 2023 10:11:02 +0200 (CEST)
Received: from mail-pl1-f228.google.com (mail-pl1-f228.google.com
 [209.85.214.228])
 by mails.dpdk.org (Postfix) with ESMTP id 692F640DF6
 for <test-report@dpdk.org>; Thu,  6 Apr 2023 10:11:01 +0200 (CEST)
Received: by mail-pl1-f228.google.com with SMTP id o2so36846222plg.4
 for <test-report@dpdk.org>; Thu, 06 Apr 2023 01:11:01 -0700 (PDT)
DKIM-Signature: v=1; a=rsa-sha256; c=relaxed/relaxed;
 d=iol.unh.edu; s=unh-iol; t=1680768660;
 h=date:message-id:cc:to:from:subject:from:to:cc:subject:date
 :message-id:reply-to;
 bh=iHNSZYhuLJ3Svnlg2VtceD/ShHKOnGCv37KIQX8Qelc=;
 b=OrhRv1xCMXWVQP6PZxeStuX7j1cUJqoxWLiouE4yedgGVgnEMQmYDGVoCuxuiyhuwV
 nr2U10x669Zztuy1boNu9HUyNJGX7KxqCncaQpamZtGqYivre5NXJvqPXtPOuKPSISaJ
 pnmadJbBxf60pKHlF3j96dhyqU4TAqgS+bFbk=
X-Google-DKIM-Signature: v=1; a=rsa-sha256; c=relaxed/relaxed;
 d=1e100.net; s=20210112; t=1680768660;
 h=date:message-id:cc:to:from:subject:x-gm-message-state:from:to:cc
 :subject:date:message-id:reply-to;
 bh=iHNSZYhuLJ3Svnlg2VtceD/ShHKOnGCv37KIQX8Qelc=;
 b=Lgj11/RWoX/creRk5B4qXKnke5MWXuP8qEqnN95GtADlXTa4hS07JAM7CvCEXg4Bz9
 256XrsULPFy74u/dFTNr0cVxAnttm8zCi5nxZL3+eLo7Jd1WXMx0qhY4o8He233Ygklb
 7/z6VV7P5T4yKHMcnY2NyQuUnZDtVYVGf9iFogxolSAj3wQLON9pZliOLiyMvfy0Met7
 WhROmCbfRJ2zFnSAwuLpXnhW2/tY2JtQbe55I7T5l+BJ53w/X7Coa0trGiAyV2qBTjoC
 3p3TBFvb4a2dF1++3dRSt9wm24kIyZMK6l6WLPERBWZFk7k6zo6ToEngpWB8pjSU2Nqb
 rFQg==
X-Gm-Message-State: AAQBX9d1pKRDPfKD/+ZMGKn9XEbPPQ2ChRkqf1n3Lkwg/3EtDVjbMa06
 dma/Xv6kave3TE5L2Zc+PBrVFTC8ZSoepZQyGZ8BHo1qk0Cogm+eLtO8uhZh0nCoGl78D45BoQ=
 =
X-Google-Smtp-Source: AKy350aHxbNHp3bB9hAnGVpXOfaOfLoBQIdghxFHW+rmF52WmV9QUPtFL75D0TQAhTbjvJyKKzhgwNSHv3FQ
X-Received: by 2002:a05:6a20:6a82:b0:dc:38d3:676e with SMTP id
 bi2-20020a056a206a8200b000dc38d3676emr2208515pzb.20.1680768660593; 
 Thu, 06 Apr 2023 01:11:00 -0700 (PDT)
Received: from postal.iol.unh.edu (postal.iol.unh.edu.
 [2606:4100:3880:1234::84]) by smtp-relay.gmail.com with ESMTPS id
 l12-20020a056a0016cc00b0062ac50b1aa4sm85976pfc.22.2023.04.06.01.11.00
 (version=TLS1_2 cipher=ECDHE-ECDSA-AES128-GCM-SHA256 bits=128/128);
 Thu, 06 Apr 2023 01:11:00 -0700 (PDT)
X-Relaying-Domain: iol.unh.edu
Received: from dpdk-ubuntu.dpdklab.iol.unh.edu (unknown
 [IPv6:2606:4100:3880:1722::210])
 by postal.iol.unh.edu (Postfix) with ESMTP id D20BF605246B;
 Thu,  6 Apr 2023 04:10:59 -0400 (EDT)
Received: from dpdk-ubuntu-2.dpdklab.iol.unh.edu (localhost [IPv6:::1])
 by dpdk-ubuntu.dpdklab.iol.unh.edu (Postfix) with ESMTP id CE46E60092;
 Thu,  6 Apr 2023 08:10:59 +0000 (UTC)
Subject: |SUCCESS| pw125707 [PATCH] devtools: add script to check for non
 inclusive naming
From: dpdklab@iol.unh.edu
To: Test Report <test-report@dpdk.org>
Cc: dpdklab@iol.unh.edu, David Marchand <david.marchand@redhat.com>,
 Thomas Monjalon <thomas@monjalon.net>
Content-Type: text/plain
Message-Id: <20230406081059.CE46E60092@dpdk-ubuntu.dpdklab.iol.unh.edu>
Date: Thu,  6 Apr 2023 08:10:59 +0000 (UTC)
X-BeenThere: test-report@dpdk.org
X-Mailman-Version: 2.1.29
Precedence: list
List-Id: automatic DPDK test reports <test-report.dpdk.org>
List-Unsubscribe: <https://mails.dpdk.org/options/test-report>,
 <mailto:test-report-request@dpdk.org?subject=unsubscribe>
List-Archive: <http://mails.dpdk.org/archives/test-report/>
List-Post: <mailto:test-report@dpdk.org>
List-Help: <mailto:test-report-request@dpdk.org?subject=help>
List-Subscribe: <https://mails.dpdk.org/listinfo/test-report>,
 <mailto:test-report-request@dpdk.org?subject=subscribe>
Errors-To: test-report-bounces@dpdk.org

Test-Label: iol-abi-testing
Test-Status: SUCCESS
http://dpdk.org/patch/125707

_Testing PASS_

Submitter: Stephen Hemminger <stephen@networkplumber.org>
Date: Friday, March 31 2023 20:08:24 
DPDK git baseline: Repo:dpdk
  Branch: master
  CommitID:c682c8991963be243dcc3b7cdc9d6984a1961f4e

125707 --> testing pass

Test environment and result as below:

+------------------+----------+
|   Environment    | abi_test |
+==================+==========+
| RHEL 7           | PASS     |
+------------------+----------+
| Ubuntu 22.04     | PASS     |
+------------------+----------+
| Debian Buster    | PASS     |
+------------------+----------+
| openSUSE Leap 15 | PASS     |
+------------------+----------+
| CentOS Stream 9  | PASS     |
+------------------+----------+
| Debian Bullseye  | PASS     |
+------------------+----------+


RHEL 7
	Kernel: 4.18.0-240.10.1.el8_3.x86_64
	Compiler: gcc 4.8.5 20150623 (Red Hat 4.8.5-44)

Ubuntu 22.04
	Kernel: Container Host Kernel
	Compiler: gcc 11.3.1-2

Debian Buster
	Kernel: 5.4.0-122-generic
	Compiler: gcc 8.3.0-6

openSUSE Leap 15
	Kernel: 4.18.0-240.10.1.el8_3.x86_64
	Compiler: gcc 7.5.0

CentOS Stream 9
	Kernel: 4.18.0-240.10.1.el8_3.x86_64
	Compiler: gcc 11.3.1 20220421

Debian Bullseye
	Kernel: 5.4.0-122-generic
	Compiler: gcc 10.2.1-6

To view detailed results, visit:
https://lab.dpdk.org/results/dashboard/patchsets/25898/

UNH-IOL DPDK Community Lab

To manage your email subscriptions, visit: 
https://lab.dpdk.org/results/dashboard/preferences/subscriptions/