From mboxrd@z Thu Jan  1 00:00:00 1970
Return-Path: <test-report-bounces@dpdk.org>
Received: from mails.dpdk.org (mails.dpdk.org [217.70.189.124])
	by inbox.dpdk.org (Postfix) with ESMTP id 5B9C2428D7
	for <public@inbox.dpdk.org>; Thu,  6 Apr 2023 11:34:08 +0200 (CEST)
Received: from mails.dpdk.org (localhost [127.0.0.1])
	by mails.dpdk.org (Postfix) with ESMTP id 37B7940F18;
	Thu,  6 Apr 2023 11:34:08 +0200 (CEST)
Received: from mail-ot1-f97.google.com (mail-ot1-f97.google.com
 [209.85.210.97]) by mails.dpdk.org (Postfix) with ESMTP id C68EB40F18
 for <test-report@dpdk.org>; Thu,  6 Apr 2023 11:34:07 +0200 (CEST)
Received: by mail-ot1-f97.google.com with SMTP id
 x8-20020a9d3788000000b0069f922cd5ceso20424533otb.12
 for <test-report@dpdk.org>; Thu, 06 Apr 2023 02:34:07 -0700 (PDT)
DKIM-Signature: v=1; a=rsa-sha256; c=relaxed/relaxed;
 d=iol.unh.edu; s=unh-iol; t=1680773647;
 h=date:message-id:cc:to:from:subject:from:to:cc:subject:date
 :message-id:reply-to;
 bh=9Uu44KpGDPVkRpeT6HFaz+uWDHw61mYy5rGL9jPY73E=;
 b=hwqOhWwq6+EzqJ6nwsODg8CG5V0oTfM4ozPlQaoFXNKNWZ55w8oF+N+L+jk/kZABn5
 NXmqgoe9h5IIb4EV/fShGNGG+Z343p61jl8vyBx9FguK6mMqHTvwpvXz0Gyptpd+0hBJ
 P3SXs8ON0K/D573bOeleQi69fRDxhuMV6rnxU=
X-Google-DKIM-Signature: v=1; a=rsa-sha256; c=relaxed/relaxed;
 d=1e100.net; s=20210112; t=1680773647;
 h=date:message-id:cc:to:from:subject:x-gm-message-state:from:to:cc
 :subject:date:message-id:reply-to;
 bh=9Uu44KpGDPVkRpeT6HFaz+uWDHw61mYy5rGL9jPY73E=;
 b=2lNJk12Ids0114f/XIm8j+naahd3crvoWm9WmT53+bcMVCOyOhHU4XaIOjiEJnPDma
 XR1a7vh1kHUrSoJef+/Pcv3nkB4Wp8rBHUVVcZCollXHTeYGsQtH94ntmsYJ44FSDipH
 562IDtsvJrMjGAbipr3xhRjEROkoGvI5YWyr/Ti6froStV1FGyHTWX9a89ID+gZ0rIOX
 s/9dWpgQtcDWOQOl2aGzrl+JLJRjCmakpGEn5oZH18tID1YgaaYVRj1Alc1xDN/ET+fN
 Hsw9CtWs3+q2a+h3J5/MrFxJqmDO7RpmGDexXd00VsPPL1ib/Wfq2BAxgaU9iM2BsPSq
 Acdg==
X-Gm-Message-State: AAQBX9foGKqQUmXTq1REkyGweL9pf7xhlh2B9muGcqegvvzJP+zf6Alu
 WLJP+b81wtuXl3I6d/vj5BnAmAv3d347c9+MZAdKqHHrU0r5zayhxHq+HzGLvtmoCIUSQoxqnQ=
 =
X-Google-Smtp-Source: AKy350YA4TI3Y69rWW9K4XhICoosKHX50JFlMhEemoO4XsZtqtNXb01KUNDeyB+y021HrRIxkeeTfCU0SbBA
X-Received: by 2002:a9d:6f0b:0:b0:69b:36ff:d7fe with SMTP id
 n11-20020a9d6f0b000000b0069b36ffd7femr3976010otq.11.1680773647209; 
 Thu, 06 Apr 2023 02:34:07 -0700 (PDT)
Received: from postal.iol.unh.edu (postal.iol.unh.edu.
 [2606:4100:3880:1234::84]) by smtp-relay.gmail.com with ESMTPS id
 r1-20020a056830418100b0069fb8a6ada8sm182450otu.5.2023.04.06.02.34.07
 (version=TLS1_2 cipher=ECDHE-ECDSA-AES128-GCM-SHA256 bits=128/128);
 Thu, 06 Apr 2023 02:34:07 -0700 (PDT)
X-Relaying-Domain: iol.unh.edu
Received: from dpdk-ubuntu.dpdklab.iol.unh.edu (unknown [172.18.0.210])
 by postal.iol.unh.edu (Postfix) with ESMTP id B8C34605246B;
 Thu,  6 Apr 2023 05:34:06 -0400 (EDT)
Received: from dpdk-ubuntu-2.dpdklab.iol.unh.edu (localhost [IPv6:::1])
 by dpdk-ubuntu.dpdklab.iol.unh.edu (Postfix) with ESMTP id B44DF60092;
 Thu,  6 Apr 2023 09:34:06 +0000 (UTC)
Subject: |SUCCESS| pw125656-125670 [PATCH] [v5,
 15/15] doc: update multicore dispatch model in graph guides
From: dpdklab@iol.unh.edu
To: Test Report <test-report@dpdk.org>
Cc: dpdklab@iol.unh.edu, David Marchand <david.marchand@redhat.com>,
 Thomas Monjalon <thomas@monjalon.net>
Content-Type: text/plain
Message-Id: <20230406093406.B44DF60092@dpdk-ubuntu.dpdklab.iol.unh.edu>
Date: Thu,  6 Apr 2023 09:34:06 +0000 (UTC)
X-BeenThere: test-report@dpdk.org
X-Mailman-Version: 2.1.29
Precedence: list
List-Id: automatic DPDK test reports <test-report.dpdk.org>
List-Unsubscribe: <https://mails.dpdk.org/options/test-report>,
 <mailto:test-report-request@dpdk.org?subject=unsubscribe>
List-Archive: <http://mails.dpdk.org/archives/test-report/>
List-Post: <mailto:test-report@dpdk.org>
List-Help: <mailto:test-report-request@dpdk.org?subject=help>
List-Subscribe: <https://mails.dpdk.org/listinfo/test-report>,
 <mailto:test-report-request@dpdk.org?subject=subscribe>
Errors-To: test-report-bounces@dpdk.org

Test-Label: iol-abi-testing
Test-Status: SUCCESS
http://dpdk.org/patch/125670

_Testing PASS_

Submitter: Zhirun Yan <zhirun.yan@intel.com>
Date: Friday, March 31 2023 04:03:06 
DPDK git baseline: Repo:dpdk
  Branch: master
  CommitID:c682c8991963be243dcc3b7cdc9d6984a1961f4e

125656-125670 --> testing pass

Test environment and result as below:

+------------------+----------+
|   Environment    | abi_test |
+==================+==========+
| CentOS Stream 8  | PASS     |
+------------------+----------+
| Ubuntu 22.04     | PASS     |
+------------------+----------+
| Debian Buster    | PASS     |
+------------------+----------+
| RHEL 7           | PASS     |
+------------------+----------+
| Debian Bullseye  | PASS     |
+------------------+----------+
| CentOS Stream 9  | PASS     |
+------------------+----------+
| openSUSE Leap 15 | PASS     |
+------------------+----------+


CentOS Stream 8
	Kernel: 4.18.0-240.10.1.el8_3.x86_64
	Compiler: gcc 8.4.1 20200928

Ubuntu 22.04
	Kernel: Container Host Kernel
	Compiler: gcc 11.3.1-2

Debian Buster
	Kernel: 5.4.0-122-generic
	Compiler: gcc 8.3.0-6

RHEL 7
	Kernel: 4.18.0-240.10.1.el8_3.x86_64
	Compiler: gcc 4.8.5 20150623 (Red Hat 4.8.5-44)

Debian Bullseye
	Kernel: 5.4.0-122-generic
	Compiler: gcc 10.2.1-6

CentOS Stream 9
	Kernel: 4.18.0-240.10.1.el8_3.x86_64
	Compiler: gcc 11.3.1 20220421

openSUSE Leap 15
	Kernel: 4.18.0-240.10.1.el8_3.x86_64
	Compiler: gcc 7.5.0

To view detailed results, visit:
https://lab.dpdk.org/results/dashboard/patchsets/25893/

UNH-IOL DPDK Community Lab

To manage your email subscriptions, visit: 
https://lab.dpdk.org/results/dashboard/preferences/subscriptions/