From mboxrd@z Thu Jan  1 00:00:00 1970
Return-Path: <test-report-bounces@dpdk.org>
Received: from mails.dpdk.org (mails.dpdk.org [217.70.189.124])
	by inbox.dpdk.org (Postfix) with ESMTP id 21A4A428D9
	for <public@inbox.dpdk.org>; Thu,  6 Apr 2023 14:33:41 +0200 (CEST)
Received: from mails.dpdk.org (localhost [127.0.0.1])
	by mails.dpdk.org (Postfix) with ESMTP id 1D56541153;
	Thu,  6 Apr 2023 14:33:41 +0200 (CEST)
Received: from mail-pj1-f98.google.com (mail-pj1-f98.google.com
 [209.85.216.98]) by mails.dpdk.org (Postfix) with ESMTP id 0CB3B41153
 for <test-report@dpdk.org>; Thu,  6 Apr 2023 14:33:40 +0200 (CEST)
Received: by mail-pj1-f98.google.com with SMTP id l7so37100606pjg.5
 for <test-report@dpdk.org>; Thu, 06 Apr 2023 05:33:39 -0700 (PDT)
DKIM-Signature: v=1; a=rsa-sha256; c=relaxed/relaxed;
 d=iol.unh.edu; s=unh-iol; t=1680784419;
 h=date:message-id:cc:to:from:subject:from:to:cc:subject:date
 :message-id:reply-to;
 bh=MI/D5LQn0n1fbAke6TwPuP4fhIK9/hLR7Rf5+Ch+PSk=;
 b=Hg/zf44ZvLoMEiE1dleFOdPnGC5SDSdBW2AD3jHaNKWS+znGgBcYyJyGUHtZC2yK69
 GwYkANl+Emd/D5L855fu6l3TyfhBhg5GF6cSKV7skGvF5e7/xhEHMfptDN+45WNYzZiN
 KqZqnZGxCA3hvXN8Uc9g5ZtqM9QFTymudB44A=
X-Google-DKIM-Signature: v=1; a=rsa-sha256; c=relaxed/relaxed;
 d=1e100.net; s=20210112; t=1680784419;
 h=date:message-id:cc:to:from:subject:x-gm-message-state:from:to:cc
 :subject:date:message-id:reply-to;
 bh=MI/D5LQn0n1fbAke6TwPuP4fhIK9/hLR7Rf5+Ch+PSk=;
 b=jVtIO8GUITM/S1caDXyhK1FQM3ZkXnrmjwB8ucoBWSBQFsrai2uYCmWKJuqyzrG/kU
 sgHxXPZMrfKo4PUoZ+VWPyjuXT16PUi+LxEkKztecWKa36IUUvNris9k1ghxCtBxr+qP
 ugULMmbhN2TL+H1eZ23yU7AimvPcoYKZAWA9CuR1TgCwhDcssYQn5jpDYa0rslROgM8/
 Eodu4jtob7d1riOnYBMhVE4xfoQpwTt2APH/UlC5KmOPrORv+x2QEjWEZIh1qz0N3U2W
 QeE5bIQzPF8t6WcO8qxHCFZvuy+d4n6dwclIDGAXhlVn+Ae4EXIEeAKJPbXNmz6dIAAb
 sAoA==
X-Gm-Message-State: AAQBX9d7G1tqDOXvr3y1NoAV16HqzJ1ZZKGj40yKEu7O4dg4lFA6EB1f
 DuxRCMirK3ozEad6EUDShcIH9y84t1wyDsSrEhnK3DbBUqkFFE/ZRYFxVA==
X-Google-Smtp-Source: AKy350Y6uzaNmpwBTwuNwLRYuIAzmwev1KBOk28VUgCj7+S/eL88zv6UE6BoIwnwNTajf41j4/BDfAkPv+eC
X-Received: by 2002:a17:90b:1b44:b0:23f:a4da:1203 with SMTP id
 nv4-20020a17090b1b4400b0023fa4da1203mr11004824pjb.19.1680784419264; 
 Thu, 06 Apr 2023 05:33:39 -0700 (PDT)
Received: from postal.iol.unh.edu (postal.iol.unh.edu. [132.177.123.84])
 by smtp-relay.gmail.com with ESMTPS id
 kb14-20020a17090ae7ce00b002135de3012dsm389925pjb.2.2023.04.06.05.33.39
 (version=TLS1_2 cipher=ECDHE-ECDSA-AES128-GCM-SHA256 bits=128/128);
 Thu, 06 Apr 2023 05:33:39 -0700 (PDT)
X-Relaying-Domain: iol.unh.edu
Received: from dpdk-ubuntu.dpdklab.iol.unh.edu (unknown
 [IPv6:2606:4100:3880:1722::210])
 by postal.iol.unh.edu (Postfix) with ESMTP id 83DD9605246B;
 Thu,  6 Apr 2023 08:33:38 -0400 (EDT)
Received: from dpdk-ubuntu-2.dpdklab.iol.unh.edu (localhost [IPv6:::1])
 by dpdk-ubuntu.dpdklab.iol.unh.edu (Postfix) with ESMTP id 82B9A60092;
 Thu,  6 Apr 2023 12:33:38 +0000 (UTC)
Subject: |SUCCESS| pw125826 [PATCH] [v3] devtools: add script to check for non
 inclusive naming
From: dpdklab@iol.unh.edu
To: Test Report <test-report@dpdk.org>
Cc: dpdk-test-reports@iol.unh.edu, David Marchand <david.marchand@redhat.com>,
 Thomas Monjalon <thomas@monjalon.net>
Content-Type: text/plain
Message-Id: <20230406123338.82B9A60092@dpdk-ubuntu.dpdklab.iol.unh.edu>
Date: Thu,  6 Apr 2023 12:33:38 +0000 (UTC)
X-BeenThere: test-report@dpdk.org
X-Mailman-Version: 2.1.29
Precedence: list
List-Id: automatic DPDK test reports <test-report.dpdk.org>
List-Unsubscribe: <https://mails.dpdk.org/options/test-report>,
 <mailto:test-report-request@dpdk.org?subject=unsubscribe>
List-Archive: <http://mails.dpdk.org/archives/test-report/>
List-Post: <mailto:test-report@dpdk.org>
List-Help: <mailto:test-report-request@dpdk.org?subject=help>
List-Subscribe: <https://mails.dpdk.org/listinfo/test-report>,
 <mailto:test-report-request@dpdk.org?subject=subscribe>
Errors-To: test-report-bounces@dpdk.org

Test-Label: iol-abi-testing
Test-Status: SUCCESS
http://dpdk.org/patch/125826

_Testing PASS_

Submitter: Stephen Hemminger <stephen@networkplumber.org>
Date: Wednesday, April 05 2023 23:29:30 
DPDK git baseline: Repo:dpdk
  Branch: master
  CommitID:c682c8991963be243dcc3b7cdc9d6984a1961f4e

125826 --> testing pass

Test environment and result as below:

+------------------+----------+
|   Environment    | abi_test |
+==================+==========+
| Debian Bullseye  | PASS     |
+------------------+----------+
| Ubuntu 22.04     | PASS     |
+------------------+----------+
| CentOS Stream 8  | PASS     |
+------------------+----------+
| Debian Buster    | PASS     |
+------------------+----------+
| RHEL 7           | PASS     |
+------------------+----------+
| CentOS Stream 9  | PASS     |
+------------------+----------+
| openSUSE Leap 15 | PASS     |
+------------------+----------+


Debian Bullseye
	Kernel: 5.4.0-122-generic
	Compiler: gcc 10.2.1-6

Ubuntu 22.04
	Kernel: 4.18.0-240.10.1.el8_3.x86_64
	Compiler: gcc 11.3.0

CentOS Stream 8
	Kernel: 4.18.0-240.10.1.el8_3.x86_64
	Compiler: gcc 8.4.1 20200928

Debian Buster
	Kernel: 5.4.0-122-generic
	Compiler: gcc 8.3.0-6

RHEL 7
	Kernel: 4.18.0-240.10.1.el8_3.x86_64
	Compiler: gcc 4.8.5 20150623 (Red Hat 4.8.5-44)

CentOS Stream 9
	Kernel: 4.18.0-240.10.1.el8_3.x86_64
	Compiler: gcc 11.3.1 20220421

openSUSE Leap 15
	Kernel: 4.18.0-240.10.1.el8_3.x86_64
	Compiler: gcc 7.5.0

To view detailed results, visit:
https://lab.dpdk.org/results/dashboard/patchsets/25931/

UNH-IOL DPDK Community Lab

To manage your email subscriptions, visit: 
https://lab.dpdk.org/results/dashboard/preferences/subscriptions/