From mboxrd@z Thu Jan  1 00:00:00 1970
Return-Path: <test-report-bounces@dpdk.org>
Received: from mails.dpdk.org (mails.dpdk.org [217.70.189.124])
	by inbox.dpdk.org (Postfix) with ESMTP id 227A1428D9
	for <public@inbox.dpdk.org>; Thu,  6 Apr 2023 14:36:22 +0200 (CEST)
Received: from mails.dpdk.org (localhost [127.0.0.1])
	by mails.dpdk.org (Postfix) with ESMTP id 69E0441153;
	Thu,  6 Apr 2023 14:36:20 +0200 (CEST)
Received: from mail-io1-f99.google.com (mail-io1-f99.google.com
 [209.85.166.99]) by mails.dpdk.org (Postfix) with ESMTP id 9253541153
 for <test-report@dpdk.org>; Thu,  6 Apr 2023 14:36:18 +0200 (CEST)
Received: by mail-io1-f99.google.com with SMTP id k13so8449009iov.10
 for <test-report@dpdk.org>; Thu, 06 Apr 2023 05:36:18 -0700 (PDT)
DKIM-Signature: v=1; a=rsa-sha256; c=relaxed/relaxed;
 d=iol.unh.edu; s=unh-iol; t=1680784578;
 h=date:message-id:cc:to:from:subject:from:to:cc:subject:date
 :message-id:reply-to;
 bh=ZBKcZmsL2oGLJs9+M9MxWZWXNeyIY3Vo86SoucLvBY8=;
 b=e41q4q1lgTjtb8gAsLfDkaqLD4rzmPKADGixzWuYImvpu41BZ4ilyEKXQLNU/RZWky
 JtqYdsbx15VSwUY/Fa1d2UcZjsz0kGMqwksQjEGXpP3ixW2CIACkaZTknyWoZjBmvGSJ
 kCSNUdCXM51oIFUwzQrYQ/HAHIFjkldDjUxrY=
X-Google-DKIM-Signature: v=1; a=rsa-sha256; c=relaxed/relaxed;
 d=1e100.net; s=20210112; t=1680784578;
 h=date:message-id:cc:to:from:subject:x-gm-message-state:from:to:cc
 :subject:date:message-id:reply-to;
 bh=ZBKcZmsL2oGLJs9+M9MxWZWXNeyIY3Vo86SoucLvBY8=;
 b=684Bps23MLTUQ0wgEcaiY1VjEoogW/gVF0D/2Y5ny/HxhC+Ecvs0Gj0z/WRCRmez4B
 06d08pJwVGIJrKn5nby433+Ci4UXiHsW6qjm26llxuR7859lQDflONQu0Jgt9ycKUXdE
 v3cGTKEhKGT7QJk8P4w2MFBR2pe7DHFC8VDwqHSfZe1h2a2ilJ0pumEWkHRFlbP5K/2l
 mKDy1bVtcAJbPr5dOeTMT04qADzn0FbkWUOruR2nOJM1pvProFv8BcKGMkjnQ4OjbrYe
 yOJvLQwPfSPEIAOF9KLldJqyW5htEwqwqhu9P7naMAmBdc4FMT/eXAse548t/xp6jhoz
 GCcA==
X-Gm-Message-State: AAQBX9db9f5dFcy0nzm+XKTMXYGWVRKa8/VuZyDV1oLGZ1e8YBWuPgqZ
 f9WPziVJmvFHoOZLKTP35ArnPhS2IBxtXmwZCfiZGcXqVqDrfXoK6BSQunfp1mRF5JSlojU3Tg=
 =
X-Google-Smtp-Source: AKy350bOHa63UHn+IwjF+Tn1EVC8+MCzVZz8wEWgOypKIrFuPg5wlpRTrnuZdqKKHtybcFx6cFl2mMg1nu9x
X-Received: by 2002:a6b:cd0e:0:b0:758:9e69:13f1 with SMTP id
 d14-20020a6bcd0e000000b007589e6913f1mr3333840iog.9.1680784577982; 
 Thu, 06 Apr 2023 05:36:17 -0700 (PDT)
Received: from postal.iol.unh.edu (postal.iol.unh.edu.
 [2606:4100:3880:1234::84]) by smtp-relay.gmail.com with ESMTPS id
 t10-20020a056638204a00b0040b0104d806sm130926jaj.53.2023.04.06.05.36.17
 (version=TLS1_2 cipher=ECDHE-ECDSA-AES128-GCM-SHA256 bits=128/128);
 Thu, 06 Apr 2023 05:36:17 -0700 (PDT)
X-Relaying-Domain: iol.unh.edu
Received: from dpdk-ubuntu.dpdklab.iol.unh.edu (unknown [172.18.0.210])
 by postal.iol.unh.edu (Postfix) with ESMTP id A595F605246B;
 Thu,  6 Apr 2023 08:36:17 -0400 (EDT)
Received: from dpdk-ubuntu-2.dpdklab.iol.unh.edu (localhost [IPv6:::1])
 by dpdk-ubuntu.dpdklab.iol.unh.edu (Postfix) with ESMTP id A824560092;
 Thu,  6 Apr 2023 12:36:16 +0000 (UTC)
Subject: |SUCCESS| pw125826 [PATCH] [v3] devtools: add script to check for non
 inclusive naming
From: dpdklab@iol.unh.edu
To: Test Report <test-report@dpdk.org>
Cc: dpdklab@iol.unh.edu, David Marchand <david.marchand@redhat.com>,
 Thomas Monjalon <thomas@monjalon.net>
Content-Type: text/plain
Message-Id: <20230406123616.A824560092@dpdk-ubuntu.dpdklab.iol.unh.edu>
Date: Thu,  6 Apr 2023 12:36:16 +0000 (UTC)
X-BeenThere: test-report@dpdk.org
X-Mailman-Version: 2.1.29
Precedence: list
List-Id: automatic DPDK test reports <test-report.dpdk.org>
List-Unsubscribe: <https://mails.dpdk.org/options/test-report>,
 <mailto:test-report-request@dpdk.org?subject=unsubscribe>
List-Archive: <http://mails.dpdk.org/archives/test-report/>
List-Post: <mailto:test-report@dpdk.org>
List-Help: <mailto:test-report-request@dpdk.org?subject=help>
List-Subscribe: <https://mails.dpdk.org/listinfo/test-report>,
 <mailto:test-report-request@dpdk.org?subject=subscribe>
Errors-To: test-report-bounces@dpdk.org

Test-Label: iol-abi-testing
Test-Status: SUCCESS
http://dpdk.org/patch/125826

_Testing PASS_

Submitter: Stephen Hemminger <stephen@networkplumber.org>
Date: Wednesday, April 05 2023 23:29:30 
DPDK git baseline: Repo:dpdk
  Branch: master
  CommitID:c682c8991963be243dcc3b7cdc9d6984a1961f4e

125826 --> testing pass

Test environment and result as below:

+------------------+----------+
|   Environment    | abi_test |
+==================+==========+
| Debian Bullseye  | PASS     |
+------------------+----------+
| Ubuntu 22.04     | PASS     |
+------------------+----------+
| CentOS Stream 8  | PASS     |
+------------------+----------+
| Debian Buster    | PASS     |
+------------------+----------+
| RHEL 7           | PASS     |
+------------------+----------+
| CentOS Stream 9  | PASS     |
+------------------+----------+
| openSUSE Leap 15 | PASS     |
+------------------+----------+
| RHEL8            | PASS     |
+------------------+----------+


Debian Bullseye
	Kernel: 5.4.0-122-generic
	Compiler: gcc 10.2.1-6

Ubuntu 22.04
	Kernel: 4.18.0-240.10.1.el8_3.x86_64
	Compiler: gcc 11.3.0

CentOS Stream 8
	Kernel: 4.18.0-240.10.1.el8_3.x86_64
	Compiler: gcc 8.4.1 20200928

Debian Buster
	Kernel: 5.4.0-122-generic
	Compiler: gcc 8.3.0-6

RHEL 7
	Kernel: 4.18.0-240.10.1.el8_3.x86_64
	Compiler: gcc 4.8.5 20150623 (Red Hat 4.8.5-44)

CentOS Stream 9
	Kernel: 4.18.0-240.10.1.el8_3.x86_64
	Compiler: gcc 11.3.1 20220421

openSUSE Leap 15
	Kernel: 4.18.0-240.10.1.el8_3.x86_64
	Compiler: gcc 7.5.0

RHEL8
	Kernel: 4.18.0-240.10.1.el8_3.x86_64
	Compiler: gcc 8.3.1 20191121 (Red Hat 8.3.1-5)

To view detailed results, visit:
https://lab.dpdk.org/results/dashboard/patchsets/25931/

UNH-IOL DPDK Community Lab

To manage your email subscriptions, visit: 
https://lab.dpdk.org/results/dashboard/preferences/subscriptions/