From mboxrd@z Thu Jan  1 00:00:00 1970
Return-Path: <test-report-bounces@dpdk.org>
Received: from mails.dpdk.org (mails.dpdk.org [217.70.189.124])
	by inbox.dpdk.org (Postfix) with ESMTP id 11128428DA
	for <public@inbox.dpdk.org>; Thu,  6 Apr 2023 16:04:36 +0200 (CEST)
Received: from mails.dpdk.org (localhost [127.0.0.1])
	by mails.dpdk.org (Postfix) with ESMTP id 0CD8D41153;
	Thu,  6 Apr 2023 16:04:36 +0200 (CEST)
Received: from mail-io1-f99.google.com (mail-io1-f99.google.com
 [209.85.166.99]) by mails.dpdk.org (Postfix) with ESMTP id 2FFF641153
 for <test-report@dpdk.org>; Thu,  6 Apr 2023 16:04:35 +0200 (CEST)
Received: by mail-io1-f99.google.com with SMTP id g16so6837653iom.11
 for <test-report@dpdk.org>; Thu, 06 Apr 2023 07:04:35 -0700 (PDT)
DKIM-Signature: v=1; a=rsa-sha256; c=relaxed/relaxed;
 d=iol.unh.edu; s=unh-iol; t=1680789874;
 h=date:message-id:cc:to:from:subject:from:to:cc:subject:date
 :message-id:reply-to;
 bh=5qE33zGbMVezxmZ1sYgl/nWtVXzFm2GpIoefvzWTmeE=;
 b=UmRXURFMevT77ic51MbcPYV4Lsq4t/qP2zdgHOOH09oJutuhg1C59iMILgPN6wAv5J
 ET8/uWaeD9g+by3CWBuXv00QWJXjPnzsLMklbGfYm6mjySAuxd3y7oNhz0LWlPV3k33r
 vwBOASPbb6pqzgN0YQhh/mf+Am2WyRnl2hpbo=
X-Google-DKIM-Signature: v=1; a=rsa-sha256; c=relaxed/relaxed;
 d=1e100.net; s=20210112; t=1680789874;
 h=date:message-id:cc:to:from:subject:x-gm-message-state:from:to:cc
 :subject:date:message-id:reply-to;
 bh=5qE33zGbMVezxmZ1sYgl/nWtVXzFm2GpIoefvzWTmeE=;
 b=UxVmYWhjB/mui8CxaYNXc/EznghfncklF1Xq4M/FiDT9pdiuzryNpiYWrqLqWESxRg
 cKtcYKXVUFAdFocRFueQHogKMeNwz+9SufS06EwEQ6Jpc0CmbSRGX+O3GA+dBn4TMscz
 2mtitNh5+fT/57hCcuIHSHqC8gEkcN3seQC5PqlQrXMHlIy6vHxs59FmxMrjnXURo1Hv
 spG9hYV6tjACVm4Im6THUnmmUjSSpDubwUpfwO9ompbsu77ptB+UCKGT9wbbgrCzsbd6
 bY8qCXcd1/mySbnQCYB0nBvyAPjIVaU4LSSaTXzIWQTSN3jxnkfS880SUVliKrHrmDfN
 91rA==
X-Gm-Message-State: AAQBX9e69E9x/SlV3olJT3qmEEhniN2QCRF7xg7WE8XEhmeOc+FrZYId
 r50JsThIDZiLfUAbO8fBXOQsIoI9+qlwAQnEvdnKkVCvTPZ3RFl4mUG9cQAIhAs0CB0JYup6rQ=
 =
X-Google-Smtp-Source: AKy350b/GIv3azSyQ6depWQUx8ThKMXjmR678+s2w4XiH3++8Nyo7chzucG9vSIgVgFOHvmlHxoQUaE2YlDj
X-Received: by 2002:a5e:8f0d:0:b0:758:d81e:31b3 with SMTP id
 c13-20020a5e8f0d000000b00758d81e31b3mr7422279iok.19.1680789874575; 
 Thu, 06 Apr 2023 07:04:34 -0700 (PDT)
Received: from postal.iol.unh.edu (postal.iol.unh.edu.
 [2606:4100:3880:1234::84]) by smtp-relay.gmail.com with ESMTPS id
 f13-20020a02240d000000b00408bc06f847sm135647jaa.51.2023.04.06.07.04.34
 (version=TLS1_2 cipher=ECDHE-ECDSA-AES128-GCM-SHA256 bits=128/128);
 Thu, 06 Apr 2023 07:04:34 -0700 (PDT)
X-Relaying-Domain: iol.unh.edu
Received: from dpdk-ubuntu.dpdklab.iol.unh.edu (unknown
 [IPv6:2606:4100:3880:1722::210])
 by postal.iol.unh.edu (Postfix) with ESMTP id 24E506052472;
 Thu,  6 Apr 2023 10:04:34 -0400 (EDT)
Received: from dpdk-ubuntu-2.dpdklab.iol.unh.edu (localhost [IPv6:::1])
 by dpdk-ubuntu.dpdklab.iol.unh.edu (Postfix) with ESMTP id 15DAD60092;
 Thu,  6 Apr 2023 14:04:34 +0000 (UTC)
Subject: |SUCCESS| pw125826 [PATCH] [v3] devtools: add script to check for non
 inclusive naming
From: dpdklab@iol.unh.edu
To: Test Report <test-report@dpdk.org>
Cc: dpdklab@iol.unh.edu, David Marchand <david.marchand@redhat.com>,
 Thomas Monjalon <thomas@monjalon.net>
Content-Type: text/plain
Message-Id: <20230406140434.15DAD60092@dpdk-ubuntu.dpdklab.iol.unh.edu>
Date: Thu,  6 Apr 2023 14:04:34 +0000 (UTC)
X-BeenThere: test-report@dpdk.org
X-Mailman-Version: 2.1.29
Precedence: list
List-Id: automatic DPDK test reports <test-report.dpdk.org>
List-Unsubscribe: <https://mails.dpdk.org/options/test-report>,
 <mailto:test-report-request@dpdk.org?subject=unsubscribe>
List-Archive: <http://mails.dpdk.org/archives/test-report/>
List-Post: <mailto:test-report@dpdk.org>
List-Help: <mailto:test-report-request@dpdk.org?subject=help>
List-Subscribe: <https://mails.dpdk.org/listinfo/test-report>,
 <mailto:test-report-request@dpdk.org?subject=subscribe>
Errors-To: test-report-bounces@dpdk.org

Test-Label: iol-unit-testing
Test-Status: SUCCESS
http://dpdk.org/patch/125826

_Testing PASS_

Submitter: Stephen Hemminger <stephen@networkplumber.org>
Date: Wednesday, April 05 2023 23:29:30 
DPDK git baseline: Repo:dpdk
  Branch: master
  CommitID:c682c8991963be243dcc3b7cdc9d6984a1961f4e

125826 --> testing pass

Test environment and result as below:

+--------------------+----------------+
|    Environment     | dpdk_unit_test |
+====================+================+
| CentOS Stream 9    | PASS           |
+--------------------+----------------+
| Fedora 36          | PASS           |
+--------------------+----------------+
| Debian 11 (Buster) | PASS           |
+--------------------+----------------+
| CentOS Stream 8    | PASS           |
+--------------------+----------------+
| Ubuntu 22.04       | PASS           |
+--------------------+----------------+
| Debian Buster      | PASS           |
+--------------------+----------------+
| Debian Bullseye    | PASS           |
+--------------------+----------------+
| RHEL 7             | PASS           |
+--------------------+----------------+
| RHEL8              | PASS           |
+--------------------+----------------+
| openSUSE Leap 15   | PASS           |
+--------------------+----------------+
| Ubuntu 20.04       | PASS           |
+--------------------+----------------+


CentOS Stream 9
	Kernel: Container Host Kernel
	Compiler: gcc 11.3.1

Fedora 36
	Kernel: Container Host Kernel
	Compiler: gcc 12.2.1

Debian 11 (Buster)
	Kernel: Container Host Kernel
	Compiler: gcc 10.2.1

CentOS Stream 8
	Kernel: 4.18.0-240.10.1.el8_3.x86_64
	Compiler: gcc 8.4.1 20200928

Ubuntu 22.04
	Kernel: Container Host Kernel
	Compiler: gcc 11.3.1-2

Debian Buster
	Kernel: 5.4.0-122-generic
	Compiler: gcc 8.3.0-6

Debian Bullseye
	Kernel: 5.4.0-122-generic
	Compiler: gcc 10.2.1-6

RHEL 7
	Kernel: 4.18.0-240.10.1.el8_3.x86_64
	Compiler: gcc 4.8.5 20150623 (Red Hat 4.8.5-44)

RHEL8
	Kernel: 4.18.0-240.10.1.el8_3.x86_64
	Compiler: gcc 8.3.1 20191121 (Red Hat 8.3.1-5)

openSUSE Leap 15
	Kernel: 4.18.0-240.10.1.el8_3.x86_64
	Compiler: gcc 7.5.0

Ubuntu 20.04
	Kernel: 4.18.0-240.10.1.el8_3.x86_64
	Compiler: gcc 9.3.0-17ubuntu1~20.04

To view detailed results, visit:
https://lab.dpdk.org/results/dashboard/patchsets/25931/

UNH-IOL DPDK Community Lab

To manage your email subscriptions, visit: 
https://lab.dpdk.org/results/dashboard/preferences/subscriptions/