From mboxrd@z Thu Jan  1 00:00:00 1970
Return-Path: <test-report-bounces@dpdk.org>
Received: from mails.dpdk.org (mails.dpdk.org [217.70.189.124])
	by inbox.dpdk.org (Postfix) with ESMTP id E4D09428DA
	for <public@inbox.dpdk.org>; Thu,  6 Apr 2023 16:11:55 +0200 (CEST)
Received: from mails.dpdk.org (localhost [127.0.0.1])
	by mails.dpdk.org (Postfix) with ESMTP id E092D41153;
	Thu,  6 Apr 2023 16:11:55 +0200 (CEST)
Received: from mail-oi1-f226.google.com (mail-oi1-f226.google.com
 [209.85.167.226])
 by mails.dpdk.org (Postfix) with ESMTP id E98C241153
 for <test-report@dpdk.org>; Thu,  6 Apr 2023 16:11:54 +0200 (CEST)
Received: by mail-oi1-f226.google.com with SMTP id bi31so29119309oib.9
 for <test-report@dpdk.org>; Thu, 06 Apr 2023 07:11:54 -0700 (PDT)
DKIM-Signature: v=1; a=rsa-sha256; c=relaxed/relaxed;
 d=iol.unh.edu; s=unh-iol; t=1680790314;
 h=date:message-id:cc:to:from:subject:from:to:cc:subject:date
 :message-id:reply-to;
 bh=zv6C1sbpfa/mXD8oJpIOa2ElNFM3oRMNfd3k6RhSnhI=;
 b=WJ0EpV8Ckz9v7CAdqi+lfhiX/Es9apZBeFIq+BRWMLQHFXbpUiwhkDoRqtARGusyFz
 ow33UjpdG1gdhz1fhsWLZrgU0pq2Dm5GcbbJw6ZiQpEendI/9yrD2Xchb2ZVus8Ee4fo
 qINbHZfd9FrtEcG8KdcVeRANqECpuiZv8jzow=
X-Google-DKIM-Signature: v=1; a=rsa-sha256; c=relaxed/relaxed;
 d=1e100.net; s=20210112; t=1680790314;
 h=date:message-id:cc:to:from:subject:x-gm-message-state:from:to:cc
 :subject:date:message-id:reply-to;
 bh=zv6C1sbpfa/mXD8oJpIOa2ElNFM3oRMNfd3k6RhSnhI=;
 b=RX1RnNI+511sXelc+Vpy1k3VSmj7N3PF2sXqDxf33haYhuFtJW0vXvHj96YGPr+Hgl
 s9EI4wgOX5VjxtUiXNEWx35n0PL2wAg63eQ7kFO8ItngcF726GnKBq5IK4YT3WMkmEWI
 UZsZgdXxZsd313ovgaj+bhNqbYyWx+pFsEcK/hsA0apdNaUSDFePmATEUistZXRcQZpk
 Y5HD21a89WSWIVftby3vVzrse5PNBRxaxwneil0jVXN3pDnHSPKAmRop079Edcgtwz6i
 XgvOCqHjIPdbjy35pNiYoe23GoFlkyPC/pWXwOJ/WwCtN2OUR8u7EBmg+41bh1OCwnzN
 5CuQ==
X-Gm-Message-State: AAQBX9dUsFuO8F8hvZB7HQ2dKhijOrOtAx3sTMPY/FVo9nohf6UF2R1f
 8xA79tdMt1FCQVptPqjcvx0hmCheYfHjHQg06RHlZa5nu5T67RVFJeiU/n9qQYUD+mTdISERcA=
 =
X-Google-Smtp-Source: AKy350Y0F124A6uSbSq6YYoj/V3LJnyNi2CR09d/Yf3Sti0Lcqcwl/DquXjYeG4orbyArtdpP/Ni+2F6TIXa
X-Received: by 2002:a05:6808:159a:b0:384:126a:204e with SMTP id
 t26-20020a056808159a00b00384126a204emr5768089oiw.5.1680790314337; 
 Thu, 06 Apr 2023 07:11:54 -0700 (PDT)
Received: from postal.iol.unh.edu (postal.iol.unh.edu.
 [2606:4100:3880:1234::84]) by smtp-relay.gmail.com with ESMTPS id
 q11-20020a4a330b000000b005411e03f56dsm121477ooq.27.2023.04.06.07.11.54
 (version=TLS1_2 cipher=ECDHE-ECDSA-AES128-GCM-SHA256 bits=128/128);
 Thu, 06 Apr 2023 07:11:54 -0700 (PDT)
X-Relaying-Domain: iol.unh.edu
Received: from dpdk-ubuntu.dpdklab.iol.unh.edu (unknown
 [IPv6:2606:4100:3880:1722::210])
 by postal.iol.unh.edu (Postfix) with ESMTP id D5926605246B;
 Thu,  6 Apr 2023 10:11:53 -0400 (EDT)
Received: from dpdk-ubuntu-2.dpdklab.iol.unh.edu (localhost [IPv6:::1])
 by dpdk-ubuntu.dpdklab.iol.unh.edu (Postfix) with ESMTP id D342360092;
 Thu,  6 Apr 2023 14:11:53 +0000 (UTC)
Subject: |SUCCESS| pw125826 [PATCH] [v3] devtools: add script to check for non
 inclusive naming
From: dpdklab@iol.unh.edu
To: Test Report <test-report@dpdk.org>
Cc: dpdklab@iol.unh.edu, David Marchand <david.marchand@redhat.com>,
 Thomas Monjalon <thomas@monjalon.net>
Content-Type: text/plain
Message-Id: <20230406141153.D342360092@dpdk-ubuntu.dpdklab.iol.unh.edu>
Date: Thu,  6 Apr 2023 14:11:53 +0000 (UTC)
X-BeenThere: test-report@dpdk.org
X-Mailman-Version: 2.1.29
Precedence: list
List-Id: automatic DPDK test reports <test-report.dpdk.org>
List-Unsubscribe: <https://mails.dpdk.org/options/test-report>,
 <mailto:test-report-request@dpdk.org?subject=unsubscribe>
List-Archive: <http://mails.dpdk.org/archives/test-report/>
List-Post: <mailto:test-report@dpdk.org>
List-Help: <mailto:test-report-request@dpdk.org?subject=help>
List-Subscribe: <https://mails.dpdk.org/listinfo/test-report>,
 <mailto:test-report-request@dpdk.org?subject=subscribe>
Errors-To: test-report-bounces@dpdk.org

Test-Label: iol-aarch64-unit-testing
Test-Status: SUCCESS
http://dpdk.org/patch/125826

_Testing PASS_

Submitter: Stephen Hemminger <stephen@networkplumber.org>
Date: Wednesday, April 05 2023 23:29:30 
DPDK git baseline: Repo:dpdk
  Branch: master
  CommitID:c682c8991963be243dcc3b7cdc9d6984a1961f4e

125826 --> testing pass

Test environment and result as below:

+----------------------+---------------------------+------------------------------+--------------+
|     Environment      | cryptodev_sw_zuc_autotest | cryptodev_sw_snow3g_autotest | lpm_autotest |
+======================+===========================+==============================+==============+
| Debian 11            | PASS                      | PASS                         | SKIPPED      |
+----------------------+---------------------------+------------------------------+--------------+
| Ubuntu 20.04 ARM SVE | SKIPPED                   | SKIPPED                      | PASS         |
+----------------------+---------------------------+------------------------------+--------------+


Debian 11
	Kernel: Container Host Kernel
	Compiler: gcc 10.2.1

Ubuntu 20.04 ARM SVE
	Kernel: 5.4.0-80-generic
	Compiler: gcc 10.3.0 (Ubuntu 10.3.0-1ubuntu1~20.04)

To view detailed results, visit:
https://lab.dpdk.org/results/dashboard/patchsets/25931/

UNH-IOL DPDK Community Lab

To manage your email subscriptions, visit: 
https://lab.dpdk.org/results/dashboard/preferences/subscriptions/