From mboxrd@z Thu Jan  1 00:00:00 1970
Return-Path: <test-report-bounces@dpdk.org>
Received: from mails.dpdk.org (mails.dpdk.org [217.70.189.124])
	by inbox.dpdk.org (Postfix) with ESMTP id A22A1428DA
	for <public@inbox.dpdk.org>; Thu,  6 Apr 2023 17:05:42 +0200 (CEST)
Received: from mails.dpdk.org (localhost [127.0.0.1])
	by mails.dpdk.org (Postfix) with ESMTP id 87C2641153;
	Thu,  6 Apr 2023 17:05:42 +0200 (CEST)
Received: from mail-yw1-f225.google.com (mail-yw1-f225.google.com
 [209.85.128.225])
 by mails.dpdk.org (Postfix) with ESMTP id A83B741153
 for <test-report@dpdk.org>; Thu,  6 Apr 2023 17:05:40 +0200 (CEST)
Received: by mail-yw1-f225.google.com with SMTP id
 00721157ae682-54c061acbc9so64723107b3.11
 for <test-report@dpdk.org>; Thu, 06 Apr 2023 08:05:40 -0700 (PDT)
DKIM-Signature: v=1; a=rsa-sha256; c=relaxed/relaxed;
 d=iol.unh.edu; s=unh-iol; t=1680793540;
 h=date:message-id:cc:to:from:subject:from:to:cc:subject:date
 :message-id:reply-to;
 bh=WbTc2cuHSuOGBlkZ8jtPole73GKL391wIaGzpLygBZc=;
 b=KC+Cua+FqOT5vuqgryCM7IGbRw551Ir3rTSI9afz3Pb4FOd5S/eRjWrSud2qx1J0NB
 STKa+TvhXYKY65pBJGf/HLRHo6OiKLKKjnD/LAc/XL1NNDanvm5qrROiqwaQ1j3uZsqB
 M5x1FjCSvMXDXQtrDuMBoQ0EhlGgwfppYbuVU=
X-Google-DKIM-Signature: v=1; a=rsa-sha256; c=relaxed/relaxed;
 d=1e100.net; s=20210112; t=1680793540;
 h=date:message-id:cc:to:from:subject:x-gm-message-state:from:to:cc
 :subject:date:message-id:reply-to;
 bh=WbTc2cuHSuOGBlkZ8jtPole73GKL391wIaGzpLygBZc=;
 b=NvH1oz31JqdHpbWHI+MCjQZ3kZcxt9xQ+RSa9QWt+Rkm+jXLrFXT3xhwzVZIqZb5xo
 Ha+RI/rxH3k5G2hGIIHl+mYKSJDD+/g0gyb/aQB/otLtfEeYIv1JkZUwHhRXoddR/Ujr
 HK4FX9UgfBVNDUgPlza1dU5SgkUBDjmq9m/jW7QXx+oWUGwmC+SWAV28vCfGY2+paM+0
 CR6g6i9FADu5Z9+eSsKGoXSEvgCMBv6+nfws7LUKaDc7tA1FvtaP74m/aAHKG8FG8VDc
 GDpdlIa0eR0ZHFnr5ct/AecW3BKrfnKelwLDYad7rakF0H5b24nYrW3D3DbRbZBjph4l
 /Wxw==
X-Gm-Message-State: AAQBX9fvJLleyXp3yDg/X9na7rC2tkfaRICva7Diz9P2lyw+3iTn7lIs
 A/KFlN5ylUfPpKQhXwgumUUbG5+CZUbu6bk2/fVmWJxqgcD7gQqJn/FZRQ==
X-Google-Smtp-Source: AKy350ZM0cvNbrPoPTCShsxCwosMDKuvDsqTbs9727a19gh8olwgDizvAdYbr1WVxbZYwf2DuItIRKCI67Nj
X-Received: by 2002:a81:8ac2:0:b0:54b:f971:93bb with SMTP id
 a185-20020a818ac2000000b0054bf97193bbmr3484507ywg.4.1680793539885; 
 Thu, 06 Apr 2023 08:05:39 -0700 (PDT)
Received: from postal.iol.unh.edu (postal.iol.unh.edu. [132.177.123.84])
 by smtp-relay.gmail.com with ESMTPS id
 bh8-20020a05690c038800b0054661f00c1asm110053ywb.46.2023.04.06.08.05.39
 (version=TLS1_2 cipher=ECDHE-ECDSA-AES128-GCM-SHA256 bits=128/128);
 Thu, 06 Apr 2023 08:05:39 -0700 (PDT)
X-Relaying-Domain: iol.unh.edu
Received: from dpdk-ubuntu.dpdklab.iol.unh.edu (unknown [172.18.0.210])
 by postal.iol.unh.edu (Postfix) with ESMTP id 82518605246B;
 Thu,  6 Apr 2023 11:05:39 -0400 (EDT)
Received: from dpdk-ubuntu-2.dpdklab.iol.unh.edu (localhost [IPv6:::1])
 by dpdk-ubuntu.dpdklab.iol.unh.edu (Postfix) with ESMTP id 8018560092;
 Thu,  6 Apr 2023 15:05:39 +0000 (UTC)
Subject: |SUCCESS| pw125593-125614 [PATCH] [v12,
 22/22] pipeline: convert RTE_LOGTYPE_PIPELINE to dynamic type
From: dpdklab@iol.unh.edu
To: Test Report <test-report@dpdk.org>
Cc: dpdklab@iol.unh.edu, David Marchand <david.marchand@redhat.com>,
 Thomas Monjalon <thomas@monjalon.net>
Content-Type: text/plain
Message-Id: <20230406150539.8018560092@dpdk-ubuntu.dpdklab.iol.unh.edu>
Date: Thu,  6 Apr 2023 15:05:39 +0000 (UTC)
X-BeenThere: test-report@dpdk.org
X-Mailman-Version: 2.1.29
Precedence: list
List-Id: automatic DPDK test reports <test-report.dpdk.org>
List-Unsubscribe: <https://mails.dpdk.org/options/test-report>,
 <mailto:test-report-request@dpdk.org?subject=unsubscribe>
List-Archive: <http://mails.dpdk.org/archives/test-report/>
List-Post: <mailto:test-report@dpdk.org>
List-Help: <mailto:test-report-request@dpdk.org?subject=help>
List-Subscribe: <https://mails.dpdk.org/listinfo/test-report>,
 <mailto:test-report-request@dpdk.org?subject=subscribe>
Errors-To: test-report-bounces@dpdk.org

Test-Label: iol-abi-testing
Test-Status: SUCCESS
http://dpdk.org/patch/125614

_Testing PASS_

Submitter: Stephen Hemminger <stephen@networkplumber.org>
Date: Wednesday, March 29 2023 23:40:49 
DPDK git baseline: Repo:dpdk
  Branch: master
  CommitID:c682c8991963be243dcc3b7cdc9d6984a1961f4e

125593-125614 --> testing pass

Test environment and result as below:

+------------------+----------+
|   Environment    | abi_test |
+==================+==========+
| openSUSE Leap 15 | PASS     |
+------------------+----------+
| RHEL 7           | PASS     |
+------------------+----------+
| Ubuntu 22.04     | PASS     |
+------------------+----------+


openSUSE Leap 15
	Kernel: 4.18.0-240.10.1.el8_3.x86_64
	Compiler: gcc 7.5.0

RHEL 7
	Kernel: 4.18.0-240.10.1.el8_3.x86_64
	Compiler: gcc 4.8.5 20150623 (Red Hat 4.8.5-44)

Ubuntu 22.04
	Kernel: Container Host Kernel
	Compiler: gcc 12.2.1-2

To view detailed results, visit:
https://lab.dpdk.org/results/dashboard/patchsets/25887/

UNH-IOL DPDK Community Lab

To manage your email subscriptions, visit: 
https://lab.dpdk.org/results/dashboard/preferences/subscriptions/