From mboxrd@z Thu Jan  1 00:00:00 1970
Return-Path: <test-report-bounces@dpdk.org>
Received: from mails.dpdk.org (mails.dpdk.org [217.70.189.124])
	by inbox.dpdk.org (Postfix) with ESMTP id 2C015428DB
	for <public@inbox.dpdk.org>; Thu,  6 Apr 2023 18:11:22 +0200 (CEST)
Received: from mails.dpdk.org (localhost [127.0.0.1])
	by mails.dpdk.org (Postfix) with ESMTP id 1158641153;
	Thu,  6 Apr 2023 18:11:22 +0200 (CEST)
Received: from mail-oi1-f227.google.com (mail-oi1-f227.google.com
 [209.85.167.227])
 by mails.dpdk.org (Postfix) with ESMTP id 0F28D41153
 for <test-report@dpdk.org>; Thu,  6 Apr 2023 18:11:21 +0200 (CEST)
Received: by mail-oi1-f227.google.com with SMTP id bi31so29401256oib.9
 for <test-report@dpdk.org>; Thu, 06 Apr 2023 09:11:20 -0700 (PDT)
DKIM-Signature: v=1; a=rsa-sha256; c=relaxed/relaxed;
 d=iol.unh.edu; s=unh-iol; t=1680797480; x=1683389480;
 h=date:message-id:cc:to:from:subject:from:to:cc:subject:date
 :message-id:reply-to;
 bh=8n6hibwYYz0lt917JqQbwHQ1EYJ2XhMgF5EDiSOOt88=;
 b=NQuVm6+oqWBzfyStxHTNrIQhlZGK3G2dyE07TiTwVtNMiks/sZgkhcgMda8dZq80Db
 codxDJQG39+1eB4yrxiJdOUu0xORq3hgrrSZcDqgbly+uKYAKq7RHtHxYuPmEkeV/1Yn
 1j+zSyAw4+fWTR/wjy3UZrp19yZcjkkxZYNjc=
X-Google-DKIM-Signature: v=1; a=rsa-sha256; c=relaxed/relaxed;
 d=1e100.net; s=20210112; t=1680797480; x=1683389480;
 h=date:message-id:cc:to:from:subject:x-gm-message-state:from:to:cc
 :subject:date:message-id:reply-to;
 bh=8n6hibwYYz0lt917JqQbwHQ1EYJ2XhMgF5EDiSOOt88=;
 b=b8qLrJQoKZdqrgiJQNjBp1YuCJkvwGSJoBh61CphlpxQTlwHK7P31iVThhflcrK2ak
 XeSRtkkseTJAS40ZfZLGPtaMd7LLn4MVAoQfZ4RxQl0GetLnaRtwDdpaOAA35JGWbbxi
 aN/zkE4eBrzDy1U9v0KXQrB7LAOcHkSJVginkoBIW+/85hO677//moDQRxO/gXq6EC9j
 HvI1xdvzlGHG1JNQm417BxeqGmioZIvBnZ2sqtNNy3EsM/4N8FoEGsvk+ZviGeJQv9av
 yU8jRCsVj4amESSToDbKpki9Ia5zT/rG3W4eWjaaVJAeXNShdDYl/iYuk2f/1TwiFsb5
 NiBQ==
X-Gm-Message-State: AAQBX9fvwQtRAjlOYefmZBPwcXUShtHCfS7N1edrsi9OIskpEcF7Mq26
 EG2cL/weX9B9VfXV//UCXms/X969fM4ofYjJyjE+9cUqtLqa9s7NGaW4UJnnnU8AtLzYcZZEXw=
 =
X-Google-Smtp-Source: AKy350YuZEmqROz+qE7zM4ejVA2HB8qYLd8rHdctco8atXZcOIN7zwxG4UnjiWX5UovnUiThBmqZFHDtUGx3
X-Received: by 2002:a05:6808:6141:b0:389:4a00:51b5 with SMTP id
 dl1-20020a056808614100b003894a0051b5mr4587268oib.8.1680797478925; 
 Thu, 06 Apr 2023 09:11:18 -0700 (PDT)
Received: from postal.iol.unh.edu (postal.iol.unh.edu.
 [2606:4100:3880:1234::84]) by smtp-relay.gmail.com with ESMTPS id
 y186-20020a4a45c3000000b0051745d173b2sm126169ooa.26.2023.04.06.09.11.18
 (version=TLS1_2 cipher=ECDHE-ECDSA-AES128-GCM-SHA256 bits=128/128);
 Thu, 06 Apr 2023 09:11:18 -0700 (PDT)
X-Relaying-Domain: iol.unh.edu
Received: from dpdk-ubuntu.dpdklab.iol.unh.edu (unknown
 [IPv6:2606:4100:3880:1722::210])
 by postal.iol.unh.edu (Postfix) with ESMTP id 75F6A605246B;
 Thu,  6 Apr 2023 12:11:18 -0400 (EDT)
Received: from dpdk-ubuntu-2.dpdklab.iol.unh.edu (localhost [IPv6:::1])
 by dpdk-ubuntu.dpdklab.iol.unh.edu (Postfix) with ESMTP id 5F36F60095;
 Thu,  6 Apr 2023 16:11:18 +0000 (UTC)
Subject: |SUCCESS| pw125830-125833 [PATCH] [v3,
 11/11] telemetry: avoid expanding versioned symbol macros on msvc
From: dpdklab@iol.unh.edu
To: Test Report <test-report@dpdk.org>
Cc: dpdklab@iol.unh.edu, David Marchand <david.marchand@redhat.com>,
 Thomas Monjalon <thomas@monjalon.net>
Content-Type: text/plain
Message-Id: <20230406161118.5F36F60095@dpdk-ubuntu.dpdklab.iol.unh.edu>
Date: Thu,  6 Apr 2023 16:11:18 +0000 (UTC)
X-BeenThere: test-report@dpdk.org
X-Mailman-Version: 2.1.29
Precedence: list
List-Id: automatic DPDK test reports <test-report.dpdk.org>
List-Unsubscribe: <https://mails.dpdk.org/options/test-report>,
 <mailto:test-report-request@dpdk.org?subject=unsubscribe>
List-Archive: <http://mails.dpdk.org/archives/test-report/>
List-Post: <mailto:test-report@dpdk.org>
List-Help: <mailto:test-report-request@dpdk.org?subject=help>
List-Subscribe: <https://mails.dpdk.org/listinfo/test-report>,
 <mailto:test-report-request@dpdk.org?subject=subscribe>
Errors-To: test-report-bounces@dpdk.org

Test-Label: iol-aarch64-unit-testing
Test-Status: SUCCESS
http://dpdk.org/patch/125833

_Testing PASS_

Submitter: Tyler Retzlaff <roretzla@linux.microsoft.com>
Date: Thursday, April 06 2023 00:45:19 
DPDK git baseline: Repo:dpdk
  Branch: master
  CommitID:c682c8991963be243dcc3b7cdc9d6984a1961f4e

125830-125833 --> testing pass

Test environment and result as below:

+----------------------+------------------------------+---------------------------+--------------+
|     Environment      | cryptodev_sw_snow3g_autotest | cryptodev_sw_zuc_autotest | lpm_autotest |
+======================+==============================+===========================+==============+
| Debian 11            | PASS                         | PASS                      | SKIPPED      |
+----------------------+------------------------------+---------------------------+--------------+
| Ubuntu 20.04 ARM SVE | SKIPPED                      | SKIPPED                   | PASS         |
+----------------------+------------------------------+---------------------------+--------------+


Debian 11
	Kernel: Container Host Kernel
	Compiler: gcc 10.2.1

Ubuntu 20.04 ARM SVE
	Kernel: 5.4.0-80-generic
	Compiler: gcc 10.3.0 (Ubuntu 10.3.0-1ubuntu1~20.04)

To view detailed results, visit:
https://lab.dpdk.org/results/dashboard/patchsets/25932/

UNH-IOL DPDK Community Lab

To manage your email subscriptions, visit: 
https://lab.dpdk.org/results/dashboard/preferences/subscriptions/