From mboxrd@z Thu Jan  1 00:00:00 1970
Return-Path: <test-report-bounces@dpdk.org>
Received: from mails.dpdk.org (mails.dpdk.org [217.70.189.124])
	by inbox.dpdk.org (Postfix) with ESMTP id 41BA7428DB
	for <public@inbox.dpdk.org>; Thu,  6 Apr 2023 19:46:13 +0200 (CEST)
Received: from mails.dpdk.org (localhost [127.0.0.1])
	by mails.dpdk.org (Postfix) with ESMTP id 3CEF741153;
	Thu,  6 Apr 2023 19:46:13 +0200 (CEST)
Received: from mail-il1-f227.google.com (mail-il1-f227.google.com
 [209.85.166.227])
 by mails.dpdk.org (Postfix) with ESMTP id DCFB641153
 for <test-report@dpdk.org>; Thu,  6 Apr 2023 19:46:11 +0200 (CEST)
Received: by mail-il1-f227.google.com with SMTP id h14so19594500ilj.0
 for <test-report@dpdk.org>; Thu, 06 Apr 2023 10:46:11 -0700 (PDT)
DKIM-Signature: v=1; a=rsa-sha256; c=relaxed/relaxed;
 d=iol.unh.edu; s=unh-iol; t=1680803171; x=1683395171;
 h=date:message-id:cc:to:from:subject:from:to:cc:subject:date
 :message-id:reply-to;
 bh=3nxxcvtirOoXe1CY7NBC/rvxBGVb5hLDDOtCbUm6uyo=;
 b=gcLf+OXvS2NdV+MRT33iS9zhF7a3C9WxxzYkTFHApxjajh4Np1YunF9rksvScFoexk
 bWN0Xudidwb9SNoUGB3NTQfHIicVG3cPbFpRdghemoJbk5ZqEB19LHETOwCmXhsYDV+C
 XL6m7N8PUBnezfzZQUITTY0qpeATHDOzhDHpU=
X-Google-DKIM-Signature: v=1; a=rsa-sha256; c=relaxed/relaxed;
 d=1e100.net; s=20210112; t=1680803171; x=1683395171;
 h=date:message-id:cc:to:from:subject:x-gm-message-state:from:to:cc
 :subject:date:message-id:reply-to;
 bh=3nxxcvtirOoXe1CY7NBC/rvxBGVb5hLDDOtCbUm6uyo=;
 b=DbvCcI1sDcLPp2NM5DAgFTI9qOgumILTnVNCXmTbwmtBcf6Q+tOchn9KaouxnvGbqB
 XpSpZAr9vGI7TAJO6kX64e0J617bdyu+Es7sAI1Xwu5FpplgWGmfF598g7iHPzEKM1Tx
 9TUm5TfCOcsq4yRI2acQy6xaRKdXqYrSt6pMJNhXcXWaq75RTjpSmOz+MjdRjVbmOA4B
 VcK7gIDlHT+Qqy3+17Bl62rjdLKiM094oM3E5jicSrjSZPu7tvwFVkEEfk9fiFNBH6n8
 66TbRm/IKCf0dEYoNgwykaQ0nkdJ5SIWA2T6kgY+zYG+75fRlIyErCauZWtVAPvNurFm
 TcEQ==
X-Gm-Message-State: AAQBX9fqX2Hd2yGKQSiwtZ60oQxazcHMB/JXQs70iKhjaj9D9c/6UtNE
 d6Ar3opjQwawu6B/ZgnGduSv5yy+TZBOMCHHpsjTuiK5CWStzR0DU73dAWAFOxh+aOy/rJGgiw=
 =
X-Google-Smtp-Source: AKy350bURSMP2uZ2dXjftmhdHrTtMQRzNUkFTk0EfNb5toWYkiyzw5YP1PHf6l6YXNgxQhY4tm6a445pxTGR
X-Received: by 2002:a92:ce06:0:b0:326:40dc:9733 with SMTP id
 b6-20020a92ce06000000b0032640dc9733mr7227691ilo.12.1680803171311; 
 Thu, 06 Apr 2023 10:46:11 -0700 (PDT)
Received: from postal.iol.unh.edu (postal.iol.unh.edu.
 [2606:4100:3880:1234::84]) by smtp-relay.gmail.com with ESMTPS id
 m15-20020a026d0f000000b0040b33740f6asm163326jac.68.2023.04.06.10.46.11
 (version=TLS1_2 cipher=ECDHE-ECDSA-AES128-GCM-SHA256 bits=128/128);
 Thu, 06 Apr 2023 10:46:11 -0700 (PDT)
X-Relaying-Domain: iol.unh.edu
Received: from dpdk-ubuntu.dpdklab.iol.unh.edu (unknown
 [IPv6:2606:4100:3880:1722::210])
 by postal.iol.unh.edu (Postfix) with ESMTP id F32CF605246B;
 Thu,  6 Apr 2023 13:46:10 -0400 (EDT)
Received: from dpdk-ubuntu-2.dpdklab.iol.unh.edu (localhost [IPv6:::1])
 by dpdk-ubuntu.dpdklab.iol.unh.edu (Postfix) with ESMTP id 9284760095;
 Thu,  6 Apr 2023 17:46:10 +0000 (UTC)
Subject: |SUCCESS| pw125590 [PATCH] eal/x86: remove redundant round to improve
 performance
From: dpdklab@iol.unh.edu
To: Test Report <test-report@dpdk.org>
Cc: dpdklab@iol.unh.edu, David Marchand <david.marchand@redhat.com>,
 Thomas Monjalon <thomas@monjalon.net>
Content-Type: text/plain
Message-Id: <20230406174610.9284760095@dpdk-ubuntu.dpdklab.iol.unh.edu>
Date: Thu,  6 Apr 2023 17:46:10 +0000 (UTC)
X-BeenThere: test-report@dpdk.org
X-Mailman-Version: 2.1.29
Precedence: list
List-Id: automatic DPDK test reports <test-report.dpdk.org>
List-Unsubscribe: <https://mails.dpdk.org/options/test-report>,
 <mailto:test-report-request@dpdk.org?subject=unsubscribe>
List-Archive: <http://mails.dpdk.org/archives/test-report/>
List-Post: <mailto:test-report@dpdk.org>
List-Help: <mailto:test-report-request@dpdk.org?subject=help>
List-Subscribe: <https://mails.dpdk.org/listinfo/test-report>,
 <mailto:test-report-request@dpdk.org?subject=subscribe>
Errors-To: test-report-bounces@dpdk.org

Test-Label: iol-abi-testing
Test-Status: SUCCESS
http://dpdk.org/patch/125590

_Testing PASS_

Submitter: Leyi Rong <leyi.rong@intel.com>
Date: Wednesday, March 29 2023 09:16:58 
DPDK git baseline: Repo:dpdk
  Branch: master
  CommitID:c682c8991963be243dcc3b7cdc9d6984a1961f4e

125590 --> testing pass

Test environment and result as below:

+-----------------+----------+
|   Environment   | abi_test |
+=================+==========+
| Ubuntu 22.04    | PASS     |
+-----------------+----------+
| RHEL8           | PASS     |
+-----------------+----------+
| RHEL 7          | PASS     |
+-----------------+----------+
| CentOS Stream 8 | PASS     |
+-----------------+----------+


Ubuntu 22.04
	Kernel: Container Host Kernel
	Compiler: clang 14.0.5-1.fc36

RHEL8
	Kernel: 4.18.0-240.10.1.el8_3.x86_64
	Compiler: gcc 8.3.1 20191121 (Red Hat 8.3.1-5)

RHEL 7
	Kernel: 4.18.0-240.10.1.el8_3.x86_64
	Compiler: gcc 4.8.5 20150623 (Red Hat 4.8.5-44)

CentOS Stream 8
	Kernel: 4.18.0-240.10.1.el8_3.x86_64
	Compiler: gcc 8.4.1 20200928

To view detailed results, visit:
https://lab.dpdk.org/results/dashboard/patchsets/25885/

UNH-IOL DPDK Community Lab

To manage your email subscriptions, visit: 
https://lab.dpdk.org/results/dashboard/preferences/subscriptions/