From: dpdklab@iol.unh.edu
To: Test Report <test-report@dpdk.org>
Cc: dpdklab@iol.unh.edu, David Marchand <david.marchand@redhat.com>,
Thomas Monjalon <thomas@monjalon.net>
Subject: |SUCCESS| pw125859 [PATCH] [1/1] net/ixgbe: add a proper memory barrier for LoongArch
Date: Fri, 7 Apr 2023 14:32:57 +0000 (UTC) [thread overview]
Message-ID: <20230407143257.EB8AF6012C@dpdk-ubuntu.dpdklab.iol.unh.edu> (raw)
Test-Label: iol-abi-testing
Test-Status: SUCCESS
http://dpdk.org/patch/125859
_Testing PASS_
Submitter: Min Zhou <zhoumin@loongson.cn>
Date: Friday, April 07 2023 08:50:41
DPDK git baseline: Repo:dpdk
Branch: master
CommitID:65487b12db83c9ef37526a983c43191cd44dae99
125859 --> testing pass
Test environment and result as below:
+-----------------+----------+
| Environment | abi_test |
+=================+==========+
| CentOS Stream 9 | PASS |
+-----------------+----------+
| RHEL 7 | PASS |
+-----------------+----------+
| Ubuntu 22.04 | PASS |
+-----------------+----------+
CentOS Stream 9
Kernel: 4.18.0-240.10.1.el8_3.x86_64
Compiler: gcc 11.3.1 20220421
RHEL 7
Kernel: 4.18.0-240.10.1.el8_3.x86_64
Compiler: gcc 4.8.5 20150623 (Red Hat 4.8.5-44)
Ubuntu 22.04
Kernel: Container Host Kernel
Compiler: gcc 11.3.1-2
To view detailed results, visit:
https://lab.dpdk.org/results/dashboard/patchsets/25941/
UNH-IOL DPDK Community Lab
To manage your email subscriptions, visit:
https://lab.dpdk.org/results/dashboard/preferences/subscriptions/
next reply other threads:[~2023-04-07 14:33 UTC|newest]
Thread overview: 31+ messages / expand[flat|nested] mbox.gz Atom feed top
2023-04-07 14:32 dpdklab [this message]
-- strict thread matches above, loose matches on Subject: below --
2023-04-07 14:50 dpdklab
2023-04-07 14:44 dpdklab
2023-04-07 14:43 dpdklab
2023-04-07 14:42 dpdklab
2023-04-07 14:41 dpdklab
2023-04-07 14:37 dpdklab
2023-04-07 14:35 dpdklab
2023-04-07 14:33 dpdklab
2023-04-07 14:33 dpdklab
2023-04-07 14:28 dpdklab
2023-04-07 14:24 dpdklab
2023-04-07 14:23 dpdklab
2023-04-07 14:19 dpdklab
2023-04-07 14:16 dpdklab
2023-04-07 14:15 dpdklab
2023-04-07 14:15 dpdklab
2023-04-07 14:11 dpdklab
2023-04-07 14:11 dpdklab
2023-04-07 14:10 dpdklab
2023-04-07 14:10 dpdklab
2023-04-07 14:09 dpdklab
2023-04-07 14:08 dpdklab
2023-04-07 14:07 dpdklab
2023-04-07 14:04 dpdklab
2023-04-07 14:01 dpdklab
2023-04-07 13:59 dpdklab
[not found] <20230407085041.3966259-1-zhoumin@loongson.cn>
2023-04-07 8:47 ` |SUCCESS| pw125859 [PATCH 1/1] " qemudev
2023-04-07 8:51 ` checkpatch
2023-04-07 8:51 ` qemudev
2023-04-07 9:59 ` 0-day Robot
Reply instructions:
You may reply publicly to this message via plain-text email
using any one of the following methods:
* Save the following mbox file, import it into your mail client,
and reply-to-all from there: mbox
Avoid top-posting and favor interleaved quoting:
https://en.wikipedia.org/wiki/Posting_style#Interleaved_style
* Reply using the --to, --cc, and --in-reply-to
switches of git-send-email(1):
git send-email \
--in-reply-to=20230407143257.EB8AF6012C@dpdk-ubuntu.dpdklab.iol.unh.edu \
--to=dpdklab@iol.unh.edu \
--cc=david.marchand@redhat.com \
--cc=test-report@dpdk.org \
--cc=thomas@monjalon.net \
/path/to/YOUR_REPLY
https://kernel.org/pub/software/scm/git/docs/git-send-email.html
* If your mail client supports setting the In-Reply-To header
via mailto: links, try the mailto: link
Be sure your reply has a Subject: header at the top and a blank line
before the message body.
This is a public inbox, see mirroring instructions
for how to clone and mirror all data and code used for this inbox;
as well as URLs for NNTP newsgroup(s).