From mboxrd@z Thu Jan  1 00:00:00 1970
Return-Path: <test-report-bounces@dpdk.org>
Received: from mails.dpdk.org (mails.dpdk.org [217.70.189.124])
	by inbox.dpdk.org (Postfix) with ESMTP id BE0D14290D
	for <public@inbox.dpdk.org>; Mon, 10 Apr 2023 08:53:20 +0200 (CEST)
Received: from mails.dpdk.org (localhost [127.0.0.1])
	by mails.dpdk.org (Postfix) with ESMTP id AD7AB40A81;
	Mon, 10 Apr 2023 08:53:20 +0200 (CEST)
Received: from mail-yw1-f228.google.com (mail-yw1-f228.google.com
 [209.85.128.228])
 by mails.dpdk.org (Postfix) with ESMTP id B6F0540A81
 for <test-report@dpdk.org>; Mon, 10 Apr 2023 08:53:19 +0200 (CEST)
Received: by mail-yw1-f228.google.com with SMTP id
 00721157ae682-54c0c86a436so204329307b3.6
 for <test-report@dpdk.org>; Sun, 09 Apr 2023 23:53:19 -0700 (PDT)
DKIM-Signature: v=1; a=rsa-sha256; c=relaxed/relaxed;
 d=iol.unh.edu; s=unh-iol; t=1681109599; x=1683701599;
 h=date:message-id:cc:to:from:subject:from:to:cc:subject:date
 :message-id:reply-to;
 bh=6MPXI6Mc2ILXREiRPUyECh63SdMO3RuhQlynnUcgDh0=;
 b=EeoMJUBTV7H5W/tDE+rARicNSOTDfysURbmNp1DFyVktDsItgxIa7ztTMi9LMwkzlU
 mklqsEzpakyYjscVO8ejC9cMHfOAL+F1KXHMOviN5w/+NJFPZb8gcENSUPA6SyfQheCX
 hxWxNBYzgGxTgICB798d++BRZxQzvr/21AOCs=
X-Google-DKIM-Signature: v=1; a=rsa-sha256; c=relaxed/relaxed;
 d=1e100.net; s=20210112; t=1681109599; x=1683701599;
 h=date:message-id:cc:to:from:subject:x-gm-message-state:from:to:cc
 :subject:date:message-id:reply-to;
 bh=6MPXI6Mc2ILXREiRPUyECh63SdMO3RuhQlynnUcgDh0=;
 b=kyVTrSLByhUthrPk3PLr1XnqdVsNj14zpXYx/P4A21NLd4c8i8vfaZJXnEIyynrGTq
 aX/VTJqOfNJQU7HqZ41HRoQnm3gyW8QsPH/JDvlI4X2wTcjqa8nmYzhrjbH+BgcemX3t
 k9U7amOudsniOpZgze/Blg3JnKmlzjYayZhdFXhTAPwRQYoZiUhlT3MrpWe68NO0suLa
 vSfjWSNxUeJU9HK304hg1RNCUllr03hCz+nG2DFsb0R4G4kM5N8hQFotbtsIZ8Y8KzTb
 ah9fcld/Vxl894lhF/tVTt+rJxJZLdYbnf26CRC9KQiION29KcReDCtUoEIgAeG5j8EV
 wO5A==
X-Gm-Message-State: AAQBX9e2+gIYrsSAeSOe8QzsPrml2yLcapz2yHQsFtGEBs4jGnJqC2vF
 mOhScQqmbYUmvcd+Urx4iJsBuLieJb1Z2rCvwR0WY/NwwrgG4/xf9K7AHw==
X-Google-Smtp-Source: AKy350b0Zf7hkbdJL7CUUWG9qd1KtKcqtbYoDjQbS3SSLEXWOv6U4SgAIMcOUoFyLeJWVo47R7qYi9scY+SK
X-Received: by 2002:a81:6806:0:b0:546:44f4:a2a with SMTP id
 d6-20020a816806000000b0054644f40a2amr4455956ywc.41.1681109599107; 
 Sun, 09 Apr 2023 23:53:19 -0700 (PDT)
Received: from postal.iol.unh.edu (postal.iol.unh.edu. [132.177.123.84])
 by smtp-relay.gmail.com with ESMTPS id
 e67-20020a81a746000000b0054f15c50daasm78707ywh.64.2023.04.09.23.53.19
 (version=TLS1_2 cipher=ECDHE-ECDSA-AES128-GCM-SHA256 bits=128/128);
 Sun, 09 Apr 2023 23:53:19 -0700 (PDT)
X-Relaying-Domain: iol.unh.edu
Received: from dpdk-ubuntu.dpdklab.iol.unh.edu (unknown [172.18.0.210])
 by postal.iol.unh.edu (Postfix) with ESMTP id C4B57605246B;
 Mon, 10 Apr 2023 02:53:18 -0400 (EDT)
Received: from dpdk-ubuntu-2.dpdklab.iol.unh.edu (localhost [IPv6:::1])
 by dpdk-ubuntu.dpdklab.iol.unh.edu (Postfix) with ESMTP id C289860095;
 Mon, 10 Apr 2023 06:53:18 +0000 (UTC)
Subject: |SUCCESS| pw125868 [PATCH] power: amd power monitor support
From: dpdklab@iol.unh.edu
To: Test Report <test-report@dpdk.org>
Cc: dpdklab@iol.unh.edu, David Marchand <david.marchand@redhat.com>,
 Thomas Monjalon <thomas@monjalon.net>
Content-Type: text/plain
Message-Id: <20230410065318.C289860095@dpdk-ubuntu.dpdklab.iol.unh.edu>
Date: Mon, 10 Apr 2023 06:53:18 +0000 (UTC)
X-BeenThere: test-report@dpdk.org
X-Mailman-Version: 2.1.29
Precedence: list
List-Id: automatic DPDK test reports <test-report.dpdk.org>
List-Unsubscribe: <https://mails.dpdk.org/options/test-report>,
 <mailto:test-report-request@dpdk.org?subject=unsubscribe>
List-Archive: <http://mails.dpdk.org/archives/test-report/>
List-Post: <mailto:test-report@dpdk.org>
List-Help: <mailto:test-report-request@dpdk.org?subject=help>
List-Subscribe: <https://mails.dpdk.org/listinfo/test-report>,
 <mailto:test-report-request@dpdk.org?subject=subscribe>
Errors-To: test-report-bounces@dpdk.org

Test-Label: iol-aarch64-compile-testing
Test-Status: SUCCESS
http://dpdk.org/patch/125868

_Testing PASS_

Submitter: Sivaprasad Tummala <Sivaprasad.Tummala@amd.com>
Date: Monday, April 10 2023 04:35:58 
DPDK git baseline: Repo:dpdk
  Branch: master
  CommitID:65487b12db83c9ef37526a983c43191cd44dae99

125868 --> testing pass

Test environment and result as below:

+----------------------------------------+--------------------+
|              Environment               | dpdk_meson_compile |
+========================================+====================+
| Ubuntu 20.04 ARM Clang Native          | PASS               |
+----------------------------------------+--------------------+
| Ubuntu 20.04 ARM GCC Native            | PASS               |
+----------------------------------------+--------------------+
| Ubuntu 20.04 aarch32 GCC Cross Compile | PASS               |
+----------------------------------------+--------------------+
| Ubuntu 20.04 ARM Clang Cross Compile   | PASS               |
+----------------------------------------+--------------------+
| Ubuntu 20.04 ARM GCC Cross Compile     | PASS               |
+----------------------------------------+--------------------+
| Ubuntu 20.04 ARM SVE                   | PASS               |
+----------------------------------------+--------------------+


Ubuntu 20.04 ARM Clang Native
	Kernel: 5.4.0-53-generic
	Compiler: clang 10.0.0-4ubuntu1

Ubuntu 20.04 ARM GCC Native
	Kernel: 5.4.0-53-generic
	Compiler: gcc 9.3

Ubuntu 20.04 aarch32 GCC Cross Compile
	Kernel: 5.4.0-72-generic
	Compiler: gcc 9.3.0

Ubuntu 20.04 ARM Clang Cross Compile
	Kernel: 5.4.0-72-generic
	Compiler: clang version 10.0.0-4ubuntu1

Ubuntu 20.04 ARM GCC Cross Compile
	Kernel: 5.4.0-72-generic
	Compiler: aarch64-linux-gnu-gcc (Ubuntu 9.3.0-17ubuntu1~20.04) 9.3.0

Ubuntu 20.04 ARM SVE
	Kernel: 5.4.0-80-generic
	Compiler: gcc 10.3.0 (Ubuntu 10.3.0-1ubuntu1~20.04)

To view detailed results, visit:
https://lab.dpdk.org/results/dashboard/patchsets/25943/

UNH-IOL DPDK Community Lab

To manage your email subscriptions, visit: 
https://lab.dpdk.org/results/dashboard/preferences/subscriptions/