From mboxrd@z Thu Jan  1 00:00:00 1970
Return-Path: <test-report-bounces@dpdk.org>
Received: from mails.dpdk.org (mails.dpdk.org [217.70.189.124])
	by inbox.dpdk.org (Postfix) with ESMTP id AE1AF4290F
	for <public@inbox.dpdk.org>; Mon, 10 Apr 2023 10:27:13 +0200 (CEST)
Received: from mails.dpdk.org (localhost [127.0.0.1])
	by mails.dpdk.org (Postfix) with ESMTP id A5BD040A81;
	Mon, 10 Apr 2023 10:27:13 +0200 (CEST)
Received: from mail-oi1-f226.google.com (mail-oi1-f226.google.com
 [209.85.167.226])
 by mails.dpdk.org (Postfix) with ESMTP id A9CFA40A81
 for <test-report@dpdk.org>; Mon, 10 Apr 2023 10:27:12 +0200 (CEST)
Received: by mail-oi1-f226.google.com with SMTP id bh10so2795609oib.1
 for <test-report@dpdk.org>; Mon, 10 Apr 2023 01:27:12 -0700 (PDT)
DKIM-Signature: v=1; a=rsa-sha256; c=relaxed/relaxed;
 d=iol.unh.edu; s=unh-iol; t=1681115232; x=1683707232;
 h=date:message-id:cc:to:from:subject:from:to:cc:subject:date
 :message-id:reply-to;
 bh=FvgxnOu7BycCzINuPoHJjk2Y2s4FqSU/H4HKwT/MgA8=;
 b=Eu+nB/iv/mZtFM+rBxeUWegB1D3blsvVeNSNu1dGbKwInPY34ik+LqrqtJFcm4HxdN
 HyEpMyaMyf9xIu2O+wHp6o3NzLr9ZiCED4WSoTJTFyCiwqPNvROFaW28zuba061w1QW0
 SoDD0DTauXNFrLUBMvNBwqs0RXeqOwCLJDWiw=
X-Google-DKIM-Signature: v=1; a=rsa-sha256; c=relaxed/relaxed;
 d=1e100.net; s=20210112; t=1681115232; x=1683707232;
 h=date:message-id:cc:to:from:subject:x-gm-message-state:from:to:cc
 :subject:date:message-id:reply-to;
 bh=FvgxnOu7BycCzINuPoHJjk2Y2s4FqSU/H4HKwT/MgA8=;
 b=SOlBOHhxGaW0pUKiF3G3Qg9boWEdpGHZuIze6CpVpmBB43C3Mv3gycWeP/QgUA8MgU
 Ju6bMsMww/nrXflsLo2qAqCBQ5QX8Gn8yhFFkOahyzQ2fq5H4FNcIQp6VS2vbwY5Msnb
 wVyQqpn3HaKgsSHww1KgLZtjXhRZNTY/Uwf6DyntCbT8z6kw9iRIsV+Mx66IUr40AtJV
 V3NTtliyxwd22BrtvoI6Xtb7DKsfLw/OFlmAYvosaaPVJIXhKzk8Wqg9QaNDXAYHO/Bn
 jhRzZ64PLdHE+tuOuUOYHGnqmNaFiee8j2beAI/ic7El+1DnIfgZO/ayi154SYbMChQ0
 3BMw==
X-Gm-Message-State: AAQBX9d2rC1CbkZGLD2Y5QyJuTQm8jJ2evOlcCoMdlmbohV704/pssIQ
 qiwRWutsdwdekEeQoLeOCBJgwB5KzZbiOQcAuOhVlt/kCiNjsyGg67hydInsyjyOQuJ2yy2qfg=
 =
X-Google-Smtp-Source: AKy350ZZBVgDroa7qwse8wFA6BX22TgDPLgv5EmNjQe8+AQwph9Axy3oX8Wm+5EEm5smzmdXiIotkGTWHLQL
X-Received: by 2002:aca:180f:0:b0:387:cfb5:98f1 with SMTP id
 h15-20020aca180f000000b00387cfb598f1mr2684159oih.27.1681115232083; 
 Mon, 10 Apr 2023 01:27:12 -0700 (PDT)
Received: from postal.iol.unh.edu (postal.iol.unh.edu.
 [2606:4100:3880:1234::84]) by smtp-relay.gmail.com with ESMTPS id
 f65-20020a4a5844000000b005415fe67f40sm733401oob.13.2023.04.10.01.27.12
 (version=TLS1_2 cipher=ECDHE-ECDSA-AES128-GCM-SHA256 bits=128/128);
 Mon, 10 Apr 2023 01:27:12 -0700 (PDT)
X-Relaying-Domain: iol.unh.edu
Received: from dpdk-ubuntu.dpdklab.iol.unh.edu (unknown
 [IPv6:2606:4100:3880:1722::210])
 by postal.iol.unh.edu (Postfix) with ESMTP id 9C349605246B;
 Mon, 10 Apr 2023 04:27:11 -0400 (EDT)
Received: from dpdk-ubuntu-2.dpdklab.iol.unh.edu (localhost [IPv6:::1])
 by dpdk-ubuntu.dpdklab.iol.unh.edu (Postfix) with ESMTP id 93C6960095;
 Mon, 10 Apr 2023 08:27:11 +0000 (UTC)
Subject: |SUCCESS| pw125871-125873 [PATCH] [3/3] net/iavf: support Rx
 timestamp offload on SSE
From: dpdklab@iol.unh.edu
To: Test Report <test-report@dpdk.org>
Cc: dpdklab@iol.unh.edu, David Marchand <david.marchand@redhat.com>,
 Thomas Monjalon <thomas@monjalon.net>
Content-Type: text/plain
Message-Id: <20230410082711.93C6960095@dpdk-ubuntu.dpdklab.iol.unh.edu>
Date: Mon, 10 Apr 2023 08:27:11 +0000 (UTC)
X-BeenThere: test-report@dpdk.org
X-Mailman-Version: 2.1.29
Precedence: list
List-Id: automatic DPDK test reports <test-report.dpdk.org>
List-Unsubscribe: <https://mails.dpdk.org/options/test-report>,
 <mailto:test-report-request@dpdk.org?subject=unsubscribe>
List-Archive: <http://mails.dpdk.org/archives/test-report/>
List-Post: <mailto:test-report@dpdk.org>
List-Help: <mailto:test-report-request@dpdk.org?subject=help>
List-Subscribe: <https://mails.dpdk.org/listinfo/test-report>,
 <mailto:test-report-request@dpdk.org?subject=subscribe>
Errors-To: test-report-bounces@dpdk.org

Test-Label: iol-abi-testing
Test-Status: SUCCESS
http://dpdk.org/patch/125873

_Testing PASS_

Submitter: Zhichao Zeng <zhichaox.zeng@intel.com>
Date: Monday, April 10 2023 07:36:45 
DPDK git baseline: Repo:dpdk
  Branch: master
  CommitID:65487b12db83c9ef37526a983c43191cd44dae99

125871-125873 --> testing pass

Test environment and result as below:

+---------------+----------+
|  Environment  | abi_test |
+===============+==========+
| Ubuntu 22.04  | PASS     |
+---------------+----------+
| Debian Buster | PASS     |
+---------------+----------+
| RHEL 7        | PASS     |
+---------------+----------+


Ubuntu 22.04
	Kernel: Container Host Kernel
	Compiler: gcc 12.2.1-2

Debian Buster
	Kernel: 5.4.0-122-generic
	Compiler: gcc 8.3.0-6

RHEL 7
	Kernel: 4.18.0-240.10.1.el8_3.x86_64
	Compiler: gcc 4.8.5 20150623 (Red Hat 4.8.5-44)

To view detailed results, visit:
https://lab.dpdk.org/results/dashboard/patchsets/25945/

UNH-IOL DPDK Community Lab

To manage your email subscriptions, visit: 
https://lab.dpdk.org/results/dashboard/preferences/subscriptions/