From mboxrd@z Thu Jan  1 00:00:00 1970
Return-Path: <test-report-bounces@dpdk.org>
Received: from mails.dpdk.org (mails.dpdk.org [217.70.189.124])
	by inbox.dpdk.org (Postfix) with ESMTP id 41C7342900
	for <public@inbox.dpdk.org>; Mon, 10 Apr 2023 15:13:15 +0200 (CEST)
Received: from mails.dpdk.org (localhost [127.0.0.1])
	by mails.dpdk.org (Postfix) with ESMTP id 1E4F040A81;
	Mon, 10 Apr 2023 15:13:15 +0200 (CEST)
Received: from mail-pj1-f97.google.com (mail-pj1-f97.google.com
 [209.85.216.97]) by mails.dpdk.org (Postfix) with ESMTP id 89A9840A81
 for <test-report@dpdk.org>; Mon, 10 Apr 2023 15:13:13 +0200 (CEST)
Received: by mail-pj1-f97.google.com with SMTP id
 e18-20020a17090ac21200b00246952d917fso2966166pjt.4
 for <test-report@dpdk.org>; Mon, 10 Apr 2023 06:13:13 -0700 (PDT)
DKIM-Signature: v=1; a=rsa-sha256; c=relaxed/relaxed;
 d=iol.unh.edu; s=unh-iol; t=1681132392; x=1683724392;
 h=date:message-id:cc:to:from:subject:from:to:cc:subject:date
 :message-id:reply-to;
 bh=lHYPBwBqBVgtffXR5fz9tRA1/XByIJ1R+y467fH7XGg=;
 b=OPnxtscayDW/35KMnl/jAMbUS+eRprzRMX3HYisrOK+eI4PHYev270sQmOiCTZAqmF
 /HGDQ9oRNFNwIcdsfn+i2pyoqKxvhb1r3GLQUUgMO5+XQeTG5eby8NrXRqxQ/dBuFLqx
 47q4HZ17ZAdSyaOxsmj9R/ey3EsEMZXawceTQ=
X-Google-DKIM-Signature: v=1; a=rsa-sha256; c=relaxed/relaxed;
 d=1e100.net; s=20210112; t=1681132392; x=1683724392;
 h=date:message-id:cc:to:from:subject:x-gm-message-state:from:to:cc
 :subject:date:message-id:reply-to;
 bh=lHYPBwBqBVgtffXR5fz9tRA1/XByIJ1R+y467fH7XGg=;
 b=u1GWQp5eNqP2Kqmo9FDEUd0XS85s/XVE2kOxQ8kRpckkDFzsvQ7hV653Dh0tKpkQV2
 rD0wwZuYT0FvYpd+mJ3Car9X8gFVqjCRRIBPpPm4InW9rMUt6kVyXiTD9TpqBCVa0hzN
 8C3fqpZminXaBqp2cqihN+kPsbAHH0n5E2Vygpuv7CTETRFTCiTX6nGHIlVJZ6HgokYo
 eABlzRxvqKW17frthirrhS27oT//mDcBQkXJLF0w1cDclvEsahtUlVJBS62YRUvxj6Fj
 JnVLWvWMQTJokxaV8wdgAJlK5ymcW9MO0x4zpVPFTZgnc70Y/GTj2dKzvt+NeicQ8dfu
 ISvA==
X-Gm-Message-State: AAQBX9e06XtoVIOXvKl6sMNXz1LXa4dLzybSCJCAa8mCPz1EKKGlGXgL
 Ifz2P8nHUusKQU3A4r0pO8VkzgEUL15eNVR3b9AYD719F2ct1jaADZCT1A==
X-Google-Smtp-Source: AKy350bDnpHvFrjdYfhGYVUG2HvvPD/UeM6342vKOwVAxew5GuW7PpjN+NVp+ThbG23j4bEUC9/lWriLvgCs
X-Received: by 2002:a17:902:d2cd:b0:1a1:a146:f6d7 with SMTP id
 n13-20020a170902d2cd00b001a1a146f6d7mr12021015plc.4.1681132392731; 
 Mon, 10 Apr 2023 06:13:12 -0700 (PDT)
Received: from postal.iol.unh.edu (postal.iol.unh.edu. [132.177.123.84])
 by smtp-relay.gmail.com with ESMTPS id
 jd1-20020a170903260100b001a6386e0a4esm38010plb.24.2023.04.10.06.13.12
 (version=TLS1_2 cipher=ECDHE-ECDSA-AES128-GCM-SHA256 bits=128/128);
 Mon, 10 Apr 2023 06:13:12 -0700 (PDT)
X-Relaying-Domain: iol.unh.edu
Received: from dpdk-ubuntu.dpdklab.iol.unh.edu (unknown [172.18.0.210])
 by postal.iol.unh.edu (Postfix) with ESMTP id 04356605246B;
 Mon, 10 Apr 2023 09:13:12 -0400 (EDT)
Received: from dpdk-ubuntu-2.dpdklab.iol.unh.edu (localhost [IPv6:::1])
 by dpdk-ubuntu.dpdklab.iol.unh.edu (Postfix) with ESMTP id 0177460095;
 Mon, 10 Apr 2023 13:13:12 +0000 (UTC)
Subject: |SUCCESS| pw125877-125889 [PATCH] [13/13] net/nfp: modify the logic
 of some NFDk function
From: dpdklab@iol.unh.edu
To: Test Report <test-report@dpdk.org>
Cc: dpdklab@iol.unh.edu, David Marchand <david.marchand@redhat.com>,
 Thomas Monjalon <thomas@monjalon.net>
Content-Type: text/plain
Message-Id: <20230410131312.0177460095@dpdk-ubuntu.dpdklab.iol.unh.edu>
Date: Mon, 10 Apr 2023 13:13:12 +0000 (UTC)
X-BeenThere: test-report@dpdk.org
X-Mailman-Version: 2.1.29
Precedence: list
List-Id: automatic DPDK test reports <test-report.dpdk.org>
List-Unsubscribe: <https://mails.dpdk.org/options/test-report>,
 <mailto:test-report-request@dpdk.org?subject=unsubscribe>
List-Archive: <http://mails.dpdk.org/archives/test-report/>
List-Post: <mailto:test-report@dpdk.org>
List-Help: <mailto:test-report-request@dpdk.org?subject=help>
List-Subscribe: <https://mails.dpdk.org/listinfo/test-report>,
 <mailto:test-report-request@dpdk.org?subject=subscribe>
Errors-To: test-report-bounces@dpdk.org

Test-Label: iol-abi-testing
Test-Status: SUCCESS
http://dpdk.org/patch/125889

_Testing PASS_

Submitter: Chaoyong He <chaoyong.he@corigine.com>
Date: Monday, April 10 2023 11:00:15 
DPDK git baseline: Repo:dpdk
  Branch: master
  CommitID:65487b12db83c9ef37526a983c43191cd44dae99

125877-125889 --> testing pass

Test environment and result as below:

+------------------+----------+
|   Environment    | abi_test |
+==================+==========+
| Ubuntu 22.04     | PASS     |
+------------------+----------+
| Debian Bullseye  | PASS     |
+------------------+----------+
| Debian Buster    | PASS     |
+------------------+----------+
| CentOS Stream 9  | PASS     |
+------------------+----------+
| openSUSE Leap 15 | PASS     |
+------------------+----------+
| CentOS Stream 8  | PASS     |
+------------------+----------+
| RHEL8            | PASS     |
+------------------+----------+
| RHEL 7           | PASS     |
+------------------+----------+


Ubuntu 22.04
	Kernel: Container Host Kernel
	Compiler: gcc 11.3.1-2

Debian Bullseye
	Kernel: 5.4.0-122-generic
	Compiler: gcc 10.2.1-6

Debian Buster
	Kernel: 5.4.0-122-generic
	Compiler: gcc 8.3.0-6

CentOS Stream 9
	Kernel: 4.18.0-240.10.1.el8_3.x86_64
	Compiler: gcc 11.3.1 20220421

openSUSE Leap 15
	Kernel: 4.18.0-240.10.1.el8_3.x86_64
	Compiler: gcc 7.5.0

CentOS Stream 8
	Kernel: 4.18.0-240.10.1.el8_3.x86_64
	Compiler: gcc 8.4.1 20200928

RHEL8
	Kernel: 4.18.0-240.10.1.el8_3.x86_64
	Compiler: gcc 8.3.1 20191121 (Red Hat 8.3.1-5)

RHEL 7
	Kernel: 4.18.0-240.10.1.el8_3.x86_64
	Compiler: gcc 4.8.5 20150623 (Red Hat 4.8.5-44)

To view detailed results, visit:
https://lab.dpdk.org/results/dashboard/patchsets/25947/

UNH-IOL DPDK Community Lab

To manage your email subscriptions, visit: 
https://lab.dpdk.org/results/dashboard/preferences/subscriptions/