From mboxrd@z Thu Jan  1 00:00:00 1970
Return-Path: <test-report-bounces@dpdk.org>
Received: from mails.dpdk.org (mails.dpdk.org [217.70.189.124])
	by inbox.dpdk.org (Postfix) with ESMTP id 4A8D84291B
	for <public@inbox.dpdk.org>; Tue, 11 Apr 2023 11:39:11 +0200 (CEST)
Received: from mails.dpdk.org (localhost [127.0.0.1])
	by mails.dpdk.org (Postfix) with ESMTP id 44C8A40A8B;
	Tue, 11 Apr 2023 11:39:11 +0200 (CEST)
Received: from mail-io1-f99.google.com (mail-io1-f99.google.com
 [209.85.166.99]) by mails.dpdk.org (Postfix) with ESMTP id DD18740A8B
 for <test-report@dpdk.org>; Tue, 11 Apr 2023 11:39:09 +0200 (CEST)
Received: by mail-io1-f99.google.com with SMTP id k13so13928461iov.10
 for <test-report@dpdk.org>; Tue, 11 Apr 2023 02:39:09 -0700 (PDT)
DKIM-Signature: v=1; a=rsa-sha256; c=relaxed/relaxed;
 d=iol.unh.edu; s=unh-iol; t=1681205949; x=1683797949;
 h=date:message-id:cc:to:from:subject:from:to:cc:subject:date
 :message-id:reply-to;
 bh=RbWqOVQ7/+o9/R40zS0VeSqyFnZENuHQI6FQxrQ1AjA=;
 b=O0Xmpa25NtXG++SwvhY4r+eR/10EgsQhkJw7z9H+pSNCYqfyywzpBy0F9mKySkgYBW
 WxQMgSWxklhVY73wUBUzZj1pQlbU3nhJk5lodR+CIYCmSLZOJ2rUegfmtx61Ti5waVaj
 SrpHQJ/6x/arHKOdSDpRMNYIWSs+gSQRGIfPA=
X-Google-DKIM-Signature: v=1; a=rsa-sha256; c=relaxed/relaxed;
 d=1e100.net; s=20210112; t=1681205949; x=1683797949;
 h=date:message-id:cc:to:from:subject:x-gm-message-state:from:to:cc
 :subject:date:message-id:reply-to;
 bh=RbWqOVQ7/+o9/R40zS0VeSqyFnZENuHQI6FQxrQ1AjA=;
 b=FruKEJlw4IWRueeSc/LC+dBX8vI9VvP3X24I6TfnCnZfKuuqR0CO7pVHmI8so9eWJA
 aX9xR3nLDAP+lySX7Tk2WzBCDWABmiIfSppGTzXC7HFhBhbzJD5fGE0s/O8+5bVTE4Fq
 U1vl6ASptZBe+NbJ0Lx+VFuttjMCLJQRBHXiuRqW2GsCrxxoFoyR0bXDCkJxYDgQUjIe
 ZASFrdOK3CzJVUD/reT1bCAvIXSljEQlvirtMzrZZsn10EpazGnxZQ9mZYML8zi4GGS+
 H7Bgx9qe6/8J/IMFJmFTcYiOdZhhoXZajubVAi+wpKhSGXjCrlbUsyPa0+xLHGzsOSob
 PSEg==
X-Gm-Message-State: AAQBX9csPESh5+kn9VtW3VIKjAsqthKJ6qj0NlwsP+xvyctCjKk+19Xn
 ZiPlDi5dctDi7EFVhcWGWfgUSA0t5HsD6mkR9BpqaLnhh4xQVeI7/li2DQ==
X-Google-Smtp-Source: AKy350bzX/WRkwdkK+SSQdsP0PMS3eUTUrgEeCzCAQEl1wy5zFpkat2uKLgvjRRpP13p5DOlnuxzo5hVYTSa
X-Received: by 2002:a6b:f107:0:b0:759:8f29:2e81 with SMTP id
 e7-20020a6bf107000000b007598f292e81mr9513667iog.18.1681205949300; 
 Tue, 11 Apr 2023 02:39:09 -0700 (PDT)
Received: from postal.iol.unh.edu (postal.iol.unh.edu. [132.177.123.84])
 by smtp-relay.gmail.com with ESMTPS id
 n9-20020a056638210900b003e33de88078sm1039663jaj.65.2023.04.11.02.39.09
 (version=TLS1_2 cipher=ECDHE-ECDSA-AES128-GCM-SHA256 bits=128/128);
 Tue, 11 Apr 2023 02:39:09 -0700 (PDT)
X-Relaying-Domain: iol.unh.edu
Received: from dpdk-ubuntu.dpdklab.iol.unh.edu (unknown
 [IPv6:2606:4100:3880:1722::210])
 by postal.iol.unh.edu (Postfix) with ESMTP id D8129605246B;
 Tue, 11 Apr 2023 05:39:08 -0400 (EDT)
Received: from dpdk-ubuntu-2.dpdklab.iol.unh.edu (localhost [IPv6:::1])
 by dpdk-ubuntu.dpdklab.iol.unh.edu (Postfix) with ESMTP id C3A9C60092;
 Tue, 11 Apr 2023 09:39:08 +0000 (UTC)
Subject: |SUCCESS| pw125894-125895 [PATCH] [2/2] event/cnxk: restrict stashing
 to multi-core
From: dpdklab@iol.unh.edu
To: Test Report <test-report@dpdk.org>
Cc: dpdklab@iol.unh.edu, David Marchand <david.marchand@redhat.com>,
 Thomas Monjalon <thomas@monjalon.net>
Content-Type: text/plain
Message-Id: <20230411093908.C3A9C60092@dpdk-ubuntu.dpdklab.iol.unh.edu>
Date: Tue, 11 Apr 2023 09:39:08 +0000 (UTC)
X-BeenThere: test-report@dpdk.org
X-Mailman-Version: 2.1.29
Precedence: list
List-Id: automatic DPDK test reports <test-report.dpdk.org>
List-Unsubscribe: <https://mails.dpdk.org/options/test-report>,
 <mailto:test-report-request@dpdk.org?subject=unsubscribe>
List-Archive: <http://mails.dpdk.org/archives/test-report/>
List-Post: <mailto:test-report@dpdk.org>
List-Help: <mailto:test-report-request@dpdk.org?subject=help>
List-Subscribe: <https://mails.dpdk.org/listinfo/test-report>,
 <mailto:test-report-request@dpdk.org?subject=subscribe>
Errors-To: test-report-bounces@dpdk.org

Test-Label: iol-abi-testing
Test-Status: SUCCESS
http://dpdk.org/patch/125895

_Testing PASS_

Submitter: Pavan Nikhilesh Bhagavatula <pbhagavatula@marvell.com>
Date: Tuesday, April 11 2023 07:01:29 
DPDK git baseline: Repo:dpdk
  Branch: master
  CommitID:65487b12db83c9ef37526a983c43191cd44dae99

125894-125895 --> testing pass

Test environment and result as below:

+-----------------+----------+
|   Environment   | abi_test |
+=================+==========+
| RHEL8           | PASS     |
+-----------------+----------+
| Ubuntu 22.04    | PASS     |
+-----------------+----------+
| CentOS Stream 9 | PASS     |
+-----------------+----------+


RHEL8
	Kernel: 4.18.0-240.10.1.el8_3.x86_64
	Compiler: gcc 8.3.1 20191121 (Red Hat 8.3.1-5)

Ubuntu 22.04
	Kernel: Container Host Kernel
	Compiler: gcc 11.3.1-2

CentOS Stream 9
	Kernel: 4.18.0-240.10.1.el8_3.x86_64
	Compiler: gcc 11.3.1 20220421

To view detailed results, visit:
https://lab.dpdk.org/results/dashboard/patchsets/25951/

UNH-IOL DPDK Community Lab

To manage your email subscriptions, visit: 
https://lab.dpdk.org/results/dashboard/preferences/subscriptions/