From mboxrd@z Thu Jan  1 00:00:00 1970
Return-Path: <test-report-bounces@dpdk.org>
Received: from mails.dpdk.org (mails.dpdk.org [217.70.189.124])
	by inbox.dpdk.org (Postfix) with ESMTP id E8FB14291C
	for <public@inbox.dpdk.org>; Tue, 11 Apr 2023 13:18:31 +0200 (CEST)
Received: from mails.dpdk.org (localhost [127.0.0.1])
	by mails.dpdk.org (Postfix) with ESMTP id D77CF40C35;
	Tue, 11 Apr 2023 13:18:31 +0200 (CEST)
Received: from mail-qv1-f97.google.com (mail-qv1-f97.google.com
 [209.85.219.97]) by mails.dpdk.org (Postfix) with ESMTP id 5B3F040C35
 for <test-report@dpdk.org>; Tue, 11 Apr 2023 13:18:31 +0200 (CEST)
Received: by mail-qv1-f97.google.com with SMTP id lz6so5200398qvb.6
 for <test-report@dpdk.org>; Tue, 11 Apr 2023 04:18:31 -0700 (PDT)
DKIM-Signature: v=1; a=rsa-sha256; c=relaxed/relaxed;
 d=iol.unh.edu; s=unh-iol; t=1681211910; x=1683803910;
 h=date:message-id:cc:to:from:subject:from:to:cc:subject:date
 :message-id:reply-to;
 bh=sCJBXSzkwUAmbBnzJL6PYVF8pbJcZtFbmHoYa8n6vI8=;
 b=iWvcFXbx07rr6hvAvMIyotEsvOb196ejiDb4zBEnZ1cE5afbMCwTjcrW/NPVv8IQvC
 nv0SP+y32Dd9iseuJGemtFaVE6BathoAHedLsVisZN6Xmx0s+3QIake1afS52ViZz2eg
 BNVa2h9qs+GCt9TmwyZZ+XZwvPO//2NQwu91g=
X-Google-DKIM-Signature: v=1; a=rsa-sha256; c=relaxed/relaxed;
 d=1e100.net; s=20210112; t=1681211910; x=1683803910;
 h=date:message-id:cc:to:from:subject:x-gm-message-state:from:to:cc
 :subject:date:message-id:reply-to;
 bh=sCJBXSzkwUAmbBnzJL6PYVF8pbJcZtFbmHoYa8n6vI8=;
 b=B7V+v5vGPbv+vJL3ixml7qFoJ4GUSXddlVPL7R7QjCivauwtn8x3QjCq/vmTaICOz1
 cKD1zHDz1tP3hnZaZmddlWpFJslFHFO3xsIHEOkRy0BB1znVeOzmeD9BpPVaOErh13Xl
 uqu1HtqNx5y0F3qfQwAMhr9aIHPSHe6JYnM0tgxaZK0V1C4XAwC91kFRE99eYYIirTRf
 6Ts7+oV3WKt6q1wLVWuPu/suzSAOc7sYru0J46q5wLIEoh//4aR+53ZAWQFEYtV6fqVx
 3FxKJwprGxZUMCWl5wLwkeFcmOgjZeq0rpsq9Biq9G1YxUJ/KbIqflXj6d0zRxwvtDzc
 R+mg==
X-Gm-Message-State: AAQBX9cJguEM70GF8pp82qbfmDSVz0ly98xdpjBzeX+tQWW80YchfLWP
 wYmDgtu+134xrG0e7/C6Jfw2iU4XgM/SfPpIq/V1hxThZhQW0is+GBWbSF+RJzooPD2rUsX3+Q=
 =
X-Google-Smtp-Source: AKy350a5A8L5gvTkupJdj9Zg8YF1ZlBx5PvlEFbkmZgyPZBLiHhXCixzJ3q++ozWNCIw0ro7iaLWvmEyGlGc
X-Received: by 2002:a05:6214:2247:b0:5e8:3496:e63f with SMTP id
 c7-20020a056214224700b005e83496e63fmr26827862qvc.3.1681211910774; 
 Tue, 11 Apr 2023 04:18:30 -0700 (PDT)
Received: from postal.iol.unh.edu (postal.iol.unh.edu.
 [2606:4100:3880:1234::84]) by smtp-relay.gmail.com with ESMTPS id
 p6-20020ac84606000000b003e216c91d7esm436652qtn.5.2023.04.11.04.18.30
 (version=TLS1_2 cipher=ECDHE-ECDSA-AES128-GCM-SHA256 bits=128/128);
 Tue, 11 Apr 2023 04:18:30 -0700 (PDT)
X-Relaying-Domain: iol.unh.edu
Received: from dpdk-ubuntu.dpdklab.iol.unh.edu (unknown [172.18.0.210])
 by postal.iol.unh.edu (Postfix) with ESMTP id 7AFD8605246B;
 Tue, 11 Apr 2023 07:18:30 -0400 (EDT)
Received: from dpdk-ubuntu-2.dpdklab.iol.unh.edu (localhost [IPv6:::1])
 by dpdk-ubuntu.dpdklab.iol.unh.edu (Postfix) with ESMTP id 7888760092;
 Tue, 11 Apr 2023 11:18:30 +0000 (UTC)
Subject: |SUCCESS| pw125901-125905 [PATCH] [5/5] mempool/cnxk: add support for
 exchanging mbufs between pools
From: dpdklab@iol.unh.edu
To: Test Report <test-report@dpdk.org>
Cc: dpdk-test-reports@iol.unh.edu, David Marchand <david.marchand@redhat.com>,
 Thomas Monjalon <thomas@monjalon.net>
Content-Type: text/plain
Message-Id: <20230411111830.7888760092@dpdk-ubuntu.dpdklab.iol.unh.edu>
Date: Tue, 11 Apr 2023 11:18:30 +0000 (UTC)
X-BeenThere: test-report@dpdk.org
X-Mailman-Version: 2.1.29
Precedence: list
List-Id: automatic DPDK test reports <test-report.dpdk.org>
List-Unsubscribe: <https://mails.dpdk.org/options/test-report>,
 <mailto:test-report-request@dpdk.org?subject=unsubscribe>
List-Archive: <http://mails.dpdk.org/archives/test-report/>
List-Post: <mailto:test-report@dpdk.org>
List-Help: <mailto:test-report-request@dpdk.org?subject=help>
List-Subscribe: <https://mails.dpdk.org/listinfo/test-report>,
 <mailto:test-report-request@dpdk.org?subject=subscribe>
Errors-To: test-report-bounces@dpdk.org

Test-Label: iol-abi-testing
Test-Status: SUCCESS
http://dpdk.org/patch/125905

_Testing PASS_

Submitter: Ashwin Sekhar T K <asekhar@marvell.com>
Date: Tuesday, April 11 2023 07:55:28 
DPDK git baseline: Repo:dpdk
  Branch: master
  CommitID:65487b12db83c9ef37526a983c43191cd44dae99

125901-125905 --> testing pass

Test environment and result as below:

+------------------+----------+
|   Environment    | abi_test |
+==================+==========+
| Ubuntu 22.04     | PASS     |
+------------------+----------+
| Debian Buster    | PASS     |
+------------------+----------+
| RHEL8            | PASS     |
+------------------+----------+
| openSUSE Leap 15 | PASS     |
+------------------+----------+


Ubuntu 22.04
	Kernel: Container Host Kernel
	Compiler: gcc 12.2.1-2

Debian Buster
	Kernel: 5.4.0-122-generic
	Compiler: gcc 8.3.0-6

RHEL8
	Kernel: 4.18.0-240.10.1.el8_3.x86_64
	Compiler: gcc 8.3.1 20191121 (Red Hat 8.3.1-5)

openSUSE Leap 15
	Kernel: 4.18.0-240.10.1.el8_3.x86_64
	Compiler: gcc 7.5.0

To view detailed results, visit:
https://lab.dpdk.org/results/dashboard/patchsets/25954/

UNH-IOL DPDK Community Lab

To manage your email subscriptions, visit: 
https://lab.dpdk.org/results/dashboard/preferences/subscriptions/