From mboxrd@z Thu Jan  1 00:00:00 1970
Return-Path: <test-report-bounces@dpdk.org>
Received: from mails.dpdk.org (mails.dpdk.org [217.70.189.124])
	by inbox.dpdk.org (Postfix) with ESMTP id BB7A04292B
	for <public@inbox.dpdk.org>; Wed, 12 Apr 2023 22:52:36 +0200 (CEST)
Received: from mails.dpdk.org (localhost [127.0.0.1])
	by mails.dpdk.org (Postfix) with ESMTP id B51F1406A2;
	Wed, 12 Apr 2023 22:52:36 +0200 (CEST)
Received: from mail-il1-f228.google.com (mail-il1-f228.google.com
 [209.85.166.228])
 by mails.dpdk.org (Postfix) with ESMTP id B93F3406A2
 for <test-report@dpdk.org>; Wed, 12 Apr 2023 22:52:35 +0200 (CEST)
Received: by mail-il1-f228.google.com with SMTP id k7so16977455ils.3
 for <test-report@dpdk.org>; Wed, 12 Apr 2023 13:52:35 -0700 (PDT)
DKIM-Signature: v=1; a=rsa-sha256; c=relaxed/relaxed;
 d=iol.unh.edu; s=unh-iol; t=1681332755; x=1683924755;
 h=date:message-id:cc:to:from:subject:from:to:cc:subject:date
 :message-id:reply-to;
 bh=V+jfIQ9ELVS8HKctbHg+ZZGU2GlNkgSXPDXxHiacXGA=;
 b=GgXGpO2vpuPC7iCuvsmKeAoJGCTocMPbjP3j+9gFs3/Iel5AON1VfsEI/qU9awAvfV
 YJ5MQ7bGKo6CrMYotLgLESYIIcXxHc8hBYzG8Nj9HEEFxzcBuQOrHBEAGfsRxK4JRu9e
 Uhy9OTA1r3JrtM23U2RMJWFUGa9lqsnl7FU0U=
X-Google-DKIM-Signature: v=1; a=rsa-sha256; c=relaxed/relaxed;
 d=1e100.net; s=20221208; t=1681332755; x=1683924755;
 h=date:message-id:cc:to:from:subject:x-gm-message-state:from:to:cc
 :subject:date:message-id:reply-to;
 bh=V+jfIQ9ELVS8HKctbHg+ZZGU2GlNkgSXPDXxHiacXGA=;
 b=daKqIXXZjz7cNPZB2H8io75fglL2pxlC5dewzYn04H7HzQgazGvqXEOvKI9pXJpt/J
 1ko1r+y4hWAQZUsF0bjxrgB5vAhFRq3+xsHSWaHfB7yqyrOlfEl3/chcV6fMBVInP/Zr
 nRfzpjmwuljKDmJaXL9nJFTHBh8J3chLlyEb/IvzFcZOVXLeSFEXvwHRCjajT9Jx1OrQ
 VQe0pmMv4eCRGC6DDPOviW9DdjiLolBOYn59j0cH/OkQVrYPcz1q3VgcaP7B6GX4zcy3
 izJJjq8VrE2yaTJT5PD8y9so1FogXDGSijjv7BL0HboiUcFkTpbTADfnBl5VTCD8qRiE
 gnuQ==
X-Gm-Message-State: AAQBX9eAUZd70wuezFiLVPFetosE6GPnhWWNz2t57kj98qRsRf0gviCA
 KmCC43lRO+aLzPfwX6bmtxx/pjwLXUyWKgA6ICeruH2TMqOkQ4IqZi8C46b+oYaRAdaSl6iNyw=
 =
X-Google-Smtp-Source: AKy350YsCpOmQJe0cIY9XIiJdLy2NNjntehhGoJMN9AHhEtDCQ/8oXA/8vtGw+LY4bY1t4ooe5lONs/yUOan
X-Received: by 2002:a92:7511:0:b0:326:1d7e:1238 with SMTP id
 q17-20020a927511000000b003261d7e1238mr2101947ilc.16.1681332754832; 
 Wed, 12 Apr 2023 13:52:34 -0700 (PDT)
Received: from postal.iol.unh.edu (postal.iol.unh.edu.
 [2606:4100:3880:1234::84]) by smtp-relay.gmail.com with ESMTPS id
 z22-20020a027a56000000b0040bbd173c33sm2213106jad.49.2023.04.12.13.52.34
 (version=TLS1_2 cipher=ECDHE-ECDSA-AES128-GCM-SHA256 bits=128/128);
 Wed, 12 Apr 2023 13:52:34 -0700 (PDT)
X-Relaying-Domain: iol.unh.edu
Received: from dpdk-ubuntu.dpdklab.iol.unh.edu (unknown [172.18.0.210])
 by postal.iol.unh.edu (Postfix) with ESMTP id 7FC5F605246B;
 Wed, 12 Apr 2023 16:52:34 -0400 (EDT)
Received: from dpdk-ubuntu-2.dpdklab.iol.unh.edu (localhost [IPv6:::1])
 by dpdk-ubuntu.dpdklab.iol.unh.edu (Postfix) with ESMTP id 7E82560095;
 Wed, 12 Apr 2023 20:52:34 +0000 (UTC)
Subject: |SUCCESS| pw125966 [PATCH] common/mlx5: enable opration in iova
 virtual address mode
From: dpdklab@iol.unh.edu
To: Test Report <test-report@dpdk.org>
Cc: dpdklab@iol.unh.edu, David Marchand <david.marchand@redhat.com>,
 Thomas Monjalon <thomas@monjalon.net>
Content-Type: text/plain
Message-Id: <20230412205234.7E82560095@dpdk-ubuntu.dpdklab.iol.unh.edu>
Date: Wed, 12 Apr 2023 20:52:34 +0000 (UTC)
X-BeenThere: test-report@dpdk.org
X-Mailman-Version: 2.1.29
Precedence: list
List-Id: automatic DPDK test reports <test-report.dpdk.org>
List-Unsubscribe: <https://mails.dpdk.org/options/test-report>,
 <mailto:test-report-request@dpdk.org?subject=unsubscribe>
List-Archive: <http://mails.dpdk.org/archives/test-report/>
List-Post: <mailto:test-report@dpdk.org>
List-Help: <mailto:test-report-request@dpdk.org?subject=help>
List-Subscribe: <https://mails.dpdk.org/listinfo/test-report>,
 <mailto:test-report-request@dpdk.org?subject=subscribe>
Errors-To: test-report-bounces@dpdk.org

Test-Label: iol-abi-testing
Test-Status: SUCCESS
http://dpdk.org/patch/125966

_Testing PASS_

Submitter: Viacheslav Ovsiienko <viacheslavo@nvidia.com>
Date: Wednesday, April 12 2023 12:53:20 
DPDK git baseline: Repo:dpdk
  Branch: master
  CommitID:3b3fef9de22af80d173453ab65a80b01ce38cbfd

125966 --> testing pass

Test environment and result as below:

+-----------------+----------+
|   Environment   | abi_test |
+=================+==========+
| CentOS Stream 8 | PASS     |
+-----------------+----------+
| Ubuntu 22.04    | PASS     |
+-----------------+----------+
| Debian Buster   | PASS     |
+-----------------+----------+
| RHEL 7          | PASS     |
+-----------------+----------+
| Debian Bullseye | PASS     |
+-----------------+----------+
| CentOS Stream 9 | PASS     |
+-----------------+----------+


CentOS Stream 8
	Kernel: 4.18.0-240.10.1.el8_3.x86_64
	Compiler: gcc 8.4.1 20200928

Ubuntu 22.04
	Kernel: Container Host Kernel
	Compiler: gcc 12.2.1-2

Debian Buster
	Kernel: 5.4.0-122-generic
	Compiler: gcc 8.3.0-6

RHEL 7
	Kernel: 4.18.0-240.10.1.el8_3.x86_64
	Compiler: gcc 4.8.5 20150623 (Red Hat 4.8.5-44)

Debian Bullseye
	Kernel: 5.4.0-122-generic
	Compiler: gcc 10.2.1-6

CentOS Stream 9
	Kernel: 4.18.0-240.10.1.el8_3.x86_64
	Compiler: gcc 11.3.1 20220421

To view detailed results, visit:
https://lab.dpdk.org/results/dashboard/patchsets/25970/

UNH-IOL DPDK Community Lab

To manage your email subscriptions, visit: 
https://lab.dpdk.org/results/dashboard/preferences/subscriptions/