From mboxrd@z Thu Jan  1 00:00:00 1970
Return-Path: <test-report-bounces@dpdk.org>
Received: from mails.dpdk.org (mails.dpdk.org [217.70.189.124])
	by inbox.dpdk.org (Postfix) with ESMTP id E90CA42935
	for <public@inbox.dpdk.org>; Thu, 13 Apr 2023 19:45:39 +0200 (CEST)
Received: from mails.dpdk.org (localhost [127.0.0.1])
	by mails.dpdk.org (Postfix) with ESMTP id C812F410F9;
	Thu, 13 Apr 2023 19:45:39 +0200 (CEST)
Received: from mail-pj1-f99.google.com (mail-pj1-f99.google.com
 [209.85.216.99]) by mails.dpdk.org (Postfix) with ESMTP id 3BF93410F9
 for <test-report@dpdk.org>; Thu, 13 Apr 2023 19:45:39 +0200 (CEST)
Received: by mail-pj1-f99.google.com with SMTP id hg12so1402025pjb.2
 for <test-report@dpdk.org>; Thu, 13 Apr 2023 10:45:39 -0700 (PDT)
DKIM-Signature: v=1; a=rsa-sha256; c=relaxed/relaxed;
 d=iol.unh.edu; s=unh-iol; t=1681407938; x=1683999938;
 h=date:message-id:cc:to:from:subject:from:to:cc:subject:date
 :message-id:reply-to;
 bh=Gw2b9rr4mvSAdue4VvGyxwm7LLLH3LaCIATR91r8Nec=;
 b=gpnfEiybDP0qzL1DkkgQNYMz16uDmqnoIFci9BSW7evcSeKAPKkXI147BJ8zAUGZlQ
 KgHg/ompZtAzXhLpeLUg7/KgbDNS841h+y6T3up7/01EkBm+9wt/mUAQATnAlbLmwM5q
 vDYqQI/7CbKYVZTwzdqZ0F5ckeXkoMVwUzRGw=
X-Google-DKIM-Signature: v=1; a=rsa-sha256; c=relaxed/relaxed;
 d=1e100.net; s=20221208; t=1681407938; x=1683999938;
 h=date:message-id:cc:to:from:subject:x-gm-message-state:from:to:cc
 :subject:date:message-id:reply-to;
 bh=Gw2b9rr4mvSAdue4VvGyxwm7LLLH3LaCIATR91r8Nec=;
 b=lJJ45YrFiw8nKZLOQ2jPFGrBC1bj56AIXOY6De+X/cx1yxr5l2vuZyr9ROl5dgPO8/
 UxDL3sqLuMq7sa8UKcgN1/lZFBMPzJDSur7twAHblKeUMXMBYm1dDqw+SKa6RMJBafiS
 gZuexydjWQQMaoggpuT/BZvSd/pEMBdqX0RNOHW1YLiz0uyywrAoWBRMxtTMtPwPfG3I
 d+FlRDl4rzyhbWFK1PuF9zvWIpTa58WGa2vPezxgGHFfYPSP0KsJNfaVf4xcKO6LfKld
 pLFCpeSNcaHJC2j7j84q+XKNFWu15v+9hhFlSSB7I8HBWI7KwpLzj8AnSuPFOQ4c/DFH
 r34A==
X-Gm-Message-State: AAQBX9cgf6NQLYgLaPprH0nsXIL4xR876UKRi9RzYIroy4eB7EO8uHen
 aHe2q63uyEx/aPgur1Mzh8GgbJiGfOTLFZmRdnXOFqFk6EjhLa8aIxSjTUf2wLQupVQJM3DK9g=
 =
X-Google-Smtp-Source: AKy350aLoIDHsc6v2MKLtic+Z8Gp9/3wi9sBh/JKkhBGxBNvbVvB7gQORk+tMz+bOBpATMonlng9n4Y3sGID
X-Received: by 2002:a05:6a20:7aa2:b0:eb:94b8:68bb with SMTP id
 u34-20020a056a207aa200b000eb94b868bbmr2782198pzh.30.1681407938271; 
 Thu, 13 Apr 2023 10:45:38 -0700 (PDT)
Received: from postal.iol.unh.edu (postal.iol.unh.edu.
 [2606:4100:3880:1234::84]) by smtp-relay.gmail.com with ESMTPS id
 y37-20020a056a00182500b0063b1a205ea7sm457854pfa.27.2023.04.13.10.45.38
 (version=TLS1_2 cipher=ECDHE-ECDSA-AES128-GCM-SHA256 bits=128/128);
 Thu, 13 Apr 2023 10:45:38 -0700 (PDT)
X-Relaying-Domain: iol.unh.edu
Received: from dpdk-ubuntu.dpdklab.iol.unh.edu (unknown
 [IPv6:2606:4100:3880:1722::210])
 by postal.iol.unh.edu (Postfix) with ESMTP id 7B198605246B;
 Thu, 13 Apr 2023 13:45:37 -0400 (EDT)
Received: from dpdk-ubuntu-2.dpdklab.iol.unh.edu (localhost [IPv6:::1])
 by dpdk-ubuntu.dpdklab.iol.unh.edu (Postfix) with ESMTP id 54D9260092;
 Thu, 13 Apr 2023 17:45:37 +0000 (UTC)
Subject: |SUCCESS| pw126032-126034 [PATCH] [v2,6/6] config/arm: add AMD CDX
From: dpdklab@iol.unh.edu
To: Test Report <test-report@dpdk.org>
Cc: dpdk-test-reports@iol.unh.edu, David Marchand <david.marchand@redhat.com>,
 Thomas Monjalon <thomas@monjalon.net>
Content-Type: text/plain
Message-Id: <20230413174537.54D9260092@dpdk-ubuntu.dpdklab.iol.unh.edu>
Date: Thu, 13 Apr 2023 17:45:37 +0000 (UTC)
X-BeenThere: test-report@dpdk.org
X-Mailman-Version: 2.1.29
Precedence: list
List-Id: automatic DPDK test reports <test-report.dpdk.org>
List-Unsubscribe: <https://mails.dpdk.org/options/test-report>,
 <mailto:test-report-request@dpdk.org?subject=unsubscribe>
List-Archive: <http://mails.dpdk.org/archives/test-report/>
List-Post: <mailto:test-report@dpdk.org>
List-Help: <mailto:test-report-request@dpdk.org?subject=help>
List-Subscribe: <https://mails.dpdk.org/listinfo/test-report>,
 <mailto:test-report-request@dpdk.org?subject=subscribe>
Errors-To: test-report-bounces@dpdk.org

Test-Label: iol-abi-testing
Test-Status: SUCCESS
http://dpdk.org/patch/126034

_Testing PASS_

Submitter: Nipun Gupta <nipun.gupta@amd.com>
Date: Thursday, April 13 2023 13:27:04 
DPDK git baseline: Repo:dpdk
  Branch: master
  CommitID:3b3fef9de22af80d173453ab65a80b01ce38cbfd

126032-126034 --> testing pass

Test environment and result as below:

+------------------+----------+
|   Environment    | abi_test |
+==================+==========+
| CentOS Stream 8  | PASS     |
+------------------+----------+
| CentOS Stream 9  | PASS     |
+------------------+----------+
| Debian Buster    | PASS     |
+------------------+----------+
| Debian Bullseye  | PASS     |
+------------------+----------+
| RHEL 7           | PASS     |
+------------------+----------+
| Ubuntu 22.04     | PASS     |
+------------------+----------+
| openSUSE Leap 15 | PASS     |
+------------------+----------+


CentOS Stream 8
	Kernel: 4.18.0-240.10.1.el8_3.x86_64
	Compiler: gcc 8.4.1 20200928

CentOS Stream 9
	Kernel: 4.18.0-240.10.1.el8_3.x86_64
	Compiler: gcc 11.3.1 20220421

Debian Buster
	Kernel: 5.4.0-122-generic
	Compiler: gcc 8.3.0-6

Debian Bullseye
	Kernel: 5.4.0-122-generic
	Compiler: gcc 10.2.1-6

RHEL 7
	Kernel: 4.18.0-240.10.1.el8_3.x86_64
	Compiler: gcc 4.8.5 20150623 (Red Hat 4.8.5-44)

Ubuntu 22.04
	Kernel: Container Host Kernel
	Compiler: clang 14.0.5-1.fc36

openSUSE Leap 15
	Kernel: 4.18.0-240.10.1.el8_3.x86_64
	Compiler: gcc 7.5.0

To view detailed results, visit:
https://lab.dpdk.org/results/dashboard/patchsets/25983/

UNH-IOL DPDK Community Lab

To manage your email subscriptions, visit: 
https://lab.dpdk.org/results/dashboard/preferences/subscriptions/