From mboxrd@z Thu Jan  1 00:00:00 1970
Return-Path: <test-report-bounces@dpdk.org>
Received: from mails.dpdk.org (mails.dpdk.org [217.70.189.124])
	by inbox.dpdk.org (Postfix) with ESMTP id 634BA42937
	for <public@inbox.dpdk.org>; Thu, 13 Apr 2023 23:30:57 +0200 (CEST)
Received: from mails.dpdk.org (localhost [127.0.0.1])
	by mails.dpdk.org (Postfix) with ESMTP id 5C54E40F16;
	Thu, 13 Apr 2023 23:30:57 +0200 (CEST)
Received: from mail-io1-f97.google.com (mail-io1-f97.google.com
 [209.85.166.97]) by mails.dpdk.org (Postfix) with ESMTP id 4F8A740F16
 for <test-report@dpdk.org>; Thu, 13 Apr 2023 23:30:56 +0200 (CEST)
Received: by mail-io1-f97.google.com with SMTP id
 ca18e2360f4ac-7606df303d2so7845839f.3
 for <test-report@dpdk.org>; Thu, 13 Apr 2023 14:30:56 -0700 (PDT)
DKIM-Signature: v=1; a=rsa-sha256; c=relaxed/relaxed;
 d=iol.unh.edu; s=unh-iol; t=1681421455; x=1684013455;
 h=date:message-id:cc:to:from:subject:from:to:cc:subject:date
 :message-id:reply-to;
 bh=ALZyjkGLrSy1gA1KUKgrvyO6CXV20n+RWFUHrkqDQmw=;
 b=Xu9x+rPR5mhy3u3AHDj8HHYIJ9Bvl9FnzFazY1CVC5Ec6Gt6VJlQlasyGbZapE5SfD
 rTK14PLQ3U4Ki5trrNr9xkMDncBMc5RL0HQgPEplGLayrPbhdON6dIHcCUc2nIn8KkR6
 mYX+/0ezrI6y6cI2RqYkwshWik+fjJ2eMYBPE=
X-Google-DKIM-Signature: v=1; a=rsa-sha256; c=relaxed/relaxed;
 d=1e100.net; s=20221208; t=1681421455; x=1684013455;
 h=date:message-id:cc:to:from:subject:x-gm-message-state:from:to:cc
 :subject:date:message-id:reply-to;
 bh=ALZyjkGLrSy1gA1KUKgrvyO6CXV20n+RWFUHrkqDQmw=;
 b=YNFt+wLGFKxPffWK3tWoyljRyB94sCu+mbNy6mPO8LHoOD6th5254rXJR7yTXoAAL1
 vQUfzr0n6h+cZUGxkrySdd90PF+HFDu4Vbu2FrSyCydGtJxo3KnKUXP9wZXgMo/TCzXf
 RS/iHUesRr+J0jm6FvXw1OhmtAe0rU9CXmEdRnvfoxX6ygUgMmHc9Vy7s9lyvq7TiroU
 8EanD3DInbpVDGP6oGsWh4pkD9GI27KQQ/pRiwjAC0j7v6O7N23xNycxNaxrOYHG2PRA
 k5Uu3W8tUGcaG6QD7PwcO1jIg7K8xrdYeBBl4I+xiBd+x32wxDp3UlY/+XYvmdY/A3Kw
 XXHA==
X-Gm-Message-State: AAQBX9csW0t6mRjOS3IgLQelye0/zQxaxuIP9tNrtNx76f2OlINA5gN1
 HT8XcfZgVRk4rune8OgT+EAXZ8FG8UmHGmcgxB1ft0pZXAub/ahg5i6xNw==
X-Google-Smtp-Source: AKy350bnWnay3Fj45xEBR7D8pciKf4ZyNIg8unZXuCDm4ZxhfFDKQQSLNThWAbu+QHRwR+FxECp9muUbkrte
X-Received: by 2002:a92:d482:0:b0:329:3f6:198 with SMTP id
 p2-20020a92d482000000b0032903f60198mr2421769ilg.12.1681421455637; 
 Thu, 13 Apr 2023 14:30:55 -0700 (PDT)
Received: from postal.iol.unh.edu (postal.iol.unh.edu. [132.177.123.84])
 by smtp-relay.gmail.com with ESMTPS id
 y20-20020a056e02119400b0032612e8d52csm371377ili.56.2023.04.13.14.30.55
 (version=TLS1_2 cipher=ECDHE-ECDSA-AES128-GCM-SHA256 bits=128/128);
 Thu, 13 Apr 2023 14:30:55 -0700 (PDT)
X-Relaying-Domain: iol.unh.edu
Received: from dpdk-ubuntu.dpdklab.iol.unh.edu (unknown [172.18.0.210])
 by postal.iol.unh.edu (Postfix) with ESMTP id 35DE26052472;
 Thu, 13 Apr 2023 17:30:55 -0400 (EDT)
Received: from dpdk-ubuntu-2.dpdklab.iol.unh.edu (localhost [IPv6:::1])
 by dpdk-ubuntu.dpdklab.iol.unh.edu (Postfix) with ESMTP id 3426460092;
 Thu, 13 Apr 2023 21:30:55 +0000 (UTC)
Subject: |SUCCESS| pw126037 [PATCH] usertools: add tool to generate balanced
 rss traffic flows
From: dpdklab@iol.unh.edu
To: Test Report <test-report@dpdk.org>
Cc: dpdklab@iol.unh.edu, David Marchand <david.marchand@redhat.com>,
 Thomas Monjalon <thomas@monjalon.net>
Content-Type: text/plain
Message-Id: <20230413213055.3426460092@dpdk-ubuntu.dpdklab.iol.unh.edu>
Date: Thu, 13 Apr 2023 21:30:55 +0000 (UTC)
X-BeenThere: test-report@dpdk.org
X-Mailman-Version: 2.1.29
Precedence: list
List-Id: automatic DPDK test reports <test-report.dpdk.org>
List-Unsubscribe: <https://mails.dpdk.org/options/test-report>,
 <mailto:test-report-request@dpdk.org?subject=unsubscribe>
List-Archive: <http://mails.dpdk.org/archives/test-report/>
List-Post: <mailto:test-report@dpdk.org>
List-Help: <mailto:test-report-request@dpdk.org?subject=help>
List-Subscribe: <https://mails.dpdk.org/listinfo/test-report>,
 <mailto:test-report-request@dpdk.org?subject=subscribe>
Errors-To: test-report-bounces@dpdk.org

Test-Label: iol-abi-testing
Test-Status: SUCCESS
http://dpdk.org/patch/126037

_Testing PASS_

Submitter: Robin Jarry <rjarry@redhat.com>
Date: Thursday, April 13 2023 20:30:10 
DPDK git baseline: Repo:dpdk
  Branch: master
  CommitID:3b3fef9de22af80d173453ab65a80b01ce38cbfd

126037 --> testing pass

Test environment and result as below:

+------------------+----------+
|   Environment    | abi_test |
+==================+==========+
| Ubuntu 22.04     | PASS     |
+------------------+----------+
| Debian Buster    | PASS     |
+------------------+----------+
| Debian Bullseye  | PASS     |
+------------------+----------+
| RHEL 7           | PASS     |
+------------------+----------+
| openSUSE Leap 15 | PASS     |
+------------------+----------+
| CentOS Stream 9  | PASS     |
+------------------+----------+


Ubuntu 22.04
	Kernel: Container Host Kernel
	Compiler: gcc 12.2.1-2

Debian Buster
	Kernel: 5.4.0-122-generic
	Compiler: gcc 8.3.0-6

Debian Bullseye
	Kernel: 5.4.0-122-generic
	Compiler: gcc 10.2.1-6

RHEL 7
	Kernel: 4.18.0-240.10.1.el8_3.x86_64
	Compiler: gcc 4.8.5 20150623 (Red Hat 4.8.5-44)

openSUSE Leap 15
	Kernel: 4.18.0-240.10.1.el8_3.x86_64
	Compiler: gcc 7.5.0

CentOS Stream 9
	Kernel: 4.18.0-240.10.1.el8_3.x86_64
	Compiler: gcc 11.3.1 20220421

To view detailed results, visit:
https://lab.dpdk.org/results/dashboard/patchsets/25985/

UNH-IOL DPDK Community Lab

To manage your email subscriptions, visit: 
https://lab.dpdk.org/results/dashboard/preferences/subscriptions/