From mboxrd@z Thu Jan  1 00:00:00 1970
Return-Path: <test-report-bounces@dpdk.org>
Received: from mails.dpdk.org (mails.dpdk.org [217.70.189.124])
	by inbox.dpdk.org (Postfix) with ESMTP id A99C842937
	for <public@inbox.dpdk.org>; Fri, 14 Apr 2023 00:28:43 +0200 (CEST)
Received: from mails.dpdk.org (localhost [127.0.0.1])
	by mails.dpdk.org (Postfix) with ESMTP id A499D400D5;
	Fri, 14 Apr 2023 00:28:43 +0200 (CEST)
Received: from mail-io1-f100.google.com (mail-io1-f100.google.com
 [209.85.166.100])
 by mails.dpdk.org (Postfix) with ESMTP id 43C8B400D5
 for <test-report@dpdk.org>; Fri, 14 Apr 2023 00:28:42 +0200 (CEST)
Received: by mail-io1-f100.google.com with SMTP id
 ca18e2360f4ac-7606d44604aso50762239f.1
 for <test-report@dpdk.org>; Thu, 13 Apr 2023 15:28:42 -0700 (PDT)
DKIM-Signature: v=1; a=rsa-sha256; c=relaxed/relaxed;
 d=iol.unh.edu; s=unh-iol; t=1681424921; x=1684016921;
 h=date:message-id:cc:to:from:subject:from:to:cc:subject:date
 :message-id:reply-to;
 bh=4qPm3q9EakpnVpP1ngUgxNfK5DGhaaTEbkOf+3qPnN4=;
 b=acYBf6BoZPrr25evuHZK5BlXi9RxHfz/Ey8UJwUp9nLCqAhRi9zENxX6MN4JWOpm/q
 JUUjrHNAcPgqnnoQRVNqieO0br1nD2vyoN5X8oBtjVkrQpejjDOH+hhiM9etnofYqUL+
 rH8yLM/VP3k5s4mkwMj19U8vvgHDtVZEz2MdU=
X-Google-DKIM-Signature: v=1; a=rsa-sha256; c=relaxed/relaxed;
 d=1e100.net; s=20221208; t=1681424921; x=1684016921;
 h=date:message-id:cc:to:from:subject:x-gm-message-state:from:to:cc
 :subject:date:message-id:reply-to;
 bh=4qPm3q9EakpnVpP1ngUgxNfK5DGhaaTEbkOf+3qPnN4=;
 b=LKDX8q5bNpQjUqC/SMvXY3utJZYuErVfSGDQuzndLmw9jIYZttI4kK6I8ij7fhlQ1i
 ZMPGUWIPNpzx/JiKveEL44ewJAIWHlMKklLtFT5g/zyz7S8MA1DTmarstedUpE4M8af3
 NjfX35TVYzBNBiwlUiXa0A61RUtfXPv9tCqEnsmnIqexJA48fo/8WIKFaWSjHYWE70BD
 JmILcYPxRuIO5WQ3Fhjwhb8HFhXWbF2flJMOKxVnjPTuPRz3PTsMD1JqAHqZ1gIct4ai
 AMOCXKJForhho8RPQBknDNTfOOOv+AOg0wkwRboWYI9Nihq7ANM+KvA8dBYPBzCTVuUN
 CGCg==
X-Gm-Message-State: AAQBX9dPp2rwxRGz5M/MkTjMr2hP0rcfNSXyqUtFei2QcIEKZhWZJ2kh
 haqBhuby3Q50u1hZNJZJfnj7NuM04GFzSlk3cO5rJL3/TUC5ifjlfcHsWQ==
X-Google-Smtp-Source: AKy350ZlX9xeqZJ1zJXW5O3uqf3SXOpvMYBF5P/5yobeiaZt0Rrju+yDlg1qe106O7cgOsV5gvTu0t4NyFWW
X-Received: by 2002:a92:d203:0:b0:316:f99d:9ea2 with SMTP id
 y3-20020a92d203000000b00316f99d9ea2mr2758644ily.17.1681424921688; 
 Thu, 13 Apr 2023 15:28:41 -0700 (PDT)
Received: from postal.iol.unh.edu (postal.iol.unh.edu. [132.177.123.84])
 by smtp-relay.gmail.com with ESMTPS id
 q5-20020a927505000000b00318a8202098sm365479ilc.60.2023.04.13.15.28.41
 (version=TLS1_2 cipher=ECDHE-ECDSA-AES128-GCM-SHA256 bits=128/128);
 Thu, 13 Apr 2023 15:28:41 -0700 (PDT)
X-Relaying-Domain: iol.unh.edu
Received: from dpdk-ubuntu.dpdklab.iol.unh.edu (unknown [172.18.0.210])
 by postal.iol.unh.edu (Postfix) with ESMTP id 566FB605246B;
 Thu, 13 Apr 2023 18:28:41 -0400 (EDT)
Received: from dpdk-ubuntu-2.dpdklab.iol.unh.edu (localhost [IPv6:::1])
 by dpdk-ubuntu.dpdklab.iol.unh.edu (Postfix) with ESMTP id 5590B60092;
 Thu, 13 Apr 2023 22:28:41 +0000 (UTC)
Subject: |SUCCESS| pw126041-126050 [PATCH] [v5,
 14/14] eal: always define MSVC as little endian
From: dpdklab@iol.unh.edu
To: Test Report <test-report@dpdk.org>
Cc: dpdklab@iol.unh.edu, David Marchand <david.marchand@redhat.com>,
 Thomas Monjalon <thomas@monjalon.net>
Content-Type: text/plain
Message-Id: <20230413222841.5590B60092@dpdk-ubuntu.dpdklab.iol.unh.edu>
Date: Thu, 13 Apr 2023 22:28:41 +0000 (UTC)
X-BeenThere: test-report@dpdk.org
X-Mailman-Version: 2.1.29
Precedence: list
List-Id: automatic DPDK test reports <test-report.dpdk.org>
List-Unsubscribe: <https://mails.dpdk.org/options/test-report>,
 <mailto:test-report-request@dpdk.org?subject=unsubscribe>
List-Archive: <http://mails.dpdk.org/archives/test-report/>
List-Post: <mailto:test-report@dpdk.org>
List-Help: <mailto:test-report-request@dpdk.org?subject=help>
List-Subscribe: <https://mails.dpdk.org/listinfo/test-report>,
 <mailto:test-report-request@dpdk.org?subject=subscribe>
Errors-To: test-report-bounces@dpdk.org

Test-Label: iol-abi-testing
Test-Status: SUCCESS
http://dpdk.org/patch/126050

_Testing PASS_

Submitter: Tyler Retzlaff <roretzla@linux.microsoft.com>
Date: Thursday, April 13 2023 21:26:03 
DPDK git baseline: Repo:dpdk
  Branch: master
  CommitID:3b3fef9de22af80d173453ab65a80b01ce38cbfd

126041-126050 --> testing pass

Test environment and result as below:

+------------------+----------+
|   Environment    | abi_test |
+==================+==========+
| Ubuntu 22.04     | PASS     |
+------------------+----------+
| RHEL 7           | PASS     |
+------------------+----------+
| openSUSE Leap 15 | PASS     |
+------------------+----------+
| Debian Bullseye  | PASS     |
+------------------+----------+
| CentOS Stream 9  | PASS     |
+------------------+----------+


Ubuntu 22.04
	Kernel: Container Host Kernel
	Compiler: clang 14.0.5-1.fc36

RHEL 7
	Kernel: 4.18.0-240.10.1.el8_3.x86_64
	Compiler: gcc 4.8.5 20150623 (Red Hat 4.8.5-44)

openSUSE Leap 15
	Kernel: 4.18.0-240.10.1.el8_3.x86_64
	Compiler: gcc 7.5.0

Debian Bullseye
	Kernel: 5.4.0-122-generic
	Compiler: gcc 10.2.1-6

CentOS Stream 9
	Kernel: 4.18.0-240.10.1.el8_3.x86_64
	Compiler: gcc 11.3.1 20220421

To view detailed results, visit:
https://lab.dpdk.org/results/dashboard/patchsets/25986/

UNH-IOL DPDK Community Lab

To manage your email subscriptions, visit: 
https://lab.dpdk.org/results/dashboard/preferences/subscriptions/