From mboxrd@z Thu Jan  1 00:00:00 1970
Return-Path: <test-report-bounces@dpdk.org>
Received: from mails.dpdk.org (mails.dpdk.org [217.70.189.124])
	by inbox.dpdk.org (Postfix) with ESMTP id 5733842937
	for <public@inbox.dpdk.org>; Fri, 14 Apr 2023 00:32:32 +0200 (CEST)
Received: from mails.dpdk.org (localhost [127.0.0.1])
	by mails.dpdk.org (Postfix) with ESMTP id 538EB400D5;
	Fri, 14 Apr 2023 00:32:32 +0200 (CEST)
Received: from mail-io1-f98.google.com (mail-io1-f98.google.com
 [209.85.166.98]) by mails.dpdk.org (Postfix) with ESMTP id 70CCC400D5
 for <test-report@dpdk.org>; Fri, 14 Apr 2023 00:32:30 +0200 (CEST)
Received: by mail-io1-f98.google.com with SMTP id
 ca18e2360f4ac-7606d948295so18349939f.3
 for <test-report@dpdk.org>; Thu, 13 Apr 2023 15:32:30 -0700 (PDT)
DKIM-Signature: v=1; a=rsa-sha256; c=relaxed/relaxed;
 d=iol.unh.edu; s=unh-iol; t=1681425150; x=1684017150;
 h=date:message-id:cc:to:from:subject:from:to:cc:subject:date
 :message-id:reply-to;
 bh=rCfRlSZwxK13WFfUq/NBUWj8Q1N8azK+ieQbwdpBGxE=;
 b=QEWp8AkPFdKiGpKJrJoBORbC/lt/YeFqV+eZmM2rnFi/i6xF+kO+lG3jCZWaUW55SZ
 cijgcsVMnUxwJBx2d+G4YTg1HcRkBwEdiMgSjcK+uYg8K7V3IKMLR+BP9JeYL/ohkyLA
 VDQlOuKIdwLRA6aiiyEHALzDBxqQnmgqa1FXM=
X-Google-DKIM-Signature: v=1; a=rsa-sha256; c=relaxed/relaxed;
 d=1e100.net; s=20221208; t=1681425150; x=1684017150;
 h=date:message-id:cc:to:from:subject:x-gm-message-state:from:to:cc
 :subject:date:message-id:reply-to;
 bh=rCfRlSZwxK13WFfUq/NBUWj8Q1N8azK+ieQbwdpBGxE=;
 b=E7J/GFm0uiLXvAMVmEvwmBwWLa3dPOmFsWgrREX0Y3ztSG3hOIdLxh2264jnYXo81a
 TsbYjN3zQealJueb4PFxKeO8mjhfMQ6k3TTBnAgHNK8b3ix46cPAB776gd1ovVzqO9Pi
 2UDZGGdkoKGluq/vR4MVXPcpKbbkkkRHjD4os4IwSnJOW+2++2+0GZw1miD2iS8OmDD8
 VOoRwXFqF2c507Az70B+ouWHtr0OHhd83PoejoxRa2zw9Kcsiw4fuIFHZ0qKHdgWF4zn
 rVGPGc4MVCPPvcktU5fHylYxZT4gqpPjTFtaTrIq6OZDdI0LtE3c2jcLe4njlaiESuw9
 lpvA==
X-Gm-Message-State: AAQBX9e3sIbfp082U7UgvYnEKct8BVXQRMWjCKHHl7ti792XgUMorE9h
 7bZLteGrekUQjUuGFCURBfeIczwNsWrw2bjBPht2UyOE3wNZXD8QhEYvOA==
X-Google-Smtp-Source: AKy350ZPemMewkix2SjW/Xv1UVMnvWR9U2kAcGdxMnoVzmiar7Oxv/LhJtc27BGWFXsMEzsvgDWHw/9B6Mqu
X-Received: by 2002:a92:d081:0:b0:329:583b:c54b with SMTP id
 h1-20020a92d081000000b00329583bc54bmr2443344ilh.22.1681425149781; 
 Thu, 13 Apr 2023 15:32:29 -0700 (PDT)
Received: from postal.iol.unh.edu (postal.iol.unh.edu. [132.177.123.84])
 by smtp-relay.gmail.com with ESMTPS id
 v5-20020a927a05000000b003171f356ad8sm369784ilc.19.2023.04.13.15.32.29
 (version=TLS1_2 cipher=ECDHE-ECDSA-AES128-GCM-SHA256 bits=128/128);
 Thu, 13 Apr 2023 15:32:29 -0700 (PDT)
X-Relaying-Domain: iol.unh.edu
Received: from dpdk-ubuntu.dpdklab.iol.unh.edu (unknown
 [IPv6:2606:4100:3880:1722::210])
 by postal.iol.unh.edu (Postfix) with ESMTP id 5B7D9605246B;
 Thu, 13 Apr 2023 18:32:29 -0400 (EDT)
Received: from dpdk-ubuntu-2.dpdklab.iol.unh.edu (localhost [IPv6:::1])
 by dpdk-ubuntu.dpdklab.iol.unh.edu (Postfix) with ESMTP id 5A80660092;
 Thu, 13 Apr 2023 22:32:29 +0000 (UTC)
Subject: |SUCCESS| pw126041-126050 [PATCH] [v5,
 14/14] eal: always define MSVC as little endian
From: dpdklab@iol.unh.edu
To: Test Report <test-report@dpdk.org>
Cc: dpdklab@iol.unh.edu, David Marchand <david.marchand@redhat.com>,
 Thomas Monjalon <thomas@monjalon.net>
Content-Type: text/plain
Message-Id: <20230413223229.5A80660092@dpdk-ubuntu.dpdklab.iol.unh.edu>
Date: Thu, 13 Apr 2023 22:32:29 +0000 (UTC)
X-BeenThere: test-report@dpdk.org
X-Mailman-Version: 2.1.29
Precedence: list
List-Id: automatic DPDK test reports <test-report.dpdk.org>
List-Unsubscribe: <https://mails.dpdk.org/options/test-report>,
 <mailto:test-report-request@dpdk.org?subject=unsubscribe>
List-Archive: <http://mails.dpdk.org/archives/test-report/>
List-Post: <mailto:test-report@dpdk.org>
List-Help: <mailto:test-report-request@dpdk.org?subject=help>
List-Subscribe: <https://mails.dpdk.org/listinfo/test-report>,
 <mailto:test-report-request@dpdk.org?subject=subscribe>
Errors-To: test-report-bounces@dpdk.org

Test-Label: iol-abi-testing
Test-Status: SUCCESS
http://dpdk.org/patch/126050

_Testing PASS_

Submitter: Tyler Retzlaff <roretzla@linux.microsoft.com>
Date: Thursday, April 13 2023 21:26:03 
DPDK git baseline: Repo:dpdk
  Branch: master
  CommitID:3b3fef9de22af80d173453ab65a80b01ce38cbfd

126041-126050 --> testing pass

Test environment and result as below:

+------------------+----------+
|   Environment    | abi_test |
+==================+==========+
| Ubuntu 22.04     | PASS     |
+------------------+----------+
| RHEL 7           | PASS     |
+------------------+----------+
| openSUSE Leap 15 | PASS     |
+------------------+----------+
| Debian Bullseye  | PASS     |
+------------------+----------+
| CentOS Stream 9  | PASS     |
+------------------+----------+
| CentOS Stream 8  | PASS     |
+------------------+----------+
| RHEL8            | PASS     |
+------------------+----------+


Ubuntu 22.04
	Kernel: Container Host Kernel
	Compiler: clang 14.0.5-1.fc36

RHEL 7
	Kernel: 4.18.0-240.10.1.el8_3.x86_64
	Compiler: gcc 4.8.5 20150623 (Red Hat 4.8.5-44)

openSUSE Leap 15
	Kernel: 4.18.0-240.10.1.el8_3.x86_64
	Compiler: gcc 7.5.0

Debian Bullseye
	Kernel: 5.4.0-122-generic
	Compiler: gcc 10.2.1-6

CentOS Stream 9
	Kernel: 4.18.0-240.10.1.el8_3.x86_64
	Compiler: gcc 11.3.1 20220421

CentOS Stream 8
	Kernel: 4.18.0-240.10.1.el8_3.x86_64
	Compiler: gcc 8.4.1 20200928

RHEL8
	Kernel: 4.18.0-240.10.1.el8_3.x86_64
	Compiler: gcc 8.3.1 20191121 (Red Hat 8.3.1-5)

To view detailed results, visit:
https://lab.dpdk.org/results/dashboard/patchsets/25986/

UNH-IOL DPDK Community Lab

To manage your email subscriptions, visit: 
https://lab.dpdk.org/results/dashboard/preferences/subscriptions/