From mboxrd@z Thu Jan  1 00:00:00 1970
Return-Path: <test-report-bounces@dpdk.org>
Received: from mails.dpdk.org (mails.dpdk.org [217.70.189.124])
	by inbox.dpdk.org (Postfix) with ESMTP id 0E3344293D
	for <public@inbox.dpdk.org>; Fri, 14 Apr 2023 08:56:39 +0200 (CEST)
Received: from mails.dpdk.org (localhost [127.0.0.1])
	by mails.dpdk.org (Postfix) with ESMTP id 0B534400D5;
	Fri, 14 Apr 2023 08:56:39 +0200 (CEST)
Received: from mail-pj1-f99.google.com (mail-pj1-f99.google.com
 [209.85.216.99]) by mails.dpdk.org (Postfix) with ESMTP id 71D86400D5
 for <test-report@dpdk.org>; Fri, 14 Apr 2023 08:56:38 +0200 (CEST)
Received: by mail-pj1-f99.google.com with SMTP id
 my14-20020a17090b4c8e00b0024708e8e2ddso6866228pjb.4
 for <test-report@dpdk.org>; Thu, 13 Apr 2023 23:56:38 -0700 (PDT)
DKIM-Signature: v=1; a=rsa-sha256; c=relaxed/relaxed;
 d=iol.unh.edu; s=unh-iol; t=1681455397; x=1684047397;
 h=date:message-id:cc:to:from:subject:from:to:cc:subject:date
 :message-id:reply-to;
 bh=VFq9NAaAUKtnQXLpXkCoZR6JJUQwKOiTREOBJrfcGcg=;
 b=PRThwKYnJRm9Y8T6hmfznSeqjiYp5Mm1WgjZ8Erad8j5fGQksFrK8Mg99nS2VzxmnH
 emNCaFB068AYqEKLgUkbDc8u3wreh5zL8/BygQs/s7vyHbJdtUBZRT2H82Pth/j6Ayma
 mCdV/N5RROlKJQ8bfHXpVK8l1PAaCdD5bAoIc=
X-Google-DKIM-Signature: v=1; a=rsa-sha256; c=relaxed/relaxed;
 d=1e100.net; s=20221208; t=1681455397; x=1684047397;
 h=date:message-id:cc:to:from:subject:x-gm-message-state:from:to:cc
 :subject:date:message-id:reply-to;
 bh=VFq9NAaAUKtnQXLpXkCoZR6JJUQwKOiTREOBJrfcGcg=;
 b=M76PVnoG21GDiuin6DvYkVik0HvkVN5MTSxeuKRNV08zFhZQ215wbXfMAUKisfmr59
 YjaY4VCxiTWzHh7stIATu5vWA1PsuYg4z1EsuJAtyQd7x4I/yiXTfDW1vzbUdWHkzUmN
 SDvxt8trW0+AIFW/vJGwVJSChNqSSvLXnmNDkQu3RKqd4hDo7FcLVuqrj9K+axEMpYlJ
 cSXuYgxyip0GQX1TvlJhMDRKgnxXSpjWFQ6kzdlrqCVNNOtHY0DUSFhdUEYszeEeyhTY
 S+i+QUs3nssXuBRaS7lBDGwtGl8PyLWh7lJcYSdKl7RDLby7NcNFFzizXXzuw2vUrLqJ
 U3oQ==
X-Gm-Message-State: AAQBX9eajygt6SqS5tUUS7jvpcXXV/EuZLsJIgQ1cwjEGy8RLLP0yxqR
 WTYLwzrv5hOcoHcQz6AnXrnAcw3/r4rlaLbiewWD2x+F7bDJxwEr1bslgg==
X-Google-Smtp-Source: AKy350Zm+xwNsnJRXknI+sEp8w9HGo/TZSgcSz1TD+LOfPwRvakWaVcVasDr1qOqdZioFdLtVbw/7zVyQcJj
X-Received: by 2002:a17:902:b701:b0:1a6:523c:8589 with SMTP id
 d1-20020a170902b70100b001a6523c8589mr1350335pls.5.1681455397654; 
 Thu, 13 Apr 2023 23:56:37 -0700 (PDT)
Received: from postal.iol.unh.edu (postal.iol.unh.edu. [132.177.123.84])
 by smtp-relay.gmail.com with ESMTPS id
 a11-20020a170902b58b00b001a69679b187sm191908pls.87.2023.04.13.23.56.37
 (version=TLS1_2 cipher=ECDHE-ECDSA-AES128-GCM-SHA256 bits=128/128);
 Thu, 13 Apr 2023 23:56:37 -0700 (PDT)
X-Relaying-Domain: iol.unh.edu
Received: from dpdk-ubuntu.dpdklab.iol.unh.edu (unknown [172.18.0.210])
 by postal.iol.unh.edu (Postfix) with ESMTP id E73D4605246B;
 Fri, 14 Apr 2023 02:56:36 -0400 (EDT)
Received: from dpdk-ubuntu-2.dpdklab.iol.unh.edu (localhost [IPv6:::1])
 by dpdk-ubuntu.dpdklab.iol.unh.edu (Postfix) with ESMTP id E6DF360092;
 Fri, 14 Apr 2023 06:56:36 +0000 (UTC)
Subject: |SUCCESS| pw126054-126058 [PATCH] [v1,
 5/5] net/cpfl: fix RX data buffer size
From: dpdklab@iol.unh.edu
To: Test Report <test-report@dpdk.org>
Cc: dpdklab@iol.unh.edu, David Marchand <david.marchand@redhat.com>,
 Thomas Monjalon <thomas@monjalon.net>
Content-Type: text/plain
Message-Id: <20230414065636.E6DF360092@dpdk-ubuntu.dpdklab.iol.unh.edu>
Date: Fri, 14 Apr 2023 06:56:36 +0000 (UTC)
X-BeenThere: test-report@dpdk.org
X-Mailman-Version: 2.1.29
Precedence: list
List-Id: automatic DPDK test reports <test-report.dpdk.org>
List-Unsubscribe: <https://mails.dpdk.org/options/test-report>,
 <mailto:test-report-request@dpdk.org?subject=unsubscribe>
List-Archive: <http://mails.dpdk.org/archives/test-report/>
List-Post: <mailto:test-report@dpdk.org>
List-Help: <mailto:test-report-request@dpdk.org?subject=help>
List-Subscribe: <https://mails.dpdk.org/listinfo/test-report>,
 <mailto:test-report-request@dpdk.org?subject=subscribe>
Errors-To: test-report-bounces@dpdk.org

Test-Label: iol-x86_64-compile-testing
Test-Status: SUCCESS
http://dpdk.org/patch/126058

_Testing PASS_

Submitter: Wenjun Wu <wenjun1.wu@intel.com>
Date: Friday, April 14 2023 03:51:51 
DPDK git baseline: Repo:dpdk
  Branch: master
  CommitID:3b3fef9de22af80d173453ab65a80b01ce38cbfd

126054-126058 --> testing pass

Test environment and result as below:

+------------------+--------------------+
|   Environment    | dpdk_meson_compile |
+==================+====================+
| FreeBSD 13       | PASS               |
+------------------+--------------------+
| Debian Buster    | PASS               |
+------------------+--------------------+
| CentOS Stream 9  | PASS               |
+------------------+--------------------+
| CentOS Stream 8  | PASS               |
+------------------+--------------------+
| Debian Bullseye  | PASS               |
+------------------+--------------------+
| Ubuntu 22.04     | PASS               |
+------------------+--------------------+
| Ubuntu 20.04     | PASS               |
+------------------+--------------------+
| openSUSE Leap 15 | PASS               |
+------------------+--------------------+
| RHEL 7           | PASS               |
+------------------+--------------------+
| Alpine           | PASS               |
+------------------+--------------------+
| RHEL8            | PASS               |
+------------------+--------------------+


FreeBSD 13
	Kernel: 13.0
	Compiler: clang 11.0.1

Debian Buster
	Kernel: 5.4.0-122-generic
	Compiler: gcc 8.3.0-6

CentOS Stream 9
	Kernel: 4.18.0-240.10.1.el8_3.x86_64
	Compiler: gcc 11.3.1 20220421

CentOS Stream 8
	Kernel: 4.18.0-240.10.1.el8_3.x86_64
	Compiler: gcc 8.4.1 20200928

Debian Bullseye
	Kernel: 5.4.0-122-generic
	Compiler: gcc 10.2.1-6

Ubuntu 22.04
	Kernel: Container Host Kernel
	Compiler: gcc 12.2.1-2

Ubuntu 20.04
	Kernel: 4.18.0-240.10.1.el8_3.x86_64
	Compiler: gcc 9.3.0-17ubuntu1~20.04

openSUSE Leap 15
	Kernel: 4.18.0-240.10.1.el8_3.x86_64
	Compiler: gcc 7.5.0

RHEL 7
	Kernel: 4.18.0-240.10.1.el8_3.x86_64
	Compiler: gcc 4.8.5 20150623 (Red Hat 4.8.5-44)

Alpine
	Kernel: 5.4.0-73-generic
	Compiler: gcc (Alpine 10.3.1_git20210424) 10.3.1 20210424

RHEL8
	Kernel: 4.18.0-240.10.1.el8_3.x86_64
	Compiler: gcc 8.3.1 20191121 (Red Hat 8.3.1-5)

To view detailed results, visit:
https://lab.dpdk.org/results/dashboard/patchsets/25987/

UNH-IOL DPDK Community Lab

To manage your email subscriptions, visit: 
https://lab.dpdk.org/results/dashboard/preferences/subscriptions/