From mboxrd@z Thu Jan  1 00:00:00 1970
Return-Path: <test-report-bounces@dpdk.org>
Received: from mails.dpdk.org (mails.dpdk.org [217.70.189.124])
	by inbox.dpdk.org (Postfix) with ESMTP id 7E58D4293E
	for <public@inbox.dpdk.org>; Fri, 14 Apr 2023 11:06:22 +0200 (CEST)
Received: from mails.dpdk.org (localhost [127.0.0.1])
	by mails.dpdk.org (Postfix) with ESMTP id 7C1B0400D5;
	Fri, 14 Apr 2023 11:06:22 +0200 (CEST)
Received: from mail-il1-f225.google.com (mail-il1-f225.google.com
 [209.85.166.225])
 by mails.dpdk.org (Postfix) with ESMTP id 88EB5400D5
 for <test-report@dpdk.org>; Fri, 14 Apr 2023 11:06:21 +0200 (CEST)
Received: by mail-il1-f225.google.com with SMTP id
 e9e14a558f8ab-32936716316so7501765ab.3
 for <test-report@dpdk.org>; Fri, 14 Apr 2023 02:06:21 -0700 (PDT)
DKIM-Signature: v=1; a=rsa-sha256; c=relaxed/relaxed;
 d=iol.unh.edu; s=unh-iol; t=1681463181; x=1684055181;
 h=date:message-id:cc:to:from:subject:from:to:cc:subject:date
 :message-id:reply-to;
 bh=vI2Pc2ONktpnBSugSSm2M5AGw+GBh/a7dod2zUn1GVQ=;
 b=ioL2/Qg+6XYsv9UBpro/rwle5LjUfSqaOmxJzaj2zGcKraLGKp8/Fq//o+aI/NL+wp
 8dsB1XsVIXq4J5E0sJi8TtPr5DIocVABHqR2ajdSHAa317jWCNqr2bfmXOZsBgTbnW8p
 k2OBqp8Kn7XMMkqTuOAMT5knd4wyKI383hwzw=
X-Google-DKIM-Signature: v=1; a=rsa-sha256; c=relaxed/relaxed;
 d=1e100.net; s=20221208; t=1681463181; x=1684055181;
 h=date:message-id:cc:to:from:subject:x-gm-message-state:from:to:cc
 :subject:date:message-id:reply-to;
 bh=vI2Pc2ONktpnBSugSSm2M5AGw+GBh/a7dod2zUn1GVQ=;
 b=gDkMRAAuav0iYMZgn0NTSrmOq8VRzgFnq2nsMXlvI9q3LwA4Qf6EPhFbaWuqxRcP7d
 rZ1HCSsGUHGfOc7BRzNroxAisvAX+eBlA1uzvLC6Yg6xYQy2hxPw294kfvSYR+Y0J43q
 KO41+Co4k4M54IeXxjVJjaCErnOpZQYNI0c7LHiCwnO4y97wRq7qPZzLgdo9T04gmLKu
 Mn5CjZ4hWd65hRF6z6PgRZT1hAoXSb1DqXwxfxn6RCSREj4cPikMY+SYnWJtHd6+zAG3
 6YrOg4MiPi4+wtcoTItO309F4E0D+sqngZ4LvEMXBCXGMByftguXDakqvBWNwStYOM9S
 iR8A==
X-Gm-Message-State: AAQBX9ef0IvgnfwMen2NFlVJc2DT6fkaiuJEurCoE1I6FIiQ+Q8GxXPh
 nbdSmDp170eD/4ixj7yUjBJm/4/4FTMi5YkCiT5pk4GzMcLCRnnBXQ2eDg==
X-Google-Smtp-Source: AKy350bPjFBviK2vglth6G34DvEBLi4j0VylTYur0C7hdIe246D+fY/suwzaQyFTWcbQKdBQKCHnkga6MF+R
X-Received: by 2002:a92:d7ca:0:b0:328:4ba7:f4d4 with SMTP id
 g10-20020a92d7ca000000b003284ba7f4d4mr3634548ilq.8.1681463181005; 
 Fri, 14 Apr 2023 02:06:21 -0700 (PDT)
Received: from postal.iol.unh.edu (postal.iol.unh.edu. [132.177.123.84])
 by smtp-relay.gmail.com with ESMTPS id
 g4-20020a92c7c4000000b003296730083csm541078ilk.63.2023.04.14.02.06.20
 (version=TLS1_2 cipher=ECDHE-ECDSA-AES128-GCM-SHA256 bits=128/128);
 Fri, 14 Apr 2023 02:06:20 -0700 (PDT)
X-Relaying-Domain: iol.unh.edu
Received: from dpdk-ubuntu.dpdklab.iol.unh.edu (unknown [172.18.0.210])
 by postal.iol.unh.edu (Postfix) with ESMTP id A82FB605246B;
 Fri, 14 Apr 2023 05:06:20 -0400 (EDT)
Received: from dpdk-ubuntu-2.dpdklab.iol.unh.edu (localhost [IPv6:::1])
 by dpdk-ubuntu.dpdklab.iol.unh.edu (Postfix) with ESMTP id A187460092;
 Fri, 14 Apr 2023 09:06:20 +0000 (UTC)
Subject: |SUCCESS| pw126061 [PATCH] net/gve: Check whether the driver is
 compatible with the device presented.
From: dpdklab@iol.unh.edu
To: Test Report <test-report@dpdk.org>
Cc: dpdk-test-reports@iol.unh.edu, David Marchand <david.marchand@redhat.com>,
 Thomas Monjalon <thomas@monjalon.net>
Content-Type: text/plain
Message-Id: <20230414090620.A187460092@dpdk-ubuntu.dpdklab.iol.unh.edu>
Date: Fri, 14 Apr 2023 09:06:20 +0000 (UTC)
X-BeenThere: test-report@dpdk.org
X-Mailman-Version: 2.1.29
Precedence: list
List-Id: automatic DPDK test reports <test-report.dpdk.org>
List-Unsubscribe: <https://mails.dpdk.org/options/test-report>,
 <mailto:test-report-request@dpdk.org?subject=unsubscribe>
List-Archive: <http://mails.dpdk.org/archives/test-report/>
List-Post: <mailto:test-report@dpdk.org>
List-Help: <mailto:test-report-request@dpdk.org?subject=help>
List-Subscribe: <https://mails.dpdk.org/listinfo/test-report>,
 <mailto:test-report-request@dpdk.org?subject=subscribe>
Errors-To: test-report-bounces@dpdk.org

Test-Label: iol-abi-testing
Test-Status: SUCCESS
http://dpdk.org/patch/126061

_Testing PASS_

Submitter: Rushil Gupta <rushilg@google.com>
Date: Friday, April 14 2023 05:14:54 
DPDK git baseline: Repo:dpdk
  Branch: master
  CommitID:3b3fef9de22af80d173453ab65a80b01ce38cbfd

126061 --> testing pass

Test environment and result as below:

+------------------+----------+
|   Environment    | abi_test |
+==================+==========+
| CentOS Stream 9  | PASS     |
+------------------+----------+
| RHEL 7           | PASS     |
+------------------+----------+
| Ubuntu 22.04     | PASS     |
+------------------+----------+
| Debian Buster    | PASS     |
+------------------+----------+
| CentOS Stream 8  | PASS     |
+------------------+----------+
| openSUSE Leap 15 | PASS     |
+------------------+----------+


CentOS Stream 9
	Kernel: 4.18.0-240.10.1.el8_3.x86_64
	Compiler: gcc 11.3.1 20220421

RHEL 7
	Kernel: 4.18.0-240.10.1.el8_3.x86_64
	Compiler: gcc 4.8.5 20150623 (Red Hat 4.8.5-44)

Ubuntu 22.04
	Kernel: Container Host Kernel
	Compiler: clang 14.0.5-1.fc36

Debian Buster
	Kernel: 5.4.0-122-generic
	Compiler: gcc 8.3.0-6

CentOS Stream 8
	Kernel: 4.18.0-240.10.1.el8_3.x86_64
	Compiler: gcc 8.4.1 20200928

openSUSE Leap 15
	Kernel: 4.18.0-240.10.1.el8_3.x86_64
	Compiler: gcc 7.5.0

To view detailed results, visit:
https://lab.dpdk.org/results/dashboard/patchsets/25990/

UNH-IOL DPDK Community Lab

To manage your email subscriptions, visit: 
https://lab.dpdk.org/results/dashboard/preferences/subscriptions/