From mboxrd@z Thu Jan  1 00:00:00 1970
Return-Path: <test-report-bounces@dpdk.org>
Received: from mails.dpdk.org (mails.dpdk.org [217.70.189.124])
	by inbox.dpdk.org (Postfix) with ESMTP id 9618A42942
	for <public@inbox.dpdk.org>; Fri, 14 Apr 2023 16:54:57 +0200 (CEST)
Received: from mails.dpdk.org (localhost [127.0.0.1])
	by mails.dpdk.org (Postfix) with ESMTP id 92B9D400D5;
	Fri, 14 Apr 2023 16:54:57 +0200 (CEST)
Received: from mail-ua1-f97.google.com (mail-ua1-f97.google.com
 [209.85.222.97]) by mails.dpdk.org (Postfix) with ESMTP id 0F325400D5
 for <test-report@dpdk.org>; Fri, 14 Apr 2023 16:54:56 +0200 (CEST)
Received: by mail-ua1-f97.google.com with SMTP id l17so238985uak.0
 for <test-report@dpdk.org>; Fri, 14 Apr 2023 07:54:56 -0700 (PDT)
DKIM-Signature: v=1; a=rsa-sha256; c=relaxed/relaxed;
 d=iol.unh.edu; s=unh-iol; t=1681484095; x=1684076095;
 h=date:message-id:cc:to:from:subject:from:to:cc:subject:date
 :message-id:reply-to;
 bh=ONxgjJoGxSzVbcjz1OlJjXms+ez1obGOaJMSfDj7EbE=;
 b=N8uVNoyhME8OEMbILSJxTPGqDHwsBJIls2t3f4Nb2gNpQiCkuYd8Sj6jP/9LrJNPko
 e8OMlN7KX0+6G2RCj5MYD5RV5LOmF1yxPmz1YWPWMrjELRRw4RDdPrq9qcWgvth7QNGk
 Up1DjJ2VXI0mBejZEps+X9N0Jdh461zxMarL0=
X-Google-DKIM-Signature: v=1; a=rsa-sha256; c=relaxed/relaxed;
 d=1e100.net; s=20221208; t=1681484095; x=1684076095;
 h=date:message-id:cc:to:from:subject:x-gm-message-state:from:to:cc
 :subject:date:message-id:reply-to;
 bh=ONxgjJoGxSzVbcjz1OlJjXms+ez1obGOaJMSfDj7EbE=;
 b=OD6HJt057yJMVvuYlvuwSrNRysdxE28wMVQI4tTJM1YbdvCubXjBF0UhOtOKg+jomu
 OoVLutnRHXQq67upMOhnQj/xiQAoF5e2tftx+I4B4uJPE6f4NQVJpWMnewbmsHTWF0PK
 oqods5wFNRddJuj9T6RiSXmUNaCJfys4mhU7vhbjVyKK6PKHddI0cGhRlUKsJtJm17L2
 1QoRi6B8aG6UzJTF6NokCOV4T/ixDuoUTX5zfolEOrFAgm0Rd+fpeyaEdLQ7+uNRX1xP
 1lUcB27s2L5ZT+96pAM/cW7eF3HJWTzCHMB6BtUZ5YOOr5wnK/D00L4bCMeNbeWJYH3a
 o6rw==
X-Gm-Message-State: AAQBX9clQVGML5CxE5H2pYyBllfCo+YfPF9kLr9Vo1c7QApAc69AuE0l
 spGp1Efz2+uhsJyKQgHQMToPdJRTJp6q0ogGkof0QxQpA7uAgWRcwjOfKre+02zkxqHbAoFuWg=
 =
X-Google-Smtp-Source: AKy350a8bqBEjejxM8Uz8EVGcKjXUJrx3FdFNiJqZg76jiWYYToCaITf0HGlPThb5dpeqhn6/+wU4b5sVN0n
X-Received: by 2002:a1f:3d44:0:b0:43f:ea0c:6ded with SMTP id
 k65-20020a1f3d44000000b0043fea0c6dedmr1933511vka.4.1681484095389; 
 Fri, 14 Apr 2023 07:54:55 -0700 (PDT)
Received: from postal.iol.unh.edu (postal.iol.unh.edu.
 [2606:4100:3880:1234::84]) by smtp-relay.gmail.com with ESMTPS id
 4-20020a05612208c400b00434e3c40942sm960015vkg.10.2023.04.14.07.54.55
 (version=TLS1_2 cipher=ECDHE-ECDSA-AES128-GCM-SHA256 bits=128/128);
 Fri, 14 Apr 2023 07:54:55 -0700 (PDT)
X-Relaying-Domain: iol.unh.edu
Received: from dpdk-ubuntu.dpdklab.iol.unh.edu (unknown
 [IPv6:2606:4100:3880:1722::210])
 by postal.iol.unh.edu (Postfix) with ESMTP id 121A8605246B;
 Fri, 14 Apr 2023 10:54:55 -0400 (EDT)
Received: from dpdk-ubuntu-2.dpdklab.iol.unh.edu (localhost [IPv6:::1])
 by dpdk-ubuntu.dpdklab.iol.unh.edu (Postfix) with ESMTP id 0ED446008C;
 Fri, 14 Apr 2023 14:54:55 +0000 (UTC)
Subject: |SUCCESS| pw126073 [PATCH] reorder: improve buffer structure layout
From: dpdklab@iol.unh.edu
To: Test Report <test-report@dpdk.org>
Cc: dpdklab@iol.unh.edu, David Marchand <david.marchand@redhat.com>,
 Thomas Monjalon <thomas@monjalon.net>
Content-Type: text/plain
Message-Id: <20230414145455.0ED446008C@dpdk-ubuntu.dpdklab.iol.unh.edu>
Date: Fri, 14 Apr 2023 14:54:55 +0000 (UTC)
X-BeenThere: test-report@dpdk.org
X-Mailman-Version: 2.1.29
Precedence: list
List-Id: automatic DPDK test reports <test-report.dpdk.org>
List-Unsubscribe: <https://mails.dpdk.org/options/test-report>,
 <mailto:test-report-request@dpdk.org?subject=unsubscribe>
List-Archive: <http://mails.dpdk.org/archives/test-report/>
List-Post: <mailto:test-report@dpdk.org>
List-Help: <mailto:test-report-request@dpdk.org?subject=help>
List-Subscribe: <https://mails.dpdk.org/listinfo/test-report>,
 <mailto:test-report-request@dpdk.org?subject=subscribe>
Errors-To: test-report-bounces@dpdk.org

Test-Label: iol-aarch64-compile-testing
Test-Status: SUCCESS
http://dpdk.org/patch/126073

_Testing PASS_

Submitter: Volodymyr Fialko <vfialko@marvell.com>
Date: Friday, April 14 2023 08:43:43 
DPDK git baseline: Repo:dpdk
  Branch: master
  CommitID:3b3fef9de22af80d173453ab65a80b01ce38cbfd

126073 --> testing pass

Test environment and result as below:

+----------------------------------------+--------------------+
|              Environment               | dpdk_meson_compile |
+========================================+====================+
| Ubuntu 20.04 ARM Clang Native          | PASS               |
+----------------------------------------+--------------------+
| Ubuntu 20.04 ARM GCC Native            | PASS               |
+----------------------------------------+--------------------+
| Ubuntu 20.04 ARM Clang Cross Compile   | PASS               |
+----------------------------------------+--------------------+
| Ubuntu 20.04 ARM GCC Cross Compile     | PASS               |
+----------------------------------------+--------------------+
| Ubuntu 20.04 aarch32 GCC Cross Compile | PASS               |
+----------------------------------------+--------------------+


Ubuntu 20.04 ARM Clang Native
	Kernel: 5.4.0-53-generic
	Compiler: clang 10.0.0-4ubuntu1

Ubuntu 20.04 ARM GCC Native
	Kernel: 5.4.0-53-generic
	Compiler: gcc 9.3

Ubuntu 20.04 ARM Clang Cross Compile
	Kernel: 5.4.0-72-generic
	Compiler: clang version 10.0.0-4ubuntu1

Ubuntu 20.04 ARM GCC Cross Compile
	Kernel: 5.4.0-72-generic
	Compiler: aarch64-linux-gnu-gcc (Ubuntu 9.3.0-17ubuntu1~20.04) 9.3.0

Ubuntu 20.04 aarch32 GCC Cross Compile
	Kernel: 5.4.0-72-generic
	Compiler: gcc 9.3.0

To view detailed results, visit:
https://lab.dpdk.org/results/dashboard/patchsets/25994/

UNH-IOL DPDK Community Lab

To manage your email subscriptions, visit: 
https://lab.dpdk.org/results/dashboard/preferences/subscriptions/