From mboxrd@z Thu Jan  1 00:00:00 1970
Return-Path: <test-report-bounces@dpdk.org>
Received: from mails.dpdk.org (mails.dpdk.org [217.70.189.124])
	by inbox.dpdk.org (Postfix) with ESMTP id 2E92742942
	for <public@inbox.dpdk.org>; Fri, 14 Apr 2023 17:03:58 +0200 (CEST)
Received: from mails.dpdk.org (localhost [127.0.0.1])
	by mails.dpdk.org (Postfix) with ESMTP id 26C55400D5;
	Fri, 14 Apr 2023 17:03:58 +0200 (CEST)
Received: from mail-yw1-f225.google.com (mail-yw1-f225.google.com
 [209.85.128.225])
 by mails.dpdk.org (Postfix) with ESMTP id 63EA1400D5
 for <test-report@dpdk.org>; Fri, 14 Apr 2023 17:03:57 +0200 (CEST)
Received: by mail-yw1-f225.google.com with SMTP id
 00721157ae682-54fc337a650so98060877b3.4
 for <test-report@dpdk.org>; Fri, 14 Apr 2023 08:03:57 -0700 (PDT)
DKIM-Signature: v=1; a=rsa-sha256; c=relaxed/relaxed;
 d=iol.unh.edu; s=unh-iol; t=1681484637; x=1684076637;
 h=date:message-id:cc:to:from:subject:from:to:cc:subject:date
 :message-id:reply-to;
 bh=Gr8wKhZ/qI7Xtr/ijbFc+G8Bin913syCfg6p4h7ucl0=;
 b=gXzw9kDvr5UNvR+3FO5trjuLkxyyBD/aYUMkgLcwgkCG/idrwMDLoiZwMvPcJET3i4
 t1JGOhbrI2wSA4h8H5fWhzxZc/aZWU+i4qUAjsbraK6JJT8mdhKCaXZ2ef/mffLzCQc+
 lQar523J+5yFMx5KBROswa0iqTklOHNsBQjIA=
X-Google-DKIM-Signature: v=1; a=rsa-sha256; c=relaxed/relaxed;
 d=1e100.net; s=20221208; t=1681484637; x=1684076637;
 h=date:message-id:cc:to:from:subject:x-gm-message-state:from:to:cc
 :subject:date:message-id:reply-to;
 bh=Gr8wKhZ/qI7Xtr/ijbFc+G8Bin913syCfg6p4h7ucl0=;
 b=PHY0cpg6TkY/Mg9lklRqWIZfFUAZS9R5OiDFNWcOA5YJ5hoFTtVx9hkcE/VlNT4phd
 DgGLFVjALO2z4Acc/wpvzkgQJNJUx4IkCzN+dkIs+qJdp79XwfxLzyYvJ2gkmTBK4zor
 cMXEV01r4vaucy3zULV5hNdjjrTH+cnCj81yTBfmnojdKLXjp9kk9IJQfxNtEB/thorS
 xeFYbVKrwV+sHdXGmDZnjCYrb6abP8T+vUYd+pjcT/Kdb1G7uraggWSpeyA7iwYlrL+I
 Grq0QZM2ncG+m9w/Ot4hGRc+5gcAEUCR1lq1RSpuHW5knJR3k/RQPafoa95czbxd8yaS
 LEXA==
X-Gm-Message-State: AAQBX9fm2rbzb6CwdQkeqO5xinmuA3f9BGKSNgUIa6jbW6AJWHdks/0o
 jTIfmvXu/aH6VCCIBaJcujQ11j2FZ/ReO9Ol8e8JhtqzaY1l8C7FW6kTvg==
X-Google-Smtp-Source: AKy350Yfla5BQBgDjamRCDyCZlzr9PqE0hHFoYPW7gWZLYjSQZblmKRmUfHwe728M3UrIr5PpNE/zssx2Xs/
X-Received: by 2002:a05:7500:4d86:b0:101:6e96:c1c7 with SMTP id
 kz6-20020a0575004d8600b001016e96c1c7mr163312gab.31.1681484636744; 
 Fri, 14 Apr 2023 08:03:56 -0700 (PDT)
Received: from postal.iol.unh.edu (postal.iol.unh.edu. [132.177.123.84])
 by smtp-relay.gmail.com with ESMTPS id
 q3-20020ab04a03000000b00771156b4fe5sm817730uae.0.2023.04.14.08.03.56
 (version=TLS1_2 cipher=ECDHE-ECDSA-AES128-GCM-SHA256 bits=128/128);
 Fri, 14 Apr 2023 08:03:56 -0700 (PDT)
X-Relaying-Domain: iol.unh.edu
Received: from dpdk-ubuntu.dpdklab.iol.unh.edu (unknown
 [IPv6:2606:4100:3880:1722::210])
 by postal.iol.unh.edu (Postfix) with ESMTP id 5A31D605246B;
 Fri, 14 Apr 2023 11:03:56 -0400 (EDT)
Received: from dpdk-ubuntu-2.dpdklab.iol.unh.edu (localhost [IPv6:::1])
 by dpdk-ubuntu.dpdklab.iol.unh.edu (Postfix) with ESMTP id 567766008C;
 Fri, 14 Apr 2023 15:03:56 +0000 (UTC)
Subject: |SUCCESS| pw126073 [PATCH] reorder: improve buffer structure layout
From: dpdklab@iol.unh.edu
To: Test Report <test-report@dpdk.org>
Cc: dpdklab@iol.unh.edu, David Marchand <david.marchand@redhat.com>,
 Thomas Monjalon <thomas@monjalon.net>
Content-Type: text/plain
Message-Id: <20230414150356.567766008C@dpdk-ubuntu.dpdklab.iol.unh.edu>
Date: Fri, 14 Apr 2023 15:03:56 +0000 (UTC)
X-BeenThere: test-report@dpdk.org
X-Mailman-Version: 2.1.29
Precedence: list
List-Id: automatic DPDK test reports <test-report.dpdk.org>
List-Unsubscribe: <https://mails.dpdk.org/options/test-report>,
 <mailto:test-report-request@dpdk.org?subject=unsubscribe>
List-Archive: <http://mails.dpdk.org/archives/test-report/>
List-Post: <mailto:test-report@dpdk.org>
List-Help: <mailto:test-report-request@dpdk.org?subject=help>
List-Subscribe: <https://mails.dpdk.org/listinfo/test-report>,
 <mailto:test-report-request@dpdk.org?subject=subscribe>
Errors-To: test-report-bounces@dpdk.org

Test-Label: iol-x86_64-compile-testing
Test-Status: SUCCESS
http://dpdk.org/patch/126073

_Testing PASS_

Submitter: Volodymyr Fialko <vfialko@marvell.com>
Date: Friday, April 14 2023 08:43:43 
DPDK git baseline: Repo:dpdk
  Branch: master
  CommitID:3b3fef9de22af80d173453ab65a80b01ce38cbfd

126073 --> testing pass

Test environment and result as below:

+------------------+--------------------+
|   Environment    | dpdk_meson_compile |
+==================+====================+
| FreeBSD 13       | PASS               |
+------------------+--------------------+
| CentOS Stream 8  | PASS               |
+------------------+--------------------+
| CentOS Stream 9  | PASS               |
+------------------+--------------------+
| Ubuntu 22.04     | PASS               |
+------------------+--------------------+
| Ubuntu 20.04     | PASS               |
+------------------+--------------------+
| Debian Bullseye  | PASS               |
+------------------+--------------------+
| openSUSE Leap 15 | PASS               |
+------------------+--------------------+
| Debian Buster    | PASS               |
+------------------+--------------------+
| RHEL 7           | PASS               |
+------------------+--------------------+
| RHEL8            | PASS               |
+------------------+--------------------+
| Alpine           | PASS               |
+------------------+--------------------+


FreeBSD 13
	Kernel: 13.0
	Compiler: clang 11.0.1

CentOS Stream 8
	Kernel: 4.18.0-240.10.1.el8_3.x86_64
	Compiler: gcc 8.4.1 20200928

CentOS Stream 9
	Kernel: 4.18.0-240.10.1.el8_3.x86_64
	Compiler: gcc 11.3.1 20220421

Ubuntu 22.04
	Kernel: Container Host Kernel
	Compiler: gcc 11.3.1-2

Ubuntu 20.04
	Kernel: 4.18.0-240.10.1.el8_3.x86_64
	Compiler: gcc 9.3.0-17ubuntu1~20.04

Debian Bullseye
	Kernel: 5.4.0-122-generic
	Compiler: gcc 10.2.1-6

openSUSE Leap 15
	Kernel: 4.18.0-240.10.1.el8_3.x86_64
	Compiler: gcc 7.5.0

Debian Buster
	Kernel: 5.4.0-122-generic
	Compiler: gcc 8.3.0-6

RHEL 7
	Kernel: 4.18.0-240.10.1.el8_3.x86_64
	Compiler: gcc 4.8.5 20150623 (Red Hat 4.8.5-44)

RHEL8
	Kernel: 4.18.0-240.10.1.el8_3.x86_64
	Compiler: gcc 8.3.1 20191121 (Red Hat 8.3.1-5)

Alpine
	Kernel: 5.4.0-73-generic
	Compiler: gcc (Alpine 10.3.1_git20210424) 10.3.1 20210424

To view detailed results, visit:
https://lab.dpdk.org/results/dashboard/patchsets/25994/

UNH-IOL DPDK Community Lab

To manage your email subscriptions, visit: 
https://lab.dpdk.org/results/dashboard/preferences/subscriptions/