From mboxrd@z Thu Jan  1 00:00:00 1970
Return-Path: <test-report-bounces@dpdk.org>
Received: from mails.dpdk.org (mails.dpdk.org [217.70.189.124])
	by inbox.dpdk.org (Postfix) with ESMTP id 0FDAA42943
	for <public@inbox.dpdk.org>; Fri, 14 Apr 2023 18:28:51 +0200 (CEST)
Received: from mails.dpdk.org (localhost [127.0.0.1])
	by mails.dpdk.org (Postfix) with ESMTP id 0B54C400D5;
	Fri, 14 Apr 2023 18:28:51 +0200 (CEST)
Received: from mail-io1-f100.google.com (mail-io1-f100.google.com
 [209.85.166.100])
 by mails.dpdk.org (Postfix) with ESMTP id 9875A400D5
 for <test-report@dpdk.org>; Fri, 14 Apr 2023 18:28:49 +0200 (CEST)
Received: by mail-io1-f100.google.com with SMTP id
 ca18e2360f4ac-7606d948295so32047339f.3
 for <test-report@dpdk.org>; Fri, 14 Apr 2023 09:28:49 -0700 (PDT)
DKIM-Signature: v=1; a=rsa-sha256; c=relaxed/relaxed;
 d=iol.unh.edu; s=unh-iol; t=1681489729; x=1684081729;
 h=date:message-id:cc:to:from:subject:from:to:cc:subject:date
 :message-id:reply-to;
 bh=cP5yeNVjz0Y1QX3WGjAminTs/HOIx+N7SZ6vk84rFpU=;
 b=M7p8HyvyT4zUNbR2Qwr85Sjhbje5XP8erTdqkIM6DyaFjuoUl96LnHc3foWz5bLmD0
 J7QTlOB8I0wXdkb03bcaZ22qs3Yg68CXptZySEaZfSLZHipB8lc8YlqZS/7zlavieONK
 REVDUXwVUgO3nVWsCg1dNSadztEKwoUtK/SZI=
X-Google-DKIM-Signature: v=1; a=rsa-sha256; c=relaxed/relaxed;
 d=1e100.net; s=20221208; t=1681489729; x=1684081729;
 h=date:message-id:cc:to:from:subject:x-gm-message-state:from:to:cc
 :subject:date:message-id:reply-to;
 bh=cP5yeNVjz0Y1QX3WGjAminTs/HOIx+N7SZ6vk84rFpU=;
 b=Xp73jMJ3FNbxmMeO0/BWebxzbNB4oWEuADiSb1WbPCa9VnJURU0C0stHVIzUM/f85s
 H63S6UhrpRuRi9d/zAp7xTCvUkZsxfdUml8aMkk2v9WRRVQdSUxNuj//0vVkN0QuOZOB
 o5diS3zHT8E8YpfJfBgpvA6XqsArL9qBK/UI2/Dtq5KzTCcQibHtN6X82iGu7VZyOeVT
 0/SI8hWPpdsCvV3p94liu2qOaY5N/Xobnt4uLd6IFfozgMn4wabd6+xaVYMIk9wOggDn
 kNSxSTLp+yX2isjT2Le9wwUM57QjKPWXHIZvaxjbNOK2KBoRAuyPyJ4nzc1SuEDLR3Rt
 B27w==
X-Gm-Message-State: AAQBX9d9j021je+vA9D9vBawnz0Y1L7H9W9uwr3n67OvKcSya4Hwk4uf
 Zirec34089Vcwykr4w0a43W/BXBdjPaupujzSd+Z/fWtuq+1ShYRwsiOjMoZ5aPdeqhzIygrYw=
 =
X-Google-Smtp-Source: AKy350bO+U7Qi9leJR5T96C1+rBXolaUhXvF4HeNDYLu5LT/woHrs5SqIptz2sD6m1GigABbOedFtZUzgKD1
X-Received: by 2002:a92:d209:0:b0:325:b96e:6701 with SMTP id
 y9-20020a92d209000000b00325b96e6701mr4054338ily.2.1681489729015; 
 Fri, 14 Apr 2023 09:28:49 -0700 (PDT)
Received: from postal.iol.unh.edu (postal.iol.unh.edu.
 [2606:4100:3880:1234::84]) by smtp-relay.gmail.com with ESMTPS id
 c16-20020a929410000000b00327f702dea8sm696680ili.44.2023.04.14.09.28.48
 (version=TLS1_2 cipher=ECDHE-ECDSA-AES128-GCM-SHA256 bits=128/128);
 Fri, 14 Apr 2023 09:28:49 -0700 (PDT)
X-Relaying-Domain: iol.unh.edu
Received: from dpdk-ubuntu.dpdklab.iol.unh.edu (unknown [172.18.0.210])
 by postal.iol.unh.edu (Postfix) with ESMTP id A3053605246B;
 Fri, 14 Apr 2023 12:28:48 -0400 (EDT)
Received: from dpdk-ubuntu-2.dpdklab.iol.unh.edu (localhost [IPv6:::1])
 by dpdk-ubuntu.dpdklab.iol.unh.edu (Postfix) with ESMTP id A038E6008C;
 Fri, 14 Apr 2023 16:28:48 +0000 (UTC)
Subject: |SUCCESS| pw126083-126084 [PATCH] [2/2] config/arm: Enable NUMA for
 generic Arm build
From: dpdklab@iol.unh.edu
To: Test Report <test-report@dpdk.org>
Cc: dpdk-test-reports@iol.unh.edu, David Marchand <david.marchand@redhat.com>,
 Thomas Monjalon <thomas@monjalon.net>
Content-Type: text/plain
Message-Id: <20230414162848.A038E6008C@dpdk-ubuntu.dpdklab.iol.unh.edu>
Date: Fri, 14 Apr 2023 16:28:48 +0000 (UTC)
X-BeenThere: test-report@dpdk.org
X-Mailman-Version: 2.1.29
Precedence: list
List-Id: automatic DPDK test reports <test-report.dpdk.org>
List-Unsubscribe: <https://mails.dpdk.org/options/test-report>,
 <mailto:test-report-request@dpdk.org?subject=unsubscribe>
List-Archive: <http://mails.dpdk.org/archives/test-report/>
List-Post: <mailto:test-report@dpdk.org>
List-Help: <mailto:test-report-request@dpdk.org?subject=help>
List-Subscribe: <https://mails.dpdk.org/listinfo/test-report>,
 <mailto:test-report-request@dpdk.org?subject=subscribe>
Errors-To: test-report-bounces@dpdk.org

Test-Label: iol-abi-testing
Test-Status: SUCCESS
http://dpdk.org/patch/126084

_Testing PASS_

Submitter: Akihiko Odaki <akihiko.odaki@daynix.com>
Date: Friday, April 14 2023 12:41:39 
DPDK git baseline: Repo:dpdk
  Branch: master
  CommitID:3b3fef9de22af80d173453ab65a80b01ce38cbfd

126083-126084 --> testing pass

Test environment and result as below:

+------------------+----------+
|   Environment    | abi_test |
+==================+==========+
| Debian Bullseye  | PASS     |
+------------------+----------+
| Ubuntu 22.04     | PASS     |
+------------------+----------+
| RHEL8            | PASS     |
+------------------+----------+
| openSUSE Leap 15 | PASS     |
+------------------+----------+


Debian Bullseye
	Kernel: 5.4.0-122-generic
	Compiler: gcc 10.2.1-6

Ubuntu 22.04
	Kernel: 4.18.0-240.10.1.el8_3.x86_64
	Compiler: gcc 11.3.0

RHEL8
	Kernel: 4.18.0-240.10.1.el8_3.x86_64
	Compiler: gcc 8.3.1 20191121 (Red Hat 8.3.1-5)

openSUSE Leap 15
	Kernel: 4.18.0-240.10.1.el8_3.x86_64
	Compiler: gcc 7.5.0

To view detailed results, visit:
https://lab.dpdk.org/results/dashboard/patchsets/26002/

UNH-IOL DPDK Community Lab

To manage your email subscriptions, visit: 
https://lab.dpdk.org/results/dashboard/preferences/subscriptions/