From mboxrd@z Thu Jan  1 00:00:00 1970
Return-Path: <test-report-bounces@dpdk.org>
Received: from mails.dpdk.org (mails.dpdk.org [217.70.189.124])
	by inbox.dpdk.org (Postfix) with ESMTP id D6BE442943
	for <public@inbox.dpdk.org>; Fri, 14 Apr 2023 19:56:26 +0200 (CEST)
Received: from mails.dpdk.org (localhost [127.0.0.1])
	by mails.dpdk.org (Postfix) with ESMTP id D3C69410F6;
	Fri, 14 Apr 2023 19:56:26 +0200 (CEST)
Received: from mail-pj1-f99.google.com (mail-pj1-f99.google.com
 [209.85.216.99]) by mails.dpdk.org (Postfix) with ESMTP id 60F2D410F6
 for <test-report@dpdk.org>; Fri, 14 Apr 2023 19:56:25 +0200 (CEST)
Received: by mail-pj1-f99.google.com with SMTP id
 fw22-20020a17090b129600b00247255b2f40so5292531pjb.1
 for <test-report@dpdk.org>; Fri, 14 Apr 2023 10:56:25 -0700 (PDT)
DKIM-Signature: v=1; a=rsa-sha256; c=relaxed/relaxed;
 d=iol.unh.edu; s=unh-iol; t=1681494984; x=1684086984;
 h=date:message-id:cc:to:from:subject:from:to:cc:subject:date
 :message-id:reply-to;
 bh=8YTlsbSR/OqhDMohdjYh0NPELIZO9p9iwfGhkw49mwQ=;
 b=jKn3Pw/6UYZCRFpJpQOMEMeOzukQBw2khaQ/I0Db4Bshqc5WH1NndmLApl7JSRCNdn
 nUh9AmxSZfYWFvY+rD4sYiE9DhLNfjMNBVVd6OoUh1oyV3Mykzk9PNKE+d3v7PPBpgjE
 f4r0IA0TNSQmHhAZa+TnS4Aku3aCXFg1eSbpc=
X-Google-DKIM-Signature: v=1; a=rsa-sha256; c=relaxed/relaxed;
 d=1e100.net; s=20221208; t=1681494984; x=1684086984;
 h=date:message-id:cc:to:from:subject:x-gm-message-state:from:to:cc
 :subject:date:message-id:reply-to;
 bh=8YTlsbSR/OqhDMohdjYh0NPELIZO9p9iwfGhkw49mwQ=;
 b=CyclP51ufS40V5YlwA/D9wKWrg3u59GnJjIBq5jvd+GhlTQjfKR5QzsdHVYxuoZwqA
 n1NmDIfwIf+bRaeVt543MkuTfEz8TChv2skMlIjUJFqrfBKRcQC39rHQeTRWK5pXbaV3
 AYOOhIenjPljiyqLCPjUAnDohW9q/hp1X2tCTN8n9c3r/+lbSHQypyIWhlTQrl3ZgGO9
 r1Ra+94ZL9mGkefTHgO2q0O8esFlqTfc9hyV2lK222sk9gS47NisLJe+SOGvrqrGAEQ5
 nShc8I3LqKXLPbojRNKowuBwbuFHOKDkPo9VEzOmJtq1peRjE3sKdKU52EUqjfot2cuo
 DFWQ==
X-Gm-Message-State: AAQBX9eacA79TBFmHXK5Fz5MzpLiKGjauNZg6jTCbhI+UKwrBG5UgEJd
 kMiWbxI3vtVkQNM+TMSeK3vGrgbWBgp4NS7brYRfifbj8UTyE2Mt3l/+b7hErvSYfk0dzzFtnw=
 =
X-Google-Smtp-Source: AKy350aMuSTqnAt87vkvkHIDJHxUPt1YcYpFjjiXFmzEOzUdFfh7jarwqZlMzwyVCmVH4AmfquCF1CfZC4+i
X-Received: by 2002:a17:90b:17c7:b0:246:f9f1:ad17 with SMTP id
 me7-20020a17090b17c700b00246f9f1ad17mr5894860pjb.40.1681494984579; 
 Fri, 14 Apr 2023 10:56:24 -0700 (PDT)
Received: from postal.iol.unh.edu (postal.iol.unh.edu.
 [2606:4100:3880:1234::84]) by smtp-relay.gmail.com with ESMTPS id
 nu5-20020a17090b1b0500b00234305f84b2sm852302pjb.14.2023.04.14.10.56.24
 (version=TLS1_2 cipher=ECDHE-ECDSA-AES128-GCM-SHA256 bits=128/128);
 Fri, 14 Apr 2023 10:56:24 -0700 (PDT)
X-Relaying-Domain: iol.unh.edu
Received: from dpdk-ubuntu.dpdklab.iol.unh.edu (unknown
 [IPv6:2606:4100:3880:1722::210])
 by postal.iol.unh.edu (Postfix) with ESMTP id C7684605246B;
 Fri, 14 Apr 2023 13:56:23 -0400 (EDT)
Received: from dpdk-ubuntu-2.dpdklab.iol.unh.edu (localhost [IPv6:::1])
 by dpdk-ubuntu.dpdklab.iol.unh.edu (Postfix) with ESMTP id C705A6008C;
 Fri, 14 Apr 2023 17:56:23 +0000 (UTC)
Subject: |SUCCESS| pw126078 [PATCH] net/e1000: report VLAN extend capability
 for 82576
From: dpdklab@iol.unh.edu
To: Test Report <test-report@dpdk.org>
Cc: dpdklab@iol.unh.edu, David Marchand <david.marchand@redhat.com>,
 Thomas Monjalon <thomas@monjalon.net>
Content-Type: text/plain
Message-Id: <20230414175623.C705A6008C@dpdk-ubuntu.dpdklab.iol.unh.edu>
Date: Fri, 14 Apr 2023 17:56:23 +0000 (UTC)
X-BeenThere: test-report@dpdk.org
X-Mailman-Version: 2.1.29
Precedence: list
List-Id: automatic DPDK test reports <test-report.dpdk.org>
List-Unsubscribe: <https://mails.dpdk.org/options/test-report>,
 <mailto:test-report-request@dpdk.org?subject=unsubscribe>
List-Archive: <http://mails.dpdk.org/archives/test-report/>
List-Post: <mailto:test-report@dpdk.org>
List-Help: <mailto:test-report-request@dpdk.org?subject=help>
List-Subscribe: <https://mails.dpdk.org/listinfo/test-report>,
 <mailto:test-report-request@dpdk.org?subject=subscribe>
Errors-To: test-report-bounces@dpdk.org

Test-Label: iol-aarch64-compile-testing
Test-Status: SUCCESS
http://dpdk.org/patch/126078

_Testing PASS_

Submitter: Akihiko Odaki <akihiko.odaki@daynix.com>
Date: Friday, April 14 2023 11:46:37 
DPDK git baseline: Repo:dpdk
  Branch: master
  CommitID:3b3fef9de22af80d173453ab65a80b01ce38cbfd

126078 --> testing pass

Test environment and result as below:

+----------------------------------------+--------------------+
|              Environment               | dpdk_meson_compile |
+========================================+====================+
| Ubuntu 20.04 ARM Clang Native          | PASS               |
+----------------------------------------+--------------------+
| Ubuntu 20.04 ARM GCC Native            | PASS               |
+----------------------------------------+--------------------+
| Ubuntu 20.04 ARM GCC Cross Compile     | PASS               |
+----------------------------------------+--------------------+
| Ubuntu 20.04 aarch32 GCC Cross Compile | PASS               |
+----------------------------------------+--------------------+
| Ubuntu 20.04 ARM Clang Cross Compile   | PASS               |
+----------------------------------------+--------------------+
| Ubuntu 20.04 ARM SVE                   | PASS               |
+----------------------------------------+--------------------+


Ubuntu 20.04 ARM Clang Native
	Kernel: 5.4.0-53-generic
	Compiler: clang 10.0.0-4ubuntu1

Ubuntu 20.04 ARM GCC Native
	Kernel: 5.4.0-53-generic
	Compiler: gcc 9.3

Ubuntu 20.04 ARM GCC Cross Compile
	Kernel: 5.4.0-72-generic
	Compiler: aarch64-linux-gnu-gcc (Ubuntu 9.3.0-17ubuntu1~20.04) 9.3.0

Ubuntu 20.04 aarch32 GCC Cross Compile
	Kernel: 5.4.0-72-generic
	Compiler: gcc 9.3.0

Ubuntu 20.04 ARM Clang Cross Compile
	Kernel: 5.4.0-72-generic
	Compiler: clang version 10.0.0-4ubuntu1

Ubuntu 20.04 ARM SVE
	Kernel: 5.4.0-80-generic
	Compiler: gcc 10.3.0 (Ubuntu 10.3.0-1ubuntu1~20.04)

To view detailed results, visit:
https://lab.dpdk.org/results/dashboard/patchsets/25998/

UNH-IOL DPDK Community Lab

To manage your email subscriptions, visit: 
https://lab.dpdk.org/results/dashboard/preferences/subscriptions/