From mboxrd@z Thu Jan  1 00:00:00 1970
Return-Path: <test-report-bounces@dpdk.org>
Received: from mails.dpdk.org (mails.dpdk.org [217.70.189.124])
	by inbox.dpdk.org (Postfix) with ESMTP id 68C3C42945
	for <public@inbox.dpdk.org>; Sat, 15 Apr 2023 00:16:09 +0200 (CEST)
Received: from mails.dpdk.org (localhost [127.0.0.1])
	by mails.dpdk.org (Postfix) with ESMTP id 4F3A840697;
	Sat, 15 Apr 2023 00:16:09 +0200 (CEST)
Received: from mail-oa1-f97.google.com (mail-oa1-f97.google.com
 [209.85.160.97]) by mails.dpdk.org (Postfix) with ESMTP id 5ED0240697
 for <test-report@dpdk.org>; Sat, 15 Apr 2023 00:16:08 +0200 (CEST)
Received: by mail-oa1-f97.google.com with SMTP id
 586e51a60fabf-187bee46f9dso2018365fac.11
 for <test-report@dpdk.org>; Fri, 14 Apr 2023 15:16:08 -0700 (PDT)
DKIM-Signature: v=1; a=rsa-sha256; c=relaxed/relaxed;
 d=iol.unh.edu; s=unh-iol; t=1681510567; x=1684102567;
 h=date:message-id:cc:to:from:subject:from:to:cc:subject:date
 :message-id:reply-to;
 bh=3VKadTaRoQzjdlk1Rf7p2yXq+NUgBBxfW4vt4K7DfLo=;
 b=VendWnjiucLUZ2TJsn0t5dtQMxoSHU8P/jrtehq2Bm1PIKtk+iJAULWc2YMdwY+Gv+
 avDZDRTZ8lwQ1LqM5l3r/Vngv1Y8KxgMP1gsPR2g1zU5kM8sXWWkAWWslhb1swHZIzkx
 FlQxrT47jl2JuT/V7y00+SFXmKjI34ve8COf8=
X-Google-DKIM-Signature: v=1; a=rsa-sha256; c=relaxed/relaxed;
 d=1e100.net; s=20221208; t=1681510567; x=1684102567;
 h=date:message-id:cc:to:from:subject:x-gm-message-state:from:to:cc
 :subject:date:message-id:reply-to;
 bh=3VKadTaRoQzjdlk1Rf7p2yXq+NUgBBxfW4vt4K7DfLo=;
 b=ACEwtI6Crhn5xrND7oidoI1FhJQESyLvm379lnh9h/8DXNIwsbPC545rUK/5PEujG/
 cBzYYWoZi6Q9Og5e6bgAdoPj8gL2RFCAjSIPCFvSugXgMyoJgKFUC+rcSZPQGyEwDwrL
 5xgv86SYLZ77C3S1rgsWOeVRSh2Iwkzf9uijRfs+8OGwObKLXkYBWGmN4n/DrYcXEDsi
 vX3JVL90MI2peYPmE0r7M7HVpig0d4WEtBlWqrZCTvTSBA6960pXjVyYik+/LNPhPZjV
 vSns8LZsHGvCO/6awBHrv1XH2mCUtjdfggJIPheoGPosrV7I8aBG25naRg7EKrVZ4VkM
 gpjA==
X-Gm-Message-State: AAQBX9fh/E87znWQCr+t3LTfRxX0g4ASxqgNo8C8HHd950hgahYmpUZb
 Zib5UUsjzzs8z2UoZ5fbyApEFVwL89TyDdgWB2B8ABB9rdOMFKts7gv1Bg==
X-Google-Smtp-Source: AKy350bWMWADjHtZgHqBX9V3JMhzMPQ8yJhpk/kXZgxfQXgBfWtu31a6m1OA+OY+CiFoZzyryokhLqYVyQ1x
X-Received: by 2002:a05:6870:179b:b0:184:497a:986 with SMTP id
 r27-20020a056870179b00b00184497a0986mr4204627oae.15.1681510567635; 
 Fri, 14 Apr 2023 15:16:07 -0700 (PDT)
Received: from postal.iol.unh.edu (postal.iol.unh.edu. [132.177.123.84])
 by smtp-relay.gmail.com with ESMTPS id
 eg24-20020a056870989800b0017f18b64488sm984313oab.43.2023.04.14.15.16.07
 (version=TLS1_2 cipher=ECDHE-ECDSA-AES128-GCM-SHA256 bits=128/128);
 Fri, 14 Apr 2023 15:16:07 -0700 (PDT)
X-Relaying-Domain: iol.unh.edu
Received: from dpdk-ubuntu.dpdklab.iol.unh.edu (unknown
 [IPv6:2606:4100:3880:1722::210])
 by postal.iol.unh.edu (Postfix) with ESMTP id 4811F605246B;
 Fri, 14 Apr 2023 18:16:07 -0400 (EDT)
Received: from dpdk-ubuntu-2.dpdklab.iol.unh.edu (localhost [IPv6:::1])
 by dpdk-ubuntu.dpdklab.iol.unh.edu (Postfix) with ESMTP id 460216008C;
 Fri, 14 Apr 2023 22:16:07 +0000 (UTC)
Subject: |SUCCESS| pw126101-126122 [PATCH] [v2,
 22/22] test/pdcp: add PDCP status report cases
From: dpdklab@iol.unh.edu
To: Test Report <test-report@dpdk.org>
Cc: dpdklab@iol.unh.edu, David Marchand <david.marchand@redhat.com>,
 Thomas Monjalon <thomas@monjalon.net>
Content-Type: text/plain
Message-Id: <20230414221607.460216008C@dpdk-ubuntu.dpdklab.iol.unh.edu>
Date: Fri, 14 Apr 2023 22:16:07 +0000 (UTC)
X-BeenThere: test-report@dpdk.org
X-Mailman-Version: 2.1.29
Precedence: list
List-Id: automatic DPDK test reports <test-report.dpdk.org>
List-Unsubscribe: <https://mails.dpdk.org/options/test-report>,
 <mailto:test-report-request@dpdk.org?subject=unsubscribe>
List-Archive: <http://mails.dpdk.org/archives/test-report/>
List-Post: <mailto:test-report@dpdk.org>
List-Help: <mailto:test-report-request@dpdk.org?subject=help>
List-Subscribe: <https://mails.dpdk.org/listinfo/test-report>,
 <mailto:test-report-request@dpdk.org?subject=subscribe>
Errors-To: test-report-bounces@dpdk.org

Test-Label: iol-abi-testing
Test-Status: SUCCESS
http://dpdk.org/patch/126122

_Testing PASS_

Submitter: Anoob Joseph <anoobj@marvell.com>
Date: Friday, April 14 2023 17:45:12 
DPDK git baseline: Repo:dpdk
  Branch: master
  CommitID:3b3fef9de22af80d173453ab65a80b01ce38cbfd

126101-126122 --> testing pass

Test environment and result as below:

+------------------+----------+
|   Environment    | abi_test |
+==================+==========+
| Ubuntu 22.04     | PASS     |
+------------------+----------+
| Debian Bullseye  | PASS     |
+------------------+----------+
| openSUSE Leap 15 | PASS     |
+------------------+----------+
| Debian Buster    | PASS     |
+------------------+----------+
| CentOS Stream 8  | PASS     |
+------------------+----------+
| RHEL 7           | PASS     |
+------------------+----------+
| CentOS Stream 9  | PASS     |
+------------------+----------+


Ubuntu 22.04
	Kernel: 4.18.0-240.10.1.el8_3.x86_64
	Compiler: gcc 11.3.0

Debian Bullseye
	Kernel: 5.4.0-122-generic
	Compiler: gcc 10.2.1-6

openSUSE Leap 15
	Kernel: 4.18.0-240.10.1.el8_3.x86_64
	Compiler: gcc 7.5.0

Debian Buster
	Kernel: 5.4.0-122-generic
	Compiler: gcc 8.3.0-6

CentOS Stream 8
	Kernel: 4.18.0-240.10.1.el8_3.x86_64
	Compiler: gcc 8.4.1 20200928

RHEL 7
	Kernel: 4.18.0-240.10.1.el8_3.x86_64
	Compiler: gcc 4.8.5 20150623 (Red Hat 4.8.5-44)

CentOS Stream 9
	Kernel: 4.18.0-240.10.1.el8_3.x86_64
	Compiler: gcc 11.3.1 20220421

To view detailed results, visit:
https://lab.dpdk.org/results/dashboard/patchsets/26005/

UNH-IOL DPDK Community Lab

To manage your email subscriptions, visit: 
https://lab.dpdk.org/results/dashboard/preferences/subscriptions/