From mboxrd@z Thu Jan  1 00:00:00 1970
Return-Path: <test-report-bounces@dpdk.org>
Received: from mails.dpdk.org (mails.dpdk.org [217.70.189.124])
	by inbox.dpdk.org (Postfix) with ESMTP id CC2E842947
	for <public@inbox.dpdk.org>; Sat, 15 Apr 2023 04:15:42 +0200 (CEST)
Received: from mails.dpdk.org (localhost [127.0.0.1])
	by mails.dpdk.org (Postfix) with ESMTP id A8A9B40697;
	Sat, 15 Apr 2023 04:15:42 +0200 (CEST)
Received: from mail-qt1-f228.google.com (mail-qt1-f228.google.com
 [209.85.160.228])
 by mails.dpdk.org (Postfix) with ESMTP id 1AB9340697
 for <test-report@dpdk.org>; Sat, 15 Apr 2023 04:15:41 +0200 (CEST)
Received: by mail-qt1-f228.google.com with SMTP id w14so5803718qtv.13
 for <test-report@dpdk.org>; Fri, 14 Apr 2023 19:15:41 -0700 (PDT)
DKIM-Signature: v=1; a=rsa-sha256; c=relaxed/relaxed;
 d=iol.unh.edu; s=unh-iol; t=1681524940; x=1684116940;
 h=date:message-id:cc:to:from:subject:from:to:cc:subject:date
 :message-id:reply-to;
 bh=oyIh+EOszvCt5a+gGoAarwwuBm6vhJ0sSWTxA4tvsa8=;
 b=KawqpolA2laYMVK+JUB4pr968EvSI73Zr8VMeo3RoD9XO8kh9eFFKPdI6QiJtg7iEe
 DOVjGAaiMWOdyJxp96abidYTMib8FqBDtSAXsXsoAGNkkrjVXehlpZSQr77Wd3YVjPMy
 f4YKF/nKBoFlP7BNvPccFlBReLgpSNapiirtc=
X-Google-DKIM-Signature: v=1; a=rsa-sha256; c=relaxed/relaxed;
 d=1e100.net; s=20221208; t=1681524940; x=1684116940;
 h=date:message-id:cc:to:from:subject:x-gm-message-state:from:to:cc
 :subject:date:message-id:reply-to;
 bh=oyIh+EOszvCt5a+gGoAarwwuBm6vhJ0sSWTxA4tvsa8=;
 b=HTxRs4f8TR2e2HlKP3Ow+clMolEtT14nURDr5oZEARDWMJxzHTXvsL1pg9QrDia6LT
 hBokKGIlPhJw+/irNW2GMqdVfyeMZPQTrSNMwwRzXxNaBiIoGG77+qZqdizi8+rImIls
 hb1QCSJ1rQenhnGphiiUmh20rEJ6W948KwGszRsxw8GPFTkJ/hsIyKESMWms2crnNeX5
 bbErEL06CK5dzy1bUXXIdc7jjHK8FcDe/1zx2hRQK7t3eJs7ATQkzNG5ITUPoKsXBIzB
 YfNQxCPyBeU1krmzv/JhXtFixhvKE6D3XcpsKpbwT/28yKByX2/b7ThfAm0cx7LXo+ih
 E5ZQ==
X-Gm-Message-State: AAQBX9eRUbEwjecgrhiMh8pkXwem/BIzTkrE5nST4aFoHn0Zjf5rIKpz
 lfDNMQ67IKD1s3y39VT7sIOOl1Oy4LLVNFo3dT8q1s58D8WQkNJD6+VGBA==
X-Google-Smtp-Source: AKy350aX4pQEExozQnt+yLUqTKMqtb6YAc7acRaRd/iCfwQIl72vUHiWeNIa3ENVPFHq7oUXN/i6rnkajRBF
X-Received: by 2002:a05:622a:64c:b0:3b6:3995:2ec2 with SMTP id
 a12-20020a05622a064c00b003b639952ec2mr10428182qtb.19.1681524940458; 
 Fri, 14 Apr 2023 19:15:40 -0700 (PDT)
Received: from postal.iol.unh.edu (postal.iol.unh.edu. [132.177.123.84])
 by smtp-relay.gmail.com with ESMTPS id
 br30-20020a05620a461e00b00742992f2ed1sm1523947qkb.2.2023.04.14.19.15.40
 (version=TLS1_2 cipher=ECDHE-ECDSA-AES128-GCM-SHA256 bits=128/128);
 Fri, 14 Apr 2023 19:15:40 -0700 (PDT)
X-Relaying-Domain: iol.unh.edu
Received: from dpdk-ubuntu.dpdklab.iol.unh.edu (unknown [172.18.0.210])
 by postal.iol.unh.edu (Postfix) with ESMTP id 23944605246B;
 Fri, 14 Apr 2023 22:15:40 -0400 (EDT)
Received: from dpdk-ubuntu-2.dpdklab.iol.unh.edu (localhost [IPv6:::1])
 by dpdk-ubuntu.dpdklab.iol.unh.edu (Postfix) with ESMTP id 1ECEC6008C;
 Sat, 15 Apr 2023 02:15:40 +0000 (UTC)
Subject: |SUCCESS| pw126123 [PATCH] [v3] dmadev: add tracepoints
From: dpdklab@iol.unh.edu
To: Test Report <test-report@dpdk.org>
Cc: dpdklab@iol.unh.edu, David Marchand <david.marchand@redhat.com>,
 Thomas Monjalon <thomas@monjalon.net>
Content-Type: text/plain
Message-Id: <20230415021540.1ECEC6008C@dpdk-ubuntu.dpdklab.iol.unh.edu>
Date: Sat, 15 Apr 2023 02:15:40 +0000 (UTC)
X-BeenThere: test-report@dpdk.org
X-Mailman-Version: 2.1.29
Precedence: list
List-Id: automatic DPDK test reports <test-report.dpdk.org>
List-Unsubscribe: <https://mails.dpdk.org/options/test-report>,
 <mailto:test-report-request@dpdk.org?subject=unsubscribe>
List-Archive: <http://mails.dpdk.org/archives/test-report/>
List-Post: <mailto:test-report@dpdk.org>
List-Help: <mailto:test-report-request@dpdk.org?subject=help>
List-Subscribe: <https://mails.dpdk.org/listinfo/test-report>,
 <mailto:test-report-request@dpdk.org?subject=subscribe>
Errors-To: test-report-bounces@dpdk.org

Test-Label: iol-abi-testing
Test-Status: SUCCESS
http://dpdk.org/patch/126123

_Testing PASS_

Submitter: fengchengwen <fengchengwen@huawei.com>
Date: Saturday, April 15 2023 00:33:22 
DPDK git baseline: Repo:dpdk
  Branch: master
  CommitID:3b3fef9de22af80d173453ab65a80b01ce38cbfd

126123 --> testing pass

Test environment and result as below:

+-----------------+----------+
|   Environment   | abi_test |
+=================+==========+
| RHEL 7          | PASS     |
+-----------------+----------+
| CentOS Stream 8 | PASS     |
+-----------------+----------+
| RHEL8           | PASS     |
+-----------------+----------+
| Ubuntu 22.04    | PASS     |
+-----------------+----------+


RHEL 7
	Kernel: 4.18.0-240.10.1.el8_3.x86_64
	Compiler: gcc 4.8.5 20150623 (Red Hat 4.8.5-44)

CentOS Stream 8
	Kernel: 4.18.0-240.10.1.el8_3.x86_64
	Compiler: gcc 8.4.1 20200928

RHEL8
	Kernel: 4.18.0-240.10.1.el8_3.x86_64
	Compiler: gcc 8.3.1 20191121 (Red Hat 8.3.1-5)

Ubuntu 22.04
	Kernel: 4.18.0-240.10.1.el8_3.x86_64
	Compiler: gcc 11.3.0

To view detailed results, visit:
https://lab.dpdk.org/results/dashboard/patchsets/26006/

UNH-IOL DPDK Community Lab

To manage your email subscriptions, visit: 
https://lab.dpdk.org/results/dashboard/preferences/subscriptions/