From mboxrd@z Thu Jan  1 00:00:00 1970
Return-Path: <test-report-bounces@dpdk.org>
Received: from mails.dpdk.org (mails.dpdk.org [217.70.189.124])
	by inbox.dpdk.org (Postfix) with ESMTP id 903C44296E
	for <public@inbox.dpdk.org>; Mon, 17 Apr 2023 17:43:04 +0200 (CEST)
Received: from mails.dpdk.org (localhost [127.0.0.1])
	by mails.dpdk.org (Postfix) with ESMTP id 8B24340698;
	Mon, 17 Apr 2023 17:43:04 +0200 (CEST)
Received: from mail-pl1-f225.google.com (mail-pl1-f225.google.com
 [209.85.214.225])
 by mails.dpdk.org (Postfix) with ESMTP id 4C84640698
 for <test-report@dpdk.org>; Mon, 17 Apr 2023 17:43:03 +0200 (CEST)
Received: by mail-pl1-f225.google.com with SMTP id kh6so24535064plb.0
 for <test-report@dpdk.org>; Mon, 17 Apr 2023 08:43:03 -0700 (PDT)
DKIM-Signature: v=1; a=rsa-sha256; c=relaxed/relaxed;
 d=iol.unh.edu; s=unh-iol; t=1681746182; x=1684338182;
 h=date:message-id:cc:to:from:subject:from:to:cc:subject:date
 :message-id:reply-to;
 bh=Yxn0aVNv1SX7icR2/Gzj1kYcja4tnoo5WqrZqo/E+TM=;
 b=F82ZGojfCT0Sg+MEqeqc1emRtvgfLYs7irAsmyxSCTeyYcO/N3awtElQJ2jQXW5GQm
 M4qijTiMrU+ChI4Z5JCAsbLYQkcyPJZVAzfJawT+CLqMert1lGV++JBRXj1NEhiBiLVG
 dvMh2uDPxRcXTKt1RXNFqwSzAQkT1wPJma2RE=
X-Google-DKIM-Signature: v=1; a=rsa-sha256; c=relaxed/relaxed;
 d=1e100.net; s=20221208; t=1681746182; x=1684338182;
 h=date:message-id:cc:to:from:subject:x-gm-message-state:from:to:cc
 :subject:date:message-id:reply-to;
 bh=Yxn0aVNv1SX7icR2/Gzj1kYcja4tnoo5WqrZqo/E+TM=;
 b=fLBSMxfkdG0JW5xy/gQo3KrkEBPyeyTBsxWL3oPejNOK3XWdFz5NY6RpTh54cOZ1Pp
 fEWl8dLC9OoPO62oXPe0+1ytdu0gHqtSR6GFHweN5Qje0w5ZPzD81z2kZfgXdADVyIR7
 DhnLBr6QKVrpAcE/qC11ab6Sxnyrz+2DMzCDuJwer0RYpjM8Zi2IulT0NwRxa4PI15Ro
 Iym7iMczD1QIyQYLoX6emiopS2DTZFLySb21QKyuymbziPlCvJguETDagBBllVZaZ40f
 glN310xenwgw4g3Hur6ObVuOdpYl6OtyPA9kKmfwbu978x/wM9cgbQNiJcRUJFirmwK2
 j8rA==
X-Gm-Message-State: AAQBX9faZPu+qXRYH7iGac0Yqvv3HRs/RPmFkpv4jaSX3XYxA1Dsx3Fm
 Y00jVo496i4Y40MXC/hqpww6zl3aAszhyYEq65C3ruqyuToEtpGUHU8f+iulVt2Bk8xkfM5Udw=
 =
X-Google-Smtp-Source: AKy350ZrPzp+2KgcWIhN94bxeq1u2A5/C+a1eE6ouNjIJGOMZ88PxNX0djDZY2xKu6d/imDdutLYkBSSYKG9
X-Received: by 2002:a05:6a20:a989:b0:d9:ecba:b9fc with SMTP id
 cc9-20020a056a20a98900b000d9ecbab9fcmr14422902pzb.54.1681746182480; 
 Mon, 17 Apr 2023 08:43:02 -0700 (PDT)
Received: from postal.iol.unh.edu (postal.iol.unh.edu.
 [2606:4100:3880:1234::84]) by smtp-relay.gmail.com with ESMTPS id
 k17-20020a635a51000000b0051b146d7208sm3344397pgm.2.2023.04.17.08.43.02
 (version=TLS1_2 cipher=ECDHE-ECDSA-AES128-GCM-SHA256 bits=128/128);
 Mon, 17 Apr 2023 08:43:02 -0700 (PDT)
X-Relaying-Domain: iol.unh.edu
Received: from dpdk-ubuntu.dpdklab.iol.unh.edu (unknown
 [IPv6:2606:4100:3880:1722::210])
 by postal.iol.unh.edu (Postfix) with ESMTP id F147D605246B;
 Mon, 17 Apr 2023 11:43:01 -0400 (EDT)
Received: from dpdk-ubuntu-2.dpdklab.iol.unh.edu (localhost [IPv6:::1])
 by dpdk-ubuntu.dpdklab.iol.unh.edu (Postfix) with ESMTP id EFFC260092;
 Mon, 17 Apr 2023 15:43:01 +0000 (UTC)
Subject: |SUCCESS| pw126165-126164 [PATCH] [next,
 7/7] vmxnet3: update to version 7
From: dpdklab@iol.unh.edu
To: Test Report <test-report@dpdk.org>
Cc: dpdklab@iol.unh.edu, David Marchand <david.marchand@redhat.com>,
 Thomas Monjalon <thomas@monjalon.net>
Content-Type: text/plain
Message-Id: <20230417154301.EFFC260092@dpdk-ubuntu.dpdklab.iol.unh.edu>
Date: Mon, 17 Apr 2023 15:43:01 +0000 (UTC)
X-BeenThere: test-report@dpdk.org
X-Mailman-Version: 2.1.29
Precedence: list
List-Id: automatic DPDK test reports <test-report.dpdk.org>
List-Unsubscribe: <https://mails.dpdk.org/options/test-report>,
 <mailto:test-report-request@dpdk.org?subject=unsubscribe>
List-Archive: <http://mails.dpdk.org/archives/test-report/>
List-Post: <mailto:test-report@dpdk.org>
List-Help: <mailto:test-report-request@dpdk.org?subject=help>
List-Subscribe: <https://mails.dpdk.org/listinfo/test-report>,
 <mailto:test-report-request@dpdk.org?subject=subscribe>
Errors-To: test-report-bounces@dpdk.org

Test-Label: iol-abi-testing
Test-Status: SUCCESS
http://dpdk.org/patch/126164

_Testing PASS_

Submitter: Ronak Doshi <doshir@vmware.com>
Date: Wednesday, April 12 2023 16:26:36 
DPDK git baseline: Repo:dpdk
  Branch: master
  CommitID:3b3fef9de22af80d173453ab65a80b01ce38cbfd

126165-126164 --> testing pass

Test environment and result as below:

+-----------------+----------+
|   Environment   | abi_test |
+=================+==========+
| Debian Buster   | PASS     |
+-----------------+----------+
| CentOS Stream 9 | PASS     |
+-----------------+----------+
| Debian Bullseye | PASS     |
+-----------------+----------+
| Ubuntu 22.04    | PASS     |
+-----------------+----------+
| RHEL 7          | PASS     |
+-----------------+----------+


Debian Buster
	Kernel: 5.4.0-122-generic
	Compiler: gcc 8.3.0-6

CentOS Stream 9
	Kernel: 4.18.0-240.10.1.el8_3.x86_64
	Compiler: gcc 11.3.1 20220421

Debian Bullseye
	Kernel: 5.4.0-122-generic
	Compiler: gcc 10.2.1-6

Ubuntu 22.04
	Kernel: Container Host Kernel
	Compiler: gcc 12.2.1-2

RHEL 7
	Kernel: 4.18.0-240.10.1.el8_3.x86_64
	Compiler: gcc 4.8.5 20150623 (Red Hat 4.8.5-44)

To view detailed results, visit:
https://lab.dpdk.org/results/dashboard/patchsets/26013/

UNH-IOL DPDK Community Lab

To manage your email subscriptions, visit: 
https://lab.dpdk.org/results/dashboard/preferences/subscriptions/