From mboxrd@z Thu Jan  1 00:00:00 1970
Return-Path: <test-report-bounces@dpdk.org>
Received: from mails.dpdk.org (mails.dpdk.org [217.70.189.124])
	by inbox.dpdk.org (Postfix) with ESMTP id 8A8614296F
	for <public@inbox.dpdk.org>; Mon, 17 Apr 2023 18:52:13 +0200 (CEST)
Received: from mails.dpdk.org (localhost [127.0.0.1])
	by mails.dpdk.org (Postfix) with ESMTP id 8621A40698;
	Mon, 17 Apr 2023 18:52:13 +0200 (CEST)
Received: from mail-qv1-f100.google.com (mail-qv1-f100.google.com
 [209.85.219.100])
 by mails.dpdk.org (Postfix) with ESMTP id 2DF8540698
 for <test-report@dpdk.org>; Mon, 17 Apr 2023 18:52:12 +0200 (CEST)
Received: by mail-qv1-f100.google.com with SMTP id me15so5691308qvb.4
 for <test-report@dpdk.org>; Mon, 17 Apr 2023 09:52:12 -0700 (PDT)
DKIM-Signature: v=1; a=rsa-sha256; c=relaxed/relaxed;
 d=iol.unh.edu; s=unh-iol; t=1681750331; x=1684342331;
 h=date:message-id:cc:to:from:subject:from:to:cc:subject:date
 :message-id:reply-to;
 bh=rj84ku8+AGWp6LP6CYR+yjNH/4CRBuy4GEU0jmmoFww=;
 b=bLqeOqlXKt+FyFLkznoWyfb88SQaI5vI13j3aRlYqQtvPEtMgeDaAf5/Hy4XFo6U7H
 ZZX3rc4yByXKThCLjPVTb/V6pr8q7xrW8hePHAP/RNuiVR1tH/ZXbzam614GMt09GJMN
 9echS5aERHUjaXDIwYVWme9uvXvrq0xDDpNjU=
X-Google-DKIM-Signature: v=1; a=rsa-sha256; c=relaxed/relaxed;
 d=1e100.net; s=20221208; t=1681750331; x=1684342331;
 h=date:message-id:cc:to:from:subject:x-gm-message-state:from:to:cc
 :subject:date:message-id:reply-to;
 bh=rj84ku8+AGWp6LP6CYR+yjNH/4CRBuy4GEU0jmmoFww=;
 b=bhEE1nl+r/7FbAqnWl/O7FIFZw+Fpogl/bdUJKnSuAenmT3KK1MZ1aQC+LfsmEgwQw
 7lYGweppFobWvtggwmhG4svEl1MUMsWYk7a3z0/Vw+zAWOjcU6/GTlGxP7s1LKkNk5w7
 lCEqE2DDawKy2SY0Qo3QrACnO+E8YdpuUMsnPoAfoBoQsK396ImTHqhezzl3xPxSQXNB
 F+GQ1Kokdg2bS029r3/qeDMJgrVuHgkLe/XXHAz/XjY4QQxi1hXF4dDzYDWbSRQcQUhU
 NWSpDk5lqu2haz+Atn9B19Y34YPeUg2YjyB/Lfl0TzPU4S+FTV29JyDJVbWGQkZXsjiQ
 BFRQ==
X-Gm-Message-State: AAQBX9fSMh+rQSQClnn9ZYkqGYF99xWqwtZwLpo2agrVoayCXuIifTJD
 xddp9/EZ5SNz8Kbv8tJXhoj6UpXb7J9m7aZE8rnDxTlSmrGIvA+wMHNPWzG9ZsgqZLqUPhPsfg=
 =
X-Google-Smtp-Source: AKy350YRG0piSY9ruRZJi3Yc9LxUITH3GKPG6r8y+KbeXKLnicpCM1RUUCNWU1vWGgg+IilIgxMXzHj5Adp9
X-Received: by 2002:a05:6214:5197:b0:5ef:7d5c:a76c with SMTP id
 kl23-20020a056214519700b005ef7d5ca76cmr6103185qvb.14.1681750331548; 
 Mon, 17 Apr 2023 09:52:11 -0700 (PDT)
Received: from postal.iol.unh.edu (postal.iol.unh.edu.
 [2606:4100:3880:1234::84]) by smtp-relay.gmail.com with ESMTPS id
 my10-20020a0562142e4a00b005dd8b74ba15sm4134863qvb.69.2023.04.17.09.52.11
 (version=TLS1_2 cipher=ECDHE-ECDSA-AES128-GCM-SHA256 bits=128/128);
 Mon, 17 Apr 2023 09:52:11 -0700 (PDT)
X-Relaying-Domain: iol.unh.edu
Received: from dpdk-ubuntu.dpdklab.iol.unh.edu (unknown
 [IPv6:2606:4100:3880:1722::210])
 by postal.iol.unh.edu (Postfix) with ESMTP id 4F537605246B;
 Mon, 17 Apr 2023 12:52:11 -0400 (EDT)
Received: from dpdk-ubuntu-2.dpdklab.iol.unh.edu (localhost [IPv6:::1])
 by dpdk-ubuntu.dpdklab.iol.unh.edu (Postfix) with ESMTP id 4FFF56008C;
 Mon, 17 Apr 2023 16:52:11 +0000 (UTC)
Subject: |SUCCESS| pw126165-126164 [PATCH] [next,
 7/7] vmxnet3: update to version 7
From: dpdklab@iol.unh.edu
To: Test Report <test-report@dpdk.org>
Cc: Ronak Doshi <doshir@vmware.com>, David Marchand <david.marchand@redhat.com>,
 Thomas Monjalon <thomas@monjalon.net>
Content-Type: text/plain
Message-Id: <20230417165211.4FFF56008C@dpdk-ubuntu.dpdklab.iol.unh.edu>
Date: Mon, 17 Apr 2023 16:52:11 +0000 (UTC)
X-BeenThere: test-report@dpdk.org
X-Mailman-Version: 2.1.29
Precedence: list
List-Id: automatic DPDK test reports <test-report.dpdk.org>
List-Unsubscribe: <https://mails.dpdk.org/options/test-report>,
 <mailto:test-report-request@dpdk.org?subject=unsubscribe>
List-Archive: <http://mails.dpdk.org/archives/test-report/>
List-Post: <mailto:test-report@dpdk.org>
List-Help: <mailto:test-report-request@dpdk.org?subject=help>
List-Subscribe: <https://mails.dpdk.org/listinfo/test-report>,
 <mailto:test-report-request@dpdk.org?subject=subscribe>
Errors-To: test-report-bounces@dpdk.org

Test-Label: iol-abi-testing
Test-Status: SUCCESS
http://dpdk.org/patch/126164

_Testing PASS_

Submitter: Ronak Doshi <doshir@vmware.com>
Date: Wednesday, April 12 2023 16:26:36 
DPDK git baseline: Repo:dpdk
  Branch: master
  CommitID:3b3fef9de22af80d173453ab65a80b01ce38cbfd

126165-126164 --> testing pass

Test environment and result as below:

+------------------+----------+
|   Environment    | abi_test |
+==================+==========+
| Ubuntu 22.04     | PASS     |
+------------------+----------+
| CentOS Stream 9  | PASS     |
+------------------+----------+
| CentOS Stream 8  | PASS     |
+------------------+----------+
| openSUSE Leap 15 | PASS     |
+------------------+----------+
| RHEL8            | PASS     |
+------------------+----------+
| Debian Bullseye  | PASS     |
+------------------+----------+


Ubuntu 22.04
	Kernel: Container Host Kernel
	Compiler: gcc 12.2.1-2

CentOS Stream 9
	Kernel: 4.18.0-240.10.1.el8_3.x86_64
	Compiler: gcc 11.3.1 20220421

CentOS Stream 8
	Kernel: 4.18.0-240.10.1.el8_3.x86_64
	Compiler: gcc 8.4.1 20200928

openSUSE Leap 15
	Kernel: 4.18.0-240.10.1.el8_3.x86_64
	Compiler: gcc 7.5.0

RHEL8
	Kernel: 4.18.0-240.10.1.el8_3.x86_64
	Compiler: gcc 8.3.1 20191121 (Red Hat 8.3.1-5)

Debian Bullseye
	Kernel: 5.4.0-122-generic
	Compiler: gcc 10.2.1-6

To view detailed results, visit:
https://lab.dpdk.org/results/dashboard/patchsets/26013/

UNH-IOL DPDK Community Lab

To manage your email subscriptions, visit: 
https://lab.dpdk.org/results/dashboard/preferences/subscriptions/