From mboxrd@z Thu Jan  1 00:00:00 1970
Return-Path: <test-report-bounces@dpdk.org>
Received: from mails.dpdk.org (mails.dpdk.org [217.70.189.124])
	by inbox.dpdk.org (Postfix) with ESMTP id E83364296F
	for <public@inbox.dpdk.org>; Mon, 17 Apr 2023 19:11:56 +0200 (CEST)
Received: from mails.dpdk.org (localhost [127.0.0.1])
	by mails.dpdk.org (Postfix) with ESMTP id C674340698;
	Mon, 17 Apr 2023 19:11:56 +0200 (CEST)
Received: from mail-pl1-f228.google.com (mail-pl1-f228.google.com
 [209.85.214.228])
 by mails.dpdk.org (Postfix) with ESMTP id E483940698
 for <test-report@dpdk.org>; Mon, 17 Apr 2023 19:11:55 +0200 (CEST)
Received: by mail-pl1-f228.google.com with SMTP id kh6so24854142plb.0
 for <test-report@dpdk.org>; Mon, 17 Apr 2023 10:11:55 -0700 (PDT)
DKIM-Signature: v=1; a=rsa-sha256; c=relaxed/relaxed;
 d=iol.unh.edu; s=unh-iol; t=1681751515; x=1684343515;
 h=date:message-id:cc:to:from:subject:from:to:cc:subject:date
 :message-id:reply-to;
 bh=js2gsDifP2v/U2guDbGohDjmOLNo/KaYt8u/Q/XbeRE=;
 b=cpUWAJzgcPZ5bHp5GJGHgAYKc1VawEgXTz5SdsIzzB2zCWVBL9qbNiu3Qj+m140HC/
 GWRSsnyaVmCe2aGKbwDEIrqsvOnHIh2oEWWOHD0qiNSFL4DW55kzzGi7hj2B0jfKFGnS
 eY14aVNFmMeY2SChISSr5N2kM/VDzM0qNRfPI=
X-Google-DKIM-Signature: v=1; a=rsa-sha256; c=relaxed/relaxed;
 d=1e100.net; s=20221208; t=1681751515; x=1684343515;
 h=date:message-id:cc:to:from:subject:x-gm-message-state:from:to:cc
 :subject:date:message-id:reply-to;
 bh=js2gsDifP2v/U2guDbGohDjmOLNo/KaYt8u/Q/XbeRE=;
 b=gmAtduoULGl92aldLtRYKFDlMMZ0ATh6yxLdI0GusUU8+bNJqnMXGO3A7SujXFwXSK
 CZYCuRkbJGdal9kNviHZqvcWpSgr/iblY72Mj2cr9NxAJbtycKS7qcQ8FMcLlF/qDji4
 F/Pd9cbi7jAm0qbZHjxzGgQI9EM7OXiOqLWwfTrBV3MtmgGTsCtyPLwydOUPm5djDaZ0
 DsdcJo3xs3e7JVY9uo7ToltoVvxIj1EQ98MTA7kXuhbPhwMj9uaQF316G5xwztOAZc0m
 rjweWTQqFwkGyiky2zzYcAj50b+VCfzm+0dXpHS0DqcdE9/c+oGSePZ1rx9iCJaKpJ5y
 VJIQ==
X-Gm-Message-State: AAQBX9dfPrILIMG4RQ//cOupL9E1yuWxXc+rC4Z7+HhrOkzFK9XzFP7k
 B97Pm/n8+4dScmGVu48Gq1oafDGYjr6G7pQYWU48kZ4wPBBeZd1yxcWh/Z5roz32ULFStbBluQ=
 =
X-Google-Smtp-Source: AKy350bWlFEiPX0Tx62ymtu4tbZ2Ux9sjFM9NCO4k63/7eLU2kNh6o9KvUT3D1O3AefteXlMt9Zrev/reYBS
X-Received: by 2002:a17:902:e747:b0:1a2:8f0d:766d with SMTP id
 p7-20020a170902e74700b001a28f0d766dmr17358156plf.62.1681751515122; 
 Mon, 17 Apr 2023 10:11:55 -0700 (PDT)
Received: from postal.iol.unh.edu (postal.iol.unh.edu.
 [2606:4100:3880:1234::84]) by smtp-relay.gmail.com with ESMTPS id
 bj4-20020a170902850400b001a68ba8f55esm2303096plb.80.2023.04.17.10.11.55
 (version=TLS1_2 cipher=ECDHE-ECDSA-AES128-GCM-SHA256 bits=128/128);
 Mon, 17 Apr 2023 10:11:55 -0700 (PDT)
X-Relaying-Domain: iol.unh.edu
Received: from dpdk-ubuntu.dpdklab.iol.unh.edu (unknown [172.18.0.210])
 by postal.iol.unh.edu (Postfix) with ESMTP id 9B212605246B;
 Mon, 17 Apr 2023 13:11:54 -0400 (EDT)
Received: from dpdk-ubuntu-2.dpdklab.iol.unh.edu (localhost [IPv6:::1])
 by dpdk-ubuntu.dpdklab.iol.unh.edu (Postfix) with ESMTP id 9AA116008C;
 Mon, 17 Apr 2023 17:11:54 +0000 (UTC)
Subject: |SUCCESS| pw126165-126164 [PATCH] [next,
 7/7] vmxnet3: update to version 7
From: dpdklab@iol.unh.edu
To: Test Report <test-report@dpdk.org>
Cc: dpdklab@iol.unh.edu, David Marchand <david.marchand@redhat.com>,
 Thomas Monjalon <thomas@monjalon.net>
Content-Type: text/plain
Message-Id: <20230417171154.9AA116008C@dpdk-ubuntu.dpdklab.iol.unh.edu>
Date: Mon, 17 Apr 2023 17:11:54 +0000 (UTC)
X-BeenThere: test-report@dpdk.org
X-Mailman-Version: 2.1.29
Precedence: list
List-Id: automatic DPDK test reports <test-report.dpdk.org>
List-Unsubscribe: <https://mails.dpdk.org/options/test-report>,
 <mailto:test-report-request@dpdk.org?subject=unsubscribe>
List-Archive: <http://mails.dpdk.org/archives/test-report/>
List-Post: <mailto:test-report@dpdk.org>
List-Help: <mailto:test-report-request@dpdk.org?subject=help>
List-Subscribe: <https://mails.dpdk.org/listinfo/test-report>,
 <mailto:test-report-request@dpdk.org?subject=subscribe>
Errors-To: test-report-bounces@dpdk.org

Test-Label: iol-unit-testing
Test-Status: SUCCESS
http://dpdk.org/patch/126164

_Testing PASS_

Submitter: Ronak Doshi <doshir@vmware.com>
Date: Wednesday, April 12 2023 16:26:36 
DPDK git baseline: Repo:dpdk
  Branch: master
  CommitID:3b3fef9de22af80d173453ab65a80b01ce38cbfd

126165-126164 --> testing pass

Test environment and result as below:

+--------------------+----------------+
|    Environment     | dpdk_unit_test |
+====================+================+
| Fedora 36          | PASS           |
+--------------------+----------------+
| Debian 11 (Buster) | PASS           |
+--------------------+----------------+
| CentOS Stream 9    | PASS           |
+--------------------+----------------+
| Ubuntu 20.04 (ARM) | PASS           |
+--------------------+----------------+
| CentOS Stream 8    | PASS           |
+--------------------+----------------+
| Debian Buster      | PASS           |
+--------------------+----------------+
| Debian Bullseye    | PASS           |
+--------------------+----------------+
| Ubuntu 22.04       | PASS           |
+--------------------+----------------+
| openSUSE Leap 15   | PASS           |
+--------------------+----------------+
| RHEL 7             | PASS           |
+--------------------+----------------+
| RHEL8              | PASS           |
+--------------------+----------------+
| Ubuntu 20.04       | PASS           |
+--------------------+----------------+


Fedora 36
	Kernel: Container Host Kernel
	Compiler: gcc 12.2.1

Debian 11 (Buster)
	Kernel: Container Host Kernel
	Compiler: gcc 10.2.1

CentOS Stream 9
	Kernel: Container Host Kernel
	Compiler: gcc 11.3.1

Ubuntu 20.04 (ARM)
	Kernel: Container Host Kernel
	Compiler: gcc 9.4.0

CentOS Stream 8
	Kernel: 4.18.0-240.10.1.el8_3.x86_64
	Compiler: gcc 8.4.1 20200928

Debian Buster
	Kernel: 5.4.0-122-generic
	Compiler: gcc 8.3.0-6

Debian Bullseye
	Kernel: 5.4.0-122-generic
	Compiler: gcc 10.2.1-6

Ubuntu 22.04
	Kernel: Container Host Kernel
	Compiler: clang 14.0.5-1.fc36

openSUSE Leap 15
	Kernel: 4.18.0-240.10.1.el8_3.x86_64
	Compiler: gcc 7.5.0

RHEL 7
	Kernel: 4.18.0-240.10.1.el8_3.x86_64
	Compiler: gcc 4.8.5 20150623 (Red Hat 4.8.5-44)

RHEL8
	Kernel: 4.18.0-240.10.1.el8_3.x86_64
	Compiler: gcc 8.3.1 20191121 (Red Hat 8.3.1-5)

Ubuntu 20.04
	Kernel: 4.18.0-240.10.1.el8_3.x86_64
	Compiler: gcc 9.3.0-17ubuntu1~20.04

To view detailed results, visit:
https://lab.dpdk.org/results/dashboard/patchsets/26013/

UNH-IOL DPDK Community Lab

To manage your email subscriptions, visit: 
https://lab.dpdk.org/results/dashboard/preferences/subscriptions/