automatic DPDK test reports
 help / color / mirror / Atom feed
From: qemudev@loongson.cn
To: test-report@dpdk.org
Subject: |SUCCESS| pw153936 [PATCH v2 1/1] vhost: handle virtqueue locking for memory hotplug
Date: Mon, 2 Jun 2025 15:47:15 +0800	[thread overview]
Message-ID: <202506020747.5527lFEV558765@localhost.localdomain> (raw)
In-Reply-To: <20250602081933.1881050-1-dvo-plv@napatech.com>

Test-Label: loongarch-compilation
Test-Status: SUCCESS
http://dpdk.org/patch/153936

_Compilation OK_

Submitter: Danylo Vodopianov <dvo-plv@napatech.com>
Date: Mon,  2 Jun 2025 10:19:33 +0200
DPDK git baseline: Repo:dpdk-next-virtio
  Branch: main
  CommitID: 3223019e73391066cbb0d248051b163e5373034c

153936 --> meson & ninja build successfully

Test environment and result as below:

+---------------------+----------------+
|     Environment     | compilation    |
+---------------------+----------------+
| Loongnix-Server 8.3 | PASS           |
+---------------------+----------------+

Loongnix-Server 8.3
    Kernel: 4.19.190+
    Compiler: gcc 8.3


       reply	other threads:[~2025-06-02  8:23 UTC|newest]

Thread overview: 16+ messages / expand[flat|nested]  mbox.gz  Atom feed  top
     [not found] <20250602081933.1881050-1-dvo-plv@napatech.com>
2025-06-02  7:47 ` qemudev [this message]
2025-06-02  7:51 ` qemudev
2025-06-02  8:21 ` |WARNING| " checkpatch
2025-06-02 10:05 ` |SUCCESS| " 0-day Robot
2025-06-02 10:43 ` |SUCCESS| pw153936 [PATCH] [v2,1/1] vhost: handle virtqueue locking dpdklab
2025-06-02 10:57 ` dpdklab
2025-06-02 11:37 ` |PENDING| " dpdklab
2025-06-02 11:45 ` dpdklab
2025-06-02 12:06 ` |SUCCESS| " dpdklab
2025-06-02 12:21 ` dpdklab
2025-06-02 13:06 ` |WARNING| " dpdklab
2025-06-02 13:21 ` |SUCCESS| " dpdklab
2025-06-02 15:28 ` dpdklab
2025-06-04 21:32 ` dpdklab
2025-06-10 20:06 ` dpdklab
2025-06-10 20:06 ` dpdklab

Reply instructions:

You may reply publicly to this message via plain-text email
using any one of the following methods:

* Save the following mbox file, import it into your mail client,
  and reply-to-all from there: mbox

  Avoid top-posting and favor interleaved quoting:
  https://en.wikipedia.org/wiki/Posting_style#Interleaved_style

* Reply using the --to, --cc, and --in-reply-to
  switches of git-send-email(1):

  git send-email \
    --in-reply-to=202506020747.5527lFEV558765@localhost.localdomain \
    --to=qemudev@loongson.cn \
    --cc=test-report@dpdk.org \
    /path/to/YOUR_REPLY

  https://kernel.org/pub/software/scm/git/docs/git-send-email.html

* If your mail client supports setting the In-Reply-To header
  via mailto: links, try the mailto: link
Be sure your reply has a Subject: header at the top and a blank line before the message body.
This is a public inbox, see mirroring instructions
for how to clone and mirror all data and code used for this inbox;
as well as URLs for NNTP newsgroup(s).