automatic DPDK test reports
 help / color / mirror / Atom feed
* |SUCCESS| pw154889-154890 [PATCH v2 6/6] net/hns3: VF support multi-TCs configure
       [not found] <20250701064512.3868175-7-huangdengdui@huawei.com>
@ 2025-07-01  6:11 ` qemudev
  2025-07-01  6:16 ` qemudev
                   ` (27 subsequent siblings)
  28 siblings, 0 replies; 29+ messages in thread
From: qemudev @ 2025-07-01  6:11 UTC (permalink / raw)
  To: test-report

Test-Label: loongarch-compilation
Test-Status: SUCCESS
http://dpdk.org/patch/154890

_Compilation OK_

Submitter: Dengdui Huang <huangdengdui@huawei.com>
Date: Tue, 1 Jul 2025 14:45:07 +0800
DPDK git baseline: Repo:dpdk-next-net
  Branch: main
  CommitID: 77864da82f25a9e1e43c14b2cba68c2049a3ee3e

154889-154890 --> meson & ninja build successfully

Test environment and result as below:

+---------------------+----------------+
|     Environment     | compilation    |
+---------------------+----------------+
| Loongnix-Server 8.3 | PASS           |
+---------------------+----------------+

Loongnix-Server 8.3
    Kernel: 4.19.190+
    Compiler: gcc 8.3


^ permalink raw reply	[flat|nested] 29+ messages in thread

* |SUCCESS| pw154889-154890 [PATCH v2 6/6] net/hns3: VF support multi-TCs configure
       [not found] <20250701064512.3868175-7-huangdengdui@huawei.com>
  2025-07-01  6:11 ` |SUCCESS| pw154889-154890 [PATCH v2 6/6] net/hns3: VF support multi-TCs configure qemudev
@ 2025-07-01  6:16 ` qemudev
  2025-07-01  6:45 ` |SUCCESS| pw154890 " checkpatch
                   ` (26 subsequent siblings)
  28 siblings, 0 replies; 29+ messages in thread
From: qemudev @ 2025-07-01  6:16 UTC (permalink / raw)
  To: test-report

Test-Label: loongarch-unit-testing
Test-Status: SUCCESS
http://dpdk.org/patch/154890

_Unit Testing PASS_

Submitter: Dengdui Huang <huangdengdui@huawei.com>
Date: Tue, 1 Jul 2025 14:45:07 +0800
DPDK git baseline: Repo:dpdk-next-net
  Branch: main
  CommitID: 77864da82f25a9e1e43c14b2cba68c2049a3ee3e

154889-154890 --> testing pass

Test environment and result as below:

+---------------------+----------------+
|     Environment     | dpdk_unit_test |
+---------------------+----------------+
| Loongnix-Server 8.3 | PASS           |
+---------------------+----------------+

Loongnix-Server 8.3
    Kernel: 4.19.190+
    Compiler: gcc 8.3


Test result details:
  1/121 DPDK:fast-tests / acl_autotest                            OK              3.31s
  2/121 DPDK:fast-tests / alarm_autotest                          OK              1.58s
  3/121 DPDK:fast-tests / argparse_autotest                       OK              0.60s
  4/121 DPDK:fast-tests / atomic_autotest                         OK              7.29s
  5/121 DPDK:fast-tests / bitcount_autotest                       OK              0.40s
  6/121 DPDK:fast-tests / bitmap_autotest                         OK              0.40s
  7/121 DPDK:fast-tests / bitops_autotest                         OK              1.90s
  8/121 DPDK:fast-tests / bitratestats_autotest                   OK              0.40s
  9/121 DPDK:fast-tests / bitset_autotest                         OK              3.11s
 10/121 DPDK:fast-tests / bpf_autotest                            OK              0.40s
 11/121 DPDK:fast-tests / bpf_convert_autotest                    OK              0.40s
 12/121 DPDK:fast-tests / byteorder_autotest                      OK              0.39s
 13/121 DPDK:fast-tests / cfgfile_autotest                        OK              0.40s
 14/121 DPDK:fast-tests / cksum_autotest                          OK              0.40s
 15/121 DPDK:fast-tests / cmdline_autotest                        OK              0.40s
 16/121 DPDK:fast-tests / common_autotest                         OK              1.28s
 17/121 DPDK:fast-tests / compressdev_autotest                    SKIP            0.07s   exit status 77
 18/121 DPDK:fast-tests / cpuflags_autotest                       OK              0.39s
 19/121 DPDK:fast-tests / crc_autotest                            OK              0.40s
 20/121 DPDK:fast-tests / user_delay_us                           OK              0.40s
 21/121 DPDK:fast-tests / debug_autotest                          OK             26.04s
 22/121 DPDK:fast-tests / devargs_autotest                        OK              0.39s
 23/121 DPDK:fast-tests / dispatcher_autotest                     OK              2.59s
 24/121 DPDK:fast-tests / distributor_autotest                    OK              1.20s
 25/121 DPDK:fast-tests / eal_flags_c_opt_autotest                OK              0.78s
 26/121 DPDK:fast-tests / eal_flags_main_opt_autotest             OK              0.22s
 27/121 DPDK:fast-tests / eal_flags_n_opt_autotest                OK              0.20s
 28/121 DPDK:fast-tests / eal_flags_hpet_autotest                 OK              0.13s
 29/121 DPDK:fast-tests / eal_flags_no_huge_autotest              OK              0.22s
 30/121 DPDK:fast-tests / eal_flags_a_opt_autotest                OK              0.30s
 31/121 DPDK:fast-tests / eal_flags_b_opt_autotest                OK              0.24s
 32/121 DPDK:fast-tests / eal_flags_vdev_opt_autotest             OK              0.19s
 33/121 DPDK:fast-tests / eal_flags_r_opt_autotest                OK              0.19s
 34/121 DPDK:fast-tests / eal_flags_mem_autotest                  OK              0.59s
 35/121 DPDK:fast-tests / eal_flags_file_prefix_autotest          OK             22.24s
 36/121 DPDK:fast-tests / eal_flags_misc_autotest                 OK              1.03s
 37/121 DPDK:fast-tests / eal_fs_autotest                         OK              0.39s
 38/121 DPDK:fast-tests / errno_autotest                          OK              0.40s
 39/121 DPDK:fast-tests / ethdev_link_status                      OK              0.40s
 40/121 DPDK:fast-tests / event_eth_tx_adapter_autotest           OK              1.68s
 41/121 DPDK:fast-tests / event_ring_autotest                     OK              0.40s
 42/121 DPDK:fast-tests / event_vector_adapter_autotest           OK              0.75s
 43/121 DPDK:fast-tests / eventdev_common_autotest                OK              0.39s
 44/121 DPDK:fast-tests / eventdev_selftest_sw                    OK              7.18s
 45/121 DPDK:fast-tests / fbarray_autotest                        OK              0.40s
 46/121 DPDK:fast-tests / fib_autotest                            OK              1.38s
 47/121 DPDK:fast-tests / fib6_autotest                           OK              1.19s
 48/121 DPDK:fast-tests / func_reentrancy_autotest                OK              2.25s
 49/121 DPDK:fast-tests / graph_autotest                          OK              0.37s
 50/121 DPDK:fast-tests / node_list_dump                          OK              0.36s
 51/121 DPDK:fast-tests / graph_feature_arc_autotest              OK              0.37s
 52/121 DPDK:fast-tests / hash_autotest                           OK              0.99s
 53/121 DPDK:fast-tests / hash_readwrite_func_autotest            OK              6.40s
 54/121 DPDK:fast-tests / interrupt_autotest                      OK              1.70s
 55/121 DPDK:fast-tests / ipfrag_autotest                         OK              0.07s
 56/121 DPDK:fast-tests / ipsec_autotest                          SKIP            0.41s   exit status 77
 57/121 DPDK:fast-tests / kvargs_autotest                         OK              0.41s
 58/121 DPDK:fast-tests / latencystats_autotest                   OK              0.42s
 59/121 DPDK:fast-tests / lcore_var_autotest                      OK              0.56s
 60/121 DPDK:fast-tests / lcores_autotest                         OK              5.22s
 61/121 DPDK:fast-tests / logs_autotest                           OK              0.41s
 62/121 DPDK:fast-tests / lpm_autotest                            OK              2.45s
 63/121 DPDK:fast-tests / lpm6_autotest                           OK              5.58s
 64/121 DPDK:fast-tests / malloc_autotest                         OK             59.86s
 65/121 DPDK:fast-tests / mbuf_autotest                           OK              5.36s
 66/121 DPDK:fast-tests / mcslock_autotest                        OK              3.20s
 67/121 DPDK:fast-tests / member_autotest                         OK              1.61s
 68/121 DPDK:fast-tests / memcpy_autotest                         OK              6.86s
 69/121 DPDK:fast-tests / memory_autotest                         OK              0.10s
 70/121 DPDK:fast-tests / mempool_autotest                        OK              0.43s
 71/121 DPDK:fast-tests / memzone_autotest                        OK              0.14s
 72/121 DPDK:fast-tests / meter_autotest                          OK              0.46s
 73/121 DPDK:fast-tests / metrics_autotest                        OK              0.47s
 74/121 DPDK:fast-tests / multiprocess_autotest                   OK              0.18s
 75/121 DPDK:fast-tests / net_ether_autotest                      OK              1.13s
 76/121 DPDK:fast-tests / net_ipv6_autotest                       OK              0.47s
 77/121 DPDK:fast-tests / pcapng_autotest                         OK              6.85s
 78/121 DPDK:fast-tests / pdcp_autotest                           SKIP            0.06s   exit status 77
 79/121 DPDK:fast-tests / pdump_autotest                          OK              0.58s
 80/121 DPDK:fast-tests / per_lcore_autotest                      OK              0.58s
 81/121 DPDK:fast-tests / pflock_autotest                         OK              1.29s
 82/121 DPDK:fast-tests / pie_autotest                            OK              0.48s
 83/121 DPDK:fast-tests / ring_pmd_autotest                       OK              0.48s
 84/121 DPDK:fast-tests / power_autotest                          OK              0.48s
 85/121 DPDK:fast-tests / power_cpufreq_autotest                  SKIP            0.06s   exit status 77
 86/121 DPDK:fast-tests / power_intel_uncore_autotest             SKIP            0.47s   exit status 77
 87/121 DPDK:fast-tests / power_kvm_vm_autotest                   SKIP            0.06s   exit status 77
 88/121 DPDK:fast-tests / prefetch_autotest                       OK              0.47s
 89/121 DPDK:fast-tests / ptr_compress_autotest                   OK              0.47s
 90/121 DPDK:fast-tests / rawdev_autotest                         OK              0.47s
 91/121 DPDK:fast-tests / rcu_qsbr_autotest                       OK              0.99s
 92/121 DPDK:fast-tests / reorder_autotest                        OK              0.53s
 93/121 DPDK:fast-tests / rib_autotest                            OK              7.78s
 94/121 DPDK:fast-tests / rib6_autotest                           OK              7.77s
 95/121 DPDK:fast-tests / ring_autotest                           OK              0.50s
 96/121 DPDK:fast-tests / rwlock_test1_autotest                   OK              1.22s
 97/121 DPDK:fast-tests / rwlock_rda_autotest                     OK              5.48s
 98/121 DPDK:fast-tests / rwlock_rds_wrm_autotest                 OK              5.45s
 99/121 DPDK:fast-tests / rwlock_rde_wro_autotest                 OK              5.48s
100/121 DPDK:fast-tests / sched_autotest                          OK              0.48s
101/121 DPDK:fast-tests / security_autotest                       OK              0.06s
102/121 DPDK:fast-tests / seqlock_autotest                        OK              2.47s
103/121 DPDK:fast-tests / service_autotest                        OK              3.18s
104/121 DPDK:fast-tests / soring_autotest                         OK              0.48s
105/121 DPDK:fast-tests / spinlock_autotest                       OK              0.55s
106/121 DPDK:fast-tests / stack_autotest                          OK              0.86s
107/121 DPDK:fast-tests / stack_lf_autotest                       SKIP            0.05s   exit status 77
108/121 DPDK:fast-tests / string_autotest                         OK              0.46s
109/121 DPDK:fast-tests / table_autotest                          OK              7.82s
110/121 DPDK:fast-tests / tailq_autotest                          OK              0.46s
111/121 DPDK:fast-tests / telemetry_data_autotest                 OK              0.47s
112/121 DPDK:fast-tests / telemetry_json_autotest                 OK              0.47s
113/121 DPDK:fast-tests / thash_autotest                          OK              0.47s
114/121 DPDK:fast-tests / threads_autotest                        OK              0.65s
115/121 DPDK:fast-tests / ticketlock_autotest                     OK              0.61s
116/121 DPDK:fast-tests / timer_autotest                          OK              3.87s
117/121 DPDK:fast-tests / trace_autotest                          OK              0.47s
118/121 DPDK:fast-tests / trace_autotest_with_traces              OK              0.47s
119/121 DPDK:fast-tests / vdev_autotest                           OK              0.47s
120/121 DPDK:fast-tests / version_autotest                        OK              0.47s
121/121 DPDK:fast-tests / telemetry_all                           OK              1.31s


Ok:                 114
Expected Fail:      0
Fail:               0
Unexpected Pass:    0
Skipped:            7
Timeout:            0


^ permalink raw reply	[flat|nested] 29+ messages in thread

* |SUCCESS| pw154890 [PATCH v2 6/6] net/hns3: VF support multi-TCs configure
       [not found] <20250701064512.3868175-7-huangdengdui@huawei.com>
  2025-07-01  6:11 ` |SUCCESS| pw154889-154890 [PATCH v2 6/6] net/hns3: VF support multi-TCs configure qemudev
  2025-07-01  6:16 ` qemudev
@ 2025-07-01  6:45 ` checkpatch
  2025-07-01  7:46 ` |SUCCESS| pw154889-154890 [PATCH] [v2,6/6] net/hns3: VF support mult dpdklab
                   ` (25 subsequent siblings)
  28 siblings, 0 replies; 29+ messages in thread
From: checkpatch @ 2025-07-01  6:45 UTC (permalink / raw)
  To: test-report

Test-Label: checkpatch
Test-Status: SUCCESS
http://dpdk.org/patch/154890

_coding style OK_



^ permalink raw reply	[flat|nested] 29+ messages in thread

* |SUCCESS| pw154889-154890 [PATCH] [v2,6/6] net/hns3: VF support mult
       [not found] <20250701064512.3868175-7-huangdengdui@huawei.com>
                   ` (2 preceding siblings ...)
  2025-07-01  6:45 ` |SUCCESS| pw154890 " checkpatch
@ 2025-07-01  7:46 ` dpdklab
  2025-07-01  7:47 ` dpdklab
                   ` (24 subsequent siblings)
  28 siblings, 0 replies; 29+ messages in thread
From: dpdklab @ 2025-07-01  7:46 UTC (permalink / raw)
  To: Test Report; +Cc: dpdk-test-reports

Test-Label: iol-sample-apps-testing
Test-Status: SUCCESS
http://dpdk.org/patch/154890

_Testing PASS_

Submitter: Dengdui Huang <huangdengdui@huawei.com>
Date: Tuesday, July 01 2025 06:45:12 
DPDK git baseline: Repo:dpdk
  Branch: master
  CommitID:77864da82f25a9e1e43c14b2cba68c2049a3ee3e

154889-154890 --> testing pass

Upstream job id: Template-DTS-Pipeline#234282

Test environment and result as below:

+--------------+----------------------+
| Environment  | compressdev_zlib_pmd |
+==============+======================+
| Ubuntu 22.04 | PASS                 |
+--------------+----------------------+


Ubuntu 22.04
	Kernel: 5.15
	Compiler: gcc gcc (Ubuntu 11.4.0-1ubuntu1~22.04) 11.4.0

To view detailed results, visit:
https://lab.dpdk.org/results/dashboard/patchsets/33550/

UNH-IOL DPDK Community Lab

To manage your email subscriptions, visit: 
https://lab.dpdk.org/results/dashboard/preferences/subscriptions/

^ permalink raw reply	[flat|nested] 29+ messages in thread

* |SUCCESS| pw154889-154890 [PATCH] [v2,6/6] net/hns3: VF support mult
       [not found] <20250701064512.3868175-7-huangdengdui@huawei.com>
                   ` (3 preceding siblings ...)
  2025-07-01  7:46 ` |SUCCESS| pw154889-154890 [PATCH] [v2,6/6] net/hns3: VF support mult dpdklab
@ 2025-07-01  7:47 ` dpdklab
  2025-07-01  8:03 ` |SUCCESS| pw154890 [PATCH v2 6/6] net/hns3: VF support multi-TCs configure 0-day Robot
                   ` (23 subsequent siblings)
  28 siblings, 0 replies; 29+ messages in thread
From: dpdklab @ 2025-07-01  7:47 UTC (permalink / raw)
  To: Ali Alnubani, Test Report; +Cc: dpdk-test-reports

Test-Label: iol-mellanox-Performance
Test-Status: SUCCESS
http://dpdk.org/patch/154890

_Performance Testing PASS_

Submitter: Dengdui Huang <huangdengdui@huawei.com>
Date: Tuesday, July 01 2025 06:45:12 
DPDK git baseline: Repo:dpdk
  Branch: master
  CommitID:77864da82f25a9e1e43c14b2cba68c2049a3ee3e

154889-154890 --> performance testing pass

Upstream job id: Template-DTS-Pipeline#234269

Test environment and result as below:

Ubuntu 24.04
Kernel: 6.8
Compiler: gcc gcc (Ubuntu 13.3.0-6ubuntu2~24.04) 13.3.0
NIC: NVIDIA Mellanox ConnectX-7 100000 Mbps
Fail/Total: 0/6

Detail performance results: 
+------------+---------+----------+-------------+------------------------------+
| frame_size | txd/rxd | num_cpus | num_threads |  throughput difference from  |
|            |         |          |             |           expected           |
+============+=========+==========+=============+==============================+
| 64         | 1024    | 1        | 1           | 0.3%                         |
+------------+---------+----------+-------------+------------------------------+
| 128        | 1024    | 1        | 1           | -1.3%                        |
+------------+---------+----------+-------------+------------------------------+
| 256        | 1024    | 1        | 1           | -2.7%                        |
+------------+---------+----------+-------------+------------------------------+
| 512        | 1024    | 1        | 1           | 0.3%                         |
+------------+---------+----------+-------------+------------------------------+
| 1024       | 1024    | 1        | 1           | -0.1%                        |
+------------+---------+----------+-------------+------------------------------+
| 1518       | 1024    | 1        | 1           | -0.1%                        |
+------------+---------+----------+-------------+------------------------------+

Ubuntu 24.04
Kernel: 6.8
Compiler: gcc gcc (Ubuntu 13.3.0-6ubuntu2~24.04) 13.3.0
NIC: Mellanox ConnectX-6 Lx 25000 Mbps
Fail/Total: 0/6

Detail performance results: 
+------------+---------+----------+-------------+------------------------------+
| frame_size | txd/rxd | num_cpus | num_threads |  throughput difference from  |
|            |         |          |             |           expected           |
+============+=========+==========+=============+==============================+
| 64         | 1024    | 1        | 1           | 0.3%                         |
+------------+---------+----------+-------------+------------------------------+
| 128        | 1024    | 1        | 1           | 0.2%                         |
+------------+---------+----------+-------------+------------------------------+
| 256        | 1024    | 1        | 1           | 0.2%                         |
+------------+---------+----------+-------------+------------------------------+
| 512        | 1024    | 1        | 1           | -0.1%                        |
+------------+---------+----------+-------------+------------------------------+
| 1024       | 1024    | 1        | 1           | -0.1%                        |
+------------+---------+----------+-------------+------------------------------+
| 1518       | 1024    | 1        | 1           | -0.0%                        |
+------------+---------+----------+-------------+------------------------------+

To view detailed results, visit:
https://lab.dpdk.org/results/dashboard/patchsets/33550/

UNH-IOL DPDK Community Lab

To manage your email subscriptions, visit: 
https://lab.dpdk.org/results/dashboard/preferences/subscriptions/

^ permalink raw reply	[flat|nested] 29+ messages in thread

* |SUCCESS| pw154890 [PATCH v2 6/6] net/hns3: VF support multi-TCs configure
       [not found] <20250701064512.3868175-7-huangdengdui@huawei.com>
                   ` (4 preceding siblings ...)
  2025-07-01  7:47 ` dpdklab
@ 2025-07-01  8:03 ` 0-day Robot
  2025-07-01  8:03 ` |SUCCESS| pw154889-154890 [PATCH] [v2,6/6] net/hns3: VF support mult dpdklab
                   ` (22 subsequent siblings)
  28 siblings, 0 replies; 29+ messages in thread
From: 0-day Robot @ 2025-07-01  8:03 UTC (permalink / raw)
  To: test-report; +Cc: robot

From: robot@bytheb.org

Test-Label: github-robot: build
Test-Status: SUCCESS
http://patchwork.dpdk.org/patch/154890/

_github build: passed_
Build URL: https://github.com/ovsrobot/dpdk/actions/runs/15992270590

^ permalink raw reply	[flat|nested] 29+ messages in thread

* |SUCCESS| pw154889-154890 [PATCH] [v2,6/6] net/hns3: VF support mult
       [not found] <20250701064512.3868175-7-huangdengdui@huawei.com>
                   ` (5 preceding siblings ...)
  2025-07-01  8:03 ` |SUCCESS| pw154890 [PATCH v2 6/6] net/hns3: VF support multi-TCs configure 0-day Robot
@ 2025-07-01  8:03 ` dpdklab
  2025-07-01  8:04 ` dpdklab
                   ` (21 subsequent siblings)
  28 siblings, 0 replies; 29+ messages in thread
From: dpdklab @ 2025-07-01  8:03 UTC (permalink / raw)
  To: Test Report; +Cc: dpdk-test-reports

Test-Label: iol-compile-amd64-testing
Test-Status: SUCCESS
http://dpdk.org/patch/154890

_Testing PASS_

Submitter: Dengdui Huang <huangdengdui@huawei.com>
Date: Tuesday, July 01 2025 06:45:12 
DPDK git baseline: Repo:dpdk
  Branch: master
  CommitID:77864da82f25a9e1e43c14b2cba68c2049a3ee3e

154889-154890 --> testing pass

Upstream job id: Windows-Compile-DPDK-VS#6215

Test environment and result as below:

+---------------------+-------------------------+--------------------+-------------------+----------------------+
|     Environment     | dpdk_llvm_clang_compile | dpdk_meson_compile | dpdk_msvc_compile | dpdk_mingw64_compile |
+=====================+=========================+====================+===================+======================+
| Windows Server 2022 | PASS                    | SKIPPED            | PASS              | PASS                 |
+---------------------+-------------------------+--------------------+-------------------+----------------------+
| Ubuntu 20.04        | SKIPPED                 | PASS               | SKIPPED           | SKIPPED              |
+---------------------+-------------------------+--------------------+-------------------+----------------------+
| FreeBSD 14.2        | SKIPPED                 | PASS               | SKIPPED           | SKIPPED              |
+---------------------+-------------------------+--------------------+-------------------+----------------------+


Windows Server 2022
	Kernel: 10.0.20348.2031
	Compiler: clang 15.0.7, gcc 14.1.0 (MinGW), and MSVC VS 19.39.33521

Ubuntu 20.04
	Kernel: 4.19
	Compiler: gcc gcc (Ubuntu 9.4.0-1ubuntu1~20.04.2) 9.4.0

FreeBSD 14.2
	Kernel: 14.2-RELEASE
	Compiler: clang 18.1.6

To view detailed results, visit:
https://lab.dpdk.org/results/dashboard/patchsets/33550/

UNH-IOL DPDK Community Lab

To manage your email subscriptions, visit: 
https://lab.dpdk.org/results/dashboard/preferences/subscriptions/

^ permalink raw reply	[flat|nested] 29+ messages in thread

* |SUCCESS| pw154889-154890 [PATCH] [v2,6/6] net/hns3: VF support mult
       [not found] <20250701064512.3868175-7-huangdengdui@huawei.com>
                   ` (6 preceding siblings ...)
  2025-07-01  8:03 ` |SUCCESS| pw154889-154890 [PATCH] [v2,6/6] net/hns3: VF support mult dpdklab
@ 2025-07-01  8:04 ` dpdklab
  2025-07-01  8:24 ` |PENDING| " dpdklab
                   ` (20 subsequent siblings)
  28 siblings, 0 replies; 29+ messages in thread
From: dpdklab @ 2025-07-01  8:04 UTC (permalink / raw)
  To: Test Report; +Cc: dpdk-test-reports

Test-Label: iol-compile-amd64-testing
Test-Status: SUCCESS
http://dpdk.org/patch/154890

_Testing PASS_

Submitter: Dengdui Huang <huangdengdui@huawei.com>
Date: Tuesday, July 01 2025 06:45:12 
DPDK git baseline: Repo:dpdk
  Branch: master
  CommitID:77864da82f25a9e1e43c14b2cba68c2049a3ee3e

154889-154890 --> testing pass

Upstream job id: Windows-Compile-DPDK-Native#29473

Test environment and result as below:

+---------------------+-------------------------+--------------------+-------------------+----------------------+
|     Environment     | dpdk_llvm_clang_compile | dpdk_meson_compile | dpdk_msvc_compile | dpdk_mingw64_compile |
+=====================+=========================+====================+===================+======================+
| Windows Server 2022 | PASS                    | SKIPPED            | PASS              | PASS                 |
+---------------------+-------------------------+--------------------+-------------------+----------------------+
| Ubuntu 20.04        | SKIPPED                 | PASS               | SKIPPED           | SKIPPED              |
+---------------------+-------------------------+--------------------+-------------------+----------------------+
| FreeBSD 14.2        | SKIPPED                 | PASS               | SKIPPED           | SKIPPED              |
+---------------------+-------------------------+--------------------+-------------------+----------------------+


Windows Server 2022
	Kernel: 10.0.20348.2031
	Compiler: clang 15.0.7, gcc 14.1.0 (MinGW), and MSVC VS 19.39.33521

Ubuntu 20.04
	Kernel: 4.19
	Compiler: gcc gcc (Ubuntu 9.4.0-1ubuntu1~20.04.2) 9.4.0

FreeBSD 14.2
	Kernel: 14.2-RELEASE
	Compiler: clang 18.1.6

To view detailed results, visit:
https://lab.dpdk.org/results/dashboard/patchsets/33550/

UNH-IOL DPDK Community Lab

To manage your email subscriptions, visit: 
https://lab.dpdk.org/results/dashboard/preferences/subscriptions/

^ permalink raw reply	[flat|nested] 29+ messages in thread

* |PENDING| pw154889-154890 [PATCH] [v2,6/6] net/hns3: VF support mult
       [not found] <20250701064512.3868175-7-huangdengdui@huawei.com>
                   ` (7 preceding siblings ...)
  2025-07-01  8:04 ` dpdklab
@ 2025-07-01  8:24 ` dpdklab
  2025-07-01  8:42 ` |SUCCESS| " dpdklab
                   ` (19 subsequent siblings)
  28 siblings, 0 replies; 29+ messages in thread
From: dpdklab @ 2025-07-01  8:24 UTC (permalink / raw)
  To: Test Report; +Cc: dpdk-test-reports

Test-Label: iol-unit-amd64-testing
Test-Status: PENDING
http://dpdk.org/patch/154890

_Testing pending_

Submitter: Dengdui Huang <huangdengdui@huawei.com>
Date: Tuesday, July 01 2025 06:45:12 
DPDK git baseline: Repo:dpdk
  Branch: master
  CommitID:77864da82f25a9e1e43c14b2cba68c2049a3ee3e

154889-154890 --> testing pending

Upstream job id: Generic-VM-Unit-Test-DPDK#29617

Test environment and result as below:

+-------------------------------+----------------+
|          Environment          | dpdk_unit_test |
+===============================+================+
| CentOS Stream 9               | PEND           |
+-------------------------------+----------------+
| CentOS Stream 10              | PEND           |
+-------------------------------+----------------+
| Debian GNU/Linux 12           | PEND           |
+-------------------------------+----------------+
| Fedora Linux 40               | PEND           |
+-------------------------------+----------------+
| Fedora Linux 41               | PEND           |
+-------------------------------+----------------+
| Red Hat Enterprise Linux 8.10 | PEND           |
+-------------------------------+----------------+
| Red Hat Enterprise Linux 9.5  | PEND           |
+-------------------------------+----------------+
| Ubuntu 20.04                  | PASS           |
+-------------------------------+----------------+
| Ubuntu 22.04                  | PEND           |
+-------------------------------+----------------+
| Ubuntu 24.04                  | PEND           |
+-------------------------------+----------------+


CentOS Stream 9
	Kernel: 5.15
	Compiler: gcc gcc (GCC) 11.5.0 20240719 (Red Hat 11.5.0-7)

CentOS Stream 10
	Kernel: 5.15
	Compiler: gcc gcc (GCC) 14.2.1 20250110 (Red Hat 14.2.1-8)

Debian GNU/Linux 12
	Kernel: 5.15
	Compiler: gcc gcc (Debian 12.2.0-14+deb12u1) 12.2.0

Fedora Linux 40
	Kernel: 5.15
	Compiler: clang gcc (GCC) 14.2.1 20240912 (Red Hat 14.2.1-3)

Fedora Linux 41
	Kernel: 5.15
	Compiler: gcc gcc (GCC) 14.3.1 20250523 (Red Hat 14.3.1-1)

Red Hat Enterprise Linux 8.10
	Kernel: 5.15
	Compiler: gcc gcc (GCC) 8.5.0 20210514 (Red Hat 8.5.0-22)

Red Hat Enterprise Linux 9.5
	Kernel: 5.15
	Compiler: gcc gcc (GCC) 11.5.0 20240719 (Red Hat 11.5.0-2)

Ubuntu 20.04
	Kernel: 5.15
	Compiler: gcc gcc (Ubuntu 9.4.0-1ubuntu1~20.04.2) 9.4.0

Ubuntu 22.04
	Kernel: 5.15
	Compiler: gcc gcc (Ubuntu 11.4.0-1ubuntu1~22.04) 11.4.0

Ubuntu 24.04
	Kernel: 5.15
	Compiler: gcc gcc (Ubuntu 13.3.0-6ubuntu2~24.04) 13.3.0

To view detailed results, visit:
https://lab.dpdk.org/results/dashboard/patchsets/33550/

UNH-IOL DPDK Community Lab

To manage your email subscriptions, visit: 
https://lab.dpdk.org/results/dashboard/preferences/subscriptions/

^ permalink raw reply	[flat|nested] 29+ messages in thread

* |SUCCESS| pw154889-154890 [PATCH] [v2,6/6] net/hns3: VF support mult
       [not found] <20250701064512.3868175-7-huangdengdui@huawei.com>
                   ` (8 preceding siblings ...)
  2025-07-01  8:24 ` |PENDING| " dpdklab
@ 2025-07-01  8:42 ` dpdklab
  2025-07-01  8:59 ` dpdklab
                   ` (18 subsequent siblings)
  28 siblings, 0 replies; 29+ messages in thread
From: dpdklab @ 2025-07-01  8:42 UTC (permalink / raw)
  To: Test Report; +Cc: dpdk-test-reports

Test-Label: iol-sample-apps-testing
Test-Status: SUCCESS
http://dpdk.org/patch/154890

_Testing PASS_

Submitter: Dengdui Huang <huangdengdui@huawei.com>
Date: Tuesday, July 01 2025 06:45:12 
DPDK git baseline: Repo:dpdk
  Branch: master
  CommitID:77864da82f25a9e1e43c14b2cba68c2049a3ee3e

154889-154890 --> testing pass

Upstream job id: Template-DTS-Pipeline#234281

Test environment and result as below:

+--------------+----------------------+
| Environment  | compressdev_zlib_pmd |
+==============+======================+
| Ubuntu 22.04 | PASS                 |
+--------------+----------------------+


Ubuntu 22.04
	Kernel: 5.15
	Compiler: gcc gcc (Ubuntu 11.4.0-1ubuntu1~22.04) 11.4.0

To view detailed results, visit:
https://lab.dpdk.org/results/dashboard/patchsets/33550/

UNH-IOL DPDK Community Lab

To manage your email subscriptions, visit: 
https://lab.dpdk.org/results/dashboard/preferences/subscriptions/

^ permalink raw reply	[flat|nested] 29+ messages in thread

* |SUCCESS| pw154889-154890 [PATCH] [v2,6/6] net/hns3: VF support mult
       [not found] <20250701064512.3868175-7-huangdengdui@huawei.com>
                   ` (9 preceding siblings ...)
  2025-07-01  8:42 ` |SUCCESS| " dpdklab
@ 2025-07-01  8:59 ` dpdklab
  2025-07-01  9:23 ` dpdklab
                   ` (17 subsequent siblings)
  28 siblings, 0 replies; 29+ messages in thread
From: dpdklab @ 2025-07-01  8:59 UTC (permalink / raw)
  To: Test Report; +Cc: dpdk-test-reports

Test-Label: iol-broadcom-Performance
Test-Status: SUCCESS
http://dpdk.org/patch/154890

_Performance Testing PASS_

Submitter: Dengdui Huang <huangdengdui@huawei.com>
Date: Tuesday, July 01 2025 06:45:12 
DPDK git baseline: Repo:dpdk
  Branch: master
  CommitID:77864da82f25a9e1e43c14b2cba68c2049a3ee3e

154889-154890 --> performance testing pass

Upstream job id: Template-DTS-Pipeline#234274

Test environment and result as below:

Ubuntu 22.04
Kernel: 5.15
Compiler: gcc gcc (Ubuntu 11.4.0-1ubuntu1~22.04) 11.4.0
NIC: Broadcom Inc. and subsidiaries BCM57414 NetXtreme-E 10Gb/25Gb RDMA Ethernet Controller 16d7 25 Mbps
Fail/Total: 0/3

Detail performance results: 
+------------+---------+----------+-------------+------------------------------+
| frame_size | txd/rxd | num_cpus | num_threads |  throughput difference from  |
|            |         |          |             |           expected           |
+============+=========+==========+=============+==============================+
| 64         | 128     | 1        | 1           | 0.3%                         |
+------------+---------+----------+-------------+------------------------------+
| 64         | 512     | 1        | 1           | 0.2%                         |
+------------+---------+----------+-------------+------------------------------+
| 64         | 2048    | 1        | 1           | 1.1%                         |
+------------+---------+----------+-------------+------------------------------+

Ubuntu 22.04
Kernel: 5.15
Compiler: gcc gcc (Ubuntu 11.4.0-1ubuntu1~22.04) 11.4.0
NIC: Arm Broadcom Inc. brcm_57414 25000 Mbps
Fail/Total: 0/2

Detail performance results: 
+------------+---------+----------+-------------+------------------------------+
| frame_size | txd/rxd | num_cpus | num_threads |  throughput difference from  |
|            |         |          |             |           expected           |
+============+=========+==========+=============+==============================+
| 64         | 512     | 1        | 1           | 0.2%                         |
+------------+---------+----------+-------------+------------------------------+
| 64         | 2048    | 1        | 1           | -0.1%                        |
+------------+---------+----------+-------------+------------------------------+

To view detailed results, visit:
https://lab.dpdk.org/results/dashboard/patchsets/33550/

UNH-IOL DPDK Community Lab

To manage your email subscriptions, visit: 
https://lab.dpdk.org/results/dashboard/preferences/subscriptions/

^ permalink raw reply	[flat|nested] 29+ messages in thread

* |SUCCESS| pw154889-154890 [PATCH] [v2,6/6] net/hns3: VF support mult
       [not found] <20250701064512.3868175-7-huangdengdui@huawei.com>
                   ` (10 preceding siblings ...)
  2025-07-01  8:59 ` dpdklab
@ 2025-07-01  9:23 ` dpdklab
  2025-07-01 10:22 ` |PENDING| " dpdklab
                   ` (16 subsequent siblings)
  28 siblings, 0 replies; 29+ messages in thread
From: dpdklab @ 2025-07-01  9:23 UTC (permalink / raw)
  To: Test Report; +Cc: dpdk-test-reports

Test-Label: iol-intel-Functional
Test-Status: SUCCESS
http://dpdk.org/patch/154890

_Functional Testing PASS_

Submitter: Dengdui Huang <huangdengdui@huawei.com>
Date: Tuesday, July 01 2025 06:45:12 
DPDK git baseline: Repo:dpdk
  Branch: master
  CommitID:77864da82f25a9e1e43c14b2cba68c2049a3ee3e

154889-154890 --> functional testing pass

Upstream job id: Template-DTS-Pipeline#234279

Test environment and result as below:

Ubuntu 22.04
Kernel: 5.15
Compiler: gcc gcc (Ubuntu 11.4.0-1ubuntu1~22.04) 11.4.0
NIC: Intel Corporation QAT 8970 0 Mbps

Aggregate Results by Test Suite
+----------------------------+--------+
|         Test Suite         | Result |
+============================+========+
| crypto_perf_cryptodev_perf |  PASS  |
+----------------------------+--------+


To view detailed results, visit:
https://lab.dpdk.org/results/dashboard/patchsets/33550/

UNH-IOL DPDK Community Lab

To manage your email subscriptions, visit: 
https://lab.dpdk.org/results/dashboard/preferences/subscriptions/

^ permalink raw reply	[flat|nested] 29+ messages in thread

* |PENDING| pw154889-154890 [PATCH] [v2,6/6] net/hns3: VF support mult
       [not found] <20250701064512.3868175-7-huangdengdui@huawei.com>
                   ` (11 preceding siblings ...)
  2025-07-01  9:23 ` dpdklab
@ 2025-07-01 10:22 ` dpdklab
  2025-07-01 10:29 ` |SUCCESS| " dpdklab
                   ` (15 subsequent siblings)
  28 siblings, 0 replies; 29+ messages in thread
From: dpdklab @ 2025-07-01 10:22 UTC (permalink / raw)
  To: Test Report; +Cc: dpdk-test-reports

Test-Label: iol-abi-testing
Test-Status: PENDING
http://dpdk.org/patch/154890

_Testing pending_

Submitter: Dengdui Huang <huangdengdui@huawei.com>
Date: Tuesday, July 01 2025 06:45:12 
DPDK git baseline: Repo:dpdk
  Branch: master
  CommitID:77864da82f25a9e1e43c14b2cba68c2049a3ee3e

154889-154890 --> testing pending

Upstream job id: Generic-DPDK-Compile-ABI#132526

Test environment and result as below:

+-------------------------------+----------+
|          Environment          | abi_test |
+===============================+==========+
| CentOS Stream 9               | PEND     |
+-------------------------------+----------+
| CentOS Stream 10              | PEND     |
+-------------------------------+----------+
| Fedora Linux 40               | PEND     |
+-------------------------------+----------+
| Debian GNU/Linux 12           | PEND     |
+-------------------------------+----------+
| Fedora Linux 41               | PEND     |
+-------------------------------+----------+
| openSUSE Leap 15.6            | PASS     |
+-------------------------------+----------+
| Red Hat Enterprise Linux 8.10 | PEND     |
+-------------------------------+----------+
| Red Hat Enterprise Linux 9.5  | PEND     |
+-------------------------------+----------+
| Ubuntu 22.04                  | PEND     |
+-------------------------------+----------+
| Ubuntu 24.04                  | PEND     |
+-------------------------------+----------+


CentOS Stream 9
	Kernel: 5.15
	Compiler: gcc gcc (GCC) 11.5.0 20240719 (Red Hat 11.5.0-7)

CentOS Stream 10
	Kernel: 5.15
	Compiler: gcc gcc (GCC) 14.2.1 20250110 (Red Hat 14.2.1-8)

Fedora Linux 40
	Kernel: 5.15
	Compiler: clang gcc (GCC) 14.2.1 20240912 (Red Hat 14.2.1-3)

Debian GNU/Linux 12
	Kernel: 5.15
	Compiler: gcc gcc (Debian 12.2.0-14+deb12u1) 12.2.0

Fedora Linux 41
	Kernel: 5.15
	Compiler: clang gcc (GCC) 14.3.1 20250523 (Red Hat 14.3.1-1)

openSUSE Leap 15.6
	Kernel: 5.15
	Compiler: gcc gcc (SUSE Linux) 7.5.0

Red Hat Enterprise Linux 8.10
	Kernel: 5.15
	Compiler: gcc gcc (GCC) 8.5.0 20210514 (Red Hat 8.5.0-22)

Red Hat Enterprise Linux 9.5
	Kernel: 5.15
	Compiler: gcc gcc (GCC) 11.5.0 20240719 (Red Hat 11.5.0-2)

Ubuntu 22.04
	Kernel: 5.15
	Compiler: gcc gcc (Ubuntu 11.4.0-1ubuntu1~22.04) 11.4.0

Ubuntu 24.04
	Kernel: 5.15
	Compiler: gcc gcc (Ubuntu 13.3.0-6ubuntu2~24.04) 13.3.0

To view detailed results, visit:
https://lab.dpdk.org/results/dashboard/patchsets/33550/

UNH-IOL DPDK Community Lab

To manage your email subscriptions, visit: 
https://lab.dpdk.org/results/dashboard/preferences/subscriptions/

^ permalink raw reply	[flat|nested] 29+ messages in thread

* |SUCCESS| pw154889-154890 [PATCH] [v2,6/6] net/hns3: VF support mult
       [not found] <20250701064512.3868175-7-huangdengdui@huawei.com>
                   ` (12 preceding siblings ...)
  2025-07-01 10:22 ` |PENDING| " dpdklab
@ 2025-07-01 10:29 ` dpdklab
  2025-07-01 10:30 ` dpdklab
                   ` (14 subsequent siblings)
  28 siblings, 0 replies; 29+ messages in thread
From: dpdklab @ 2025-07-01 10:29 UTC (permalink / raw)
  To: Test Report; +Cc: dpdk-test-reports

Test-Label: iol-unit-amd64-testing
Test-Status: SUCCESS
http://dpdk.org/patch/154890

_Testing PASS_

Submitter: Dengdui Huang <huangdengdui@huawei.com>
Date: Tuesday, July 01 2025 06:45:12 
DPDK git baseline: Repo:dpdk
  Branch: master
  CommitID:77864da82f25a9e1e43c14b2cba68c2049a3ee3e

154889-154890 --> testing pass

Upstream job id: Generic-Unit-Test-DPDK#351391

Test environment and result as below:

+-------------------------------+----------------+
|          Environment          | dpdk_unit_test |
+===============================+================+
| CentOS Stream 9               | PASS           |
+-------------------------------+----------------+
| CentOS Stream 10              | PASS           |
+-------------------------------+----------------+
| Debian GNU/Linux 12           | PASS           |
+-------------------------------+----------------+
| Fedora Linux 40               | PASS           |
+-------------------------------+----------------+
| Fedora Linux 41               | PASS           |
+-------------------------------+----------------+
| Red Hat Enterprise Linux 8.10 | PASS           |
+-------------------------------+----------------+
| Red Hat Enterprise Linux 9.5  | PASS           |
+-------------------------------+----------------+
| Ubuntu 20.04                  | PASS           |
+-------------------------------+----------------+
| Ubuntu 22.04                  | PASS           |
+-------------------------------+----------------+
| Ubuntu 24.04                  | PASS           |
+-------------------------------+----------------+


CentOS Stream 9
	Kernel: 5.15
	Compiler: gcc gcc (GCC) 11.5.0 20240719 (Red Hat 11.5.0-7)

CentOS Stream 10
	Kernel: 5.15
	Compiler: gcc gcc (GCC) 14.2.1 20250110 (Red Hat 14.2.1-8)

Debian GNU/Linux 12
	Kernel: 5.15
	Compiler: gcc gcc (Debian 12.2.0-14+deb12u1) 12.2.0

Fedora Linux 40
	Kernel: 5.15
	Compiler: clang gcc (GCC) 14.2.1 20240912 (Red Hat 14.2.1-3)

Fedora Linux 41
	Kernel: 5.15
	Compiler: gcc gcc (GCC) 14.3.1 20250523 (Red Hat 14.3.1-1)

Red Hat Enterprise Linux 8.10
	Kernel: 5.15
	Compiler: gcc gcc (GCC) 8.5.0 20210514 (Red Hat 8.5.0-22)

Red Hat Enterprise Linux 9.5
	Kernel: 5.15
	Compiler: gcc gcc (GCC) 11.5.0 20240719 (Red Hat 11.5.0-2)

Ubuntu 20.04
	Kernel: 5.15
	Compiler: gcc gcc (Ubuntu 9.4.0-1ubuntu1~20.04.2) 9.4.0

Ubuntu 22.04
	Kernel: 5.15
	Compiler: gcc gcc (Ubuntu 11.4.0-1ubuntu1~22.04) 11.4.0

Ubuntu 24.04
	Kernel: 5.15
	Compiler: gcc gcc (Ubuntu 13.3.0-6ubuntu2~24.04) 13.3.0

To view detailed results, visit:
https://lab.dpdk.org/results/dashboard/patchsets/33550/

UNH-IOL DPDK Community Lab

To manage your email subscriptions, visit: 
https://lab.dpdk.org/results/dashboard/preferences/subscriptions/

^ permalink raw reply	[flat|nested] 29+ messages in thread

* |SUCCESS| pw154889-154890 [PATCH] [v2,6/6] net/hns3: VF support mult
       [not found] <20250701064512.3868175-7-huangdengdui@huawei.com>
                   ` (13 preceding siblings ...)
  2025-07-01 10:29 ` |SUCCESS| " dpdklab
@ 2025-07-01 10:30 ` dpdklab
  2025-07-01 11:04 ` dpdklab
                   ` (13 subsequent siblings)
  28 siblings, 0 replies; 29+ messages in thread
From: dpdklab @ 2025-07-01 10:30 UTC (permalink / raw)
  To: Test Report; +Cc: dpdk-test-reports

Test-Label: iol-unit-amd64-testing
Test-Status: SUCCESS
http://dpdk.org/patch/154890

_Testing PASS_

Submitter: Dengdui Huang <huangdengdui@huawei.com>
Date: Tuesday, July 01 2025 06:45:12 
DPDK git baseline: Repo:dpdk
  Branch: master
  CommitID:77864da82f25a9e1e43c14b2cba68c2049a3ee3e

154889-154890 --> testing pass

Upstream job id: Generic-Unit-Test-DPDK#351395

Test environment and result as below:

+-------------------------------+----------------+
|          Environment          | dpdk_unit_test |
+===============================+================+
| CentOS Stream 9               | PASS           |
+-------------------------------+----------------+
| CentOS Stream 10              | PASS           |
+-------------------------------+----------------+
| Debian GNU/Linux 12           | PASS           |
+-------------------------------+----------------+
| Fedora Linux 40               | PASS           |
+-------------------------------+----------------+
| Fedora Linux 41               | PASS           |
+-------------------------------+----------------+
| Red Hat Enterprise Linux 8.10 | PASS           |
+-------------------------------+----------------+
| Red Hat Enterprise Linux 9.5  | PASS           |
+-------------------------------+----------------+
| Ubuntu 20.04                  | PASS           |
+-------------------------------+----------------+
| Ubuntu 22.04                  | PASS           |
+-------------------------------+----------------+
| Ubuntu 24.04                  | PASS           |
+-------------------------------+----------------+


CentOS Stream 9
	Kernel: 5.15
	Compiler: gcc gcc (GCC) 11.5.0 20240719 (Red Hat 11.5.0-7)

CentOS Stream 10
	Kernel: 5.15
	Compiler: gcc gcc (GCC) 14.2.1 20250110 (Red Hat 14.2.1-8)

Debian GNU/Linux 12
	Kernel: 5.15
	Compiler: gcc gcc (Debian 12.2.0-14+deb12u1) 12.2.0

Fedora Linux 40
	Kernel: 5.15
	Compiler: clang gcc (GCC) 14.2.1 20240912 (Red Hat 14.2.1-3)

Fedora Linux 41
	Kernel: 5.15
	Compiler: gcc gcc (GCC) 14.3.1 20250523 (Red Hat 14.3.1-1)

Red Hat Enterprise Linux 8.10
	Kernel: 5.15
	Compiler: gcc gcc (GCC) 8.5.0 20210514 (Red Hat 8.5.0-22)

Red Hat Enterprise Linux 9.5
	Kernel: 5.15
	Compiler: gcc gcc (GCC) 11.5.0 20240719 (Red Hat 11.5.0-2)

Ubuntu 20.04
	Kernel: 5.15
	Compiler: gcc gcc (Ubuntu 9.4.0-1ubuntu1~20.04.2) 9.4.0

Ubuntu 22.04
	Kernel: 5.15
	Compiler: gcc gcc (Ubuntu 11.4.0-1ubuntu1~22.04) 11.4.0

Ubuntu 24.04
	Kernel: 5.15
	Compiler: gcc gcc (Ubuntu 13.3.0-6ubuntu2~24.04) 13.3.0

To view detailed results, visit:
https://lab.dpdk.org/results/dashboard/patchsets/33550/

UNH-IOL DPDK Community Lab

To manage your email subscriptions, visit: 
https://lab.dpdk.org/results/dashboard/preferences/subscriptions/

^ permalink raw reply	[flat|nested] 29+ messages in thread

* |SUCCESS| pw154889-154890 [PATCH] [v2,6/6] net/hns3: VF support mult
       [not found] <20250701064512.3868175-7-huangdengdui@huawei.com>
                   ` (14 preceding siblings ...)
  2025-07-01 10:30 ` dpdklab
@ 2025-07-01 11:04 ` dpdklab
  2025-07-01 11:07 ` dpdklab
                   ` (12 subsequent siblings)
  28 siblings, 0 replies; 29+ messages in thread
From: dpdklab @ 2025-07-01 11:04 UTC (permalink / raw)
  To: Test Report; +Cc: dpdk-test-reports

Test-Label: iol-abi-testing
Test-Status: SUCCESS
http://dpdk.org/patch/154890

_Testing PASS_

Submitter: Dengdui Huang <huangdengdui@huawei.com>
Date: Tuesday, July 01 2025 06:45:12 
DPDK git baseline: Repo:dpdk
  Branch: master
  CommitID:77864da82f25a9e1e43c14b2cba68c2049a3ee3e

154889-154890 --> testing pass

Upstream job id: Generic-DPDK-Compile-ABI#132523

Test environment and result as below:

+-------------------------------+----------+
|          Environment          | abi_test |
+===============================+==========+
| CentOS Stream 9               | PASS     |
+-------------------------------+----------+
| CentOS Stream 10              | PASS     |
+-------------------------------+----------+
| Fedora Linux 40               | PASS     |
+-------------------------------+----------+
| Debian GNU/Linux 12           | PASS     |
+-------------------------------+----------+
| Fedora Linux 41               | PASS     |
+-------------------------------+----------+
| openSUSE Leap 15.6            | PASS     |
+-------------------------------+----------+
| Red Hat Enterprise Linux 8.10 | PASS     |
+-------------------------------+----------+
| Red Hat Enterprise Linux 9.5  | PASS     |
+-------------------------------+----------+
| Ubuntu 22.04                  | PASS     |
+-------------------------------+----------+
| Ubuntu 24.04                  | PASS     |
+-------------------------------+----------+


CentOS Stream 9
	Kernel: 5.15
	Compiler: gcc gcc (GCC) 11.5.0 20240719 (Red Hat 11.5.0-7)

CentOS Stream 10
	Kernel: 5.15
	Compiler: gcc gcc (GCC) 14.2.1 20250110 (Red Hat 14.2.1-8)

Fedora Linux 40
	Kernel: 5.15
	Compiler: clang gcc (GCC) 14.2.1 20240912 (Red Hat 14.2.1-3)

Debian GNU/Linux 12
	Kernel: 5.15
	Compiler: gcc gcc (Debian 12.2.0-14+deb12u1) 12.2.0

Fedora Linux 41
	Kernel: 5.15
	Compiler: clang gcc (GCC) 14.3.1 20250523 (Red Hat 14.3.1-1)

openSUSE Leap 15.6
	Kernel: 5.15
	Compiler: gcc gcc (SUSE Linux) 7.5.0

Red Hat Enterprise Linux 8.10
	Kernel: 5.15
	Compiler: gcc gcc (GCC) 8.5.0 20210514 (Red Hat 8.5.0-22)

Red Hat Enterprise Linux 9.5
	Kernel: 5.15
	Compiler: gcc gcc (GCC) 11.5.0 20240719 (Red Hat 11.5.0-2)

Ubuntu 22.04
	Kernel: 5.15
	Compiler: gcc gcc (Ubuntu 11.4.0-1ubuntu1~22.04) 11.4.0

Ubuntu 24.04
	Kernel: 5.15
	Compiler: gcc gcc (Ubuntu 13.3.0-6ubuntu2~24.04) 13.3.0

To view detailed results, visit:
https://lab.dpdk.org/results/dashboard/patchsets/33550/

UNH-IOL DPDK Community Lab

To manage your email subscriptions, visit: 
https://lab.dpdk.org/results/dashboard/preferences/subscriptions/

^ permalink raw reply	[flat|nested] 29+ messages in thread

* |SUCCESS| pw154889-154890 [PATCH] [v2,6/6] net/hns3: VF support mult
       [not found] <20250701064512.3868175-7-huangdengdui@huawei.com>
                   ` (15 preceding siblings ...)
  2025-07-01 11:04 ` dpdklab
@ 2025-07-01 11:07 ` dpdklab
  2025-07-01 11:31 ` |WARNING| " dpdklab
                   ` (11 subsequent siblings)
  28 siblings, 0 replies; 29+ messages in thread
From: dpdklab @ 2025-07-01 11:07 UTC (permalink / raw)
  To: Test Report; +Cc: dpdk-test-reports

Test-Label: iol-abi-testing
Test-Status: SUCCESS
http://dpdk.org/patch/154890

_Testing PASS_

Submitter: Dengdui Huang <huangdengdui@huawei.com>
Date: Tuesday, July 01 2025 06:45:12 
DPDK git baseline: Repo:dpdk
  Branch: master
  CommitID:77864da82f25a9e1e43c14b2cba68c2049a3ee3e

154889-154890 --> testing pass

Upstream job id: Generic-DPDK-Compile-ABI#132529

Test environment and result as below:

+-------------------------------+----------+
|          Environment          | abi_test |
+===============================+==========+
| CentOS Stream 9               | PASS     |
+-------------------------------+----------+
| CentOS Stream 10              | PASS     |
+-------------------------------+----------+
| Fedora Linux 40               | PASS     |
+-------------------------------+----------+
| Debian GNU/Linux 12           | PASS     |
+-------------------------------+----------+
| Fedora Linux 41               | PASS     |
+-------------------------------+----------+
| openSUSE Leap 15.6            | PASS     |
+-------------------------------+----------+
| Red Hat Enterprise Linux 8.10 | PASS     |
+-------------------------------+----------+
| Red Hat Enterprise Linux 9.5  | PASS     |
+-------------------------------+----------+
| Ubuntu 22.04                  | PASS     |
+-------------------------------+----------+
| Ubuntu 24.04                  | PASS     |
+-------------------------------+----------+


CentOS Stream 9
	Kernel: 5.15
	Compiler: gcc gcc (GCC) 11.5.0 20240719 (Red Hat 11.5.0-7)

CentOS Stream 10
	Kernel: 5.15
	Compiler: gcc gcc (GCC) 14.2.1 20250110 (Red Hat 14.2.1-8)

Fedora Linux 40
	Kernel: 5.15
	Compiler: clang gcc (GCC) 14.2.1 20240912 (Red Hat 14.2.1-3)

Debian GNU/Linux 12
	Kernel: 5.15
	Compiler: gcc gcc (Debian 12.2.0-14+deb12u1) 12.2.0

Fedora Linux 41
	Kernel: 5.15
	Compiler: clang gcc (GCC) 14.3.1 20250523 (Red Hat 14.3.1-1)

openSUSE Leap 15.6
	Kernel: 5.15
	Compiler: gcc gcc (SUSE Linux) 7.5.0

Red Hat Enterprise Linux 8.10
	Kernel: 5.15
	Compiler: gcc gcc (GCC) 8.5.0 20210514 (Red Hat 8.5.0-22)

Red Hat Enterprise Linux 9.5
	Kernel: 5.15
	Compiler: gcc gcc (GCC) 11.5.0 20240719 (Red Hat 11.5.0-2)

Ubuntu 22.04
	Kernel: 5.15
	Compiler: gcc gcc (Ubuntu 11.4.0-1ubuntu1~22.04) 11.4.0

Ubuntu 24.04
	Kernel: 5.15
	Compiler: gcc gcc (Ubuntu 13.3.0-6ubuntu2~24.04) 13.3.0

To view detailed results, visit:
https://lab.dpdk.org/results/dashboard/patchsets/33550/

UNH-IOL DPDK Community Lab

To manage your email subscriptions, visit: 
https://lab.dpdk.org/results/dashboard/preferences/subscriptions/

^ permalink raw reply	[flat|nested] 29+ messages in thread

* |WARNING| pw154889-154890 [PATCH] [v2,6/6] net/hns3: VF support mult
       [not found] <20250701064512.3868175-7-huangdengdui@huawei.com>
                   ` (16 preceding siblings ...)
  2025-07-01 11:07 ` dpdklab
@ 2025-07-01 11:31 ` dpdklab
  2025-07-01 11:31 ` dpdklab
                   ` (10 subsequent siblings)
  28 siblings, 0 replies; 29+ messages in thread
From: dpdklab @ 2025-07-01 11:31 UTC (permalink / raw)
  To: Test Report; +Cc: dpdk-test-reports

Test-Label: iol-compile-amd64-testing
Test-Status: WARNING
http://dpdk.org/patch/154890

_Testing issues_

Submitter: Dengdui Huang <huangdengdui@huawei.com>
Date: Tuesday, July 01 2025 06:45:12 
DPDK git baseline: Repo:dpdk
  Branch: master
  CommitID:77864da82f25a9e1e43c14b2cba68c2049a3ee3e

154889-154890 --> testing issues

Upstream job id: Generic-DPDK-Compile-Meson#404097

Test environment and result as below:

+-------------------------------+-------------------------+--------------------+-------------------+----------------------+-------------------+------------------+
|          Environment          | dpdk_llvm_clang_compile | dpdk_meson_compile | dpdk_msvc_compile | dpdk_mingw64_compile | dpdk_compile_spdk | dpdk_compile_ovs |
+===============================+=========================+====================+===================+======================+===================+==================+
| Windows Server 2022           | PASS                    | SKIPPED            | PASS              | PASS                 | SKIPPED           | SKIPPED          |
+-------------------------------+-------------------------+--------------------+-------------------+----------------------+-------------------+------------------+
| Ubuntu 20.04                  | SKIPPED                 | PASS               | SKIPPED           | SKIPPED              | SKIPPED           | SKIPPED          |
+-------------------------------+-------------------------+--------------------+-------------------+----------------------+-------------------+------------------+
| FreeBSD 14.2                  | SKIPPED                 | PASS               | SKIPPED           | SKIPPED              | SKIPPED           | SKIPPED          |
+-------------------------------+-------------------------+--------------------+-------------------+----------------------+-------------------+------------------+
| CentOS Stream 9               | SKIPPED                 | PASS               | SKIPPED           | SKIPPED              | PASS              | SKIPPED          |
+-------------------------------+-------------------------+--------------------+-------------------+----------------------+-------------------+------------------+
| CentOS Stream 10              | SKIPPED                 | PASS               | SKIPPED           | SKIPPED              | SKIPPED           | SKIPPED          |
+-------------------------------+-------------------------+--------------------+-------------------+----------------------+-------------------+------------------+
| Debian GNU/Linux 12           | SKIPPED                 | PEND               | SKIPPED           | SKIPPED              | PEND              | SKIPPED          |
+-------------------------------+-------------------------+--------------------+-------------------+----------------------+-------------------+------------------+
| Fedora Linux 40               | SKIPPED                 | PASS               | SKIPPED           | SKIPPED              | PASS              | SKIPPED          |
+-------------------------------+-------------------------+--------------------+-------------------+----------------------+-------------------+------------------+
| Fedora Linux 41               | SKIPPED                 | PASS               | SKIPPED           | SKIPPED              | PASS              | PASS             |
+-------------------------------+-------------------------+--------------------+-------------------+----------------------+-------------------+------------------+
| openSUSE Leap 15.6            | SKIPPED                 | PASS               | SKIPPED           | SKIPPED              | SKIPPED           | SKIPPED          |
+-------------------------------+-------------------------+--------------------+-------------------+----------------------+-------------------+------------------+
| Red Hat Enterprise Linux 8.10 | SKIPPED                 | PASS               | SKIPPED           | SKIPPED              | SKIPPED           | SKIPPED          |
+-------------------------------+-------------------------+--------------------+-------------------+----------------------+-------------------+------------------+
| Red Hat Enterprise Linux 9.5  | SKIPPED                 | PASS               | SKIPPED           | SKIPPED              | SKIPPED           | SKIPPED          |
+-------------------------------+-------------------------+--------------------+-------------------+----------------------+-------------------+------------------+
| Ubuntu 22.04                  | SKIPPED                 | PASS               | SKIPPED           | SKIPPED              | PASS              | SKIPPED          |
+-------------------------------+-------------------------+--------------------+-------------------+----------------------+-------------------+------------------+
| Ubuntu 24.04                  | SKIPPED                 | PASS               | SKIPPED           | SKIPPED              | PASS              | PASS             |
+-------------------------------+-------------------------+--------------------+-------------------+----------------------+-------------------+------------------+
| Alpine Linux 3.22.0           | SKIPPED                 | PEND               | SKIPPED           | SKIPPED              | SKIPPED           | SKIPPED          |
+-------------------------------+-------------------------+--------------------+-------------------+----------------------+-------------------+------------------+


Windows Server 2022
	Kernel: 10.0.20348.2031
	Compiler: clang 15.0.7, gcc 14.1.0 (MinGW), and MSVC VS 19.39.33521

Ubuntu 20.04
	Kernel: 4.19
	Compiler: gcc gcc (Ubuntu 9.4.0-1ubuntu1~20.04.2) 9.4.0

FreeBSD 14.2
	Kernel: 14.2-RELEASE
	Compiler: clang 18.1.6

CentOS Stream 9
	Kernel: 5.15
	Compiler: gcc gcc (GCC) 11.5.0 20240719 (Red Hat 11.5.0-7)

CentOS Stream 10
	Kernel: 5.15
	Compiler: gcc gcc (GCC) 14.2.1 20250110 (Red Hat 14.2.1-8)

Debian GNU/Linux 12
	Kernel: 5.15
	Compiler: gcc gcc (Debian 12.2.0-14+deb12u1) 12.2.0

Fedora Linux 40
	Kernel: 5.15
	Compiler: clang gcc (GCC) 14.2.1 20240912 (Red Hat 14.2.1-3)

Fedora Linux 41
	Kernel: 5.15
	Compiler: clang gcc (GCC) 14.3.1 20250523 (Red Hat 14.3.1-1)

openSUSE Leap 15.6
	Kernel: 5.15
	Compiler: gcc gcc (SUSE Linux) 7.5.0

Red Hat Enterprise Linux 8.10
	Kernel: 5.15
	Compiler: gcc gcc (GCC) 8.5.0 20210514 (Red Hat 8.5.0-22)

Red Hat Enterprise Linux 9.5
	Kernel: 5.15
	Compiler: gcc gcc (GCC) 11.5.0 20240719 (Red Hat 11.5.0-2)

Ubuntu 22.04
	Kernel: 5.15
	Compiler: gcc gcc (Ubuntu 11.4.0-1ubuntu1~22.04) 11.4.0

Ubuntu 24.04
	Kernel: 5.15
	Compiler: gcc gcc (Ubuntu 13.3.0-6ubuntu2~24.04) 13.3.0

Alpine Linux 3.22.0
	Kernel: 5.15
	Compiler: gcc gcc (Alpine 14.2.0) 14.2.0

To view detailed results, visit:
https://lab.dpdk.org/results/dashboard/patchsets/33550/

UNH-IOL DPDK Community Lab

To manage your email subscriptions, visit: 
https://lab.dpdk.org/results/dashboard/preferences/subscriptions/

^ permalink raw reply	[flat|nested] 29+ messages in thread

* |WARNING| pw154889-154890 [PATCH] [v2,6/6] net/hns3: VF support mult
       [not found] <20250701064512.3868175-7-huangdengdui@huawei.com>
                   ` (17 preceding siblings ...)
  2025-07-01 11:31 ` |WARNING| " dpdklab
@ 2025-07-01 11:31 ` dpdklab
  2025-07-01 12:14 ` dpdklab
                   ` (9 subsequent siblings)
  28 siblings, 0 replies; 29+ messages in thread
From: dpdklab @ 2025-07-01 11:31 UTC (permalink / raw)
  To: Test Report; +Cc: dpdk-test-reports

Test-Label: iol-compile-amd64-testing
Test-Status: WARNING
http://dpdk.org/patch/154890

_Testing issues_

Submitter: Dengdui Huang <huangdengdui@huawei.com>
Date: Tuesday, July 01 2025 06:45:12 
DPDK git baseline: Repo:dpdk
  Branch: master
  CommitID:77864da82f25a9e1e43c14b2cba68c2049a3ee3e

154889-154890 --> testing issues

Upstream job id: Generic-DPDK-Compile-Meson#404108

Test environment and result as below:

+-------------------------------+-------------------------+--------------------+-------------------+----------------------+-------------------+------------------+
|          Environment          | dpdk_llvm_clang_compile | dpdk_meson_compile | dpdk_msvc_compile | dpdk_mingw64_compile | dpdk_compile_spdk | dpdk_compile_ovs |
+===============================+=========================+====================+===================+======================+===================+==================+
| Windows Server 2022           | PASS                    | SKIPPED            | PASS              | PASS                 | SKIPPED           | SKIPPED          |
+-------------------------------+-------------------------+--------------------+-------------------+----------------------+-------------------+------------------+
| Ubuntu 20.04                  | SKIPPED                 | PASS               | SKIPPED           | SKIPPED              | SKIPPED           | SKIPPED          |
+-------------------------------+-------------------------+--------------------+-------------------+----------------------+-------------------+------------------+
| FreeBSD 14.2                  | SKIPPED                 | PASS               | SKIPPED           | SKIPPED              | SKIPPED           | SKIPPED          |
+-------------------------------+-------------------------+--------------------+-------------------+----------------------+-------------------+------------------+
| CentOS Stream 9               | SKIPPED                 | PASS               | SKIPPED           | SKIPPED              | PASS              | SKIPPED          |
+-------------------------------+-------------------------+--------------------+-------------------+----------------------+-------------------+------------------+
| CentOS Stream 10              | SKIPPED                 | PASS               | SKIPPED           | SKIPPED              | SKIPPED           | SKIPPED          |
+-------------------------------+-------------------------+--------------------+-------------------+----------------------+-------------------+------------------+
| Debian GNU/Linux 12           | SKIPPED                 | PEND               | SKIPPED           | SKIPPED              | PEND              | SKIPPED          |
+-------------------------------+-------------------------+--------------------+-------------------+----------------------+-------------------+------------------+
| Fedora Linux 40               | SKIPPED                 | PASS               | SKIPPED           | SKIPPED              | PASS              | SKIPPED          |
+-------------------------------+-------------------------+--------------------+-------------------+----------------------+-------------------+------------------+
| Fedora Linux 41               | SKIPPED                 | PASS               | SKIPPED           | SKIPPED              | PASS              | PASS             |
+-------------------------------+-------------------------+--------------------+-------------------+----------------------+-------------------+------------------+
| openSUSE Leap 15.6            | SKIPPED                 | PASS               | SKIPPED           | SKIPPED              | SKIPPED           | SKIPPED          |
+-------------------------------+-------------------------+--------------------+-------------------+----------------------+-------------------+------------------+
| Red Hat Enterprise Linux 8.10 | SKIPPED                 | PASS               | SKIPPED           | SKIPPED              | SKIPPED           | SKIPPED          |
+-------------------------------+-------------------------+--------------------+-------------------+----------------------+-------------------+------------------+
| Red Hat Enterprise Linux 9.5  | SKIPPED                 | PASS               | SKIPPED           | SKIPPED              | SKIPPED           | SKIPPED          |
+-------------------------------+-------------------------+--------------------+-------------------+----------------------+-------------------+------------------+
| Ubuntu 22.04                  | SKIPPED                 | PASS               | SKIPPED           | SKIPPED              | PASS              | SKIPPED          |
+-------------------------------+-------------------------+--------------------+-------------------+----------------------+-------------------+------------------+
| Ubuntu 24.04                  | SKIPPED                 | PASS               | SKIPPED           | SKIPPED              | PASS              | PASS             |
+-------------------------------+-------------------------+--------------------+-------------------+----------------------+-------------------+------------------+
| Alpine Linux 3.22.0           | SKIPPED                 | PEND               | SKIPPED           | SKIPPED              | SKIPPED           | SKIPPED          |
+-------------------------------+-------------------------+--------------------+-------------------+----------------------+-------------------+------------------+


Windows Server 2022
	Kernel: 10.0.20348.2031
	Compiler: clang 15.0.7, gcc 14.1.0 (MinGW), and MSVC VS 19.39.33521

Ubuntu 20.04
	Kernel: 4.19
	Compiler: gcc gcc (Ubuntu 9.4.0-1ubuntu1~20.04.2) 9.4.0

FreeBSD 14.2
	Kernel: 14.2-RELEASE
	Compiler: clang 18.1.6

CentOS Stream 9
	Kernel: 5.15
	Compiler: gcc gcc (GCC) 11.5.0 20240719 (Red Hat 11.5.0-7)

CentOS Stream 10
	Kernel: 5.15
	Compiler: gcc gcc (GCC) 14.2.1 20250110 (Red Hat 14.2.1-8)

Debian GNU/Linux 12
	Kernel: 5.15
	Compiler: gcc gcc (Debian 12.2.0-14+deb12u1) 12.2.0

Fedora Linux 40
	Kernel: 5.15
	Compiler: clang gcc (GCC) 14.2.1 20240912 (Red Hat 14.2.1-3)

Fedora Linux 41
	Kernel: 5.15
	Compiler: clang gcc (GCC) 14.3.1 20250523 (Red Hat 14.3.1-1)

openSUSE Leap 15.6
	Kernel: 5.15
	Compiler: gcc gcc (SUSE Linux) 7.5.0

Red Hat Enterprise Linux 8.10
	Kernel: 5.15
	Compiler: gcc gcc (GCC) 8.5.0 20210514 (Red Hat 8.5.0-22)

Red Hat Enterprise Linux 9.5
	Kernel: 5.15
	Compiler: gcc gcc (GCC) 11.5.0 20240719 (Red Hat 11.5.0-2)

Ubuntu 22.04
	Kernel: 5.15
	Compiler: gcc gcc (Ubuntu 11.4.0-1ubuntu1~22.04) 11.4.0

Ubuntu 24.04
	Kernel: 5.15
	Compiler: gcc gcc (Ubuntu 13.3.0-6ubuntu2~24.04) 13.3.0

Alpine Linux 3.22.0
	Kernel: 5.15
	Compiler: gcc gcc (Alpine 14.2.0) 14.2.0

To view detailed results, visit:
https://lab.dpdk.org/results/dashboard/patchsets/33550/

UNH-IOL DPDK Community Lab

To manage your email subscriptions, visit: 
https://lab.dpdk.org/results/dashboard/preferences/subscriptions/

^ permalink raw reply	[flat|nested] 29+ messages in thread

* |WARNING| pw154889-154890 [PATCH] [v2,6/6] net/hns3: VF support mult
       [not found] <20250701064512.3868175-7-huangdengdui@huawei.com>
                   ` (18 preceding siblings ...)
  2025-07-01 11:31 ` dpdklab
@ 2025-07-01 12:14 ` dpdklab
  2025-07-01 12:32 ` |SUCCESS| " dpdklab
                   ` (8 subsequent siblings)
  28 siblings, 0 replies; 29+ messages in thread
From: dpdklab @ 2025-07-01 12:14 UTC (permalink / raw)
  To: Test Report; +Cc: dpdk-test-reports

Test-Label: iol-compile-amd64-testing
Test-Status: WARNING
http://dpdk.org/patch/154890

_Testing issues_

Submitter: Dengdui Huang <huangdengdui@huawei.com>
Date: Tuesday, July 01 2025 06:45:12 
DPDK git baseline: Repo:dpdk
  Branch: master
  CommitID:77864da82f25a9e1e43c14b2cba68c2049a3ee3e

154889-154890 --> testing issues

Upstream job id: Generic-DPDK-Compile-Meson#404107

Test environment and result as below:

+-------------------------------+-------------------------+--------------------+-------------------+----------------------+-------------------+------------------+
|          Environment          | dpdk_llvm_clang_compile | dpdk_meson_compile | dpdk_msvc_compile | dpdk_mingw64_compile | dpdk_compile_spdk | dpdk_compile_ovs |
+===============================+=========================+====================+===================+======================+===================+==================+
| Windows Server 2022           | PASS                    | SKIPPED            | PASS              | PASS                 | SKIPPED           | SKIPPED          |
+-------------------------------+-------------------------+--------------------+-------------------+----------------------+-------------------+------------------+
| Ubuntu 20.04                  | SKIPPED                 | PASS               | SKIPPED           | SKIPPED              | SKIPPED           | SKIPPED          |
+-------------------------------+-------------------------+--------------------+-------------------+----------------------+-------------------+------------------+
| FreeBSD 14.2                  | SKIPPED                 | PASS               | SKIPPED           | SKIPPED              | SKIPPED           | SKIPPED          |
+-------------------------------+-------------------------+--------------------+-------------------+----------------------+-------------------+------------------+
| CentOS Stream 9               | SKIPPED                 | PASS               | SKIPPED           | SKIPPED              | PASS              | SKIPPED          |
+-------------------------------+-------------------------+--------------------+-------------------+----------------------+-------------------+------------------+
| CentOS Stream 10              | SKIPPED                 | PASS               | SKIPPED           | SKIPPED              | SKIPPED           | SKIPPED          |
+-------------------------------+-------------------------+--------------------+-------------------+----------------------+-------------------+------------------+
| Debian GNU/Linux 12           | SKIPPED                 | PASS               | SKIPPED           | SKIPPED              | PASS              | SKIPPED          |
+-------------------------------+-------------------------+--------------------+-------------------+----------------------+-------------------+------------------+
| Fedora Linux 40               | SKIPPED                 | PASS               | SKIPPED           | SKIPPED              | PASS              | SKIPPED          |
+-------------------------------+-------------------------+--------------------+-------------------+----------------------+-------------------+------------------+
| Fedora Linux 41               | SKIPPED                 | PASS               | SKIPPED           | SKIPPED              | PASS              | PASS             |
+-------------------------------+-------------------------+--------------------+-------------------+----------------------+-------------------+------------------+
| openSUSE Leap 15.6            | SKIPPED                 | PASS               | SKIPPED           | SKIPPED              | SKIPPED           | SKIPPED          |
+-------------------------------+-------------------------+--------------------+-------------------+----------------------+-------------------+------------------+
| Red Hat Enterprise Linux 8.10 | SKIPPED                 | PASS               | SKIPPED           | SKIPPED              | SKIPPED           | SKIPPED          |
+-------------------------------+-------------------------+--------------------+-------------------+----------------------+-------------------+------------------+
| Red Hat Enterprise Linux 9.5  | SKIPPED                 | PASS               | SKIPPED           | SKIPPED              | SKIPPED           | SKIPPED          |
+-------------------------------+-------------------------+--------------------+-------------------+----------------------+-------------------+------------------+
| Ubuntu 22.04                  | SKIPPED                 | PASS               | SKIPPED           | SKIPPED              | PASS              | SKIPPED          |
+-------------------------------+-------------------------+--------------------+-------------------+----------------------+-------------------+------------------+
| Ubuntu 24.04                  | SKIPPED                 | PASS               | SKIPPED           | SKIPPED              | PASS              | PASS             |
+-------------------------------+-------------------------+--------------------+-------------------+----------------------+-------------------+------------------+
| Alpine Linux 3.22.0           | SKIPPED                 | PASS               | SKIPPED           | SKIPPED              | SKIPPED           | SKIPPED          |
+-------------------------------+-------------------------+--------------------+-------------------+----------------------+-------------------+------------------+


Windows Server 2022
	Kernel: 10.0.20348.2031
	Compiler: clang 15.0.7, gcc 14.1.0 (MinGW), and MSVC VS 19.39.33521

Ubuntu 20.04
	Kernel: 4.19
	Compiler: gcc gcc (Ubuntu 9.4.0-1ubuntu1~20.04.2) 9.4.0

FreeBSD 14.2
	Kernel: 14.2-RELEASE
	Compiler: clang 18.1.6

CentOS Stream 9
	Kernel: 5.15
	Compiler: gcc gcc (GCC) 11.5.0 20240719 (Red Hat 11.5.0-7)

CentOS Stream 10
	Kernel: 5.15
	Compiler: gcc gcc (GCC) 14.2.1 20250110 (Red Hat 14.2.1-8)

Debian GNU/Linux 12
	Kernel: 5.15
	Compiler: gcc gcc (Debian 12.2.0-14+deb12u1) 12.2.0

Fedora Linux 40
	Kernel: 5.15
	Compiler: clang gcc (GCC) 14.2.1 20240912 (Red Hat 14.2.1-3)

Fedora Linux 41
	Kernel: 5.15
	Compiler: clang gcc (GCC) 14.3.1 20250523 (Red Hat 14.3.1-1)

openSUSE Leap 15.6
	Kernel: 5.15
	Compiler: gcc gcc (SUSE Linux) 7.5.0

Red Hat Enterprise Linux 8.10
	Kernel: 5.15
	Compiler: gcc gcc (GCC) 8.5.0 20210514 (Red Hat 8.5.0-22)

Red Hat Enterprise Linux 9.5
	Kernel: 5.15
	Compiler: gcc gcc (GCC) 11.5.0 20240719 (Red Hat 11.5.0-2)

Ubuntu 22.04
	Kernel: 5.15
	Compiler: gcc gcc (Ubuntu 11.4.0-1ubuntu1~22.04) 11.4.0

Ubuntu 24.04
	Kernel: 5.15
	Compiler: gcc gcc (Ubuntu 13.3.0-6ubuntu2~24.04) 13.3.0

Alpine Linux 3.22.0
	Kernel: 5.15
	Compiler: gcc gcc (Alpine 14.2.0) 14.2.0

To view detailed results, visit:
https://lab.dpdk.org/results/dashboard/patchsets/33550/

UNH-IOL DPDK Community Lab

To manage your email subscriptions, visit: 
https://lab.dpdk.org/results/dashboard/preferences/subscriptions/

^ permalink raw reply	[flat|nested] 29+ messages in thread

* |SUCCESS| pw154889-154890 [PATCH] [v2,6/6] net/hns3: VF support mult
       [not found] <20250701064512.3868175-7-huangdengdui@huawei.com>
                   ` (19 preceding siblings ...)
  2025-07-01 12:14 ` dpdklab
@ 2025-07-01 12:32 ` dpdklab
  2025-07-01 14:15 ` dpdklab
                   ` (7 subsequent siblings)
  28 siblings, 0 replies; 29+ messages in thread
From: dpdklab @ 2025-07-01 12:32 UTC (permalink / raw)
  To: Test Report; +Cc: dpdk-test-reports

Test-Label: iol-unit-arm64-testing
Test-Status: SUCCESS
http://dpdk.org/patch/154890

_Testing PASS_

Submitter: Dengdui Huang <huangdengdui@huawei.com>
Date: Tuesday, July 01 2025 06:45:12 
DPDK git baseline: Repo:dpdk
  Branch: master
  CommitID:77864da82f25a9e1e43c14b2cba68c2049a3ee3e

154889-154890 --> testing pass

Upstream job id: Generic-Unit-Test-DPDK#351396

Test environment and result as below:

+------------------------------+----------------+---------------------------+------------------------------+--------------+
|         Environment          | dpdk_unit_test | cryptodev_sw_zuc_autotest | cryptodev_sw_snow3g_autotest | lpm_autotest |
+==============================+================+===========================+==============================+==============+
| CentOS Stream 9              | PASS           | SKIPPED                   | SKIPPED                      | SKIPPED      |
+------------------------------+----------------+---------------------------+------------------------------+--------------+
| CentOS Stream 10             | PASS           | SKIPPED                   | SKIPPED                      | SKIPPED      |
+------------------------------+----------------+---------------------------+------------------------------+--------------+
| Debian GNU/Linux 12          | PASS           | SKIPPED                   | SKIPPED                      | SKIPPED      |
+------------------------------+----------------+---------------------------+------------------------------+--------------+
| Fedora Linux 40              | PASS           | SKIPPED                   | SKIPPED                      | SKIPPED      |
+------------------------------+----------------+---------------------------+------------------------------+--------------+
| Fedora Linux 41              | PASS           | SKIPPED                   | SKIPPED                      | SKIPPED      |
+------------------------------+----------------+---------------------------+------------------------------+--------------+
| Red Hat Enterprise Linux 9.5 | PASS           | SKIPPED                   | SKIPPED                      | SKIPPED      |
+------------------------------+----------------+---------------------------+------------------------------+--------------+
| Ubuntu 20.04                 | PASS           | SKIPPED                   | SKIPPED                      | PASS         |
+------------------------------+----------------+---------------------------+------------------------------+--------------+
| Ubuntu 22.04                 | PASS           | SKIPPED                   | SKIPPED                      | SKIPPED      |
+------------------------------+----------------+---------------------------+------------------------------+--------------+
| Ubuntu 24.04                 | PASS           | SKIPPED                   | SKIPPED                      | SKIPPED      |
+------------------------------+----------------+---------------------------+------------------------------+--------------+
| Debian 12 (arm)              | SKIPPED        | PASS                      | PASS                         | SKIPPED      |
+------------------------------+----------------+---------------------------+------------------------------+--------------+


CentOS Stream 9
	Kernel: 5.4
	Compiler: gcc gcc (GCC) 11.5.0 20240719 (Red Hat 11.5.0-7)

CentOS Stream 10
	Kernel: 5.4
	Compiler: gcc gcc (GCC) 14.2.1 20250110 (Red Hat 14.2.1-8)

Debian GNU/Linux 12
	Kernel: 5.4
	Compiler: gcc gcc (Debian 12.2.0-14+deb12u1) 12.2.0

Fedora Linux 40
	Kernel: 5.4
	Compiler: clang gcc (GCC) 14.2.1 20240912 (Red Hat 14.2.1-3)

Fedora Linux 41
	Kernel: 5.4
	Compiler: clang gcc (GCC) 14.3.1 20250523 (Red Hat 14.3.1-1)

Red Hat Enterprise Linux 9.5
	Kernel: 5.4
	Compiler: gcc gcc (GCC) 11.5.0 20240719 (Red Hat 11.5.0-2)

Ubuntu 20.04
	Kernel: 5.4
	Compiler: gcc gcc (Ubuntu 9.4.0-1ubuntu1~20.04.2) 9.4.0

Ubuntu 22.04
	Kernel: 5.4
	Compiler: gcc gcc (Ubuntu 11.4.0-1ubuntu1~22.04) 11.4.0

Ubuntu 24.04
	Kernel: 5.4
	Compiler: gcc gcc (Ubuntu 13.3.0-6ubuntu2~24.04) 13.3.0

Debian 12 (arm)
	Kernel: Depends on container host
	Compiler: gcc (Debian 12.2.0-14) 12.2.0

To view detailed results, visit:
https://lab.dpdk.org/results/dashboard/patchsets/33550/

UNH-IOL DPDK Community Lab

To manage your email subscriptions, visit: 
https://lab.dpdk.org/results/dashboard/preferences/subscriptions/

^ permalink raw reply	[flat|nested] 29+ messages in thread

* |SUCCESS| pw154889-154890 [PATCH] [v2,6/6] net/hns3: VF support mult
       [not found] <20250701064512.3868175-7-huangdengdui@huawei.com>
                   ` (20 preceding siblings ...)
  2025-07-01 12:32 ` |SUCCESS| " dpdklab
@ 2025-07-01 14:15 ` dpdklab
  2025-07-01 15:54 ` dpdklab
                   ` (6 subsequent siblings)
  28 siblings, 0 replies; 29+ messages in thread
From: dpdklab @ 2025-07-01 14:15 UTC (permalink / raw)
  To: Test Report; +Cc: dpdk-test-reports

Test-Label: iol-compile-arm64-testing
Test-Status: SUCCESS
http://dpdk.org/patch/154890

_Testing PASS_

Submitter: Dengdui Huang <huangdengdui@huawei.com>
Date: Tuesday, July 01 2025 06:45:12 
DPDK git baseline: Repo:dpdk
  Branch: master
  CommitID:77864da82f25a9e1e43c14b2cba68c2049a3ee3e

154889-154890 --> testing pass

Upstream job id: Generic-DPDK-Compile-Meson#404116

Test environment and result as below:

+------------------------------+--------------------+
|         Environment          | dpdk_meson_compile |
+==============================+====================+
| Red Hat Enterprise Linux 9.5 | PASS               |
+------------------------------+--------------------+
| Ubuntu 20.04                 | PASS               |
+------------------------------+--------------------+
| Debian GNU/Linux 12          | PASS               |
+------------------------------+--------------------+
| Fedora Linux 40              | PASS               |
+------------------------------+--------------------+
| Fedora Linux 41              | PASS               |
+------------------------------+--------------------+
| Ubuntu 22.04                 | PASS               |
+------------------------------+--------------------+
| Ubuntu 24.04                 | PASS               |
+------------------------------+--------------------+
| CentOS Stream 9              | PASS               |
+------------------------------+--------------------+
| CentOS Stream 10             | PASS               |
+------------------------------+--------------------+


Red Hat Enterprise Linux 9.5
	Kernel: 5.4
	Compiler: gcc gcc (GCC) 11.5.0 20240719 (Red Hat 11.5.0-2)

Ubuntu 20.04
	Kernel: 5.15
	Compiler: aarch64-linux-gnu-gcc gcc (Ubuntu 9.4.0-1ubuntu1~20.04.2) 9.4.0

Debian GNU/Linux 12
	Kernel: 5.4
	Compiler: gcc gcc (Debian 12.2.0-14+deb12u1) 12.2.0

Fedora Linux 40
	Kernel: 5.4
	Compiler: gcc gcc (GCC) 14.2.1 20240912 (Red Hat 14.2.1-3)

Fedora Linux 41
	Kernel: 5.4
	Compiler: gcc gcc (GCC) 14.3.1 20250523 (Red Hat 14.3.1-1)

Ubuntu 22.04
	Kernel: 5.4
	Compiler: gcc gcc (Ubuntu 11.4.0-1ubuntu1~22.04) 11.4.0

Ubuntu 24.04
	Kernel: 5.4
	Compiler: gcc gcc (Ubuntu 13.3.0-6ubuntu2~24.04) 13.3.0

CentOS Stream 9
	Kernel: 5.4
	Compiler: gcc gcc (GCC) 11.5.0 20240719 (Red Hat 11.5.0-7)

CentOS Stream 10
	Kernel: 5.4
	Compiler: gcc gcc (GCC) 14.2.1 20250110 (Red Hat 14.2.1-8)

To view detailed results, visit:
https://lab.dpdk.org/results/dashboard/patchsets/33550/

UNH-IOL DPDK Community Lab

To manage your email subscriptions, visit: 
https://lab.dpdk.org/results/dashboard/preferences/subscriptions/

^ permalink raw reply	[flat|nested] 29+ messages in thread

* |SUCCESS| pw154889-154890 [PATCH] [v2,6/6] net/hns3: VF support mult
       [not found] <20250701064512.3868175-7-huangdengdui@huawei.com>
                   ` (21 preceding siblings ...)
  2025-07-01 14:15 ` dpdklab
@ 2025-07-01 15:54 ` dpdklab
  2025-07-01 18:03 ` dpdklab
                   ` (5 subsequent siblings)
  28 siblings, 0 replies; 29+ messages in thread
From: dpdklab @ 2025-07-01 15:54 UTC (permalink / raw)
  To: Test Report; +Cc: dpdk-test-reports

Test-Label: iol-unit-arm64-testing
Test-Status: SUCCESS
http://dpdk.org/patch/154890

_Testing PASS_

Submitter: Dengdui Huang <huangdengdui@huawei.com>
Date: Tuesday, July 01 2025 06:45:12 
DPDK git baseline: Repo:dpdk
  Branch: master
  CommitID:77864da82f25a9e1e43c14b2cba68c2049a3ee3e

154889-154890 --> testing pass

Upstream job id: Aarch32-Unit-Test#6767

Test environment and result as below:

+------------------------------+----------------+---------------------------+------------------------------+--------------+
|         Environment          | dpdk_unit_test | cryptodev_sw_zuc_autotest | cryptodev_sw_snow3g_autotest | lpm_autotest |
+==============================+================+===========================+==============================+==============+
| CentOS Stream 9              | PASS           | SKIPPED                   | SKIPPED                      | SKIPPED      |
+------------------------------+----------------+---------------------------+------------------------------+--------------+
| CentOS Stream 10             | PASS           | SKIPPED                   | SKIPPED                      | SKIPPED      |
+------------------------------+----------------+---------------------------+------------------------------+--------------+
| Debian GNU/Linux 12          | PASS           | SKIPPED                   | SKIPPED                      | SKIPPED      |
+------------------------------+----------------+---------------------------+------------------------------+--------------+
| Fedora Linux 40              | PASS           | SKIPPED                   | SKIPPED                      | SKIPPED      |
+------------------------------+----------------+---------------------------+------------------------------+--------------+
| Fedora Linux 41              | PASS           | SKIPPED                   | SKIPPED                      | SKIPPED      |
+------------------------------+----------------+---------------------------+------------------------------+--------------+
| Red Hat Enterprise Linux 9.5 | PASS           | SKIPPED                   | SKIPPED                      | SKIPPED      |
+------------------------------+----------------+---------------------------+------------------------------+--------------+
| Ubuntu 20.04                 | PASS           | SKIPPED                   | SKIPPED                      | PASS         |
+------------------------------+----------------+---------------------------+------------------------------+--------------+
| Ubuntu 22.04                 | PASS           | SKIPPED                   | SKIPPED                      | SKIPPED      |
+------------------------------+----------------+---------------------------+------------------------------+--------------+
| Ubuntu 24.04                 | PASS           | SKIPPED                   | SKIPPED                      | SKIPPED      |
+------------------------------+----------------+---------------------------+------------------------------+--------------+
| Debian 12 (arm)              | SKIPPED        | PASS                      | PASS                         | SKIPPED      |
+------------------------------+----------------+---------------------------+------------------------------+--------------+


CentOS Stream 9
	Kernel: 5.4
	Compiler: gcc gcc (GCC) 11.5.0 20240719 (Red Hat 11.5.0-7)

CentOS Stream 10
	Kernel: 5.4
	Compiler: gcc gcc (GCC) 14.2.1 20250110 (Red Hat 14.2.1-8)

Debian GNU/Linux 12
	Kernel: 5.4
	Compiler: gcc gcc (Debian 12.2.0-14+deb12u1) 12.2.0

Fedora Linux 40
	Kernel: 5.4
	Compiler: clang gcc (GCC) 14.2.1 20240912 (Red Hat 14.2.1-3)

Fedora Linux 41
	Kernel: 5.4
	Compiler: clang gcc (GCC) 14.3.1 20250523 (Red Hat 14.3.1-1)

Red Hat Enterprise Linux 9.5
	Kernel: 5.4
	Compiler: gcc gcc (GCC) 11.5.0 20240719 (Red Hat 11.5.0-2)

Ubuntu 20.04
	Kernel: 5.4
	Compiler: gcc gcc (Ubuntu 9.4.0-1ubuntu1~20.04.2) 9.4.0

Ubuntu 22.04
	Kernel: 5.4
	Compiler: gcc gcc (Ubuntu 11.4.0-1ubuntu1~22.04) 11.4.0

Ubuntu 24.04
	Kernel: 5.4
	Compiler: gcc gcc (Ubuntu 13.3.0-6ubuntu2~24.04) 13.3.0

Debian 12 (arm)
	Kernel: Depends on container host
	Compiler: gcc (Debian 12.2.0-14) 12.2.0

To view detailed results, visit:
https://lab.dpdk.org/results/dashboard/patchsets/33550/

UNH-IOL DPDK Community Lab

To manage your email subscriptions, visit: 
https://lab.dpdk.org/results/dashboard/preferences/subscriptions/

^ permalink raw reply	[flat|nested] 29+ messages in thread

* |SUCCESS| pw154889-154890 [PATCH] [v2,6/6] net/hns3: VF support mult
       [not found] <20250701064512.3868175-7-huangdengdui@huawei.com>
                   ` (22 preceding siblings ...)
  2025-07-01 15:54 ` dpdklab
@ 2025-07-01 18:03 ` dpdklab
  2025-07-01 18:35 ` dpdklab
                   ` (4 subsequent siblings)
  28 siblings, 0 replies; 29+ messages in thread
From: dpdklab @ 2025-07-01 18:03 UTC (permalink / raw)
  To: Test Report; +Cc: dpdk-test-reports

Test-Label: iol-unit-amd64-testing
Test-Status: SUCCESS
http://dpdk.org/patch/154890

_Testing PASS_

Submitter: Dengdui Huang <huangdengdui@huawei.com>
Date: Tuesday, July 01 2025 06:45:12 
DPDK git baseline: Repo:dpdk
  Branch: master
  CommitID:77864da82f25a9e1e43c14b2cba68c2049a3ee3e

154889-154890 --> testing pass

Upstream job id: Generic-VM-Unit-Test-DPDK#29624

Test environment and result as below:

+-------------------------------+----------------+
|          Environment          | dpdk_unit_test |
+===============================+================+
| CentOS Stream 9               | PASS           |
+-------------------------------+----------------+
| CentOS Stream 10              | PASS           |
+-------------------------------+----------------+
| Debian GNU/Linux 12           | PASS           |
+-------------------------------+----------------+
| Fedora Linux 40               | PASS           |
+-------------------------------+----------------+
| Fedora Linux 41               | PASS           |
+-------------------------------+----------------+
| Red Hat Enterprise Linux 8.10 | PASS           |
+-------------------------------+----------------+
| Red Hat Enterprise Linux 9.5  | PASS           |
+-------------------------------+----------------+
| Ubuntu 20.04                  | PASS           |
+-------------------------------+----------------+
| Ubuntu 22.04                  | PASS           |
+-------------------------------+----------------+
| Ubuntu 24.04                  | PASS           |
+-------------------------------+----------------+
| Windows Server 2022           | PASS           |
+-------------------------------+----------------+


CentOS Stream 9
	Kernel: 5.15
	Compiler: gcc gcc (GCC) 11.5.0 20240719 (Red Hat 11.5.0-7)

CentOS Stream 10
	Kernel: 5.15
	Compiler: gcc gcc (GCC) 14.2.1 20250110 (Red Hat 14.2.1-8)

Debian GNU/Linux 12
	Kernel: 5.15
	Compiler: gcc gcc (Debian 12.2.0-14+deb12u1) 12.2.0

Fedora Linux 40
	Kernel: 5.15
	Compiler: clang gcc (GCC) 14.2.1 20240912 (Red Hat 14.2.1-3)

Fedora Linux 41
	Kernel: 5.15
	Compiler: gcc gcc (GCC) 14.3.1 20250523 (Red Hat 14.3.1-1)

Red Hat Enterprise Linux 8.10
	Kernel: 5.15
	Compiler: gcc gcc (GCC) 8.5.0 20210514 (Red Hat 8.5.0-22)

Red Hat Enterprise Linux 9.5
	Kernel: 5.15
	Compiler: gcc gcc (GCC) 11.5.0 20240719 (Red Hat 11.5.0-2)

Ubuntu 20.04
	Kernel: 5.15
	Compiler: gcc gcc (Ubuntu 9.4.0-1ubuntu1~20.04.2) 9.4.0

Ubuntu 22.04
	Kernel: 5.15
	Compiler: gcc gcc (Ubuntu 11.4.0-1ubuntu1~22.04) 11.4.0

Ubuntu 24.04
	Kernel: 5.15
	Compiler: gcc gcc (Ubuntu 13.3.0-6ubuntu2~24.04) 13.3.0

Windows Server 2022
	Kernel: 10.0.20348.2031
	Compiler: clang 15.0.7, gcc 14.1.0 (MinGW), and MSVC VS 19.39.33521

To view detailed results, visit:
https://lab.dpdk.org/results/dashboard/patchsets/33550/

UNH-IOL DPDK Community Lab

To manage your email subscriptions, visit: 
https://lab.dpdk.org/results/dashboard/preferences/subscriptions/

^ permalink raw reply	[flat|nested] 29+ messages in thread

* |SUCCESS| pw154889-154890 [PATCH] [v2,6/6] net/hns3: VF support mult
       [not found] <20250701064512.3868175-7-huangdengdui@huawei.com>
                   ` (23 preceding siblings ...)
  2025-07-01 18:03 ` dpdklab
@ 2025-07-01 18:35 ` dpdklab
  2025-07-01 20:13 ` dpdklab
                   ` (3 subsequent siblings)
  28 siblings, 0 replies; 29+ messages in thread
From: dpdklab @ 2025-07-01 18:35 UTC (permalink / raw)
  To: Test Report; +Cc: dpdk-test-reports

Test-Label: iol-unit-arm64-testing
Test-Status: SUCCESS
http://dpdk.org/patch/154890

_Testing PASS_

Submitter: Dengdui Huang <huangdengdui@huawei.com>
Date: Tuesday, July 01 2025 06:45:12 
DPDK git baseline: Repo:dpdk
  Branch: master
  CommitID:77864da82f25a9e1e43c14b2cba68c2049a3ee3e

154889-154890 --> testing pass

Upstream job id: Aarch32-Unit-Test#6770

Test environment and result as below:

+------------------------------+----------------+---------------------------+------------------------------+--------------+
|         Environment          | dpdk_unit_test | cryptodev_sw_zuc_autotest | cryptodev_sw_snow3g_autotest | lpm_autotest |
+==============================+================+===========================+==============================+==============+
| CentOS Stream 9              | PASS           | SKIPPED                   | SKIPPED                      | SKIPPED      |
+------------------------------+----------------+---------------------------+------------------------------+--------------+
| CentOS Stream 10             | PASS           | SKIPPED                   | SKIPPED                      | SKIPPED      |
+------------------------------+----------------+---------------------------+------------------------------+--------------+
| Debian GNU/Linux 12          | PASS           | SKIPPED                   | SKIPPED                      | SKIPPED      |
+------------------------------+----------------+---------------------------+------------------------------+--------------+
| Fedora Linux 40              | PASS           | SKIPPED                   | SKIPPED                      | SKIPPED      |
+------------------------------+----------------+---------------------------+------------------------------+--------------+
| Fedora Linux 41              | PASS           | SKIPPED                   | SKIPPED                      | SKIPPED      |
+------------------------------+----------------+---------------------------+------------------------------+--------------+
| Red Hat Enterprise Linux 9.5 | PASS           | SKIPPED                   | SKIPPED                      | SKIPPED      |
+------------------------------+----------------+---------------------------+------------------------------+--------------+
| Ubuntu 20.04                 | PASS           | SKIPPED                   | SKIPPED                      | PASS         |
+------------------------------+----------------+---------------------------+------------------------------+--------------+
| Ubuntu 22.04                 | PASS           | SKIPPED                   | SKIPPED                      | SKIPPED      |
+------------------------------+----------------+---------------------------+------------------------------+--------------+
| Ubuntu 24.04                 | PASS           | SKIPPED                   | SKIPPED                      | SKIPPED      |
+------------------------------+----------------+---------------------------+------------------------------+--------------+
| Debian 12 (arm)              | SKIPPED        | PASS                      | PASS                         | SKIPPED      |
+------------------------------+----------------+---------------------------+------------------------------+--------------+


CentOS Stream 9
	Kernel: 5.4
	Compiler: gcc gcc (GCC) 11.5.0 20240719 (Red Hat 11.5.0-7)

CentOS Stream 10
	Kernel: 5.4
	Compiler: gcc gcc (GCC) 14.2.1 20250110 (Red Hat 14.2.1-8)

Debian GNU/Linux 12
	Kernel: 5.4
	Compiler: gcc gcc (Debian 12.2.0-14+deb12u1) 12.2.0

Fedora Linux 40
	Kernel: 5.4
	Compiler: clang gcc (GCC) 14.2.1 20240912 (Red Hat 14.2.1-3)

Fedora Linux 41
	Kernel: 5.4
	Compiler: clang gcc (GCC) 14.3.1 20250523 (Red Hat 14.3.1-1)

Red Hat Enterprise Linux 9.5
	Kernel: 5.4
	Compiler: gcc gcc (GCC) 11.5.0 20240719 (Red Hat 11.5.0-2)

Ubuntu 20.04
	Kernel: 5.4
	Compiler: gcc gcc (Ubuntu 9.4.0-1ubuntu1~20.04.2) 9.4.0

Ubuntu 22.04
	Kernel: 5.4
	Compiler: gcc gcc (Ubuntu 11.4.0-1ubuntu1~22.04) 11.4.0

Ubuntu 24.04
	Kernel: 5.4
	Compiler: gcc gcc (Ubuntu 13.3.0-6ubuntu2~24.04) 13.3.0

Debian 12 (arm)
	Kernel: Depends on container host
	Compiler: gcc (Debian 12.2.0-14) 12.2.0

To view detailed results, visit:
https://lab.dpdk.org/results/dashboard/patchsets/33550/

UNH-IOL DPDK Community Lab

To manage your email subscriptions, visit: 
https://lab.dpdk.org/results/dashboard/preferences/subscriptions/

^ permalink raw reply	[flat|nested] 29+ messages in thread

* |SUCCESS| pw154889-154890 [PATCH] [v2,6/6] net/hns3: VF support mult
       [not found] <20250701064512.3868175-7-huangdengdui@huawei.com>
                   ` (24 preceding siblings ...)
  2025-07-01 18:35 ` dpdklab
@ 2025-07-01 20:13 ` dpdklab
  2025-07-01 22:01 ` dpdklab
                   ` (2 subsequent siblings)
  28 siblings, 0 replies; 29+ messages in thread
From: dpdklab @ 2025-07-01 20:13 UTC (permalink / raw)
  To: Test Report; +Cc: dpdk-test-reports

Test-Label: iol-unit-amd64-testing
Test-Status: SUCCESS
http://dpdk.org/patch/154890

_Testing PASS_

Submitter: Dengdui Huang <huangdengdui@huawei.com>
Date: Tuesday, July 01 2025 06:45:12 
DPDK git baseline: Repo:dpdk
  Branch: master
  CommitID:77864da82f25a9e1e43c14b2cba68c2049a3ee3e

154889-154890 --> testing pass

Upstream job id: Generic-VM-Unit-Test-DPDK#29629

Test environment and result as below:

+-------------------------------+----------------+
|          Environment          | dpdk_unit_test |
+===============================+================+
| CentOS Stream 9               | PASS           |
+-------------------------------+----------------+
| CentOS Stream 10              | PASS           |
+-------------------------------+----------------+
| Debian GNU/Linux 12           | PASS           |
+-------------------------------+----------------+
| Fedora Linux 40               | PASS           |
+-------------------------------+----------------+
| Fedora Linux 41               | PASS           |
+-------------------------------+----------------+
| Red Hat Enterprise Linux 8.10 | PASS           |
+-------------------------------+----------------+
| Red Hat Enterprise Linux 9.5  | PASS           |
+-------------------------------+----------------+
| Ubuntu 20.04                  | PASS           |
+-------------------------------+----------------+
| Ubuntu 22.04                  | PASS           |
+-------------------------------+----------------+
| Ubuntu 24.04                  | PASS           |
+-------------------------------+----------------+
| Windows Server 2022           | PASS           |
+-------------------------------+----------------+


CentOS Stream 9
	Kernel: 5.15
	Compiler: gcc gcc (GCC) 11.5.0 20240719 (Red Hat 11.5.0-7)

CentOS Stream 10
	Kernel: 5.15
	Compiler: gcc gcc (GCC) 14.2.1 20250110 (Red Hat 14.2.1-8)

Debian GNU/Linux 12
	Kernel: 5.15
	Compiler: gcc gcc (Debian 12.2.0-14+deb12u1) 12.2.0

Fedora Linux 40
	Kernel: 5.15
	Compiler: clang gcc (GCC) 14.2.1 20240912 (Red Hat 14.2.1-3)

Fedora Linux 41
	Kernel: 5.15
	Compiler: gcc gcc (GCC) 14.3.1 20250523 (Red Hat 14.3.1-1)

Red Hat Enterprise Linux 8.10
	Kernel: 5.15
	Compiler: gcc gcc (GCC) 8.5.0 20210514 (Red Hat 8.5.0-22)

Red Hat Enterprise Linux 9.5
	Kernel: 5.15
	Compiler: gcc gcc (GCC) 11.5.0 20240719 (Red Hat 11.5.0-2)

Ubuntu 20.04
	Kernel: 5.15
	Compiler: gcc gcc (Ubuntu 9.4.0-1ubuntu1~20.04.2) 9.4.0

Ubuntu 22.04
	Kernel: 5.15
	Compiler: gcc gcc (Ubuntu 11.4.0-1ubuntu1~22.04) 11.4.0

Ubuntu 24.04
	Kernel: 5.15
	Compiler: gcc gcc (Ubuntu 13.3.0-6ubuntu2~24.04) 13.3.0

Windows Server 2022
	Kernel: 10.0.20348.2031
	Compiler: clang 15.0.7, gcc 14.1.0 (MinGW), and MSVC VS 19.39.33521

To view detailed results, visit:
https://lab.dpdk.org/results/dashboard/patchsets/33550/

UNH-IOL DPDK Community Lab

To manage your email subscriptions, visit: 
https://lab.dpdk.org/results/dashboard/preferences/subscriptions/

^ permalink raw reply	[flat|nested] 29+ messages in thread

* |SUCCESS| pw154889-154890 [PATCH] [v2,6/6] net/hns3: VF support mult
       [not found] <20250701064512.3868175-7-huangdengdui@huawei.com>
                   ` (25 preceding siblings ...)
  2025-07-01 20:13 ` dpdklab
@ 2025-07-01 22:01 ` dpdklab
  2025-07-01 22:03 ` dpdklab
  2025-07-01 22:41 ` dpdklab
  28 siblings, 0 replies; 29+ messages in thread
From: dpdklab @ 2025-07-01 22:01 UTC (permalink / raw)
  To: Test Report; +Cc: dpdk-test-reports

Test-Label: iol-sample-apps-testing
Test-Status: SUCCESS
http://dpdk.org/patch/154890

_Testing PASS_

Submitter: Dengdui Huang <huangdengdui@huawei.com>
Date: Tuesday, July 01 2025 06:45:12 
DPDK git baseline: Repo:dpdk
  Branch: master
  CommitID:77864da82f25a9e1e43c14b2cba68c2049a3ee3e

154889-154890 --> testing pass

Upstream job id: ACVP-FIPS-testing#10359

Test environment and result as below:

+--------------+----------------------+----------------------+
| Environment  | compressdev_zlib_pmd | dpdk_fips_validation |
+==============+======================+======================+
| Ubuntu 22.04 | PASS                 | SKIPPED              |
+--------------+----------------------+----------------------+
| Ubuntu 20.04 | SKIPPED              | PASS                 |
+--------------+----------------------+----------------------+


Ubuntu 22.04
	Kernel: 5.15
	Compiler: gcc gcc (Ubuntu 11.4.0-1ubuntu1~22.04) 11.4.0

Ubuntu 20.04
	Kernel: 5.15
	Compiler: gcc gcc (Ubuntu 9.4.0-1ubuntu1~20.04.2) 9.4.0

To view detailed results, visit:
https://lab.dpdk.org/results/dashboard/patchsets/33550/

UNH-IOL DPDK Community Lab

To manage your email subscriptions, visit: 
https://lab.dpdk.org/results/dashboard/preferences/subscriptions/

^ permalink raw reply	[flat|nested] 29+ messages in thread

* |SUCCESS| pw154889-154890 [PATCH] [v2,6/6] net/hns3: VF support mult
       [not found] <20250701064512.3868175-7-huangdengdui@huawei.com>
                   ` (26 preceding siblings ...)
  2025-07-01 22:01 ` dpdklab
@ 2025-07-01 22:03 ` dpdklab
  2025-07-01 22:41 ` dpdklab
  28 siblings, 0 replies; 29+ messages in thread
From: dpdklab @ 2025-07-01 22:03 UTC (permalink / raw)
  To: Test Report; +Cc: dpdk-test-reports

Test-Label: iol-abi-testing
Test-Status: SUCCESS
http://dpdk.org/patch/154890

_Testing PASS_

Submitter: Dengdui Huang <huangdengdui@huawei.com>
Date: Tuesday, July 01 2025 06:45:12 
DPDK git baseline: Repo:dpdk
  Branch: master
  CommitID:77864da82f25a9e1e43c14b2cba68c2049a3ee3e

154889-154890 --> testing pass

Upstream job id: Generic-DPDK-Compile-ABI#132583

Test environment and result as below:

+-------------------------------+----------+
|          Environment          | abi_test |
+===============================+==========+
| CentOS Stream 9               | PASS     |
+-------------------------------+----------+
| CentOS Stream 10              | PASS     |
+-------------------------------+----------+
| Fedora Linux 40               | PASS     |
+-------------------------------+----------+
| Debian GNU/Linux 12           | PASS     |
+-------------------------------+----------+
| Fedora Linux 41               | PASS     |
+-------------------------------+----------+
| openSUSE Leap 15.6            | PASS     |
+-------------------------------+----------+
| Red Hat Enterprise Linux 8.10 | PASS     |
+-------------------------------+----------+
| Red Hat Enterprise Linux 9.5  | PASS     |
+-------------------------------+----------+
| Ubuntu 22.04                  | PASS     |
+-------------------------------+----------+
| Ubuntu 24.04                  | PASS     |
+-------------------------------+----------+


CentOS Stream 9
	Kernel: 5.15
	Compiler: gcc gcc (GCC) 11.5.0 20240719 (Red Hat 11.5.0-7)

CentOS Stream 10
	Kernel: 5.15
	Compiler: gcc gcc (GCC) 14.2.1 20250110 (Red Hat 14.2.1-8)

Fedora Linux 40
	Kernel: 5.15
	Compiler: clang gcc (GCC) 14.2.1 20240912 (Red Hat 14.2.1-3)

Debian GNU/Linux 12
	Kernel: 5.15
	Compiler: gcc gcc (Debian 12.2.0-14+deb12u1) 12.2.0

Fedora Linux 41
	Kernel: 5.15
	Compiler: clang gcc (GCC) 14.3.1 20250523 (Red Hat 14.3.1-1)

openSUSE Leap 15.6
	Kernel: 5.15
	Compiler: gcc gcc (SUSE Linux) 7.5.0

Red Hat Enterprise Linux 8.10
	Kernel: 5.15
	Compiler: gcc gcc (GCC) 8.5.0 20210514 (Red Hat 8.5.0-22)

Red Hat Enterprise Linux 9.5
	Kernel: 5.15
	Compiler: gcc gcc (GCC) 11.5.0 20240719 (Red Hat 11.5.0-2)

Ubuntu 22.04
	Kernel: 5.15
	Compiler: gcc gcc (Ubuntu 11.4.0-1ubuntu1~22.04) 11.4.0

Ubuntu 24.04
	Kernel: 5.15
	Compiler: gcc gcc (Ubuntu 13.3.0-6ubuntu2~24.04) 13.3.0

To view detailed results, visit:
https://lab.dpdk.org/results/dashboard/patchsets/33550/

UNH-IOL DPDK Community Lab

To manage your email subscriptions, visit: 
https://lab.dpdk.org/results/dashboard/preferences/subscriptions/

^ permalink raw reply	[flat|nested] 29+ messages in thread

* |SUCCESS| pw154889-154890 [PATCH] [v2,6/6] net/hns3: VF support mult
       [not found] <20250701064512.3868175-7-huangdengdui@huawei.com>
                   ` (27 preceding siblings ...)
  2025-07-01 22:03 ` dpdklab
@ 2025-07-01 22:41 ` dpdklab
  28 siblings, 0 replies; 29+ messages in thread
From: dpdklab @ 2025-07-01 22:41 UTC (permalink / raw)
  To: Test Report; +Cc: dpdk-test-reports

Test-Label: iol-abi-testing
Test-Status: SUCCESS
http://dpdk.org/patch/154890

_Testing PASS_

Submitter: Dengdui Huang <huangdengdui@huawei.com>
Date: Tuesday, July 01 2025 06:45:12 
DPDK git baseline: Repo:dpdk
  Branch: master
  CommitID:77864da82f25a9e1e43c14b2cba68c2049a3ee3e

154889-154890 --> testing pass

Upstream job id: Generic-DPDK-Compile-ABI#132621

Test environment and result as below:

+-------------------------------+----------+
|          Environment          | abi_test |
+===============================+==========+
| CentOS Stream 9               | PASS     |
+-------------------------------+----------+
| CentOS Stream 10              | PASS     |
+-------------------------------+----------+
| Fedora Linux 40               | PASS     |
+-------------------------------+----------+
| Debian GNU/Linux 12           | PASS     |
+-------------------------------+----------+
| Fedora Linux 41               | PASS     |
+-------------------------------+----------+
| openSUSE Leap 15.6            | PASS     |
+-------------------------------+----------+
| Red Hat Enterprise Linux 8.10 | PASS     |
+-------------------------------+----------+
| Red Hat Enterprise Linux 9.5  | PASS     |
+-------------------------------+----------+
| Ubuntu 22.04                  | PASS     |
+-------------------------------+----------+
| Ubuntu 24.04                  | PASS     |
+-------------------------------+----------+


CentOS Stream 9
	Kernel: 5.15
	Compiler: gcc gcc (GCC) 11.5.0 20240719 (Red Hat 11.5.0-7)

CentOS Stream 10
	Kernel: 5.15
	Compiler: gcc gcc (GCC) 14.2.1 20250110 (Red Hat 14.2.1-8)

Fedora Linux 40
	Kernel: 5.15
	Compiler: clang gcc (GCC) 14.2.1 20240912 (Red Hat 14.2.1-3)

Debian GNU/Linux 12
	Kernel: 5.15
	Compiler: gcc gcc (Debian 12.2.0-14+deb12u1) 12.2.0

Fedora Linux 41
	Kernel: 5.15
	Compiler: clang gcc (GCC) 14.3.1 20250523 (Red Hat 14.3.1-1)

openSUSE Leap 15.6
	Kernel: 5.15
	Compiler: gcc gcc (SUSE Linux) 7.5.0

Red Hat Enterprise Linux 8.10
	Kernel: 5.15
	Compiler: gcc gcc (GCC) 8.5.0 20210514 (Red Hat 8.5.0-22)

Red Hat Enterprise Linux 9.5
	Kernel: 5.15
	Compiler: gcc gcc (GCC) 11.5.0 20240719 (Red Hat 11.5.0-2)

Ubuntu 22.04
	Kernel: 5.15
	Compiler: gcc gcc (Ubuntu 11.4.0-1ubuntu1~22.04) 11.4.0

Ubuntu 24.04
	Kernel: 5.15
	Compiler: gcc gcc (Ubuntu 13.3.0-6ubuntu2~24.04) 13.3.0

To view detailed results, visit:
https://lab.dpdk.org/results/dashboard/patchsets/33550/

UNH-IOL DPDK Community Lab

To manage your email subscriptions, visit: 
https://lab.dpdk.org/results/dashboard/preferences/subscriptions/

^ permalink raw reply	[flat|nested] 29+ messages in thread

end of thread, other threads:[~2025-07-01 22:41 UTC | newest]

Thread overview: 29+ messages (download: mbox.gz / follow: Atom feed)
-- links below jump to the message on this page --
     [not found] <20250701064512.3868175-7-huangdengdui@huawei.com>
2025-07-01  6:11 ` |SUCCESS| pw154889-154890 [PATCH v2 6/6] net/hns3: VF support multi-TCs configure qemudev
2025-07-01  6:16 ` qemudev
2025-07-01  6:45 ` |SUCCESS| pw154890 " checkpatch
2025-07-01  7:46 ` |SUCCESS| pw154889-154890 [PATCH] [v2,6/6] net/hns3: VF support mult dpdklab
2025-07-01  7:47 ` dpdklab
2025-07-01  8:03 ` |SUCCESS| pw154890 [PATCH v2 6/6] net/hns3: VF support multi-TCs configure 0-day Robot
2025-07-01  8:03 ` |SUCCESS| pw154889-154890 [PATCH] [v2,6/6] net/hns3: VF support mult dpdklab
2025-07-01  8:04 ` dpdklab
2025-07-01  8:24 ` |PENDING| " dpdklab
2025-07-01  8:42 ` |SUCCESS| " dpdklab
2025-07-01  8:59 ` dpdklab
2025-07-01  9:23 ` dpdklab
2025-07-01 10:22 ` |PENDING| " dpdklab
2025-07-01 10:29 ` |SUCCESS| " dpdklab
2025-07-01 10:30 ` dpdklab
2025-07-01 11:04 ` dpdklab
2025-07-01 11:07 ` dpdklab
2025-07-01 11:31 ` |WARNING| " dpdklab
2025-07-01 11:31 ` dpdklab
2025-07-01 12:14 ` dpdklab
2025-07-01 12:32 ` |SUCCESS| " dpdklab
2025-07-01 14:15 ` dpdklab
2025-07-01 15:54 ` dpdklab
2025-07-01 18:03 ` dpdklab
2025-07-01 18:35 ` dpdklab
2025-07-01 20:13 ` dpdklab
2025-07-01 22:01 ` dpdklab
2025-07-01 22:03 ` dpdklab
2025-07-01 22:41 ` dpdklab

This is a public inbox, see mirroring instructions
for how to clone and mirror all data and code used for this inbox;
as well as URLs for NNTP newsgroup(s).