automatic DPDK test reports
 help / color / mirror / Atom feed
* |SUCCESS| pw154903 [PATCH] ci: check C++ headers with clang
       [not found] <20250701113146.1268492-1-david.marchand@redhat.com>
@ 2025-07-01 10:59 ` qemudev
  2025-07-01 11:03 ` qemudev
                   ` (24 subsequent siblings)
  25 siblings, 0 replies; 26+ messages in thread
From: qemudev @ 2025-07-01 10:59 UTC (permalink / raw)
  To: test-report

Test-Label: loongarch-compilation
Test-Status: SUCCESS
http://dpdk.org/patch/154903

_Compilation OK_

Submitter: David Marchand <david.marchand@redhat.com>
Date: Tue,  1 Jul 2025 13:31:46 +0200
DPDK git baseline: Repo:dpdk
  Branch: main
  CommitID: 20460dcffd08a4680f881c39916ae783ee830374

154903 --> meson & ninja build successfully

Test environment and result as below:

+---------------------+----------------+
|     Environment     | compilation    |
+---------------------+----------------+
| Loongnix-Server 8.3 | PASS           |
+---------------------+----------------+

Loongnix-Server 8.3
    Kernel: 4.19.190+
    Compiler: gcc 8.3


^ permalink raw reply	[flat|nested] 26+ messages in thread

* |SUCCESS| pw154903 [PATCH] ci: check C++ headers with clang
       [not found] <20250701113146.1268492-1-david.marchand@redhat.com>
  2025-07-01 10:59 ` |SUCCESS| pw154903 [PATCH] ci: check C++ headers with clang qemudev
@ 2025-07-01 11:03 ` qemudev
  2025-07-01 11:32 ` checkpatch
                   ` (23 subsequent siblings)
  25 siblings, 0 replies; 26+ messages in thread
From: qemudev @ 2025-07-01 11:03 UTC (permalink / raw)
  To: test-report

Test-Label: loongarch-unit-testing
Test-Status: SUCCESS
http://dpdk.org/patch/154903

_Unit Testing PASS_

Submitter: David Marchand <david.marchand@redhat.com>
Date: Tue,  1 Jul 2025 13:31:46 +0200
DPDK git baseline: Repo:dpdk
  Branch: main
  CommitID: 20460dcffd08a4680f881c39916ae783ee830374

154903 --> testing pass

Test environment and result as below:

+---------------------+----------------+
|     Environment     | dpdk_unit_test |
+---------------------+----------------+
| Loongnix-Server 8.3 | PASS           |
+---------------------+----------------+

Loongnix-Server 8.3
    Kernel: 4.19.190+
    Compiler: gcc 8.3


Test result details:
  1/121 DPDK:fast-tests / acl_autotest                            OK              3.24s
  2/121 DPDK:fast-tests / alarm_autotest                          OK              1.50s
  3/121 DPDK:fast-tests / argparse_autotest                       OK              0.50s
  4/121 DPDK:fast-tests / atomic_autotest                         OK              7.26s
  5/121 DPDK:fast-tests / bitcount_autotest                       OK              0.43s
  6/121 DPDK:fast-tests / bitmap_autotest                         OK              0.43s
  7/121 DPDK:fast-tests / bitops_autotest                         OK              1.94s
  8/121 DPDK:fast-tests / bitratestats_autotest                   OK              0.43s
  9/121 DPDK:fast-tests / bitset_autotest                         OK              3.16s
 10/121 DPDK:fast-tests / bpf_autotest                            OK              0.43s
 11/121 DPDK:fast-tests / bpf_convert_autotest                    OK              0.44s
 12/121 DPDK:fast-tests / byteorder_autotest                      OK              0.43s
 13/121 DPDK:fast-tests / cfgfile_autotest                        OK              0.43s
 14/121 DPDK:fast-tests / cksum_autotest                          OK              0.43s
 15/121 DPDK:fast-tests / cmdline_autotest                        OK              0.43s
 16/121 DPDK:fast-tests / common_autotest                         OK              1.31s
 17/121 DPDK:fast-tests / compressdev_autotest                    SKIP            0.07s   exit status 77
 18/121 DPDK:fast-tests / cpuflags_autotest                       OK              0.42s
 19/121 DPDK:fast-tests / crc_autotest                            OK              0.43s
 20/121 DPDK:fast-tests / user_delay_us                           OK              0.43s
 21/121 DPDK:fast-tests / debug_autotest                          OK             22.70s
 22/121 DPDK:fast-tests / devargs_autotest                        OK              0.43s
 23/121 DPDK:fast-tests / dispatcher_autotest                     OK              2.55s
 24/121 DPDK:fast-tests / distributor_autotest                    OK              1.20s
 25/121 DPDK:fast-tests / eal_flags_c_opt_autotest                OK              0.80s
 26/121 DPDK:fast-tests / eal_flags_main_opt_autotest             OK              0.22s
 27/121 DPDK:fast-tests / eal_flags_n_opt_autotest                OK              0.20s
 28/121 DPDK:fast-tests / eal_flags_hpet_autotest                 OK              0.13s
 29/121 DPDK:fast-tests / eal_flags_no_huge_autotest              OK              0.22s
 30/121 DPDK:fast-tests / eal_flags_a_opt_autotest                OK              0.30s
 31/121 DPDK:fast-tests / eal_flags_b_opt_autotest                OK              0.25s
 32/121 DPDK:fast-tests / eal_flags_vdev_opt_autotest             OK              0.19s
 33/121 DPDK:fast-tests / eal_flags_r_opt_autotest                OK              0.19s
 34/121 DPDK:fast-tests / eal_flags_mem_autotest                  OK              0.59s
 35/121 DPDK:fast-tests / eal_flags_file_prefix_autotest          OK             22.24s
 36/121 DPDK:fast-tests / eal_flags_misc_autotest                 OK              1.04s
 37/121 DPDK:fast-tests / eal_fs_autotest                         OK              0.43s
 38/121 DPDK:fast-tests / errno_autotest                          OK              0.43s
 39/121 DPDK:fast-tests / ethdev_link_status                      OK              0.43s
 40/121 DPDK:fast-tests / event_eth_tx_adapter_autotest           OK              1.68s
 41/121 DPDK:fast-tests / event_ring_autotest                     OK              0.43s
 42/121 DPDK:fast-tests / event_vector_adapter_autotest           OK              0.78s
 43/121 DPDK:fast-tests / eventdev_common_autotest                OK              0.42s
 44/121 DPDK:fast-tests / eventdev_selftest_sw                    OK              7.24s
 45/121 DPDK:fast-tests / fbarray_autotest                        OK              0.43s
 46/121 DPDK:fast-tests / fib_autotest                            OK              1.28s
 47/121 DPDK:fast-tests / fib6_autotest                           OK              1.06s
 48/121 DPDK:fast-tests / func_reentrancy_autotest                OK              2.30s
 49/121 DPDK:fast-tests / graph_autotest                          OK              0.43s
 50/121 DPDK:fast-tests / node_list_dump                          OK              0.53s
 51/121 DPDK:fast-tests / graph_feature_arc_autotest              OK              0.44s
 52/121 DPDK:fast-tests / hash_autotest                           OK              1.06s
 53/121 DPDK:fast-tests / hash_readwrite_func_autotest            OK              6.41s
 54/121 DPDK:fast-tests / interrupt_autotest                      OK              1.73s
 55/121 DPDK:fast-tests / ipfrag_autotest                         OK              0.08s
 56/121 DPDK:fast-tests / ipsec_autotest                          SKIP            0.43s   exit status 77
 57/121 DPDK:fast-tests / kvargs_autotest                         OK              0.44s
 58/121 DPDK:fast-tests / latencystats_autotest                   OK              0.44s
 59/121 DPDK:fast-tests / lcore_var_autotest                      OK              0.57s
 60/121 DPDK:fast-tests / lcores_autotest                         OK              5.24s
 61/121 DPDK:fast-tests / logs_autotest                           OK              0.43s
 62/121 DPDK:fast-tests / lpm_autotest                            OK              2.47s
 63/121 DPDK:fast-tests / lpm6_autotest                           OK              5.60s
 64/121 DPDK:fast-tests / malloc_autotest                         OK             60.00s
 65/121 DPDK:fast-tests / mbuf_autotest                           OK              5.17s
 66/121 DPDK:fast-tests / mcslock_autotest                        OK              3.69s
 67/121 DPDK:fast-tests / member_autotest                         OK              1.51s
 68/121 DPDK:fast-tests / memcpy_autotest                         OK              6.83s
 69/121 DPDK:fast-tests / memory_autotest                         OK              0.10s
 70/121 DPDK:fast-tests / mempool_autotest                        OK              0.43s
 71/121 DPDK:fast-tests / memzone_autotest                        OK              0.14s
 72/121 DPDK:fast-tests / meter_autotest                          OK              0.31s
 73/121 DPDK:fast-tests / metrics_autotest                        OK              0.31s
 74/121 DPDK:fast-tests / multiprocess_autotest                   OK              0.18s
 75/121 DPDK:fast-tests / net_ether_autotest                      OK              1.02s
 76/121 DPDK:fast-tests / net_ipv6_autotest                       OK              0.36s
 77/121 DPDK:fast-tests / pcapng_autotest                         OK              6.44s
 78/121 DPDK:fast-tests / pdcp_autotest                           SKIP            0.06s   exit status 77
 79/121 DPDK:fast-tests / pdump_autotest                          OK              0.43s
 80/121 DPDK:fast-tests / per_lcore_autotest                      OK              0.41s
 81/121 DPDK:fast-tests / pflock_autotest                         OK              1.12s
 82/121 DPDK:fast-tests / pie_autotest                            OK              0.31s
 83/121 DPDK:fast-tests / ring_pmd_autotest                       OK              0.31s
 84/121 DPDK:fast-tests / power_autotest                          OK              0.31s
 85/121 DPDK:fast-tests / power_cpufreq_autotest                  SKIP            0.06s   exit status 77
 86/121 DPDK:fast-tests / power_intel_uncore_autotest             SKIP            0.31s   exit status 77
 87/121 DPDK:fast-tests / power_kvm_vm_autotest                   SKIP            0.06s   exit status 77
 88/121 DPDK:fast-tests / prefetch_autotest                       OK              0.31s
 89/121 DPDK:fast-tests / ptr_compress_autotest                   OK              0.31s
 90/121 DPDK:fast-tests / rawdev_autotest                         OK              0.31s
 91/121 DPDK:fast-tests / rcu_qsbr_autotest                       OK              0.83s
 92/121 DPDK:fast-tests / reorder_autotest                        OK              0.37s
 93/121 DPDK:fast-tests / rib_autotest                            OK              8.96s
 94/121 DPDK:fast-tests / rib6_autotest                           OK              8.96s
 95/121 DPDK:fast-tests / ring_autotest                           OK              0.34s
 96/121 DPDK:fast-tests / rwlock_test1_autotest                   OK              1.06s
 97/121 DPDK:fast-tests / rwlock_rda_autotest                     OK              5.31s
 98/121 DPDK:fast-tests / rwlock_rds_wrm_autotest                 OK              5.31s
 99/121 DPDK:fast-tests / rwlock_rde_wro_autotest                 OK              5.31s
100/121 DPDK:fast-tests / sched_autotest                          OK              0.31s
101/121 DPDK:fast-tests / security_autotest                       OK              0.06s
102/121 DPDK:fast-tests / seqlock_autotest                        OK              2.33s
103/121 DPDK:fast-tests / service_autotest                        OK              3.03s
104/121 DPDK:fast-tests / soring_autotest                         OK              0.33s
105/121 DPDK:fast-tests / spinlock_autotest                       OK              0.40s
106/121 DPDK:fast-tests / stack_autotest                          OK              0.86s
107/121 DPDK:fast-tests / stack_lf_autotest                       SKIP            0.05s   exit status 77
108/121 DPDK:fast-tests / string_autotest                         OK              0.34s
109/121 DPDK:fast-tests / table_autotest                          OK              7.71s
110/121 DPDK:fast-tests / tailq_autotest                          OK              0.34s
111/121 DPDK:fast-tests / telemetry_data_autotest                 OK              0.34s
112/121 DPDK:fast-tests / telemetry_json_autotest                 OK              0.34s
113/121 DPDK:fast-tests / thash_autotest                          OK              0.35s
114/121 DPDK:fast-tests / threads_autotest                        OK              0.52s
115/121 DPDK:fast-tests / ticketlock_autotest                     OK              0.49s
116/121 DPDK:fast-tests / timer_autotest                          OK              3.87s
117/121 DPDK:fast-tests / trace_autotest                          OK              0.36s
118/121 DPDK:fast-tests / trace_autotest_with_traces              OK              0.37s
119/121 DPDK:fast-tests / vdev_autotest                           OK              0.36s
120/121 DPDK:fast-tests / version_autotest                        OK              0.36s
121/121 DPDK:fast-tests / telemetry_all                           OK              1.32s


Ok:                 114
Expected Fail:      0
Fail:               0
Unexpected Pass:    0
Skipped:            7
Timeout:            0


^ permalink raw reply	[flat|nested] 26+ messages in thread

* |SUCCESS| pw154903 [PATCH] ci: check C++ headers with clang
       [not found] <20250701113146.1268492-1-david.marchand@redhat.com>
  2025-07-01 10:59 ` |SUCCESS| pw154903 [PATCH] ci: check C++ headers with clang qemudev
  2025-07-01 11:03 ` qemudev
@ 2025-07-01 11:32 ` checkpatch
  2025-07-01 12:43 ` 0-day Robot
                   ` (22 subsequent siblings)
  25 siblings, 0 replies; 26+ messages in thread
From: checkpatch @ 2025-07-01 11:32 UTC (permalink / raw)
  To: test-report

Test-Label: checkpatch
Test-Status: SUCCESS
http://dpdk.org/patch/154903

_coding style OK_



^ permalink raw reply	[flat|nested] 26+ messages in thread

* |SUCCESS| pw154903 [PATCH] ci: check C++ headers with clang
       [not found] <20250701113146.1268492-1-david.marchand@redhat.com>
                   ` (2 preceding siblings ...)
  2025-07-01 11:32 ` checkpatch
@ 2025-07-01 12:43 ` 0-day Robot
  2025-07-01 16:18 ` dpdklab
                   ` (21 subsequent siblings)
  25 siblings, 0 replies; 26+ messages in thread
From: 0-day Robot @ 2025-07-01 12:43 UTC (permalink / raw)
  To: test-report; +Cc: robot

From: robot@bytheb.org

Test-Label: github-robot: build
Test-Status: SUCCESS
http://patchwork.dpdk.org/patch/154903/

_github build: passed_
Build URL: https://github.com/ovsrobot/dpdk/actions/runs/15998374723

^ permalink raw reply	[flat|nested] 26+ messages in thread

* |SUCCESS| pw154903 [PATCH] ci: check C++ headers with clang
       [not found] <20250701113146.1268492-1-david.marchand@redhat.com>
                   ` (3 preceding siblings ...)
  2025-07-01 12:43 ` 0-day Robot
@ 2025-07-01 16:18 ` dpdklab
  2025-07-01 16:19 ` dpdklab
                   ` (20 subsequent siblings)
  25 siblings, 0 replies; 26+ messages in thread
From: dpdklab @ 2025-07-01 16:18 UTC (permalink / raw)
  To: Test Report; +Cc: dpdk-test-reports

Test-Label: iol-broadcom-Performance
Test-Status: SUCCESS
http://dpdk.org/patch/154903

_Performance Testing PASS_

Submitter: David Marchand <david.marchand@redhat.com>
Date: Tuesday, July 01 2025 11:31:46 
DPDK git baseline: Repo:dpdk
  Branch: master
  CommitID:20460dcffd08a4680f881c39916ae783ee830374

154903 --> performance testing pass

Upstream job id: Template-DTS-Pipeline#234373

Test environment and result as below:

Ubuntu 22.04
Kernel: 5.15
Compiler: gcc gcc (Ubuntu 11.4.0-1ubuntu1~22.04) 11.4.0
NIC: Broadcom Inc. and subsidiaries BCM57414 NetXtreme-E 10Gb/25Gb RDMA Ethernet Controller 16d7 25 Mbps
Fail/Total: 0/3

Detail performance results: 
+------------+---------+----------+-------------+------------------------------+
| frame_size | txd/rxd | num_cpus | num_threads |  throughput difference from  |
|            |         |          |             |           expected           |
+============+=========+==========+=============+==============================+
| 64         | 128     | 1        | 1           | -0.9%                        |
+------------+---------+----------+-------------+------------------------------+
| 64         | 512     | 1        | 1           | 0.2%                         |
+------------+---------+----------+-------------+------------------------------+
| 64         | 2048    | 1        | 1           | 0.4%                         |
+------------+---------+----------+-------------+------------------------------+

Ubuntu 22.04
Kernel: 5.15
Compiler: gcc gcc (Ubuntu 11.4.0-1ubuntu1~22.04) 11.4.0
NIC: Arm Broadcom Inc. brcm_57414 25000 Mbps
Fail/Total: 0/2

Detail performance results: 
+------------+---------+----------+-------------+------------------------------+
| frame_size | txd/rxd | num_cpus | num_threads |  throughput difference from  |
|            |         |          |             |           expected           |
+============+=========+==========+=============+==============================+
| 64         | 512     | 1        | 1           | 0.2%                         |
+------------+---------+----------+-------------+------------------------------+
| 64         | 2048    | 1        | 1           | -0.1%                        |
+------------+---------+----------+-------------+------------------------------+

To view detailed results, visit:
https://lab.dpdk.org/results/dashboard/patchsets/33554/

UNH-IOL DPDK Community Lab

To manage your email subscriptions, visit: 
https://lab.dpdk.org/results/dashboard/preferences/subscriptions/

^ permalink raw reply	[flat|nested] 26+ messages in thread

* |SUCCESS| pw154903 [PATCH] ci: check C++ headers with clang
       [not found] <20250701113146.1268492-1-david.marchand@redhat.com>
                   ` (4 preceding siblings ...)
  2025-07-01 16:18 ` dpdklab
@ 2025-07-01 16:19 ` dpdklab
  2025-07-01 16:31 ` dpdklab
                   ` (19 subsequent siblings)
  25 siblings, 0 replies; 26+ messages in thread
From: dpdklab @ 2025-07-01 16:19 UTC (permalink / raw)
  To: Test Report; +Cc: dpdk-test-reports

Test-Label: iol-broadcom-Performance
Test-Status: SUCCESS
http://dpdk.org/patch/154903

_Performance Testing PASS_

Submitter: David Marchand <david.marchand@redhat.com>
Date: Tuesday, July 01 2025 11:31:46 
DPDK git baseline: Repo:dpdk
  Branch: master
  CommitID:20460dcffd08a4680f881c39916ae783ee830374

154903 --> performance testing pass

Upstream job id: Template-DTS-Pipeline#234372

Test environment and result as below:

Ubuntu 22.04
Kernel: 5.15
Compiler: gcc gcc (Ubuntu 11.4.0-1ubuntu1~22.04) 11.4.0
NIC: Broadcom Inc. and subsidiaries BCM57414 NetXtreme-E 10Gb/25Gb RDMA Ethernet Controller 16d7 25 Mbps
Fail/Total: 0/3

Detail performance results: 
+------------+---------+----------+-------------+------------------------------+
| frame_size | txd/rxd | num_cpus | num_threads |  throughput difference from  |
|            |         |          |             |           expected           |
+============+=========+==========+=============+==============================+
| 64         | 128     | 1        | 1           | -0.9%                        |
+------------+---------+----------+-------------+------------------------------+
| 64         | 512     | 1        | 1           | 0.2%                         |
+------------+---------+----------+-------------+------------------------------+
| 64         | 2048    | 1        | 1           | 0.4%                         |
+------------+---------+----------+-------------+------------------------------+

Ubuntu 22.04
Kernel: 5.15
Compiler: gcc gcc (Ubuntu 11.4.0-1ubuntu1~22.04) 11.4.0
NIC: Arm Broadcom Inc. brcm_57414 25000 Mbps
Fail/Total: 0/2

Detail performance results: 
+------------+---------+----------+-------------+------------------------------+
| frame_size | txd/rxd | num_cpus | num_threads |  throughput difference from  |
|            |         |          |             |           expected           |
+============+=========+==========+=============+==============================+
| 64         | 512     | 1        | 1           | 0.2%                         |
+------------+---------+----------+-------------+------------------------------+
| 64         | 2048    | 1        | 1           | -0.1%                        |
+------------+---------+----------+-------------+------------------------------+

To view detailed results, visit:
https://lab.dpdk.org/results/dashboard/patchsets/33554/

UNH-IOL DPDK Community Lab

To manage your email subscriptions, visit: 
https://lab.dpdk.org/results/dashboard/preferences/subscriptions/

^ permalink raw reply	[flat|nested] 26+ messages in thread

* |SUCCESS| pw154903 [PATCH] ci: check C++ headers with clang
       [not found] <20250701113146.1268492-1-david.marchand@redhat.com>
                   ` (5 preceding siblings ...)
  2025-07-01 16:19 ` dpdklab
@ 2025-07-01 16:31 ` dpdklab
  2025-07-01 16:43 ` dpdklab
                   ` (18 subsequent siblings)
  25 siblings, 0 replies; 26+ messages in thread
From: dpdklab @ 2025-07-01 16:31 UTC (permalink / raw)
  To: Ali Alnubani, Test Report; +Cc: dpdk-test-reports

Test-Label: iol-mellanox-Performance
Test-Status: SUCCESS
http://dpdk.org/patch/154903

_Performance Testing PASS_

Submitter: David Marchand <david.marchand@redhat.com>
Date: Tuesday, July 01 2025 11:31:46 
DPDK git baseline: Repo:dpdk
  Branch: master
  CommitID:20460dcffd08a4680f881c39916ae783ee830374

154903 --> performance testing pass

Upstream job id: Template-DTS-Pipeline#234368

Test environment and result as below:

Ubuntu 24.04
Kernel: 6.8
Compiler: gcc gcc (Ubuntu 13.3.0-6ubuntu2~24.04) 13.3.0
NIC: NVIDIA Mellanox ConnectX-7 100000 Mbps
Fail/Total: 0/6

Detail performance results: 
+------------+---------+----------+-------------+------------------------------+
| frame_size | txd/rxd | num_cpus | num_threads |  throughput difference from  |
|            |         |          |             |           expected           |
+============+=========+==========+=============+==============================+
| 64         | 1024    | 1        | 1           | -0.7%                        |
+------------+---------+----------+-------------+------------------------------+
| 128        | 1024    | 1        | 1           | -0.6%                        |
+------------+---------+----------+-------------+------------------------------+
| 256        | 1024    | 1        | 1           | 2.0%                         |
+------------+---------+----------+-------------+------------------------------+
| 512        | 1024    | 1        | 1           | 0.1%                         |
+------------+---------+----------+-------------+------------------------------+
| 1024       | 1024    | 1        | 1           | 0.1%                         |
+------------+---------+----------+-------------+------------------------------+
| 1518       | 1024    | 1        | 1           | -0.2%                        |
+------------+---------+----------+-------------+------------------------------+

Ubuntu 24.04
Kernel: 6.8
Compiler: gcc gcc (Ubuntu 13.3.0-6ubuntu2~24.04) 13.3.0
NIC: Mellanox ConnectX-6 Lx 25000 Mbps
Fail/Total: 0/6

Detail performance results: 
+------------+---------+----------+-------------+------------------------------+
| frame_size | txd/rxd | num_cpus | num_threads |  throughput difference from  |
|            |         |          |             |           expected           |
+============+=========+==========+=============+==============================+
| 64         | 1024    | 1        | 1           | 0.0%                         |
+------------+---------+----------+-------------+------------------------------+
| 128        | 1024    | 1        | 1           | -0.0%                        |
+------------+---------+----------+-------------+------------------------------+
| 256        | 1024    | 1        | 1           | -0.0%                        |
+------------+---------+----------+-------------+------------------------------+
| 512        | 1024    | 1        | 1           | -0.1%                        |
+------------+---------+----------+-------------+------------------------------+
| 1024       | 1024    | 1        | 1           | -0.2%                        |
+------------+---------+----------+-------------+------------------------------+
| 1518       | 1024    | 1        | 1           | -0.1%                        |
+------------+---------+----------+-------------+------------------------------+

To view detailed results, visit:
https://lab.dpdk.org/results/dashboard/patchsets/33554/

UNH-IOL DPDK Community Lab

To manage your email subscriptions, visit: 
https://lab.dpdk.org/results/dashboard/preferences/subscriptions/

^ permalink raw reply	[flat|nested] 26+ messages in thread

* |SUCCESS| pw154903 [PATCH] ci: check C++ headers with clang
       [not found] <20250701113146.1268492-1-david.marchand@redhat.com>
                   ` (6 preceding siblings ...)
  2025-07-01 16:31 ` dpdklab
@ 2025-07-01 16:43 ` dpdklab
  2025-07-01 16:44 ` dpdklab
                   ` (17 subsequent siblings)
  25 siblings, 0 replies; 26+ messages in thread
From: dpdklab @ 2025-07-01 16:43 UTC (permalink / raw)
  To: Test Report; +Cc: dpdk-test-reports

Test-Label: iol-intel-Functional
Test-Status: SUCCESS
http://dpdk.org/patch/154903

_Functional Testing PASS_

Submitter: David Marchand <david.marchand@redhat.com>
Date: Tuesday, July 01 2025 11:31:46 
DPDK git baseline: Repo:dpdk
  Branch: master
  CommitID:20460dcffd08a4680f881c39916ae783ee830374

154903 --> functional testing pass

Upstream job id: Template-DTS-Pipeline#234378

Test environment and result as below:

Ubuntu 22.04
Kernel: 5.15
Compiler: gcc gcc (Ubuntu 11.4.0-1ubuntu1~22.04) 11.4.0
NIC: Intel Corporation QAT 8970 0 Mbps

Aggregate Results by Test Suite
+----------------------------+--------+
|         Test Suite         | Result |
+============================+========+
| crypto_perf_cryptodev_perf |  PASS  |
+----------------------------+--------+


To view detailed results, visit:
https://lab.dpdk.org/results/dashboard/patchsets/33554/

UNH-IOL DPDK Community Lab

To manage your email subscriptions, visit: 
https://lab.dpdk.org/results/dashboard/preferences/subscriptions/

^ permalink raw reply	[flat|nested] 26+ messages in thread

* |SUCCESS| pw154903 [PATCH] ci: check C++ headers with clang
       [not found] <20250701113146.1268492-1-david.marchand@redhat.com>
                   ` (7 preceding siblings ...)
  2025-07-01 16:43 ` dpdklab
@ 2025-07-01 16:44 ` dpdklab
  2025-07-01 16:59 ` dpdklab
                   ` (16 subsequent siblings)
  25 siblings, 0 replies; 26+ messages in thread
From: dpdklab @ 2025-07-01 16:44 UTC (permalink / raw)
  To: Test Report; +Cc: dpdk-test-reports

Test-Label: iol-sample-apps-testing
Test-Status: SUCCESS
http://dpdk.org/patch/154903

_Testing PASS_

Submitter: David Marchand <david.marchand@redhat.com>
Date: Tuesday, July 01 2025 11:31:46 
DPDK git baseline: Repo:dpdk
  Branch: master
  CommitID:20460dcffd08a4680f881c39916ae783ee830374

154903 --> testing pass

Upstream job id: Template-DTS-Pipeline#234381

Test environment and result as below:

+--------------+----------------------+
| Environment  | compressdev_zlib_pmd |
+==============+======================+
| Ubuntu 22.04 | PASS                 |
+--------------+----------------------+


Ubuntu 22.04
	Kernel: 5.15
	Compiler: gcc gcc (Ubuntu 11.4.0-1ubuntu1~22.04) 11.4.0

To view detailed results, visit:
https://lab.dpdk.org/results/dashboard/patchsets/33554/

UNH-IOL DPDK Community Lab

To manage your email subscriptions, visit: 
https://lab.dpdk.org/results/dashboard/preferences/subscriptions/

^ permalink raw reply	[flat|nested] 26+ messages in thread

* |SUCCESS| pw154903 [PATCH] ci: check C++ headers with clang
       [not found] <20250701113146.1268492-1-david.marchand@redhat.com>
                   ` (8 preceding siblings ...)
  2025-07-01 16:44 ` dpdklab
@ 2025-07-01 16:59 ` dpdklab
  2025-07-01 18:00 ` |PENDING| " dpdklab
                   ` (15 subsequent siblings)
  25 siblings, 0 replies; 26+ messages in thread
From: dpdklab @ 2025-07-01 16:59 UTC (permalink / raw)
  To: Test Report; +Cc: dpdk-test-reports

Test-Label: iol-sample-apps-testing
Test-Status: SUCCESS
http://dpdk.org/patch/154903

_Testing PASS_

Submitter: David Marchand <david.marchand@redhat.com>
Date: Tuesday, July 01 2025 11:31:46 
DPDK git baseline: Repo:dpdk
  Branch: master
  CommitID:20460dcffd08a4680f881c39916ae783ee830374

154903 --> testing pass

Upstream job id: Template-DTS-Pipeline#234380

Test environment and result as below:

+--------------+----------------------+
| Environment  | compressdev_zlib_pmd |
+==============+======================+
| Ubuntu 22.04 | PASS                 |
+--------------+----------------------+


Ubuntu 22.04
	Kernel: 5.15
	Compiler: gcc gcc (Ubuntu 11.4.0-1ubuntu1~22.04) 11.4.0

To view detailed results, visit:
https://lab.dpdk.org/results/dashboard/patchsets/33554/

UNH-IOL DPDK Community Lab

To manage your email subscriptions, visit: 
https://lab.dpdk.org/results/dashboard/preferences/subscriptions/

^ permalink raw reply	[flat|nested] 26+ messages in thread

* |PENDING| pw154903 [PATCH] ci: check C++ headers with clang
       [not found] <20250701113146.1268492-1-david.marchand@redhat.com>
                   ` (9 preceding siblings ...)
  2025-07-01 16:59 ` dpdklab
@ 2025-07-01 18:00 ` dpdklab
  2025-07-01 18:18 ` |SUCCESS| " dpdklab
                   ` (14 subsequent siblings)
  25 siblings, 0 replies; 26+ messages in thread
From: dpdklab @ 2025-07-01 18:00 UTC (permalink / raw)
  To: Test Report; +Cc: dpdk-test-reports

Test-Label: iol-compile-amd64-testing
Test-Status: PENDING
http://dpdk.org/patch/154903

_Testing pending_

Submitter: David Marchand <david.marchand@redhat.com>
Date: Tuesday, July 01 2025 11:31:46 
DPDK git baseline: Repo:dpdk
  Branch: master
  CommitID:20460dcffd08a4680f881c39916ae783ee830374

154903 --> testing pending

Upstream job id: Generic-VM-DPDK-Compile-Meson#36853

Test environment and result as below:

+--------------+--------------------+
| Environment  | dpdk_meson_compile |
+==============+====================+
| Ubuntu 20.04 | PASS               |
+--------------+--------------------+
| FreeBSD 14.2 | PEND               |
+--------------+--------------------+


Ubuntu 20.04
	Kernel: 4.19
	Compiler: gcc gcc (Ubuntu 9.4.0-1ubuntu1~20.04.2) 9.4.0

FreeBSD 14.2
	Kernel: 14.2-RELEASE
	Compiler: clang 18.1.6

To view detailed results, visit:
https://lab.dpdk.org/results/dashboard/patchsets/33554/

UNH-IOL DPDK Community Lab

To manage your email subscriptions, visit: 
https://lab.dpdk.org/results/dashboard/preferences/subscriptions/

^ permalink raw reply	[flat|nested] 26+ messages in thread

* |SUCCESS| pw154903 [PATCH] ci: check C++ headers with clang
       [not found] <20250701113146.1268492-1-david.marchand@redhat.com>
                   ` (10 preceding siblings ...)
  2025-07-01 18:00 ` |PENDING| " dpdklab
@ 2025-07-01 18:18 ` dpdklab
  2025-07-01 18:35 ` |PENDING| " dpdklab
                   ` (13 subsequent siblings)
  25 siblings, 0 replies; 26+ messages in thread
From: dpdklab @ 2025-07-01 18:18 UTC (permalink / raw)
  To: Test Report; +Cc: dpdk-test-reports

Test-Label: iol-compile-amd64-testing
Test-Status: SUCCESS
http://dpdk.org/patch/154903

_Testing PASS_

Submitter: David Marchand <david.marchand@redhat.com>
Date: Tuesday, July 01 2025 11:31:46 
DPDK git baseline: Repo:dpdk
  Branch: master
  CommitID:20460dcffd08a4680f881c39916ae783ee830374

154903 --> testing pass

Upstream job id: Generic-VM-DPDK-Compile-Meson#36854

Test environment and result as below:

+--------------+--------------------+
| Environment  | dpdk_meson_compile |
+==============+====================+
| Ubuntu 20.04 | PASS               |
+--------------+--------------------+
| FreeBSD 14.2 | PASS               |
+--------------+--------------------+


Ubuntu 20.04
	Kernel: 4.19
	Compiler: gcc gcc (Ubuntu 9.4.0-1ubuntu1~20.04.2) 9.4.0

FreeBSD 14.2
	Kernel: 14.2-RELEASE
	Compiler: clang 18.1.6

To view detailed results, visit:
https://lab.dpdk.org/results/dashboard/patchsets/33554/

UNH-IOL DPDK Community Lab

To manage your email subscriptions, visit: 
https://lab.dpdk.org/results/dashboard/preferences/subscriptions/

^ permalink raw reply	[flat|nested] 26+ messages in thread

* |PENDING| pw154903 [PATCH] ci: check C++ headers with clang
       [not found] <20250701113146.1268492-1-david.marchand@redhat.com>
                   ` (11 preceding siblings ...)
  2025-07-01 18:18 ` |SUCCESS| " dpdklab
@ 2025-07-01 18:35 ` dpdklab
  2025-07-01 18:58 ` |SUCCESS| " dpdklab
                   ` (12 subsequent siblings)
  25 siblings, 0 replies; 26+ messages in thread
From: dpdklab @ 2025-07-01 18:35 UTC (permalink / raw)
  To: Test Report; +Cc: dpdk-test-reports

Test-Label: iol-unit-arm64-testing
Test-Status: PENDING
http://dpdk.org/patch/154903

_Testing pending_

Submitter: David Marchand <david.marchand@redhat.com>
Date: Tuesday, July 01 2025 11:31:46 
DPDK git baseline: Repo:dpdk
  Branch: master
  CommitID:20460dcffd08a4680f881c39916ae783ee830374

154903 --> testing pending

Upstream job id: Generic-Unit-Test-DPDK#351535

Test environment and result as below:

+---------------------+--------------+----------------+------------------------------+
|     Environment     | lpm_autotest | dpdk_unit_test | cryptodev_sw_snow3g_autotest |
+=====================+==============+================+==============================+
| Ubuntu 20.04        | PEND         | PEND           | SKIPPED                      |
+---------------------+--------------+----------------+------------------------------+
| Fedora Linux 40     | SKIPPED      | PEND           | SKIPPED                      |
+---------------------+--------------+----------------+------------------------------+
| Debian GNU/Linux 12 | SKIPPED      | PASS           | SKIPPED                      |
+---------------------+--------------+----------------+------------------------------+
| CentOS Stream 10    | SKIPPED      | PEND           | SKIPPED                      |
+---------------------+--------------+----------------+------------------------------+
| Fedora Linux 41     | SKIPPED      | PEND           | SKIPPED                      |
+---------------------+--------------+----------------+------------------------------+
| Ubuntu 24.04        | SKIPPED      | PEND           | SKIPPED                      |
+---------------------+--------------+----------------+------------------------------+
| Ubuntu 22.04        | SKIPPED      | PEND           | SKIPPED                      |
+---------------------+--------------+----------------+------------------------------+
| Debian 12 (arm)     | SKIPPED      | SKIPPED        | PEND                         |
+---------------------+--------------+----------------+------------------------------+


Ubuntu 20.04
	Kernel: 5.4
	Compiler: gcc gcc (Ubuntu 9.4.0-1ubuntu1~20.04.2) 9.4.0

Fedora Linux 40
	Kernel: 5.4
	Compiler: clang gcc (GCC) 14.2.1 20240912 (Red Hat 14.2.1-3)

Debian GNU/Linux 12
	Kernel: 5.4
	Compiler: gcc gcc (Debian 12.2.0-14+deb12u1) 12.2.0

CentOS Stream 10
	Kernel: 5.4
	Compiler: gcc gcc (GCC) 14.2.1 20250110 (Red Hat 14.2.1-8)

Fedora Linux 41
	Kernel: 5.4
	Compiler: clang gcc (GCC) 14.3.1 20250523 (Red Hat 14.3.1-1)

Ubuntu 24.04
	Kernel: 5.4
	Compiler: gcc gcc (Ubuntu 13.3.0-6ubuntu2~24.04) 13.3.0

Ubuntu 22.04
	Kernel: 5.15
	Compiler: gcc gcc (Ubuntu 11.4.0-1ubuntu1~22.04) 11.4.0

Debian 12 (arm)
	Kernel: Depends on container host
	Compiler: gcc (Debian 12.2.0-14) 12.2.0

To view detailed results, visit:
https://lab.dpdk.org/results/dashboard/patchsets/33554/

UNH-IOL DPDK Community Lab

To manage your email subscriptions, visit: 
https://lab.dpdk.org/results/dashboard/preferences/subscriptions/

^ permalink raw reply	[flat|nested] 26+ messages in thread

* |SUCCESS| pw154903 [PATCH] ci: check C++ headers with clang
       [not found] <20250701113146.1268492-1-david.marchand@redhat.com>
                   ` (12 preceding siblings ...)
  2025-07-01 18:35 ` |PENDING| " dpdklab
@ 2025-07-01 18:58 ` dpdklab
  2025-07-01 19:40 ` |PENDING| " dpdklab
                   ` (11 subsequent siblings)
  25 siblings, 0 replies; 26+ messages in thread
From: dpdklab @ 2025-07-01 18:58 UTC (permalink / raw)
  To: Test Report; +Cc: dpdk-test-reports

Test-Label: iol-compile-amd64-testing
Test-Status: SUCCESS
http://dpdk.org/patch/154903

_Testing PASS_

Submitter: David Marchand <david.marchand@redhat.com>
Date: Tuesday, July 01 2025 11:31:46 
DPDK git baseline: Repo:dpdk
  Branch: master
  CommitID:20460dcffd08a4680f881c39916ae783ee830374

154903 --> testing pass

Upstream job id: Windows-Compile-DPDK-VS#6222

Test environment and result as below:

+---------------------+--------------------+-------------------+
|     Environment     | dpdk_meson_compile | dpdk_msvc_compile |
+=====================+====================+===================+
| Ubuntu 20.04        | PASS               | SKIPPED           |
+---------------------+--------------------+-------------------+
| FreeBSD 14.2        | PASS               | SKIPPED           |
+---------------------+--------------------+-------------------+
| Windows Server 2022 | SKIPPED            | PASS              |
+---------------------+--------------------+-------------------+


Ubuntu 20.04
	Kernel: 4.19
	Compiler: gcc gcc (Ubuntu 9.4.0-1ubuntu1~20.04.2) 9.4.0

FreeBSD 14.2
	Kernel: 14.2-RELEASE
	Compiler: clang 18.1.6

Windows Server 2022
	Kernel: 10.0.20348.2031
	Compiler: clang 15.0.7, gcc 14.1.0 (MinGW), and MSVC VS 19.39.33521

To view detailed results, visit:
https://lab.dpdk.org/results/dashboard/patchsets/33554/

UNH-IOL DPDK Community Lab

To manage your email subscriptions, visit: 
https://lab.dpdk.org/results/dashboard/preferences/subscriptions/

^ permalink raw reply	[flat|nested] 26+ messages in thread

* |PENDING| pw154903 [PATCH] ci: check C++ headers with clang
       [not found] <20250701113146.1268492-1-david.marchand@redhat.com>
                   ` (13 preceding siblings ...)
  2025-07-01 18:58 ` |SUCCESS| " dpdklab
@ 2025-07-01 19:40 ` dpdklab
  2025-07-01 19:51 ` |SUCCESS| " dpdklab
                   ` (10 subsequent siblings)
  25 siblings, 0 replies; 26+ messages in thread
From: dpdklab @ 2025-07-01 19:40 UTC (permalink / raw)
  To: Test Report; +Cc: dpdk-test-reports

Test-Label: iol-unit-amd64-testing
Test-Status: PENDING
http://dpdk.org/patch/154903

_Testing pending_

Submitter: David Marchand <david.marchand@redhat.com>
Date: Tuesday, July 01 2025 11:31:46 
DPDK git baseline: Repo:dpdk
  Branch: master
  CommitID:20460dcffd08a4680f881c39916ae783ee830374

154903 --> testing pending

Upstream job id: Generic-Unit-Test-DPDK#351536

Test environment and result as below:

+-------------------------------+----------------+
|          Environment          | dpdk_unit_test |
+===============================+================+
| Ubuntu 20.04                  | PEND           |
+-------------------------------+----------------+
| Red Hat Enterprise Linux 9.5  | PEND           |
+-------------------------------+----------------+
| Fedora Linux 40               | PEND           |
+-------------------------------+----------------+
| CentOS Stream 10              | PEND           |
+-------------------------------+----------------+
| Ubuntu 24.04                  | PEND           |
+-------------------------------+----------------+
| CentOS Stream 9               | PEND           |
+-------------------------------+----------------+
| Red Hat Enterprise Linux 8.10 | PEND           |
+-------------------------------+----------------+
| Debian GNU/Linux 12           | PEND           |
+-------------------------------+----------------+


Ubuntu 20.04
	Kernel: 5.15
	Compiler: gcc gcc (Ubuntu 9.4.0-1ubuntu1~20.04.2) 9.4.0

Red Hat Enterprise Linux 9.5
	Kernel: 5.15
	Compiler: gcc gcc (GCC) 11.5.0 20240719 (Red Hat 11.5.0-2)

Fedora Linux 40
	Kernel: 5.15
	Compiler: gcc gcc (GCC) 14.2.1 20240912 (Red Hat 14.2.1-3)

CentOS Stream 10
	Kernel: 5.15
	Compiler: gcc gcc (GCC) 14.2.1 20250110 (Red Hat 14.2.1-8)

Ubuntu 24.04
	Kernel: 5.15
	Compiler: gcc gcc (Ubuntu 13.3.0-6ubuntu2~24.04) 13.3.0

CentOS Stream 9
	Kernel: 5.15
	Compiler: gcc gcc (GCC) 11.5.0 20240719 (Red Hat 11.5.0-7)

Red Hat Enterprise Linux 8.10
	Kernel: 5.15
	Compiler: gcc gcc (GCC) 8.5.0 20210514 (Red Hat 8.5.0-22)

Debian GNU/Linux 12
	Kernel: 5.15
	Compiler: gcc gcc (Debian 12.2.0-14+deb12u1) 12.2.0

To view detailed results, visit:
https://lab.dpdk.org/results/dashboard/patchsets/33554/

UNH-IOL DPDK Community Lab

To manage your email subscriptions, visit: 
https://lab.dpdk.org/results/dashboard/preferences/subscriptions/

^ permalink raw reply	[flat|nested] 26+ messages in thread

* |SUCCESS| pw154903 [PATCH] ci: check C++ headers with clang
       [not found] <20250701113146.1268492-1-david.marchand@redhat.com>
                   ` (14 preceding siblings ...)
  2025-07-01 19:40 ` |PENDING| " dpdklab
@ 2025-07-01 19:51 ` dpdklab
  2025-07-01 19:53 ` dpdklab
                   ` (9 subsequent siblings)
  25 siblings, 0 replies; 26+ messages in thread
From: dpdklab @ 2025-07-01 19:51 UTC (permalink / raw)
  To: Test Report; +Cc: dpdk-test-reports

Test-Label: iol-unit-arm64-testing
Test-Status: SUCCESS
http://dpdk.org/patch/154903

_Testing PASS_

Submitter: David Marchand <david.marchand@redhat.com>
Date: Tuesday, July 01 2025 11:31:46 
DPDK git baseline: Repo:dpdk
  Branch: master
  CommitID:20460dcffd08a4680f881c39916ae783ee830374

154903 --> testing pass

Upstream job id: Generic-Unit-Test-DPDK#351527

Test environment and result as below:

+---------------------+--------------+----------------+------------------------------+
|     Environment     | lpm_autotest | dpdk_unit_test | cryptodev_sw_snow3g_autotest |
+=====================+==============+================+==============================+
| Ubuntu 20.04        | PASS         | PASS           | SKIPPED                      |
+---------------------+--------------+----------------+------------------------------+
| Fedora Linux 40     | SKIPPED      | PASS           | SKIPPED                      |
+---------------------+--------------+----------------+------------------------------+
| Debian GNU/Linux 12 | SKIPPED      | PASS           | SKIPPED                      |
+---------------------+--------------+----------------+------------------------------+
| CentOS Stream 10    | SKIPPED      | PASS           | SKIPPED                      |
+---------------------+--------------+----------------+------------------------------+
| Fedora Linux 41     | SKIPPED      | PASS           | SKIPPED                      |
+---------------------+--------------+----------------+------------------------------+
| Ubuntu 24.04        | SKIPPED      | PASS           | SKIPPED                      |
+---------------------+--------------+----------------+------------------------------+
| Ubuntu 22.04        | SKIPPED      | PASS           | SKIPPED                      |
+---------------------+--------------+----------------+------------------------------+
| Debian 12 (arm)     | SKIPPED      | SKIPPED        | PASS                         |
+---------------------+--------------+----------------+------------------------------+


Ubuntu 20.04
	Kernel: 5.4
	Compiler: gcc gcc (Ubuntu 9.4.0-1ubuntu1~20.04.2) 9.4.0

Fedora Linux 40
	Kernel: 5.4
	Compiler: clang gcc (GCC) 14.2.1 20240912 (Red Hat 14.2.1-3)

Debian GNU/Linux 12
	Kernel: 5.4
	Compiler: gcc gcc (Debian 12.2.0-14+deb12u1) 12.2.0

CentOS Stream 10
	Kernel: 5.4
	Compiler: gcc gcc (GCC) 14.2.1 20250110 (Red Hat 14.2.1-8)

Fedora Linux 41
	Kernel: 5.4
	Compiler: clang gcc (GCC) 14.3.1 20250523 (Red Hat 14.3.1-1)

Ubuntu 24.04
	Kernel: 5.4
	Compiler: gcc gcc (Ubuntu 13.3.0-6ubuntu2~24.04) 13.3.0

Ubuntu 22.04
	Kernel: 5.15
	Compiler: gcc gcc (Ubuntu 11.4.0-1ubuntu1~22.04) 11.4.0

Debian 12 (arm)
	Kernel: Depends on container host
	Compiler: gcc (Debian 12.2.0-14) 12.2.0

To view detailed results, visit:
https://lab.dpdk.org/results/dashboard/patchsets/33554/

UNH-IOL DPDK Community Lab

To manage your email subscriptions, visit: 
https://lab.dpdk.org/results/dashboard/preferences/subscriptions/

^ permalink raw reply	[flat|nested] 26+ messages in thread

* |SUCCESS| pw154903 [PATCH] ci: check C++ headers with clang
       [not found] <20250701113146.1268492-1-david.marchand@redhat.com>
                   ` (15 preceding siblings ...)
  2025-07-01 19:51 ` |SUCCESS| " dpdklab
@ 2025-07-01 19:53 ` dpdklab
  2025-07-01 20:23 ` dpdklab
                   ` (8 subsequent siblings)
  25 siblings, 0 replies; 26+ messages in thread
From: dpdklab @ 2025-07-01 19:53 UTC (permalink / raw)
  To: Test Report; +Cc: dpdk-test-reports

Test-Label: iol-compile-amd64-testing
Test-Status: SUCCESS
http://dpdk.org/patch/154903

_Testing PASS_

Submitter: David Marchand <david.marchand@redhat.com>
Date: Tuesday, July 01 2025 11:31:46 
DPDK git baseline: Repo:dpdk
  Branch: master
  CommitID:20460dcffd08a4680f881c39916ae783ee830374

154903 --> testing pass

Upstream job id: Windows-Compile-DPDK-Native#29485

Test environment and result as below:

+---------------------+--------------------+-------------------+-------------------------+
|     Environment     | dpdk_meson_compile | dpdk_msvc_compile | dpdk_llvm_clang_compile |
+=====================+====================+===================+=========================+
| Ubuntu 20.04        | PASS               | SKIPPED           | SKIPPED                 |
+---------------------+--------------------+-------------------+-------------------------+
| FreeBSD 14.2        | PASS               | SKIPPED           | SKIPPED                 |
+---------------------+--------------------+-------------------+-------------------------+
| Windows Server 2022 | SKIPPED            | PASS              | PASS                    |
+---------------------+--------------------+-------------------+-------------------------+


Ubuntu 20.04
	Kernel: 4.19
	Compiler: gcc gcc (Ubuntu 9.4.0-1ubuntu1~20.04.2) 9.4.0

FreeBSD 14.2
	Kernel: 14.2-RELEASE
	Compiler: clang 18.1.6

Windows Server 2022
	Kernel: 10.0.20348.2031
	Compiler: clang 15.0.7, gcc 14.1.0 (MinGW), and MSVC VS 19.39.33521

To view detailed results, visit:
https://lab.dpdk.org/results/dashboard/patchsets/33554/

UNH-IOL DPDK Community Lab

To manage your email subscriptions, visit: 
https://lab.dpdk.org/results/dashboard/preferences/subscriptions/

^ permalink raw reply	[flat|nested] 26+ messages in thread

* |SUCCESS| pw154903 [PATCH] ci: check C++ headers with clang
       [not found] <20250701113146.1268492-1-david.marchand@redhat.com>
                   ` (16 preceding siblings ...)
  2025-07-01 19:53 ` dpdklab
@ 2025-07-01 20:23 ` dpdklab
  2025-07-01 20:35 ` |PENDING| " dpdklab
                   ` (7 subsequent siblings)
  25 siblings, 0 replies; 26+ messages in thread
From: dpdklab @ 2025-07-01 20:23 UTC (permalink / raw)
  To: Test Report; +Cc: dpdk-test-reports

Test-Label: iol-compile-amd64-testing
Test-Status: SUCCESS
http://dpdk.org/patch/154903

_Testing PASS_

Submitter: David Marchand <david.marchand@redhat.com>
Date: Tuesday, July 01 2025 11:31:46 
DPDK git baseline: Repo:dpdk
  Branch: master
  CommitID:20460dcffd08a4680f881c39916ae783ee830374

154903 --> testing pass

Upstream job id: Windows-Compile-DPDK-Native#29486

Test environment and result as below:

+---------------------+--------------------+-------------------+-------------------------+----------------------+
|     Environment     | dpdk_meson_compile | dpdk_msvc_compile | dpdk_llvm_clang_compile | dpdk_mingw64_compile |
+=====================+====================+===================+=========================+======================+
| Ubuntu 20.04        | PASS               | SKIPPED           | SKIPPED                 | SKIPPED              |
+---------------------+--------------------+-------------------+-------------------------+----------------------+
| FreeBSD 14.2        | PASS               | SKIPPED           | SKIPPED                 | SKIPPED              |
+---------------------+--------------------+-------------------+-------------------------+----------------------+
| Windows Server 2022 | SKIPPED            | PASS              | PASS                    | PASS                 |
+---------------------+--------------------+-------------------+-------------------------+----------------------+


Ubuntu 20.04
	Kernel: 4.19
	Compiler: gcc gcc (Ubuntu 9.4.0-1ubuntu1~20.04.2) 9.4.0

FreeBSD 14.2
	Kernel: 14.2-RELEASE
	Compiler: clang 18.1.6

Windows Server 2022
	Kernel: 10.0.20348.2031
	Compiler: clang 15.0.7, gcc 14.1.0 (MinGW), and MSVC VS 19.39.33521

To view detailed results, visit:
https://lab.dpdk.org/results/dashboard/patchsets/33554/

UNH-IOL DPDK Community Lab

To manage your email subscriptions, visit: 
https://lab.dpdk.org/results/dashboard/preferences/subscriptions/

^ permalink raw reply	[flat|nested] 26+ messages in thread

* |PENDING| pw154903 [PATCH] ci: check C++ headers with clang
       [not found] <20250701113146.1268492-1-david.marchand@redhat.com>
                   ` (17 preceding siblings ...)
  2025-07-01 20:23 ` dpdklab
@ 2025-07-01 20:35 ` dpdklab
  2025-07-01 21:30 ` dpdklab
                   ` (6 subsequent siblings)
  25 siblings, 0 replies; 26+ messages in thread
From: dpdklab @ 2025-07-01 20:35 UTC (permalink / raw)
  To: Test Report; +Cc: dpdk-test-reports

Test-Label: iol-compile-arm64-testing
Test-Status: PENDING
http://dpdk.org/patch/154903

_Testing pending_

Submitter: David Marchand <david.marchand@redhat.com>
Date: Tuesday, July 01 2025 11:31:46 
DPDK git baseline: Repo:dpdk
  Branch: master
  CommitID:20460dcffd08a4680f881c39916ae783ee830374

154903 --> testing pending

Upstream job id: Generic-DPDK-Compile-Meson#404307

Test environment and result as below:

+------------------------------+--------------------+
|         Environment          | dpdk_meson_compile |
+==============================+====================+
| Red Hat Enterprise Linux 9.5 | PEND               |
+------------------------------+--------------------+
| Ubuntu 20.04                 | PASS               |
+------------------------------+--------------------+
| Debian GNU/Linux 12          | PEND               |
+------------------------------+--------------------+


Red Hat Enterprise Linux 9.5
	Kernel: 5.4
	Compiler: gcc gcc (GCC) 11.5.0 20240719 (Red Hat 11.5.0-2)

Ubuntu 20.04
	Kernel: 5.15
	Compiler: aarch64-linux-gnu-gcc gcc (Ubuntu 9.4.0-1ubuntu1~20.04.2) 9.4.0

Debian GNU/Linux 12
	Kernel: 5.4
	Compiler: gcc gcc (Debian 12.2.0-14+deb12u1) 12.2.0

To view detailed results, visit:
https://lab.dpdk.org/results/dashboard/patchsets/33554/

UNH-IOL DPDK Community Lab

To manage your email subscriptions, visit: 
https://lab.dpdk.org/results/dashboard/preferences/subscriptions/

^ permalink raw reply	[flat|nested] 26+ messages in thread

* |PENDING| pw154903 [PATCH] ci: check C++ headers with clang
       [not found] <20250701113146.1268492-1-david.marchand@redhat.com>
                   ` (18 preceding siblings ...)
  2025-07-01 20:35 ` |PENDING| " dpdklab
@ 2025-07-01 21:30 ` dpdklab
  2025-07-01 22:35 ` |SUCCESS| " dpdklab
                   ` (5 subsequent siblings)
  25 siblings, 0 replies; 26+ messages in thread
From: dpdklab @ 2025-07-01 21:30 UTC (permalink / raw)
  To: Test Report; +Cc: dpdk-test-reports

Test-Label: iol-abi-testing
Test-Status: PENDING
http://dpdk.org/patch/154903

_Testing pending_

Submitter: David Marchand <david.marchand@redhat.com>
Date: Tuesday, July 01 2025 11:31:46 
DPDK git baseline: Repo:dpdk
  Branch: master
  CommitID:20460dcffd08a4680f881c39916ae783ee830374

154903 --> testing pending

Upstream job id: Generic-DPDK-Compile-ABI#132596

Test environment and result as below:

+-------------------------------+----------+
|          Environment          | abi_test |
+===============================+==========+
| CentOS Stream 9               | PASS     |
+-------------------------------+----------+
| CentOS Stream 10              | PEND     |
+-------------------------------+----------+
| Fedora Linux 40               | PEND     |
+-------------------------------+----------+
| Fedora Linux 41               | PEND     |
+-------------------------------+----------+
| openSUSE Leap 15.6            | PEND     |
+-------------------------------+----------+
| Red Hat Enterprise Linux 9.5  | PEND     |
+-------------------------------+----------+
| Ubuntu 24.04                  | PEND     |
+-------------------------------+----------+
| Red Hat Enterprise Linux 8.10 | PEND     |
+-------------------------------+----------+
| Ubuntu 22.04                  | PEND     |
+-------------------------------+----------+
| Debian GNU/Linux 12           | PEND     |
+-------------------------------+----------+


CentOS Stream 9
	Kernel: 5.15
	Compiler: gcc gcc (GCC) 11.5.0 20240719 (Red Hat 11.5.0-7)

CentOS Stream 10
	Kernel: 5.15
	Compiler: gcc gcc (GCC) 14.2.1 20250110 (Red Hat 14.2.1-8)

Fedora Linux 40
	Kernel: 5.15
	Compiler: clang gcc (GCC) 14.2.1 20240912 (Red Hat 14.2.1-3)

Fedora Linux 41
	Kernel: 5.15
	Compiler: gcc gcc (GCC) 14.3.1 20250523 (Red Hat 14.3.1-1)

openSUSE Leap 15.6
	Kernel: 5.15
	Compiler: gcc gcc (SUSE Linux) 7.5.0

Red Hat Enterprise Linux 9.5
	Kernel: 5.15
	Compiler: gcc gcc (GCC) 11.5.0 20240719 (Red Hat 11.5.0-2)

Ubuntu 24.04
	Kernel: 5.15
	Compiler: gcc gcc (Ubuntu 13.3.0-6ubuntu2~24.04) 13.3.0

Red Hat Enterprise Linux 8.10
	Kernel: 5.15
	Compiler: gcc gcc (GCC) 8.5.0 20210514 (Red Hat 8.5.0-22)

Ubuntu 22.04
	Kernel: 5.15
	Compiler: gcc gcc (Ubuntu 11.4.0-1ubuntu1~22.04) 11.4.0

Debian GNU/Linux 12
	Kernel: 5.15
	Compiler: gcc gcc (Debian 12.2.0-14+deb12u1) 12.2.0

To view detailed results, visit:
https://lab.dpdk.org/results/dashboard/patchsets/33554/

UNH-IOL DPDK Community Lab

To manage your email subscriptions, visit: 
https://lab.dpdk.org/results/dashboard/preferences/subscriptions/

^ permalink raw reply	[flat|nested] 26+ messages in thread

* |SUCCESS| pw154903 [PATCH] ci: check C++ headers with clang
       [not found] <20250701113146.1268492-1-david.marchand@redhat.com>
                   ` (19 preceding siblings ...)
  2025-07-01 21:30 ` dpdklab
@ 2025-07-01 22:35 ` dpdklab
  2025-07-01 22:39 ` dpdklab
                   ` (4 subsequent siblings)
  25 siblings, 0 replies; 26+ messages in thread
From: dpdklab @ 2025-07-01 22:35 UTC (permalink / raw)
  To: Test Report; +Cc: dpdk-test-reports

Test-Label: iol-abi-testing
Test-Status: SUCCESS
http://dpdk.org/patch/154903

_Testing PASS_

Submitter: David Marchand <david.marchand@redhat.com>
Date: Tuesday, July 01 2025 11:31:46 
DPDK git baseline: Repo:dpdk
  Branch: master
  CommitID:20460dcffd08a4680f881c39916ae783ee830374

154903 --> testing pass

Upstream job id: Generic-DPDK-Compile-ABI#132598

Test environment and result as below:

+-------------------------------+----------+
|          Environment          | abi_test |
+===============================+==========+
| CentOS Stream 9               | PASS     |
+-------------------------------+----------+
| CentOS Stream 10              | PASS     |
+-------------------------------+----------+
| Fedora Linux 40               | PASS     |
+-------------------------------+----------+
| Fedora Linux 41               | PASS     |
+-------------------------------+----------+
| openSUSE Leap 15.6            | PASS     |
+-------------------------------+----------+
| Red Hat Enterprise Linux 9.5  | PASS     |
+-------------------------------+----------+
| Ubuntu 24.04                  | PASS     |
+-------------------------------+----------+
| Red Hat Enterprise Linux 8.10 | PASS     |
+-------------------------------+----------+
| Ubuntu 22.04                  | PASS     |
+-------------------------------+----------+
| Debian GNU/Linux 12           | PASS     |
+-------------------------------+----------+


CentOS Stream 9
	Kernel: 5.15
	Compiler: gcc gcc (GCC) 11.5.0 20240719 (Red Hat 11.5.0-7)

CentOS Stream 10
	Kernel: 5.15
	Compiler: gcc gcc (GCC) 14.2.1 20250110 (Red Hat 14.2.1-8)

Fedora Linux 40
	Kernel: 5.15
	Compiler: clang gcc (GCC) 14.2.1 20240912 (Red Hat 14.2.1-3)

Fedora Linux 41
	Kernel: 5.15
	Compiler: gcc gcc (GCC) 14.3.1 20250523 (Red Hat 14.3.1-1)

openSUSE Leap 15.6
	Kernel: 5.15
	Compiler: gcc gcc (SUSE Linux) 7.5.0

Red Hat Enterprise Linux 9.5
	Kernel: 5.15
	Compiler: gcc gcc (GCC) 11.5.0 20240719 (Red Hat 11.5.0-2)

Ubuntu 24.04
	Kernel: 5.15
	Compiler: gcc gcc (Ubuntu 13.3.0-6ubuntu2~24.04) 13.3.0

Red Hat Enterprise Linux 8.10
	Kernel: 5.15
	Compiler: gcc gcc (GCC) 8.5.0 20210514 (Red Hat 8.5.0-22)

Ubuntu 22.04
	Kernel: 5.15
	Compiler: gcc gcc (Ubuntu 11.4.0-1ubuntu1~22.04) 11.4.0

Debian GNU/Linux 12
	Kernel: 5.15
	Compiler: gcc gcc (Debian 12.2.0-14+deb12u1) 12.2.0

To view detailed results, visit:
https://lab.dpdk.org/results/dashboard/patchsets/33554/

UNH-IOL DPDK Community Lab

To manage your email subscriptions, visit: 
https://lab.dpdk.org/results/dashboard/preferences/subscriptions/

^ permalink raw reply	[flat|nested] 26+ messages in thread

* |SUCCESS| pw154903 [PATCH] ci: check C++ headers with clang
       [not found] <20250701113146.1268492-1-david.marchand@redhat.com>
                   ` (20 preceding siblings ...)
  2025-07-01 22:35 ` |SUCCESS| " dpdklab
@ 2025-07-01 22:39 ` dpdklab
  2025-07-02  0:11 ` |WARNING| " dpdklab
                   ` (3 subsequent siblings)
  25 siblings, 0 replies; 26+ messages in thread
From: dpdklab @ 2025-07-01 22:39 UTC (permalink / raw)
  To: Test Report; +Cc: dpdk-test-reports

Test-Label: iol-abi-testing
Test-Status: SUCCESS
http://dpdk.org/patch/154903

_Testing PASS_

Submitter: David Marchand <david.marchand@redhat.com>
Date: Tuesday, July 01 2025 11:31:46 
DPDK git baseline: Repo:dpdk
  Branch: master
  CommitID:20460dcffd08a4680f881c39916ae783ee830374

154903 --> testing pass

Upstream job id: Generic-DPDK-Compile-ABI#132622

Test environment and result as below:

+-------------------------------+----------+
|          Environment          | abi_test |
+===============================+==========+
| CentOS Stream 9               | PASS     |
+-------------------------------+----------+
| CentOS Stream 10              | PASS     |
+-------------------------------+----------+
| Fedora Linux 40               | PASS     |
+-------------------------------+----------+
| Fedora Linux 41               | PASS     |
+-------------------------------+----------+
| openSUSE Leap 15.6            | PASS     |
+-------------------------------+----------+
| Red Hat Enterprise Linux 9.5  | PASS     |
+-------------------------------+----------+
| Ubuntu 24.04                  | PASS     |
+-------------------------------+----------+
| Red Hat Enterprise Linux 8.10 | PASS     |
+-------------------------------+----------+
| Ubuntu 22.04                  | PASS     |
+-------------------------------+----------+
| Debian GNU/Linux 12           | PASS     |
+-------------------------------+----------+


CentOS Stream 9
	Kernel: 5.15
	Compiler: gcc gcc (GCC) 11.5.0 20240719 (Red Hat 11.5.0-7)

CentOS Stream 10
	Kernel: 5.15
	Compiler: gcc gcc (GCC) 14.2.1 20250110 (Red Hat 14.2.1-8)

Fedora Linux 40
	Kernel: 5.15
	Compiler: clang gcc (GCC) 14.2.1 20240912 (Red Hat 14.2.1-3)

Fedora Linux 41
	Kernel: 5.15
	Compiler: gcc gcc (GCC) 14.3.1 20250523 (Red Hat 14.3.1-1)

openSUSE Leap 15.6
	Kernel: 5.15
	Compiler: gcc gcc (SUSE Linux) 7.5.0

Red Hat Enterprise Linux 9.5
	Kernel: 5.15
	Compiler: gcc gcc (GCC) 11.5.0 20240719 (Red Hat 11.5.0-2)

Ubuntu 24.04
	Kernel: 5.15
	Compiler: gcc gcc (Ubuntu 13.3.0-6ubuntu2~24.04) 13.3.0

Red Hat Enterprise Linux 8.10
	Kernel: 5.15
	Compiler: gcc gcc (GCC) 8.5.0 20210514 (Red Hat 8.5.0-22)

Ubuntu 22.04
	Kernel: 5.15
	Compiler: gcc gcc (Ubuntu 11.4.0-1ubuntu1~22.04) 11.4.0

Debian GNU/Linux 12
	Kernel: 5.15
	Compiler: gcc gcc (Debian 12.2.0-14+deb12u1) 12.2.0

To view detailed results, visit:
https://lab.dpdk.org/results/dashboard/patchsets/33554/

UNH-IOL DPDK Community Lab

To manage your email subscriptions, visit: 
https://lab.dpdk.org/results/dashboard/preferences/subscriptions/

^ permalink raw reply	[flat|nested] 26+ messages in thread

* |WARNING| pw154903 [PATCH] ci: check C++ headers with clang
       [not found] <20250701113146.1268492-1-david.marchand@redhat.com>
                   ` (21 preceding siblings ...)
  2025-07-01 22:39 ` dpdklab
@ 2025-07-02  0:11 ` dpdklab
  2025-07-02  1:49 ` |SUCCESS| " dpdklab
                   ` (2 subsequent siblings)
  25 siblings, 0 replies; 26+ messages in thread
From: dpdklab @ 2025-07-02  0:11 UTC (permalink / raw)
  To: Test Report; +Cc: dpdk-test-reports

Test-Label: iol-compile-amd64-testing
Test-Status: WARNING
http://dpdk.org/patch/154903

_Testing issues_

Submitter: David Marchand <david.marchand@redhat.com>
Date: Tuesday, July 01 2025 11:31:46 
DPDK git baseline: Repo:dpdk
  Branch: master
  CommitID:20460dcffd08a4680f881c39916ae783ee830374

154903 --> testing issues

Upstream job id: Generic-DPDK-Compile-Meson#404296

Test environment and result as below:

+-------------------------------+--------------------+-------------------+-------------------------+----------------------+-------------------+------------------+
|          Environment          | dpdk_meson_compile | dpdk_msvc_compile | dpdk_llvm_clang_compile | dpdk_mingw64_compile | dpdk_compile_spdk | dpdk_compile_ovs |
+===============================+====================+===================+=========================+======================+===================+==================+
| Ubuntu 20.04                  | PASS               | SKIPPED           | SKIPPED                 | SKIPPED              | SKIPPED           | SKIPPED          |
+-------------------------------+--------------------+-------------------+-------------------------+----------------------+-------------------+------------------+
| FreeBSD 14.2                  | PASS               | SKIPPED           | SKIPPED                 | SKIPPED              | SKIPPED           | SKIPPED          |
+-------------------------------+--------------------+-------------------+-------------------------+----------------------+-------------------+------------------+
| CentOS Stream 9               | PASS               | SKIPPED           | SKIPPED                 | SKIPPED              | PASS              | SKIPPED          |
+-------------------------------+--------------------+-------------------+-------------------------+----------------------+-------------------+------------------+
| CentOS Stream 10              | PASS               | SKIPPED           | SKIPPED                 | SKIPPED              | SKIPPED           | SKIPPED          |
+-------------------------------+--------------------+-------------------+-------------------------+----------------------+-------------------+------------------+
| Debian GNU/Linux 12           | PASS               | SKIPPED           | SKIPPED                 | SKIPPED              | PASS              | SKIPPED          |
+-------------------------------+--------------------+-------------------+-------------------------+----------------------+-------------------+------------------+
| Fedora Linux 40               | PASS               | SKIPPED           | SKIPPED                 | SKIPPED              | PASS              | SKIPPED          |
+-------------------------------+--------------------+-------------------+-------------------------+----------------------+-------------------+------------------+
| Fedora Linux 41               | PASS               | SKIPPED           | SKIPPED                 | SKIPPED              | PASS              | PASS             |
+-------------------------------+--------------------+-------------------+-------------------------+----------------------+-------------------+------------------+
| openSUSE Leap 15.6            | PASS               | SKIPPED           | SKIPPED                 | SKIPPED              | SKIPPED           | SKIPPED          |
+-------------------------------+--------------------+-------------------+-------------------------+----------------------+-------------------+------------------+
| Red Hat Enterprise Linux 8.10 | PASS               | SKIPPED           | SKIPPED                 | SKIPPED              | SKIPPED           | SKIPPED          |
+-------------------------------+--------------------+-------------------+-------------------------+----------------------+-------------------+------------------+
| Red Hat Enterprise Linux 9.5  | PASS               | SKIPPED           | SKIPPED                 | SKIPPED              | SKIPPED           | SKIPPED          |
+-------------------------------+--------------------+-------------------+-------------------------+----------------------+-------------------+------------------+
| Ubuntu 22.04                  | PASS               | SKIPPED           | SKIPPED                 | SKIPPED              | PASS              | SKIPPED          |
+-------------------------------+--------------------+-------------------+-------------------------+----------------------+-------------------+------------------+
| Ubuntu 24.04                  | PASS               | SKIPPED           | SKIPPED                 | SKIPPED              | PASS              | PASS             |
+-------------------------------+--------------------+-------------------+-------------------------+----------------------+-------------------+------------------+
| Alpine Linux 3.22.0           | PASS               | SKIPPED           | SKIPPED                 | SKIPPED              | SKIPPED           | SKIPPED          |
+-------------------------------+--------------------+-------------------+-------------------------+----------------------+-------------------+------------------+
| Windows Server 2022           | SKIPPED            | PASS              | PASS                    | PASS                 | SKIPPED           | SKIPPED          |
+-------------------------------+--------------------+-------------------+-------------------------+----------------------+-------------------+------------------+


Ubuntu 20.04
	Kernel: 4.19
	Compiler: gcc gcc (Ubuntu 9.4.0-1ubuntu1~20.04.2) 9.4.0

FreeBSD 14.2
	Kernel: 14.2-RELEASE
	Compiler: clang 18.1.6

CentOS Stream 9
	Kernel: 5.15
	Compiler: gcc gcc (GCC) 11.5.0 20240719 (Red Hat 11.5.0-7)

CentOS Stream 10
	Kernel: 5.15
	Compiler: gcc gcc (GCC) 14.2.1 20250110 (Red Hat 14.2.1-8)

Debian GNU/Linux 12
	Kernel: 5.15
	Compiler: gcc gcc (Debian 12.2.0-14+deb12u1) 12.2.0

Fedora Linux 40
	Kernel: 5.15
	Compiler: clang gcc (GCC) 14.2.1 20240912 (Red Hat 14.2.1-3)

Fedora Linux 41
	Kernel: 5.15
	Compiler: clang gcc (GCC) 14.3.1 20250523 (Red Hat 14.3.1-1)

openSUSE Leap 15.6
	Kernel: 5.15
	Compiler: gcc gcc (SUSE Linux) 7.5.0

Red Hat Enterprise Linux 8.10
	Kernel: 5.15
	Compiler: gcc gcc (GCC) 8.5.0 20210514 (Red Hat 8.5.0-22)

Red Hat Enterprise Linux 9.5
	Kernel: 5.15
	Compiler: gcc gcc (GCC) 11.5.0 20240719 (Red Hat 11.5.0-2)

Ubuntu 22.04
	Kernel: 5.15
	Compiler: gcc gcc (Ubuntu 11.4.0-1ubuntu1~22.04) 11.4.0

Ubuntu 24.04
	Kernel: 5.15
	Compiler: gcc gcc (Ubuntu 13.3.0-6ubuntu2~24.04) 13.3.0

Alpine Linux 3.22.0
	Kernel: 5.15
	Compiler: gcc gcc (Alpine 14.2.0) 14.2.0

Windows Server 2022
	Kernel: 10.0.20348.2031
	Compiler: clang 15.0.7, gcc 14.1.0 (MinGW), and MSVC VS 19.39.33521

To view detailed results, visit:
https://lab.dpdk.org/results/dashboard/patchsets/33554/

UNH-IOL DPDK Community Lab

To manage your email subscriptions, visit: 
https://lab.dpdk.org/results/dashboard/preferences/subscriptions/

^ permalink raw reply	[flat|nested] 26+ messages in thread

* |SUCCESS| pw154903 [PATCH] ci: check C++ headers with clang
       [not found] <20250701113146.1268492-1-david.marchand@redhat.com>
                   ` (22 preceding siblings ...)
  2025-07-02  0:11 ` |WARNING| " dpdklab
@ 2025-07-02  1:49 ` dpdklab
  2025-07-02  1:49 ` dpdklab
  2025-07-02  3:24 ` dpdklab
  25 siblings, 0 replies; 26+ messages in thread
From: dpdklab @ 2025-07-02  1:49 UTC (permalink / raw)
  To: Test Report; +Cc: dpdk-test-reports

Test-Label: iol-compile-arm64-testing
Test-Status: SUCCESS
http://dpdk.org/patch/154903

_Testing PASS_

Submitter: David Marchand <david.marchand@redhat.com>
Date: Tuesday, July 01 2025 11:31:46 
DPDK git baseline: Repo:dpdk
  Branch: master
  CommitID:20460dcffd08a4680f881c39916ae783ee830374

154903 --> testing pass

Upstream job id: Generic-DPDK-Compile-Meson#404312

Test environment and result as below:

+------------------------------+--------------------+
|         Environment          | dpdk_meson_compile |
+==============================+====================+
| Red Hat Enterprise Linux 9.5 | PASS               |
+------------------------------+--------------------+
| Ubuntu 20.04                 | PASS               |
+------------------------------+--------------------+
| Debian GNU/Linux 12          | PASS               |
+------------------------------+--------------------+
| Fedora Linux 40              | PASS               |
+------------------------------+--------------------+
| Fedora Linux 41              | PASS               |
+------------------------------+--------------------+
| Ubuntu 22.04                 | PASS               |
+------------------------------+--------------------+
| Ubuntu 24.04                 | PASS               |
+------------------------------+--------------------+
| CentOS Stream 9              | PASS               |
+------------------------------+--------------------+
| CentOS Stream 10             | PASS               |
+------------------------------+--------------------+


Red Hat Enterprise Linux 9.5
	Kernel: 5.4
	Compiler: gcc gcc (GCC) 11.5.0 20240719 (Red Hat 11.5.0-2)

Ubuntu 20.04
	Kernel: 5.15
	Compiler: aarch64-linux-gnu-gcc gcc (Ubuntu 9.4.0-1ubuntu1~20.04.2) 9.4.0

Debian GNU/Linux 12
	Kernel: 5.4
	Compiler: gcc gcc (Debian 12.2.0-14+deb12u1) 12.2.0

Fedora Linux 40
	Kernel: 5.4
	Compiler: gcc gcc (GCC) 14.2.1 20240912 (Red Hat 14.2.1-3)

Fedora Linux 41
	Kernel: 5.4
	Compiler: gcc gcc (GCC) 14.3.1 20250523 (Red Hat 14.3.1-1)

Ubuntu 22.04
	Kernel: 5.4
	Compiler: gcc gcc (Ubuntu 11.4.0-1ubuntu1~22.04) 11.4.0

Ubuntu 24.04
	Kernel: 5.4
	Compiler: gcc gcc (Ubuntu 13.3.0-6ubuntu2~24.04) 13.3.0

CentOS Stream 9
	Kernel: 5.4
	Compiler: gcc gcc (GCC) 11.5.0 20240719 (Red Hat 11.5.0-7)

CentOS Stream 10
	Kernel: 5.4
	Compiler: gcc gcc (GCC) 14.2.1 20250110 (Red Hat 14.2.1-8)

To view detailed results, visit:
https://lab.dpdk.org/results/dashboard/patchsets/33554/

UNH-IOL DPDK Community Lab

To manage your email subscriptions, visit: 
https://lab.dpdk.org/results/dashboard/preferences/subscriptions/

^ permalink raw reply	[flat|nested] 26+ messages in thread

* |SUCCESS| pw154903 [PATCH] ci: check C++ headers with clang
       [not found] <20250701113146.1268492-1-david.marchand@redhat.com>
                   ` (23 preceding siblings ...)
  2025-07-02  1:49 ` |SUCCESS| " dpdklab
@ 2025-07-02  1:49 ` dpdklab
  2025-07-02  3:24 ` dpdklab
  25 siblings, 0 replies; 26+ messages in thread
From: dpdklab @ 2025-07-02  1:49 UTC (permalink / raw)
  To: Test Report; +Cc: dpdk-test-reports

Test-Label: iol-compile-arm64-testing
Test-Status: SUCCESS
http://dpdk.org/patch/154903

_Testing PASS_

Submitter: David Marchand <david.marchand@redhat.com>
Date: Tuesday, July 01 2025 11:31:46 
DPDK git baseline: Repo:dpdk
  Branch: master
  CommitID:20460dcffd08a4680f881c39916ae783ee830374

154903 --> testing pass

Upstream job id: Generic-DPDK-Compile-Meson#404310

Test environment and result as below:

+------------------------------+--------------------+
|         Environment          | dpdk_meson_compile |
+==============================+====================+
| Red Hat Enterprise Linux 9.5 | PASS               |
+------------------------------+--------------------+
| Ubuntu 20.04                 | PASS               |
+------------------------------+--------------------+
| Debian GNU/Linux 12          | PASS               |
+------------------------------+--------------------+
| Fedora Linux 40              | PASS               |
+------------------------------+--------------------+
| Fedora Linux 41              | PASS               |
+------------------------------+--------------------+
| Ubuntu 22.04                 | PASS               |
+------------------------------+--------------------+
| Ubuntu 24.04                 | PASS               |
+------------------------------+--------------------+
| CentOS Stream 9              | PASS               |
+------------------------------+--------------------+
| CentOS Stream 10             | PASS               |
+------------------------------+--------------------+


Red Hat Enterprise Linux 9.5
	Kernel: 5.4
	Compiler: gcc gcc (GCC) 11.5.0 20240719 (Red Hat 11.5.0-2)

Ubuntu 20.04
	Kernel: 5.15
	Compiler: aarch64-linux-gnu-gcc gcc (Ubuntu 9.4.0-1ubuntu1~20.04.2) 9.4.0

Debian GNU/Linux 12
	Kernel: 5.4
	Compiler: gcc gcc (Debian 12.2.0-14+deb12u1) 12.2.0

Fedora Linux 40
	Kernel: 5.4
	Compiler: gcc gcc (GCC) 14.2.1 20240912 (Red Hat 14.2.1-3)

Fedora Linux 41
	Kernel: 5.4
	Compiler: gcc gcc (GCC) 14.3.1 20250523 (Red Hat 14.3.1-1)

Ubuntu 22.04
	Kernel: 5.4
	Compiler: gcc gcc (Ubuntu 11.4.0-1ubuntu1~22.04) 11.4.0

Ubuntu 24.04
	Kernel: 5.4
	Compiler: gcc gcc (Ubuntu 13.3.0-6ubuntu2~24.04) 13.3.0

CentOS Stream 9
	Kernel: 5.4
	Compiler: gcc gcc (GCC) 11.5.0 20240719 (Red Hat 11.5.0-7)

CentOS Stream 10
	Kernel: 5.4
	Compiler: gcc gcc (GCC) 14.2.1 20250110 (Red Hat 14.2.1-8)

To view detailed results, visit:
https://lab.dpdk.org/results/dashboard/patchsets/33554/

UNH-IOL DPDK Community Lab

To manage your email subscriptions, visit: 
https://lab.dpdk.org/results/dashboard/preferences/subscriptions/

^ permalink raw reply	[flat|nested] 26+ messages in thread

* |SUCCESS| pw154903 [PATCH] ci: check C++ headers with clang
       [not found] <20250701113146.1268492-1-david.marchand@redhat.com>
                   ` (24 preceding siblings ...)
  2025-07-02  1:49 ` dpdklab
@ 2025-07-02  3:24 ` dpdklab
  25 siblings, 0 replies; 26+ messages in thread
From: dpdklab @ 2025-07-02  3:24 UTC (permalink / raw)
  To: Test Report; +Cc: dpdk-test-reports

Test-Label: iol-sample-apps-testing
Test-Status: SUCCESS
http://dpdk.org/patch/154903

_Testing PASS_

Submitter: David Marchand <david.marchand@redhat.com>
Date: Tuesday, July 01 2025 11:31:46 
DPDK git baseline: Repo:dpdk
  Branch: master
  CommitID:20460dcffd08a4680f881c39916ae783ee830374

154903 --> testing pass

Upstream job id: ACVP-FIPS-testing#10365

Test environment and result as below:

+--------------+----------------------+----------------------+
| Environment  | compressdev_zlib_pmd | dpdk_fips_validation |
+==============+======================+======================+
| Ubuntu 22.04 | PASS                 | SKIPPED              |
+--------------+----------------------+----------------------+
| Ubuntu 20.04 | SKIPPED              | PASS                 |
+--------------+----------------------+----------------------+


Ubuntu 22.04
	Kernel: 5.15
	Compiler: gcc gcc (Ubuntu 11.4.0-1ubuntu1~22.04) 11.4.0

Ubuntu 20.04
	Kernel: 5.15
	Compiler: gcc gcc (Ubuntu 9.4.0-1ubuntu1~20.04.2) 9.4.0

To view detailed results, visit:
https://lab.dpdk.org/results/dashboard/patchsets/33554/

UNH-IOL DPDK Community Lab

To manage your email subscriptions, visit: 
https://lab.dpdk.org/results/dashboard/preferences/subscriptions/

^ permalink raw reply	[flat|nested] 26+ messages in thread

end of thread, other threads:[~2025-07-02  3:24 UTC | newest]

Thread overview: 26+ messages (download: mbox.gz / follow: Atom feed)
-- links below jump to the message on this page --
     [not found] <20250701113146.1268492-1-david.marchand@redhat.com>
2025-07-01 10:59 ` |SUCCESS| pw154903 [PATCH] ci: check C++ headers with clang qemudev
2025-07-01 11:03 ` qemudev
2025-07-01 11:32 ` checkpatch
2025-07-01 12:43 ` 0-day Robot
2025-07-01 16:18 ` dpdklab
2025-07-01 16:19 ` dpdklab
2025-07-01 16:31 ` dpdklab
2025-07-01 16:43 ` dpdklab
2025-07-01 16:44 ` dpdklab
2025-07-01 16:59 ` dpdklab
2025-07-01 18:00 ` |PENDING| " dpdklab
2025-07-01 18:18 ` |SUCCESS| " dpdklab
2025-07-01 18:35 ` |PENDING| " dpdklab
2025-07-01 18:58 ` |SUCCESS| " dpdklab
2025-07-01 19:40 ` |PENDING| " dpdklab
2025-07-01 19:51 ` |SUCCESS| " dpdklab
2025-07-01 19:53 ` dpdklab
2025-07-01 20:23 ` dpdklab
2025-07-01 20:35 ` |PENDING| " dpdklab
2025-07-01 21:30 ` dpdklab
2025-07-01 22:35 ` |SUCCESS| " dpdklab
2025-07-01 22:39 ` dpdklab
2025-07-02  0:11 ` |WARNING| " dpdklab
2025-07-02  1:49 ` |SUCCESS| " dpdklab
2025-07-02  1:49 ` dpdklab
2025-07-02  3:24 ` dpdklab

This is a public inbox, see mirroring instructions
for how to clone and mirror all data and code used for this inbox;
as well as URLs for NNTP newsgroup(s).