automatic DPDK test reports
 help / color / mirror / Atom feed
* |SUCCESS| pw154905-154912 [v5 9/9] bus/dpaa: optimize qman enqueue check
       [not found] <20250701113707.2793004-10-vanshika.shukla@nxp.com>
@ 2025-07-01 11:05 ` qemudev
  2025-07-01 11:10 ` qemudev
                   ` (19 subsequent siblings)
  20 siblings, 0 replies; 21+ messages in thread
From: qemudev @ 2025-07-01 11:05 UTC (permalink / raw)
  To: test-report

Test-Label: loongarch-compilation
Test-Status: SUCCESS
http://dpdk.org/patch/154912

_Compilation OK_

Submitter: Vanshika Shukla <vanshika.shukla@nxp.com>
Date: Tue,  1 Jul 2025 17:06:59 +0530
DPDK git baseline: Repo:dpdk-next-net
  Branch: main
  CommitID: 77864da82f25a9e1e43c14b2cba68c2049a3ee3e

154905-154912 --> meson & ninja build successfully

Test environment and result as below:

+---------------------+----------------+
|     Environment     | compilation    |
+---------------------+----------------+
| Loongnix-Server 8.3 | PASS           |
+---------------------+----------------+

Loongnix-Server 8.3
    Kernel: 4.19.190+
    Compiler: gcc 8.3


^ permalink raw reply	[flat|nested] 21+ messages in thread

* |SUCCESS| pw154905-154912 [v5 9/9] bus/dpaa: optimize qman enqueue check
       [not found] <20250701113707.2793004-10-vanshika.shukla@nxp.com>
  2025-07-01 11:05 ` |SUCCESS| pw154905-154912 [v5 9/9] bus/dpaa: optimize qman enqueue check qemudev
@ 2025-07-01 11:10 ` qemudev
  2025-07-01 11:37 ` |SUCCESS| pw154912 " checkpatch
                   ` (18 subsequent siblings)
  20 siblings, 0 replies; 21+ messages in thread
From: qemudev @ 2025-07-01 11:10 UTC (permalink / raw)
  To: test-report

Test-Label: loongarch-unit-testing
Test-Status: SUCCESS
http://dpdk.org/patch/154912

_Unit Testing PASS_

Submitter: Vanshika Shukla <vanshika.shukla@nxp.com>
Date: Tue,  1 Jul 2025 17:06:59 +0530
DPDK git baseline: Repo:dpdk-next-net
  Branch: main
  CommitID: 77864da82f25a9e1e43c14b2cba68c2049a3ee3e

154905-154912 --> testing pass

Test environment and result as below:

+---------------------+----------------+
|     Environment     | dpdk_unit_test |
+---------------------+----------------+
| Loongnix-Server 8.3 | PASS           |
+---------------------+----------------+

Loongnix-Server 8.3
    Kernel: 4.19.190+
    Compiler: gcc 8.3


Test result details:
  1/121 DPDK:fast-tests / acl_autotest                            OK              3.06s
  2/121 DPDK:fast-tests / alarm_autotest                          OK              1.44s
  3/121 DPDK:fast-tests / argparse_autotest                       OK              0.43s
  4/121 DPDK:fast-tests / atomic_autotest                         OK              7.27s
  5/121 DPDK:fast-tests / bitcount_autotest                       OK              0.31s
  6/121 DPDK:fast-tests / bitmap_autotest                         OK              0.31s
  7/121 DPDK:fast-tests / bitops_autotest                         OK              1.81s
  8/121 DPDK:fast-tests / bitratestats_autotest                   OK              0.31s
  9/121 DPDK:fast-tests / bitset_autotest                         OK              3.05s
 10/121 DPDK:fast-tests / bpf_autotest                            OK              0.31s
 11/121 DPDK:fast-tests / bpf_convert_autotest                    OK              0.32s
 12/121 DPDK:fast-tests / byteorder_autotest                      OK              0.31s
 13/121 DPDK:fast-tests / cfgfile_autotest                        OK              0.31s
 14/121 DPDK:fast-tests / cksum_autotest                          OK              0.31s
 15/121 DPDK:fast-tests / cmdline_autotest                        OK              0.31s
 16/121 DPDK:fast-tests / common_autotest                         OK              1.19s
 17/121 DPDK:fast-tests / compressdev_autotest                    SKIP            0.06s   exit status 77
 18/121 DPDK:fast-tests / cpuflags_autotest                       OK              0.31s
 19/121 DPDK:fast-tests / crc_autotest                            OK              0.31s
 20/121 DPDK:fast-tests / user_delay_us                           OK              0.31s
 21/121 DPDK:fast-tests / debug_autotest                          OK             20.01s
 22/121 DPDK:fast-tests / devargs_autotest                        OK              0.31s
 23/121 DPDK:fast-tests / dispatcher_autotest                     OK              2.50s
 24/121 DPDK:fast-tests / distributor_autotest                    OK              1.20s
 25/121 DPDK:fast-tests / eal_flags_c_opt_autotest                OK              0.81s
 26/121 DPDK:fast-tests / eal_flags_main_opt_autotest             OK              0.22s
 27/121 DPDK:fast-tests / eal_flags_n_opt_autotest                OK              0.20s
 28/121 DPDK:fast-tests / eal_flags_hpet_autotest                 OK              0.13s
 29/121 DPDK:fast-tests / eal_flags_no_huge_autotest              OK              0.22s
 30/121 DPDK:fast-tests / eal_flags_a_opt_autotest                OK              0.30s
 31/121 DPDK:fast-tests / eal_flags_b_opt_autotest                OK              0.25s
 32/121 DPDK:fast-tests / eal_flags_vdev_opt_autotest             OK              0.20s
 33/121 DPDK:fast-tests / eal_flags_r_opt_autotest                OK              0.19s
 34/121 DPDK:fast-tests / eal_flags_mem_autotest                  OK              0.60s
 35/121 DPDK:fast-tests / eal_flags_file_prefix_autotest          OK             22.25s
 36/121 DPDK:fast-tests / eal_flags_misc_autotest                 OK              1.07s
 37/121 DPDK:fast-tests / eal_fs_autotest                         OK              0.31s
 38/121 DPDK:fast-tests / errno_autotest                          OK              0.31s
 39/121 DPDK:fast-tests / ethdev_link_status                      OK              0.31s
 40/121 DPDK:fast-tests / event_eth_tx_adapter_autotest           OK              1.68s
 41/121 DPDK:fast-tests / event_ring_autotest                     OK              0.31s
 42/121 DPDK:fast-tests / event_vector_adapter_autotest           OK              0.66s
 43/121 DPDK:fast-tests / eventdev_common_autotest                OK              0.30s
 44/121 DPDK:fast-tests / eventdev_selftest_sw                    OK              7.15s
 45/121 DPDK:fast-tests / fbarray_autotest                        OK              0.54s
 46/121 DPDK:fast-tests / fib_autotest                            OK              1.36s
 47/121 DPDK:fast-tests / fib6_autotest                           OK              1.15s
 48/121 DPDK:fast-tests / func_reentrancy_autotest                OK              2.31s
 49/121 DPDK:fast-tests / graph_autotest                          OK              0.44s
 50/121 DPDK:fast-tests / node_list_dump                          OK              0.43s
 51/121 DPDK:fast-tests / graph_feature_arc_autotest              OK              0.44s
 52/121 DPDK:fast-tests / hash_autotest                           OK              1.05s
 53/121 DPDK:fast-tests / hash_readwrite_func_autotest            OK              6.39s
 54/121 DPDK:fast-tests / interrupt_autotest                      OK              1.73s
 55/121 DPDK:fast-tests / ipfrag_autotest                         OK              0.08s
 56/121 DPDK:fast-tests / ipsec_autotest                          SKIP            0.43s   exit status 77
 57/121 DPDK:fast-tests / kvargs_autotest                         OK              0.44s
 58/121 DPDK:fast-tests / latencystats_autotest                   OK              0.44s
 59/121 DPDK:fast-tests / lcore_var_autotest                      OK              0.57s
 60/121 DPDK:fast-tests / lcores_autotest                         OK              5.24s
 61/121 DPDK:fast-tests / logs_autotest                           OK              0.43s
 62/121 DPDK:fast-tests / lpm_autotest                            OK              2.48s
 63/121 DPDK:fast-tests / lpm6_autotest                           OK              5.61s
 64/121 DPDK:fast-tests / malloc_autotest                         OK             60.94s
 65/121 DPDK:fast-tests / mbuf_autotest                           OK              5.67s
 66/121 DPDK:fast-tests / mcslock_autotest                        OK              2.97s
 67/121 DPDK:fast-tests / member_autotest                         OK              1.64s
 68/121 DPDK:fast-tests / memcpy_autotest                         OK              7.28s
 69/121 DPDK:fast-tests / memory_autotest                         OK              0.09s
 70/121 DPDK:fast-tests / mempool_autotest                        OK              0.43s
 71/121 DPDK:fast-tests / memzone_autotest                        OK              0.14s
 72/121 DPDK:fast-tests / meter_autotest                          OK              0.43s
 73/121 DPDK:fast-tests / metrics_autotest                        OK              0.43s
 74/121 DPDK:fast-tests / multiprocess_autotest                   OK              0.19s
 75/121 DPDK:fast-tests / net_ether_autotest                      OK              1.09s
 76/121 DPDK:fast-tests / net_ipv6_autotest                       OK              0.43s
 77/121 DPDK:fast-tests / pcapng_autotest                         OK              6.77s
 78/121 DPDK:fast-tests / pdcp_autotest                           SKIP            0.07s   exit status 77
 79/121 DPDK:fast-tests / pdump_autotest                          OK              0.55s
 80/121 DPDK:fast-tests / per_lcore_autotest                      OK              0.53s
 81/121 DPDK:fast-tests / pflock_autotest                         OK              1.24s
 82/121 DPDK:fast-tests / pie_autotest                            OK              0.43s
 83/121 DPDK:fast-tests / ring_pmd_autotest                       OK              0.54s
 84/121 DPDK:fast-tests / power_autotest                          OK              0.54s
 85/121 DPDK:fast-tests / power_cpufreq_autotest                  SKIP            0.07s   exit status 77
 86/121 DPDK:fast-tests / power_intel_uncore_autotest             SKIP            0.31s   exit status 77
 87/121 DPDK:fast-tests / power_kvm_vm_autotest                   SKIP            0.06s   exit status 77
 88/121 DPDK:fast-tests / prefetch_autotest                       OK              0.34s
 89/121 DPDK:fast-tests / ptr_compress_autotest                   OK              0.31s
 90/121 DPDK:fast-tests / rawdev_autotest                         OK              0.31s
 91/121 DPDK:fast-tests / rcu_qsbr_autotest                       OK              0.83s
 92/121 DPDK:fast-tests / reorder_autotest                        OK              0.37s
 93/121 DPDK:fast-tests / rib_autotest                            OK              8.97s
 94/121 DPDK:fast-tests / rib6_autotest                           OK              8.95s
 95/121 DPDK:fast-tests / ring_autotest                           OK              0.34s
 96/121 DPDK:fast-tests / rwlock_test1_autotest                   OK              1.09s
 97/121 DPDK:fast-tests / rwlock_rda_autotest                     OK              5.31s
 98/121 DPDK:fast-tests / rwlock_rds_wrm_autotest                 OK              5.31s
 99/121 DPDK:fast-tests / rwlock_rde_wro_autotest                 OK              5.42s
100/121 DPDK:fast-tests / sched_autotest                          OK              0.44s
101/121 DPDK:fast-tests / security_autotest                       OK              0.06s
102/121 DPDK:fast-tests / seqlock_autotest                        OK              2.42s
103/121 DPDK:fast-tests / service_autotest                        OK              3.12s
104/121 DPDK:fast-tests / soring_autotest                         OK              0.42s
105/121 DPDK:fast-tests / spinlock_autotest                       OK              0.50s
106/121 DPDK:fast-tests / stack_autotest                          OK              0.86s
107/121 DPDK:fast-tests / stack_lf_autotest                       SKIP            0.06s   exit status 77
108/121 DPDK:fast-tests / string_autotest                         OK              0.43s
109/121 DPDK:fast-tests / table_autotest                          OK              7.64s
110/121 DPDK:fast-tests / tailq_autotest                          OK              0.43s
111/121 DPDK:fast-tests / telemetry_data_autotest                 OK              0.44s
112/121 DPDK:fast-tests / telemetry_json_autotest                 OK              0.44s
113/121 DPDK:fast-tests / thash_autotest                          OK              0.45s
114/121 DPDK:fast-tests / threads_autotest                        OK              0.62s
115/121 DPDK:fast-tests / ticketlock_autotest                     OK              0.58s
116/121 DPDK:fast-tests / timer_autotest                          OK              3.86s
117/121 DPDK:fast-tests / trace_autotest                          OK              0.49s
118/121 DPDK:fast-tests / trace_autotest_with_traces              OK              0.50s
119/121 DPDK:fast-tests / vdev_autotest                           OK              0.50s
120/121 DPDK:fast-tests / version_autotest                        OK              0.50s
121/121 DPDK:fast-tests / telemetry_all                           OK              1.32s


Ok:                 114
Expected Fail:      0
Fail:               0
Unexpected Pass:    0
Skipped:            7
Timeout:            0


^ permalink raw reply	[flat|nested] 21+ messages in thread

* |SUCCESS| pw154912 [v5 9/9] bus/dpaa: optimize qman enqueue check
       [not found] <20250701113707.2793004-10-vanshika.shukla@nxp.com>
  2025-07-01 11:05 ` |SUCCESS| pw154905-154912 [v5 9/9] bus/dpaa: optimize qman enqueue check qemudev
  2025-07-01 11:10 ` qemudev
@ 2025-07-01 11:37 ` checkpatch
  2025-07-01 13:03 ` 0-day Robot
                   ` (17 subsequent siblings)
  20 siblings, 0 replies; 21+ messages in thread
From: checkpatch @ 2025-07-01 11:37 UTC (permalink / raw)
  To: test-report

Test-Label: checkpatch
Test-Status: SUCCESS
http://dpdk.org/patch/154912

_coding style OK_



^ permalink raw reply	[flat|nested] 21+ messages in thread

* |SUCCESS| pw154912 [v5 9/9] bus/dpaa: optimize qman enqueue check
       [not found] <20250701113707.2793004-10-vanshika.shukla@nxp.com>
                   ` (2 preceding siblings ...)
  2025-07-01 11:37 ` |SUCCESS| pw154912 " checkpatch
@ 2025-07-01 13:03 ` 0-day Robot
  2025-07-01 15:13 ` |SUCCESS| pw154905-154912 [PATCH] [v5,9/9] bus/dpaa: optimize qman e dpdklab
                   ` (16 subsequent siblings)
  20 siblings, 0 replies; 21+ messages in thread
From: 0-day Robot @ 2025-07-01 13:03 UTC (permalink / raw)
  To: test-report; +Cc: robot

From: robot@bytheb.org

Test-Label: github-robot: build
Test-Status: SUCCESS
http://patchwork.dpdk.org/patch/154912/

_github build: passed_
Build URL: https://github.com/ovsrobot/dpdk/actions/runs/15998433909

^ permalink raw reply	[flat|nested] 21+ messages in thread

* |SUCCESS| pw154905-154912 [PATCH] [v5,9/9] bus/dpaa: optimize qman e
       [not found] <20250701113707.2793004-10-vanshika.shukla@nxp.com>
                   ` (3 preceding siblings ...)
  2025-07-01 13:03 ` 0-day Robot
@ 2025-07-01 15:13 ` dpdklab
  2025-07-01 15:23 ` dpdklab
                   ` (15 subsequent siblings)
  20 siblings, 0 replies; 21+ messages in thread
From: dpdklab @ 2025-07-01 15:13 UTC (permalink / raw)
  To: Test Report; +Cc: dpdk-test-reports

Test-Label: iol-broadcom-Performance
Test-Status: SUCCESS
http://dpdk.org/patch/154912

_Performance Testing PASS_

Submitter: Vanshika Shukla <vanshika.shukla@nxp.com>
Date: Tuesday, July 01 2025 11:37:07 
DPDK git baseline: Repo:dpdk
  Branch: master
  CommitID:3e081a0c03a5cb71555dba06a920d57e75dd09c9

154905-154912 --> performance testing pass

Upstream job id: Template-DTS-Pipeline#234353

Test environment and result as below:

Ubuntu 22.04
Kernel: 5.15
Compiler: gcc gcc (Ubuntu 11.4.0-1ubuntu1~22.04) 11.4.0
NIC: Arm Broadcom Inc. brcm_57414 25000 Mbps
Fail/Total: 0/2

Detail performance results: 
+------------+---------+----------+-------------+------------------------------+
| frame_size | txd/rxd | num_cpus | num_threads |  throughput difference from  |
|            |         |          |             |           expected           |
+============+=========+==========+=============+==============================+
| 64         | 512     | 1        | 1           | -0.1%                        |
+------------+---------+----------+-------------+------------------------------+
| 64         | 2048    | 1        | 1           | -0.3%                        |
+------------+---------+----------+-------------+------------------------------+

Ubuntu 22.04
Kernel: 5.15
Compiler: gcc gcc (Ubuntu 11.4.0-1ubuntu1~22.04) 11.4.0
NIC: Broadcom Inc. and subsidiaries BCM57414 NetXtreme-E 10Gb/25Gb RDMA Ethernet Controller 16d7 25 Mbps
Fail/Total: 0/3

Detail performance results: 
+------------+---------+----------+-------------+------------------------------+
| frame_size | txd/rxd | num_cpus | num_threads |  throughput difference from  |
|            |         |          |             |           expected           |
+============+=========+==========+=============+==============================+
| 64         | 128     | 1        | 1           | 0.1%                         |
+------------+---------+----------+-------------+------------------------------+
| 64         | 512     | 1        | 1           | -0.1%                        |
+------------+---------+----------+-------------+------------------------------+
| 64         | 2048    | 1        | 1           | 0.4%                         |
+------------+---------+----------+-------------+------------------------------+

To view detailed results, visit:
https://lab.dpdk.org/results/dashboard/patchsets/33555/

UNH-IOL DPDK Community Lab

To manage your email subscriptions, visit: 
https://lab.dpdk.org/results/dashboard/preferences/subscriptions/

^ permalink raw reply	[flat|nested] 21+ messages in thread

* |SUCCESS| pw154905-154912 [PATCH] [v5,9/9] bus/dpaa: optimize qman e
       [not found] <20250701113707.2793004-10-vanshika.shukla@nxp.com>
                   ` (4 preceding siblings ...)
  2025-07-01 15:13 ` |SUCCESS| pw154905-154912 [PATCH] [v5,9/9] bus/dpaa: optimize qman e dpdklab
@ 2025-07-01 15:23 ` dpdklab
  2025-07-01 15:23 ` dpdklab
                   ` (14 subsequent siblings)
  20 siblings, 0 replies; 21+ messages in thread
From: dpdklab @ 2025-07-01 15:23 UTC (permalink / raw)
  To: Ali Alnubani, Test Report; +Cc: dpdk-test-reports

Test-Label: iol-mellanox-Performance
Test-Status: SUCCESS
http://dpdk.org/patch/154912

_Performance Testing PASS_

Submitter: Vanshika Shukla <vanshika.shukla@nxp.com>
Date: Tuesday, July 01 2025 11:37:07 
DPDK git baseline: Repo:dpdk
  Branch: master
  CommitID:3e081a0c03a5cb71555dba06a920d57e75dd09c9

154905-154912 --> performance testing pass

Upstream job id: Template-DTS-Pipeline#234349

Test environment and result as below:

Ubuntu 24.04
Kernel: 6.8
Compiler: gcc gcc (Ubuntu 13.3.0-6ubuntu2~24.04) 13.3.0
NIC: NVIDIA Mellanox ConnectX-7 100000 Mbps
Fail/Total: 0/6

Detail performance results: 
+------------+---------+----------+-------------+------------------------------+
| frame_size | txd/rxd | num_cpus | num_threads |  throughput difference from  |
|            |         |          |             |           expected           |
+============+=========+==========+=============+==============================+
| 64         | 1024    | 1        | 1           | 1.1%                         |
+------------+---------+----------+-------------+------------------------------+
| 128        | 1024    | 1        | 1           | -0.1%                        |
+------------+---------+----------+-------------+------------------------------+
| 256        | 1024    | 1        | 1           | -0.4%                        |
+------------+---------+----------+-------------+------------------------------+
| 512        | 1024    | 1        | 1           | 0.3%                         |
+------------+---------+----------+-------------+------------------------------+
| 1024       | 1024    | 1        | 1           | 0.0%                         |
+------------+---------+----------+-------------+------------------------------+
| 1518       | 1024    | 1        | 1           | -0.1%                        |
+------------+---------+----------+-------------+------------------------------+

Ubuntu 24.04
Kernel: 6.8
Compiler: gcc gcc (Ubuntu 13.3.0-6ubuntu2~24.04) 13.3.0
NIC: Mellanox ConnectX-6 Lx 25000 Mbps
Fail/Total: 0/6

Detail performance results: 
+------------+---------+----------+-------------+------------------------------+
| frame_size | txd/rxd | num_cpus | num_threads |  throughput difference from  |
|            |         |          |             |           expected           |
+============+=========+==========+=============+==============================+
| 64         | 1024    | 1        | 1           | 0.2%                         |
+------------+---------+----------+-------------+------------------------------+
| 128        | 1024    | 1        | 1           | 0.1%                         |
+------------+---------+----------+-------------+------------------------------+
| 256        | 1024    | 1        | 1           | 0.2%                         |
+------------+---------+----------+-------------+------------------------------+
| 512        | 1024    | 1        | 1           | 0.1%                         |
+------------+---------+----------+-------------+------------------------------+
| 1024       | 1024    | 1        | 1           | 0.1%                         |
+------------+---------+----------+-------------+------------------------------+
| 1518       | 1024    | 1        | 1           | 0.0%                         |
+------------+---------+----------+-------------+------------------------------+

To view detailed results, visit:
https://lab.dpdk.org/results/dashboard/patchsets/33555/

UNH-IOL DPDK Community Lab

To manage your email subscriptions, visit: 
https://lab.dpdk.org/results/dashboard/preferences/subscriptions/

^ permalink raw reply	[flat|nested] 21+ messages in thread

* |SUCCESS| pw154905-154912 [PATCH] [v5,9/9] bus/dpaa: optimize qman e
       [not found] <20250701113707.2793004-10-vanshika.shukla@nxp.com>
                   ` (5 preceding siblings ...)
  2025-07-01 15:23 ` dpdklab
@ 2025-07-01 15:23 ` dpdklab
  2025-07-01 15:48 ` dpdklab
                   ` (13 subsequent siblings)
  20 siblings, 0 replies; 21+ messages in thread
From: dpdklab @ 2025-07-01 15:23 UTC (permalink / raw)
  To: Test Report; +Cc: dpdk-test-reports

Test-Label: iol-sample-apps-testing
Test-Status: SUCCESS
http://dpdk.org/patch/154912

_Testing PASS_

Submitter: Vanshika Shukla <vanshika.shukla@nxp.com>
Date: Tuesday, July 01 2025 11:37:07 
DPDK git baseline: Repo:dpdk
  Branch: master
  CommitID:3e081a0c03a5cb71555dba06a920d57e75dd09c9

154905-154912 --> testing pass

Upstream job id: Template-DTS-Pipeline#234362

Test environment and result as below:

+--------------+----------------------+
| Environment  | compressdev_zlib_pmd |
+==============+======================+
| Ubuntu 22.04 | PASS                 |
+--------------+----------------------+


Ubuntu 22.04
	Kernel: 5.15
	Compiler: gcc gcc (Ubuntu 11.4.0-1ubuntu1~22.04) 11.4.0

To view detailed results, visit:
https://lab.dpdk.org/results/dashboard/patchsets/33555/

UNH-IOL DPDK Community Lab

To manage your email subscriptions, visit: 
https://lab.dpdk.org/results/dashboard/preferences/subscriptions/

^ permalink raw reply	[flat|nested] 21+ messages in thread

* |SUCCESS| pw154905-154912 [PATCH] [v5,9/9] bus/dpaa: optimize qman e
       [not found] <20250701113707.2793004-10-vanshika.shukla@nxp.com>
                   ` (6 preceding siblings ...)
  2025-07-01 15:23 ` dpdklab
@ 2025-07-01 15:48 ` dpdklab
  2025-07-01 15:53 ` dpdklab
                   ` (12 subsequent siblings)
  20 siblings, 0 replies; 21+ messages in thread
From: dpdklab @ 2025-07-01 15:48 UTC (permalink / raw)
  To: Test Report; +Cc: dpdk-test-reports

Test-Label: iol-sample-apps-testing
Test-Status: SUCCESS
http://dpdk.org/patch/154912

_Testing PASS_

Submitter: Vanshika Shukla <vanshika.shukla@nxp.com>
Date: Tuesday, July 01 2025 11:37:07 
DPDK git baseline: Repo:dpdk
  Branch: master
  CommitID:3e081a0c03a5cb71555dba06a920d57e75dd09c9

154905-154912 --> testing pass

Upstream job id: Template-DTS-Pipeline#234361

Test environment and result as below:

+--------------+----------------------+
| Environment  | compressdev_zlib_pmd |
+==============+======================+
| Ubuntu 22.04 | PASS                 |
+--------------+----------------------+


Ubuntu 22.04
	Kernel: 5.15
	Compiler: gcc gcc (Ubuntu 11.4.0-1ubuntu1~22.04) 11.4.0

To view detailed results, visit:
https://lab.dpdk.org/results/dashboard/patchsets/33555/

UNH-IOL DPDK Community Lab

To manage your email subscriptions, visit: 
https://lab.dpdk.org/results/dashboard/preferences/subscriptions/

^ permalink raw reply	[flat|nested] 21+ messages in thread

* |SUCCESS| pw154905-154912 [PATCH] [v5,9/9] bus/dpaa: optimize qman e
       [not found] <20250701113707.2793004-10-vanshika.shukla@nxp.com>
                   ` (7 preceding siblings ...)
  2025-07-01 15:48 ` dpdklab
@ 2025-07-01 15:53 ` dpdklab
  2025-07-01 17:16 ` |PENDING| " dpdklab
                   ` (11 subsequent siblings)
  20 siblings, 0 replies; 21+ messages in thread
From: dpdklab @ 2025-07-01 15:53 UTC (permalink / raw)
  To: Test Report; +Cc: dpdk-test-reports

Test-Label: iol-intel-Functional
Test-Status: SUCCESS
http://dpdk.org/patch/154912

_Functional Testing PASS_

Submitter: Vanshika Shukla <vanshika.shukla@nxp.com>
Date: Tuesday, July 01 2025 11:37:07 
DPDK git baseline: Repo:dpdk
  Branch: master
  CommitID:3e081a0c03a5cb71555dba06a920d57e75dd09c9

154905-154912 --> functional testing pass

Upstream job id: Template-DTS-Pipeline#234359

Test environment and result as below:

Ubuntu 22.04
Kernel: 5.15
Compiler: gcc gcc (Ubuntu 11.4.0-1ubuntu1~22.04) 11.4.0
NIC: Intel Corporation QAT 8970 0 Mbps

Aggregate Results by Test Suite
+----------------------------+--------+
|         Test Suite         | Result |
+============================+========+
| crypto_perf_cryptodev_perf |  PASS  |
+----------------------------+--------+


To view detailed results, visit:
https://lab.dpdk.org/results/dashboard/patchsets/33555/

UNH-IOL DPDK Community Lab

To manage your email subscriptions, visit: 
https://lab.dpdk.org/results/dashboard/preferences/subscriptions/

^ permalink raw reply	[flat|nested] 21+ messages in thread

* |PENDING| pw154905-154912 [PATCH] [v5,9/9] bus/dpaa: optimize qman e
       [not found] <20250701113707.2793004-10-vanshika.shukla@nxp.com>
                   ` (8 preceding siblings ...)
  2025-07-01 15:53 ` dpdklab
@ 2025-07-01 17:16 ` dpdklab
  2025-07-01 18:14 ` dpdklab
                   ` (10 subsequent siblings)
  20 siblings, 0 replies; 21+ messages in thread
From: dpdklab @ 2025-07-01 17:16 UTC (permalink / raw)
  To: Test Report; +Cc: dpdk-test-reports

Test-Label: iol-unit-arm64-testing
Test-Status: PENDING
http://dpdk.org/patch/154912

_Testing pending_

Submitter: Vanshika Shukla <vanshika.shukla@nxp.com>
Date: Tuesday, July 01 2025 11:37:07 
DPDK git baseline: Repo:dpdk
  Branch: master
  CommitID:3e081a0c03a5cb71555dba06a920d57e75dd09c9

154905-154912 --> testing pending

Upstream job id: Generic-Unit-Test-DPDK#351502

Test environment and result as below:

+------------------------------+--------------+---------------------------+------------------------------+----------------+
|         Environment          | lpm_autotest | cryptodev_sw_zuc_autotest | cryptodev_sw_snow3g_autotest | dpdk_unit_test |
+==============================+==============+===========================+==============================+================+
| Ubuntu 20.04                 | PEND         | SKIPPED                   | SKIPPED                      | PEND           |
+------------------------------+--------------+---------------------------+------------------------------+----------------+
| Debian 12 (arm)              | SKIPPED      | PASS                      | PEND                         | SKIPPED        |
+------------------------------+--------------+---------------------------+------------------------------+----------------+
| CentOS Stream 9              | SKIPPED      | SKIPPED                   | SKIPPED                      | PEND           |
+------------------------------+--------------+---------------------------+------------------------------+----------------+
| CentOS Stream 10             | SKIPPED      | SKIPPED                   | SKIPPED                      | PEND           |
+------------------------------+--------------+---------------------------+------------------------------+----------------+
| Fedora Linux 41              | SKIPPED      | SKIPPED                   | SKIPPED                      | PEND           |
+------------------------------+--------------+---------------------------+------------------------------+----------------+
| Fedora Linux 40              | SKIPPED      | SKIPPED                   | SKIPPED                      | PEND           |
+------------------------------+--------------+---------------------------+------------------------------+----------------+
| Debian GNU/Linux 12          | SKIPPED      | SKIPPED                   | SKIPPED                      | PEND           |
+------------------------------+--------------+---------------------------+------------------------------+----------------+
| Red Hat Enterprise Linux 9.5 | SKIPPED      | SKIPPED                   | SKIPPED                      | PEND           |
+------------------------------+--------------+---------------------------+------------------------------+----------------+
| Ubuntu 24.04                 | SKIPPED      | SKIPPED                   | SKIPPED                      | PEND           |
+------------------------------+--------------+---------------------------+------------------------------+----------------+
| Ubuntu 22.04                 | SKIPPED      | SKIPPED                   | SKIPPED                      | PEND           |
+------------------------------+--------------+---------------------------+------------------------------+----------------+


Ubuntu 20.04
	Kernel: 5.4
	Compiler: gcc gcc (Ubuntu 9.4.0-1ubuntu1~20.04.2) 9.4.0

Debian 12 (arm)
	Kernel: Depends on container host
	Compiler: gcc (Debian 12.2.0-14) 12.2.0

CentOS Stream 9
	Kernel: 5.4
	Compiler: gcc gcc (GCC) 11.5.0 20240719 (Red Hat 11.5.0-7)

CentOS Stream 10
	Kernel: 5.4
	Compiler: gcc gcc (GCC) 14.2.1 20250110 (Red Hat 14.2.1-8)

Fedora Linux 41
	Kernel: 5.4
	Compiler: gcc gcc (GCC) 14.3.1 20250523 (Red Hat 14.3.1-1)

Fedora Linux 40
	Kernel: 5.4
	Compiler: gcc gcc (GCC) 14.2.1 20240912 (Red Hat 14.2.1-3)

Debian GNU/Linux 12
	Kernel: 5.4
	Compiler: gcc gcc (Debian 12.2.0-14+deb12u1) 12.2.0

Red Hat Enterprise Linux 9.5
	Kernel: 5.4
	Compiler: gcc gcc (GCC) 11.5.0 20240719 (Red Hat 11.5.0-2)

Ubuntu 24.04
	Kernel: 5.4
	Compiler: gcc gcc (Ubuntu 13.3.0-6ubuntu2~24.04) 13.3.0

Ubuntu 22.04
	Kernel: 5.4
	Compiler: gcc gcc (Ubuntu 11.4.0-1ubuntu1~22.04) 11.4.0

To view detailed results, visit:
https://lab.dpdk.org/results/dashboard/patchsets/33555/

UNH-IOL DPDK Community Lab

To manage your email subscriptions, visit: 
https://lab.dpdk.org/results/dashboard/preferences/subscriptions/

^ permalink raw reply	[flat|nested] 21+ messages in thread

* |PENDING| pw154905-154912 [PATCH] [v5,9/9] bus/dpaa: optimize qman e
       [not found] <20250701113707.2793004-10-vanshika.shukla@nxp.com>
                   ` (9 preceding siblings ...)
  2025-07-01 17:16 ` |PENDING| " dpdklab
@ 2025-07-01 18:14 ` dpdklab
  2025-07-01 18:51 ` dpdklab
                   ` (9 subsequent siblings)
  20 siblings, 0 replies; 21+ messages in thread
From: dpdklab @ 2025-07-01 18:14 UTC (permalink / raw)
  To: Test Report; +Cc: dpdk-test-reports

Test-Label: iol-unit-amd64-testing
Test-Status: PENDING
http://dpdk.org/patch/154912

_Testing pending_

Submitter: Vanshika Shukla <vanshika.shukla@nxp.com>
Date: Tuesday, July 01 2025 11:37:07 
DPDK git baseline: Repo:dpdk
  Branch: master
  CommitID:3e081a0c03a5cb71555dba06a920d57e75dd09c9

154905-154912 --> testing pending

Upstream job id: Generic-Unit-Test-DPDK#351510

Test environment and result as below:

+-------------------------------+----------------+
|          Environment          | dpdk_unit_test |
+===============================+================+
| Fedora Linux 40               | PEND           |
+-------------------------------+----------------+
| CentOS Stream 9               | PEND           |
+-------------------------------+----------------+
| CentOS Stream 10              | PEND           |
+-------------------------------+----------------+
| Red Hat Enterprise Linux 8.10 | PEND           |
+-------------------------------+----------------+
| Fedora Linux 41               | PEND           |
+-------------------------------+----------------+
| Red Hat Enterprise Linux 9.5  | PEND           |
+-------------------------------+----------------+
| Ubuntu 22.04                  | PEND           |
+-------------------------------+----------------+
| Ubuntu 20.04                  | PEND           |
+-------------------------------+----------------+
| Debian GNU/Linux 12           | PEND           |
+-------------------------------+----------------+
| Ubuntu 24.04                  | PEND           |
+-------------------------------+----------------+


Fedora Linux 40
	Kernel: 5.15
	Compiler: gcc gcc (GCC) 14.2.1 20240912 (Red Hat 14.2.1-3)

CentOS Stream 9
	Kernel: 5.15
	Compiler: gcc gcc (GCC) 11.5.0 20240719 (Red Hat 11.5.0-7)

CentOS Stream 10
	Kernel: 5.15
	Compiler: gcc gcc (GCC) 14.2.1 20250110 (Red Hat 14.2.1-8)

Red Hat Enterprise Linux 8.10
	Kernel: 5.15
	Compiler: gcc gcc (GCC) 8.5.0 20210514 (Red Hat 8.5.0-22)

Fedora Linux 41
	Kernel: 5.15
	Compiler: gcc gcc (GCC) 14.3.1 20250523 (Red Hat 14.3.1-1)

Red Hat Enterprise Linux 9.5
	Kernel: 5.15
	Compiler: gcc gcc (GCC) 11.5.0 20240719 (Red Hat 11.5.0-2)

Ubuntu 22.04
	Kernel: 5.15
	Compiler: gcc gcc (Ubuntu 11.4.0-1ubuntu1~22.04) 11.4.0

Ubuntu 20.04
	Kernel: 5.15
	Compiler: gcc gcc (Ubuntu 9.4.0-1ubuntu1~20.04.2) 9.4.0

Debian GNU/Linux 12
	Kernel: 5.15
	Compiler: gcc gcc (Debian 12.2.0-14+deb12u1) 12.2.0

Ubuntu 24.04
	Kernel: 5.15
	Compiler: gcc gcc (Ubuntu 13.3.0-6ubuntu2~24.04) 13.3.0

To view detailed results, visit:
https://lab.dpdk.org/results/dashboard/patchsets/33555/

UNH-IOL DPDK Community Lab

To manage your email subscriptions, visit: 
https://lab.dpdk.org/results/dashboard/preferences/subscriptions/

^ permalink raw reply	[flat|nested] 21+ messages in thread

* |PENDING| pw154905-154912 [PATCH] [v5,9/9] bus/dpaa: optimize qman e
       [not found] <20250701113707.2793004-10-vanshika.shukla@nxp.com>
                   ` (10 preceding siblings ...)
  2025-07-01 18:14 ` dpdklab
@ 2025-07-01 18:51 ` dpdklab
  2025-07-01 19:30 ` |SUCCESS| " dpdklab
                   ` (8 subsequent siblings)
  20 siblings, 0 replies; 21+ messages in thread
From: dpdklab @ 2025-07-01 18:51 UTC (permalink / raw)
  To: Test Report; +Cc: dpdk-test-reports

Test-Label: iol-abi-testing
Test-Status: PENDING
http://dpdk.org/patch/154912

_Testing pending_

Submitter: Vanshika Shukla <vanshika.shukla@nxp.com>
Date: Tuesday, July 01 2025 11:37:07 
DPDK git baseline: Repo:dpdk
  Branch: master
  CommitID:3e081a0c03a5cb71555dba06a920d57e75dd09c9

154905-154912 --> testing pending

Upstream job id: Generic-DPDK-Compile-ABI#132586

Test environment and result as below:

+-------------------------------+----------+
|          Environment          | abi_test |
+===============================+==========+
| CentOS Stream 9               | PEND     |
+-------------------------------+----------+
| CentOS Stream 10              | PEND     |
+-------------------------------+----------+
| Debian GNU/Linux 12           | PASS     |
+-------------------------------+----------+
| Fedora Linux 41               | PEND     |
+-------------------------------+----------+
| Fedora Linux 40               | PEND     |
+-------------------------------+----------+
| openSUSE Leap 15.6            | PEND     |
+-------------------------------+----------+
| Red Hat Enterprise Linux 8.10 | PEND     |
+-------------------------------+----------+
| Red Hat Enterprise Linux 9.5  | PEND     |
+-------------------------------+----------+
| Ubuntu 22.04                  | PEND     |
+-------------------------------+----------+
| Ubuntu 24.04                  | PEND     |
+-------------------------------+----------+


CentOS Stream 9
	Kernel: 5.15
	Compiler: gcc gcc (GCC) 11.5.0 20240719 (Red Hat 11.5.0-7)

CentOS Stream 10
	Kernel: 5.15
	Compiler: gcc gcc (GCC) 14.2.1 20250110 (Red Hat 14.2.1-8)

Debian GNU/Linux 12
	Kernel: 5.15
	Compiler: gcc gcc (Debian 12.2.0-14+deb12u1) 12.2.0

Fedora Linux 41
	Kernel: 5.15
	Compiler: gcc gcc (GCC) 14.3.1 20250523 (Red Hat 14.3.1-1)

Fedora Linux 40
	Kernel: 5.15
	Compiler: clang gcc (GCC) 14.2.1 20240912 (Red Hat 14.2.1-3)

openSUSE Leap 15.6
	Kernel: 5.15
	Compiler: gcc gcc (SUSE Linux) 7.5.0

Red Hat Enterprise Linux 8.10
	Kernel: 5.15
	Compiler: gcc gcc (GCC) 8.5.0 20210514 (Red Hat 8.5.0-22)

Red Hat Enterprise Linux 9.5
	Kernel: 5.15
	Compiler: gcc gcc (GCC) 11.5.0 20240719 (Red Hat 11.5.0-2)

Ubuntu 22.04
	Kernel: 5.15
	Compiler: gcc gcc (Ubuntu 11.4.0-1ubuntu1~22.04) 11.4.0

Ubuntu 24.04
	Kernel: 5.15
	Compiler: gcc gcc (Ubuntu 13.3.0-6ubuntu2~24.04) 13.3.0

To view detailed results, visit:
https://lab.dpdk.org/results/dashboard/patchsets/33555/

UNH-IOL DPDK Community Lab

To manage your email subscriptions, visit: 
https://lab.dpdk.org/results/dashboard/preferences/subscriptions/

^ permalink raw reply	[flat|nested] 21+ messages in thread

* |SUCCESS| pw154905-154912 [PATCH] [v5,9/9] bus/dpaa: optimize qman e
       [not found] <20250701113707.2793004-10-vanshika.shukla@nxp.com>
                   ` (11 preceding siblings ...)
  2025-07-01 18:51 ` dpdklab
@ 2025-07-01 19:30 ` dpdklab
  2025-07-01 19:42 ` dpdklab
                   ` (7 subsequent siblings)
  20 siblings, 0 replies; 21+ messages in thread
From: dpdklab @ 2025-07-01 19:30 UTC (permalink / raw)
  To: Test Report; +Cc: dpdk-test-reports

Test-Label: iol-unit-amd64-testing
Test-Status: SUCCESS
http://dpdk.org/patch/154912

_Testing PASS_

Submitter: Vanshika Shukla <vanshika.shukla@nxp.com>
Date: Tuesday, July 01 2025 11:37:07 
DPDK git baseline: Repo:dpdk
  Branch: master
  CommitID:3e081a0c03a5cb71555dba06a920d57e75dd09c9

154905-154912 --> testing pass

Upstream job id: Generic-VM-Unit-Test-DPDK#29627

Test environment and result as below:

+-------------------------------+----------------+
|          Environment          | dpdk_unit_test |
+===============================+================+
| Fedora Linux 40               | PASS           |
+-------------------------------+----------------+
| CentOS Stream 9               | PASS           |
+-------------------------------+----------------+
| CentOS Stream 10              | PASS           |
+-------------------------------+----------------+
| Red Hat Enterprise Linux 8.10 | PASS           |
+-------------------------------+----------------+
| Fedora Linux 41               | PASS           |
+-------------------------------+----------------+
| Red Hat Enterprise Linux 9.5  | PASS           |
+-------------------------------+----------------+
| Ubuntu 22.04                  | PASS           |
+-------------------------------+----------------+
| Ubuntu 20.04                  | PASS           |
+-------------------------------+----------------+
| Debian GNU/Linux 12           | PASS           |
+-------------------------------+----------------+
| Ubuntu 24.04                  | PASS           |
+-------------------------------+----------------+
| Windows Server 2022           | PASS           |
+-------------------------------+----------------+


Fedora Linux 40
	Kernel: 5.15
	Compiler: gcc gcc (GCC) 14.2.1 20240912 (Red Hat 14.2.1-3)

CentOS Stream 9
	Kernel: 5.15
	Compiler: gcc gcc (GCC) 11.5.0 20240719 (Red Hat 11.5.0-7)

CentOS Stream 10
	Kernel: 5.15
	Compiler: gcc gcc (GCC) 14.2.1 20250110 (Red Hat 14.2.1-8)

Red Hat Enterprise Linux 8.10
	Kernel: 5.15
	Compiler: gcc gcc (GCC) 8.5.0 20210514 (Red Hat 8.5.0-22)

Fedora Linux 41
	Kernel: 5.15
	Compiler: gcc gcc (GCC) 14.3.1 20250523 (Red Hat 14.3.1-1)

Red Hat Enterprise Linux 9.5
	Kernel: 5.15
	Compiler: gcc gcc (GCC) 11.5.0 20240719 (Red Hat 11.5.0-2)

Ubuntu 22.04
	Kernel: 5.15
	Compiler: gcc gcc (Ubuntu 11.4.0-1ubuntu1~22.04) 11.4.0

Ubuntu 20.04
	Kernel: 5.15
	Compiler: gcc gcc (Ubuntu 9.4.0-1ubuntu1~20.04.2) 9.4.0

Debian GNU/Linux 12
	Kernel: 5.15
	Compiler: gcc gcc (Debian 12.2.0-14+deb12u1) 12.2.0

Ubuntu 24.04
	Kernel: 5.15
	Compiler: gcc gcc (Ubuntu 13.3.0-6ubuntu2~24.04) 13.3.0

Windows Server 2022
	Kernel: 10.0.20348.2031
	Compiler: clang 15.0.7, gcc 14.1.0 (MinGW), and MSVC VS 19.39.33521

To view detailed results, visit:
https://lab.dpdk.org/results/dashboard/patchsets/33555/

UNH-IOL DPDK Community Lab

To manage your email subscriptions, visit: 
https://lab.dpdk.org/results/dashboard/preferences/subscriptions/

^ permalink raw reply	[flat|nested] 21+ messages in thread

* |SUCCESS| pw154905-154912 [PATCH] [v5,9/9] bus/dpaa: optimize qman e
       [not found] <20250701113707.2793004-10-vanshika.shukla@nxp.com>
                   ` (12 preceding siblings ...)
  2025-07-01 19:30 ` |SUCCESS| " dpdklab
@ 2025-07-01 19:42 ` dpdklab
  2025-07-01 21:22 ` dpdklab
                   ` (6 subsequent siblings)
  20 siblings, 0 replies; 21+ messages in thread
From: dpdklab @ 2025-07-01 19:42 UTC (permalink / raw)
  To: Test Report; +Cc: dpdk-test-reports

Test-Label: iol-unit-amd64-testing
Test-Status: SUCCESS
http://dpdk.org/patch/154912

_Testing PASS_

Submitter: Vanshika Shukla <vanshika.shukla@nxp.com>
Date: Tuesday, July 01 2025 11:37:07 
DPDK git baseline: Repo:dpdk
  Branch: master
  CommitID:3e081a0c03a5cb71555dba06a920d57e75dd09c9

154905-154912 --> testing pass

Upstream job id: Generic-VM-Unit-Test-DPDK#29628

Test environment and result as below:

+-------------------------------+----------------+
|          Environment          | dpdk_unit_test |
+===============================+================+
| Fedora Linux 40               | PASS           |
+-------------------------------+----------------+
| CentOS Stream 9               | PASS           |
+-------------------------------+----------------+
| CentOS Stream 10              | PASS           |
+-------------------------------+----------------+
| Red Hat Enterprise Linux 8.10 | PASS           |
+-------------------------------+----------------+
| Fedora Linux 41               | PASS           |
+-------------------------------+----------------+
| Red Hat Enterprise Linux 9.5  | PASS           |
+-------------------------------+----------------+
| Ubuntu 22.04                  | PASS           |
+-------------------------------+----------------+
| Ubuntu 20.04                  | PASS           |
+-------------------------------+----------------+
| Debian GNU/Linux 12           | PASS           |
+-------------------------------+----------------+
| Ubuntu 24.04                  | PASS           |
+-------------------------------+----------------+
| Windows Server 2022           | PASS           |
+-------------------------------+----------------+


Fedora Linux 40
	Kernel: 5.15
	Compiler: gcc gcc (GCC) 14.2.1 20240912 (Red Hat 14.2.1-3)

CentOS Stream 9
	Kernel: 5.15
	Compiler: gcc gcc (GCC) 11.5.0 20240719 (Red Hat 11.5.0-7)

CentOS Stream 10
	Kernel: 5.15
	Compiler: gcc gcc (GCC) 14.2.1 20250110 (Red Hat 14.2.1-8)

Red Hat Enterprise Linux 8.10
	Kernel: 5.15
	Compiler: gcc gcc (GCC) 8.5.0 20210514 (Red Hat 8.5.0-22)

Fedora Linux 41
	Kernel: 5.15
	Compiler: gcc gcc (GCC) 14.3.1 20250523 (Red Hat 14.3.1-1)

Red Hat Enterprise Linux 9.5
	Kernel: 5.15
	Compiler: gcc gcc (GCC) 11.5.0 20240719 (Red Hat 11.5.0-2)

Ubuntu 22.04
	Kernel: 5.15
	Compiler: gcc gcc (Ubuntu 11.4.0-1ubuntu1~22.04) 11.4.0

Ubuntu 20.04
	Kernel: 5.15
	Compiler: gcc gcc (Ubuntu 9.4.0-1ubuntu1~20.04.2) 9.4.0

Debian GNU/Linux 12
	Kernel: 5.15
	Compiler: gcc gcc (Debian 12.2.0-14+deb12u1) 12.2.0

Ubuntu 24.04
	Kernel: 5.15
	Compiler: gcc gcc (Ubuntu 13.3.0-6ubuntu2~24.04) 13.3.0

Windows Server 2022
	Kernel: 10.0.20348.2031
	Compiler: clang 15.0.7, gcc 14.1.0 (MinGW), and MSVC VS 19.39.33521

To view detailed results, visit:
https://lab.dpdk.org/results/dashboard/patchsets/33555/

UNH-IOL DPDK Community Lab

To manage your email subscriptions, visit: 
https://lab.dpdk.org/results/dashboard/preferences/subscriptions/

^ permalink raw reply	[flat|nested] 21+ messages in thread

* |SUCCESS| pw154905-154912 [PATCH] [v5,9/9] bus/dpaa: optimize qman e
       [not found] <20250701113707.2793004-10-vanshika.shukla@nxp.com>
                   ` (13 preceding siblings ...)
  2025-07-01 19:42 ` dpdklab
@ 2025-07-01 21:22 ` dpdklab
  2025-07-01 21:23 ` dpdklab
                   ` (5 subsequent siblings)
  20 siblings, 0 replies; 21+ messages in thread
From: dpdklab @ 2025-07-01 21:22 UTC (permalink / raw)
  To: Test Report; +Cc: dpdk-test-reports

Test-Label: iol-abi-testing
Test-Status: SUCCESS
http://dpdk.org/patch/154912

_Testing PASS_

Submitter: Vanshika Shukla <vanshika.shukla@nxp.com>
Date: Tuesday, July 01 2025 11:37:07 
DPDK git baseline: Repo:dpdk
  Branch: master
  CommitID:3e081a0c03a5cb71555dba06a920d57e75dd09c9

154905-154912 --> testing pass

Upstream job id: Generic-DPDK-Compile-ABI#132594

Test environment and result as below:

+-------------------------------+----------+
|          Environment          | abi_test |
+===============================+==========+
| CentOS Stream 9               | PASS     |
+-------------------------------+----------+
| CentOS Stream 10              | PASS     |
+-------------------------------+----------+
| Debian GNU/Linux 12           | PASS     |
+-------------------------------+----------+
| Fedora Linux 41               | PASS     |
+-------------------------------+----------+
| Fedora Linux 40               | PASS     |
+-------------------------------+----------+
| openSUSE Leap 15.6            | PASS     |
+-------------------------------+----------+
| Red Hat Enterprise Linux 8.10 | PASS     |
+-------------------------------+----------+
| Red Hat Enterprise Linux 9.5  | PASS     |
+-------------------------------+----------+
| Ubuntu 22.04                  | PASS     |
+-------------------------------+----------+
| Ubuntu 24.04                  | PASS     |
+-------------------------------+----------+


CentOS Stream 9
	Kernel: 5.15
	Compiler: gcc gcc (GCC) 11.5.0 20240719 (Red Hat 11.5.0-7)

CentOS Stream 10
	Kernel: 5.15
	Compiler: gcc gcc (GCC) 14.2.1 20250110 (Red Hat 14.2.1-8)

Debian GNU/Linux 12
	Kernel: 5.15
	Compiler: gcc gcc (Debian 12.2.0-14+deb12u1) 12.2.0

Fedora Linux 41
	Kernel: 5.15
	Compiler: gcc gcc (GCC) 14.3.1 20250523 (Red Hat 14.3.1-1)

Fedora Linux 40
	Kernel: 5.15
	Compiler: clang gcc (GCC) 14.2.1 20240912 (Red Hat 14.2.1-3)

openSUSE Leap 15.6
	Kernel: 5.15
	Compiler: gcc gcc (SUSE Linux) 7.5.0

Red Hat Enterprise Linux 8.10
	Kernel: 5.15
	Compiler: gcc gcc (GCC) 8.5.0 20210514 (Red Hat 8.5.0-22)

Red Hat Enterprise Linux 9.5
	Kernel: 5.15
	Compiler: gcc gcc (GCC) 11.5.0 20240719 (Red Hat 11.5.0-2)

Ubuntu 22.04
	Kernel: 5.15
	Compiler: gcc gcc (Ubuntu 11.4.0-1ubuntu1~22.04) 11.4.0

Ubuntu 24.04
	Kernel: 5.15
	Compiler: gcc gcc (Ubuntu 13.3.0-6ubuntu2~24.04) 13.3.0

To view detailed results, visit:
https://lab.dpdk.org/results/dashboard/patchsets/33555/

UNH-IOL DPDK Community Lab

To manage your email subscriptions, visit: 
https://lab.dpdk.org/results/dashboard/preferences/subscriptions/

^ permalink raw reply	[flat|nested] 21+ messages in thread

* |SUCCESS| pw154905-154912 [PATCH] [v5,9/9] bus/dpaa: optimize qman e
       [not found] <20250701113707.2793004-10-vanshika.shukla@nxp.com>
                   ` (14 preceding siblings ...)
  2025-07-01 21:22 ` dpdklab
@ 2025-07-01 21:23 ` dpdklab
  2025-07-01 21:23 ` dpdklab
                   ` (4 subsequent siblings)
  20 siblings, 0 replies; 21+ messages in thread
From: dpdklab @ 2025-07-01 21:23 UTC (permalink / raw)
  To: Test Report; +Cc: dpdk-test-reports

Test-Label: iol-abi-testing
Test-Status: SUCCESS
http://dpdk.org/patch/154912

_Testing PASS_

Submitter: Vanshika Shukla <vanshika.shukla@nxp.com>
Date: Tuesday, July 01 2025 11:37:07 
DPDK git baseline: Repo:dpdk
  Branch: master
  CommitID:3e081a0c03a5cb71555dba06a920d57e75dd09c9

154905-154912 --> testing pass

Upstream job id: Generic-DPDK-Compile-ABI#132595

Test environment and result as below:

+-------------------------------+----------+
|          Environment          | abi_test |
+===============================+==========+
| CentOS Stream 9               | PASS     |
+-------------------------------+----------+
| CentOS Stream 10              | PASS     |
+-------------------------------+----------+
| Debian GNU/Linux 12           | PASS     |
+-------------------------------+----------+
| Fedora Linux 41               | PASS     |
+-------------------------------+----------+
| Fedora Linux 40               | PASS     |
+-------------------------------+----------+
| openSUSE Leap 15.6            | PASS     |
+-------------------------------+----------+
| Red Hat Enterprise Linux 8.10 | PASS     |
+-------------------------------+----------+
| Red Hat Enterprise Linux 9.5  | PASS     |
+-------------------------------+----------+
| Ubuntu 22.04                  | PASS     |
+-------------------------------+----------+
| Ubuntu 24.04                  | PASS     |
+-------------------------------+----------+


CentOS Stream 9
	Kernel: 5.15
	Compiler: gcc gcc (GCC) 11.5.0 20240719 (Red Hat 11.5.0-7)

CentOS Stream 10
	Kernel: 5.15
	Compiler: gcc gcc (GCC) 14.2.1 20250110 (Red Hat 14.2.1-8)

Debian GNU/Linux 12
	Kernel: 5.15
	Compiler: gcc gcc (Debian 12.2.0-14+deb12u1) 12.2.0

Fedora Linux 41
	Kernel: 5.15
	Compiler: gcc gcc (GCC) 14.3.1 20250523 (Red Hat 14.3.1-1)

Fedora Linux 40
	Kernel: 5.15
	Compiler: clang gcc (GCC) 14.2.1 20240912 (Red Hat 14.2.1-3)

openSUSE Leap 15.6
	Kernel: 5.15
	Compiler: gcc gcc (SUSE Linux) 7.5.0

Red Hat Enterprise Linux 8.10
	Kernel: 5.15
	Compiler: gcc gcc (GCC) 8.5.0 20210514 (Red Hat 8.5.0-22)

Red Hat Enterprise Linux 9.5
	Kernel: 5.15
	Compiler: gcc gcc (GCC) 11.5.0 20240719 (Red Hat 11.5.0-2)

Ubuntu 22.04
	Kernel: 5.15
	Compiler: gcc gcc (Ubuntu 11.4.0-1ubuntu1~22.04) 11.4.0

Ubuntu 24.04
	Kernel: 5.15
	Compiler: gcc gcc (Ubuntu 13.3.0-6ubuntu2~24.04) 13.3.0

To view detailed results, visit:
https://lab.dpdk.org/results/dashboard/patchsets/33555/

UNH-IOL DPDK Community Lab

To manage your email subscriptions, visit: 
https://lab.dpdk.org/results/dashboard/preferences/subscriptions/

^ permalink raw reply	[flat|nested] 21+ messages in thread

* |SUCCESS| pw154905-154912 [PATCH] [v5,9/9] bus/dpaa: optimize qman e
       [not found] <20250701113707.2793004-10-vanshika.shukla@nxp.com>
                   ` (15 preceding siblings ...)
  2025-07-01 21:23 ` dpdklab
@ 2025-07-01 21:23 ` dpdklab
  2025-07-01 22:01 ` dpdklab
                   ` (3 subsequent siblings)
  20 siblings, 0 replies; 21+ messages in thread
From: dpdklab @ 2025-07-01 21:23 UTC (permalink / raw)
  To: Test Report; +Cc: dpdk-test-reports

Test-Label: iol-abi-testing
Test-Status: SUCCESS
http://dpdk.org/patch/154912

_Testing PASS_

Submitter: Vanshika Shukla <vanshika.shukla@nxp.com>
Date: Tuesday, July 01 2025 11:37:07 
DPDK git baseline: Repo:dpdk
  Branch: master
  CommitID:3e081a0c03a5cb71555dba06a920d57e75dd09c9

154905-154912 --> testing pass

Upstream job id: Generic-DPDK-Compile-ABI#132588

Test environment and result as below:

+-------------------------------+----------+
|          Environment          | abi_test |
+===============================+==========+
| CentOS Stream 9               | PASS     |
+-------------------------------+----------+
| CentOS Stream 10              | PASS     |
+-------------------------------+----------+
| Debian GNU/Linux 12           | PASS     |
+-------------------------------+----------+
| Fedora Linux 41               | PASS     |
+-------------------------------+----------+
| Fedora Linux 40               | PASS     |
+-------------------------------+----------+
| openSUSE Leap 15.6            | PASS     |
+-------------------------------+----------+
| Red Hat Enterprise Linux 8.10 | PASS     |
+-------------------------------+----------+
| Red Hat Enterprise Linux 9.5  | PASS     |
+-------------------------------+----------+
| Ubuntu 22.04                  | PASS     |
+-------------------------------+----------+
| Ubuntu 24.04                  | PASS     |
+-------------------------------+----------+


CentOS Stream 9
	Kernel: 5.15
	Compiler: gcc gcc (GCC) 11.5.0 20240719 (Red Hat 11.5.0-7)

CentOS Stream 10
	Kernel: 5.15
	Compiler: gcc gcc (GCC) 14.2.1 20250110 (Red Hat 14.2.1-8)

Debian GNU/Linux 12
	Kernel: 5.15
	Compiler: gcc gcc (Debian 12.2.0-14+deb12u1) 12.2.0

Fedora Linux 41
	Kernel: 5.15
	Compiler: gcc gcc (GCC) 14.3.1 20250523 (Red Hat 14.3.1-1)

Fedora Linux 40
	Kernel: 5.15
	Compiler: clang gcc (GCC) 14.2.1 20240912 (Red Hat 14.2.1-3)

openSUSE Leap 15.6
	Kernel: 5.15
	Compiler: gcc gcc (SUSE Linux) 7.5.0

Red Hat Enterprise Linux 8.10
	Kernel: 5.15
	Compiler: gcc gcc (GCC) 8.5.0 20210514 (Red Hat 8.5.0-22)

Red Hat Enterprise Linux 9.5
	Kernel: 5.15
	Compiler: gcc gcc (GCC) 11.5.0 20240719 (Red Hat 11.5.0-2)

Ubuntu 22.04
	Kernel: 5.15
	Compiler: gcc gcc (Ubuntu 11.4.0-1ubuntu1~22.04) 11.4.0

Ubuntu 24.04
	Kernel: 5.15
	Compiler: gcc gcc (Ubuntu 13.3.0-6ubuntu2~24.04) 13.3.0

To view detailed results, visit:
https://lab.dpdk.org/results/dashboard/patchsets/33555/

UNH-IOL DPDK Community Lab

To manage your email subscriptions, visit: 
https://lab.dpdk.org/results/dashboard/preferences/subscriptions/

^ permalink raw reply	[flat|nested] 21+ messages in thread

* |SUCCESS| pw154905-154912 [PATCH] [v5,9/9] bus/dpaa: optimize qman e
       [not found] <20250701113707.2793004-10-vanshika.shukla@nxp.com>
                   ` (16 preceding siblings ...)
  2025-07-01 21:23 ` dpdklab
@ 2025-07-01 22:01 ` dpdklab
  2025-07-01 22:02 ` dpdklab
                   ` (2 subsequent siblings)
  20 siblings, 0 replies; 21+ messages in thread
From: dpdklab @ 2025-07-01 22:01 UTC (permalink / raw)
  To: Test Report; +Cc: dpdk-test-reports

Test-Label: iol-compile-arm64-testing
Test-Status: SUCCESS
http://dpdk.org/patch/154912

_Testing PASS_

Submitter: Vanshika Shukla <vanshika.shukla@nxp.com>
Date: Tuesday, July 01 2025 11:37:07 
DPDK git baseline: Repo:dpdk
  Branch: master
  CommitID:3e081a0c03a5cb71555dba06a920d57e75dd09c9

154905-154912 --> testing pass

Upstream job id: Generic-DPDK-Compile-Meson#404265

Test environment and result as below:

+------------------------------+--------------------+
|         Environment          | dpdk_meson_compile |
+==============================+====================+
| Ubuntu 20.04                 | PASS               |
+------------------------------+--------------------+
| Debian GNU/Linux 12          | PASS               |
+------------------------------+--------------------+
| Red Hat Enterprise Linux 9.5 | PASS               |
+------------------------------+--------------------+
| Fedora Linux 40              | PASS               |
+------------------------------+--------------------+
| Fedora Linux 41              | PASS               |
+------------------------------+--------------------+
| Ubuntu 22.04                 | PASS               |
+------------------------------+--------------------+
| CentOS Stream 9              | PASS               |
+------------------------------+--------------------+
| Ubuntu 24.04                 | PASS               |
+------------------------------+--------------------+
| CentOS Stream 10             | PASS               |
+------------------------------+--------------------+


Ubuntu 20.04
	Kernel: 5.15
	Compiler: aarch64-linux-gnu-gcc gcc (Ubuntu 9.4.0-1ubuntu1~20.04.2) 9.4.0

Debian GNU/Linux 12
	Kernel: 5.4
	Compiler: gcc gcc (Debian 12.2.0-14+deb12u1) 12.2.0

Red Hat Enterprise Linux 9.5
	Kernel: 5.4
	Compiler: gcc gcc (GCC) 11.5.0 20240719 (Red Hat 11.5.0-2)

Fedora Linux 40
	Kernel: 5.4
	Compiler: clang gcc (GCC) 14.2.1 20240912 (Red Hat 14.2.1-3)

Fedora Linux 41
	Kernel: 5.4
	Compiler: clang gcc (GCC) 14.3.1 20250523 (Red Hat 14.3.1-1)

Ubuntu 22.04
	Kernel: 5.4
	Compiler: gcc gcc (Ubuntu 11.4.0-1ubuntu1~22.04) 11.4.0

CentOS Stream 9
	Kernel: 5.4
	Compiler: gcc gcc (GCC) 11.5.0 20240719 (Red Hat 11.5.0-7)

Ubuntu 24.04
	Kernel: 5.4
	Compiler: gcc gcc (Ubuntu 13.3.0-6ubuntu2~24.04) 13.3.0

CentOS Stream 10
	Kernel: 5.4
	Compiler: gcc gcc (GCC) 14.2.1 20250110 (Red Hat 14.2.1-8)

To view detailed results, visit:
https://lab.dpdk.org/results/dashboard/patchsets/33555/

UNH-IOL DPDK Community Lab

To manage your email subscriptions, visit: 
https://lab.dpdk.org/results/dashboard/preferences/subscriptions/

^ permalink raw reply	[flat|nested] 21+ messages in thread

* |SUCCESS| pw154905-154912 [PATCH] [v5,9/9] bus/dpaa: optimize qman e
       [not found] <20250701113707.2793004-10-vanshika.shukla@nxp.com>
                   ` (17 preceding siblings ...)
  2025-07-01 22:01 ` dpdklab
@ 2025-07-01 22:02 ` dpdklab
  2025-07-01 22:38 ` |WARNING| " dpdklab
  2025-07-02  2:52 ` |SUCCESS| " dpdklab
  20 siblings, 0 replies; 21+ messages in thread
From: dpdklab @ 2025-07-01 22:02 UTC (permalink / raw)
  To: Test Report; +Cc: dpdk-test-reports

Test-Label: iol-compile-arm64-testing
Test-Status: SUCCESS
http://dpdk.org/patch/154912

_Testing PASS_

Submitter: Vanshika Shukla <vanshika.shukla@nxp.com>
Date: Tuesday, July 01 2025 11:37:07 
DPDK git baseline: Repo:dpdk
  Branch: master
  CommitID:3e081a0c03a5cb71555dba06a920d57e75dd09c9

154905-154912 --> testing pass

Upstream job id: Generic-DPDK-Compile-Meson#404264

Test environment and result as below:

+------------------------------+--------------------+
|         Environment          | dpdk_meson_compile |
+==============================+====================+
| Ubuntu 20.04                 | PASS               |
+------------------------------+--------------------+
| Debian GNU/Linux 12          | PASS               |
+------------------------------+--------------------+
| Red Hat Enterprise Linux 9.5 | PASS               |
+------------------------------+--------------------+
| Fedora Linux 40              | PASS               |
+------------------------------+--------------------+
| Fedora Linux 41              | PASS               |
+------------------------------+--------------------+
| Ubuntu 22.04                 | PASS               |
+------------------------------+--------------------+
| CentOS Stream 9              | PASS               |
+------------------------------+--------------------+
| Ubuntu 24.04                 | PASS               |
+------------------------------+--------------------+
| CentOS Stream 10             | PASS               |
+------------------------------+--------------------+


Ubuntu 20.04
	Kernel: 5.15
	Compiler: aarch64-linux-gnu-gcc gcc (Ubuntu 9.4.0-1ubuntu1~20.04.2) 9.4.0

Debian GNU/Linux 12
	Kernel: 5.4
	Compiler: gcc gcc (Debian 12.2.0-14+deb12u1) 12.2.0

Red Hat Enterprise Linux 9.5
	Kernel: 5.4
	Compiler: gcc gcc (GCC) 11.5.0 20240719 (Red Hat 11.5.0-2)

Fedora Linux 40
	Kernel: 5.4
	Compiler: clang gcc (GCC) 14.2.1 20240912 (Red Hat 14.2.1-3)

Fedora Linux 41
	Kernel: 5.4
	Compiler: clang gcc (GCC) 14.3.1 20250523 (Red Hat 14.3.1-1)

Ubuntu 22.04
	Kernel: 5.4
	Compiler: gcc gcc (Ubuntu 11.4.0-1ubuntu1~22.04) 11.4.0

CentOS Stream 9
	Kernel: 5.4
	Compiler: gcc gcc (GCC) 11.5.0 20240719 (Red Hat 11.5.0-7)

Ubuntu 24.04
	Kernel: 5.4
	Compiler: gcc gcc (Ubuntu 13.3.0-6ubuntu2~24.04) 13.3.0

CentOS Stream 10
	Kernel: 5.4
	Compiler: gcc gcc (GCC) 14.2.1 20250110 (Red Hat 14.2.1-8)

To view detailed results, visit:
https://lab.dpdk.org/results/dashboard/patchsets/33555/

UNH-IOL DPDK Community Lab

To manage your email subscriptions, visit: 
https://lab.dpdk.org/results/dashboard/preferences/subscriptions/

^ permalink raw reply	[flat|nested] 21+ messages in thread

* |WARNING| pw154905-154912 [PATCH] [v5,9/9] bus/dpaa: optimize qman e
       [not found] <20250701113707.2793004-10-vanshika.shukla@nxp.com>
                   ` (18 preceding siblings ...)
  2025-07-01 22:02 ` dpdklab
@ 2025-07-01 22:38 ` dpdklab
  2025-07-02  2:52 ` |SUCCESS| " dpdklab
  20 siblings, 0 replies; 21+ messages in thread
From: dpdklab @ 2025-07-01 22:38 UTC (permalink / raw)
  To: Test Report; +Cc: dpdk-test-reports

Test-Label: iol-compile-amd64-testing
Test-Status: WARNING
http://dpdk.org/patch/154912

_Testing issues_

Submitter: Vanshika Shukla <vanshika.shukla@nxp.com>
Date: Tuesday, July 01 2025 11:37:07 
DPDK git baseline: Repo:dpdk
  Branch: master
  CommitID:3e081a0c03a5cb71555dba06a920d57e75dd09c9

154905-154912 --> testing issues

Upstream job id: Generic-DPDK-Compile-Meson#404278

Test environment and result as below:

+-------------------------------+--------------------+-------------------+------------------+-------------------+-------------------------+----------------------+
|          Environment          | dpdk_meson_compile | dpdk_compile_spdk | dpdk_compile_ovs | dpdk_msvc_compile | dpdk_llvm_clang_compile | dpdk_mingw64_compile |
+===============================+====================+===================+==================+===================+=========================+======================+
| CentOS Stream 9               | PASS               | PASS              | SKIPPED          | SKIPPED           | SKIPPED                 | SKIPPED              |
+-------------------------------+--------------------+-------------------+------------------+-------------------+-------------------------+----------------------+
| Debian GNU/Linux 12           | PASS               | PASS              | SKIPPED          | SKIPPED           | SKIPPED                 | SKIPPED              |
+-------------------------------+--------------------+-------------------+------------------+-------------------+-------------------------+----------------------+
| CentOS Stream 10              | PASS               | SKIPPED           | SKIPPED          | SKIPPED           | SKIPPED                 | SKIPPED              |
+-------------------------------+--------------------+-------------------+------------------+-------------------+-------------------------+----------------------+
| Fedora Linux 40               | PASS               | PASS              | SKIPPED          | SKIPPED           | SKIPPED                 | SKIPPED              |
+-------------------------------+--------------------+-------------------+------------------+-------------------+-------------------------+----------------------+
| Fedora Linux 41               | PASS               | WARN              | PASS             | SKIPPED           | SKIPPED                 | SKIPPED              |
+-------------------------------+--------------------+-------------------+------------------+-------------------+-------------------------+----------------------+
| openSUSE Leap 15.6            | PASS               | SKIPPED           | SKIPPED          | SKIPPED           | SKIPPED                 | SKIPPED              |
+-------------------------------+--------------------+-------------------+------------------+-------------------+-------------------------+----------------------+
| Red Hat Enterprise Linux 8.10 | PASS               | SKIPPED           | SKIPPED          | SKIPPED           | SKIPPED                 | SKIPPED              |
+-------------------------------+--------------------+-------------------+------------------+-------------------+-------------------------+----------------------+
| Ubuntu 20.04                  | PASS               | SKIPPED           | SKIPPED          | SKIPPED           | SKIPPED                 | SKIPPED              |
+-------------------------------+--------------------+-------------------+------------------+-------------------+-------------------------+----------------------+
| Red Hat Enterprise Linux 9.5  | PASS               | SKIPPED           | SKIPPED          | SKIPPED           | SKIPPED                 | SKIPPED              |
+-------------------------------+--------------------+-------------------+------------------+-------------------+-------------------------+----------------------+
| Ubuntu 22.04                  | PASS               | PASS              | SKIPPED          | SKIPPED           | SKIPPED                 | SKIPPED              |
+-------------------------------+--------------------+-------------------+------------------+-------------------+-------------------------+----------------------+
| Ubuntu 24.04                  | PASS               | PASS              | PASS             | SKIPPED           | SKIPPED                 | SKIPPED              |
+-------------------------------+--------------------+-------------------+------------------+-------------------+-------------------------+----------------------+
| FreeBSD 14.2                  | PASS               | SKIPPED           | SKIPPED          | SKIPPED           | SKIPPED                 | SKIPPED              |
+-------------------------------+--------------------+-------------------+------------------+-------------------+-------------------------+----------------------+
| Alpine Linux 3.22.0           | PASS               | SKIPPED           | SKIPPED          | SKIPPED           | SKIPPED                 | SKIPPED              |
+-------------------------------+--------------------+-------------------+------------------+-------------------+-------------------------+----------------------+
| Windows Server 2022           | SKIPPED            | SKIPPED           | SKIPPED          | PASS              | PASS                    | PASS                 |
+-------------------------------+--------------------+-------------------+------------------+-------------------+-------------------------+----------------------+

==== 20 line log output for Fedora Linux 41 (dpdk_compile_spdk): ====
 --- Failed to get log output --- 
==== End log output ====

CentOS Stream 9
	Kernel: 5.15
	Compiler: gcc gcc (GCC) 11.5.0 20240719 (Red Hat 11.5.0-7)

Debian GNU/Linux 12
	Kernel: 5.15
	Compiler: gcc gcc (Debian 12.2.0-14+deb12u1) 12.2.0

CentOS Stream 10
	Kernel: 5.15
	Compiler: gcc gcc (GCC) 14.2.1 20250110 (Red Hat 14.2.1-8)

Fedora Linux 40
	Kernel: 5.15
	Compiler: clang gcc (GCC) 14.2.1 20240912 (Red Hat 14.2.1-3)

Fedora Linux 41
	Kernel: 5.15
	Compiler: gcc gcc (GCC) 14.3.1 20250523 (Red Hat 14.3.1-1)

openSUSE Leap 15.6
	Kernel: 5.15
	Compiler: gcc gcc (SUSE Linux) 7.5.0

Red Hat Enterprise Linux 8.10
	Kernel: 5.15
	Compiler: gcc gcc (GCC) 8.5.0 20210514 (Red Hat 8.5.0-22)

Ubuntu 20.04
	Kernel: 4.19
	Compiler: gcc gcc (Ubuntu 9.4.0-1ubuntu1~20.04.2) 9.4.0

Red Hat Enterprise Linux 9.5
	Kernel: 5.15
	Compiler: gcc gcc (GCC) 11.5.0 20240719 (Red Hat 11.5.0-2)

Ubuntu 22.04
	Kernel: 5.15
	Compiler: gcc gcc (Ubuntu 11.4.0-1ubuntu1~22.04) 11.4.0

Ubuntu 24.04
	Kernel: 5.15
	Compiler: gcc gcc (Ubuntu 13.3.0-6ubuntu2~24.04) 13.3.0

FreeBSD 14.2
	Kernel: 14.2-RELEASE
	Compiler: clang 18.1.6

Alpine Linux 3.22.0
	Kernel: 5.15
	Compiler: gcc gcc (Alpine 14.2.0) 14.2.0

Windows Server 2022
	Kernel: 10.0.20348.2031
	Compiler: clang 15.0.7, gcc 14.1.0 (MinGW), and MSVC VS 19.39.33521

To view detailed results, visit:
https://lab.dpdk.org/results/dashboard/patchsets/33555/

UNH-IOL DPDK Community Lab

To manage your email subscriptions, visit: 
https://lab.dpdk.org/results/dashboard/preferences/subscriptions/

^ permalink raw reply	[flat|nested] 21+ messages in thread

* |SUCCESS| pw154905-154912 [PATCH] [v5,9/9] bus/dpaa: optimize qman e
       [not found] <20250701113707.2793004-10-vanshika.shukla@nxp.com>
                   ` (19 preceding siblings ...)
  2025-07-01 22:38 ` |WARNING| " dpdklab
@ 2025-07-02  2:52 ` dpdklab
  20 siblings, 0 replies; 21+ messages in thread
From: dpdklab @ 2025-07-02  2:52 UTC (permalink / raw)
  To: Test Report; +Cc: dpdk-test-reports

Test-Label: iol-sample-apps-testing
Test-Status: SUCCESS
http://dpdk.org/patch/154912

_Testing PASS_

Submitter: Vanshika Shukla <vanshika.shukla@nxp.com>
Date: Tuesday, July 01 2025 11:37:07 
DPDK git baseline: Repo:dpdk
  Branch: master
  CommitID:3e081a0c03a5cb71555dba06a920d57e75dd09c9

154905-154912 --> testing pass

Upstream job id: ACVP-FIPS-testing#10364

Test environment and result as below:

+--------------+----------------------+----------------------+
| Environment  | compressdev_zlib_pmd | dpdk_fips_validation |
+==============+======================+======================+
| Ubuntu 22.04 | PASS                 | SKIPPED              |
+--------------+----------------------+----------------------+
| Ubuntu 20.04 | SKIPPED              | PASS                 |
+--------------+----------------------+----------------------+


Ubuntu 22.04
	Kernel: 5.15
	Compiler: gcc gcc (Ubuntu 11.4.0-1ubuntu1~22.04) 11.4.0

Ubuntu 20.04
	Kernel: 5.15
	Compiler: gcc gcc (Ubuntu 9.4.0-1ubuntu1~20.04.2) 9.4.0

To view detailed results, visit:
https://lab.dpdk.org/results/dashboard/patchsets/33555/

UNH-IOL DPDK Community Lab

To manage your email subscriptions, visit: 
https://lab.dpdk.org/results/dashboard/preferences/subscriptions/

^ permalink raw reply	[flat|nested] 21+ messages in thread

end of thread, other threads:[~2025-07-02  2:52 UTC | newest]

Thread overview: 21+ messages (download: mbox.gz / follow: Atom feed)
-- links below jump to the message on this page --
     [not found] <20250701113707.2793004-10-vanshika.shukla@nxp.com>
2025-07-01 11:05 ` |SUCCESS| pw154905-154912 [v5 9/9] bus/dpaa: optimize qman enqueue check qemudev
2025-07-01 11:10 ` qemudev
2025-07-01 11:37 ` |SUCCESS| pw154912 " checkpatch
2025-07-01 13:03 ` 0-day Robot
2025-07-01 15:13 ` |SUCCESS| pw154905-154912 [PATCH] [v5,9/9] bus/dpaa: optimize qman e dpdklab
2025-07-01 15:23 ` dpdklab
2025-07-01 15:23 ` dpdklab
2025-07-01 15:48 ` dpdklab
2025-07-01 15:53 ` dpdklab
2025-07-01 17:16 ` |PENDING| " dpdklab
2025-07-01 18:14 ` dpdklab
2025-07-01 18:51 ` dpdklab
2025-07-01 19:30 ` |SUCCESS| " dpdklab
2025-07-01 19:42 ` dpdklab
2025-07-01 21:22 ` dpdklab
2025-07-01 21:23 ` dpdklab
2025-07-01 21:23 ` dpdklab
2025-07-01 22:01 ` dpdklab
2025-07-01 22:02 ` dpdklab
2025-07-01 22:38 ` |WARNING| " dpdklab
2025-07-02  2:52 ` |SUCCESS| " dpdklab

This is a public inbox, see mirroring instructions
for how to clone and mirror all data and code used for this inbox;
as well as URLs for NNTP newsgroup(s).