automatic DPDK test reports
 help / color / mirror / Atom feed
* |SUCCESS| pw154943-154944 [PATCH v4 2/2] crypto/uadk: use async mode to replace sync mode
       [not found] <20250702024216.49587-3-zhangfei.gao@linaro.org>
@ 2025-07-02  2:21 ` qemudev
  2025-07-02  2:25 ` qemudev
                   ` (9 subsequent siblings)
  10 siblings, 0 replies; 11+ messages in thread
From: qemudev @ 2025-07-02  2:21 UTC (permalink / raw)
  To: test-report

Test-Label: loongarch-compilation
Test-Status: SUCCESS
http://dpdk.org/patch/154944

_Compilation OK_

Submitter: Zhangfei Gao <zhangfei.gao@linaro.org>
Date: Wed,  2 Jul 2025 02:42:15 +0000
DPDK git baseline: Repo:dpdk-next-crypto
  Branch: for-main
  CommitID: 5b132556bd54881bc69d413b0b8fbedb0efcb774

154943-154944 --> meson & ninja build successfully

Test environment and result as below:

+---------------------+----------------+
|     Environment     | compilation    |
+---------------------+----------------+
| Loongnix-Server 8.3 | PASS           |
+---------------------+----------------+

Loongnix-Server 8.3
    Kernel: 4.19.190+
    Compiler: gcc 8.3


^ permalink raw reply	[flat|nested] 11+ messages in thread

* |SUCCESS| pw154943-154944 [PATCH v4 2/2] crypto/uadk: use async mode to replace sync mode
       [not found] <20250702024216.49587-3-zhangfei.gao@linaro.org>
  2025-07-02  2:21 ` |SUCCESS| pw154943-154944 [PATCH v4 2/2] crypto/uadk: use async mode to replace sync mode qemudev
@ 2025-07-02  2:25 ` qemudev
  2025-07-02  2:41 ` |SUCCESS| pw154944 " checkpatch
                   ` (8 subsequent siblings)
  10 siblings, 0 replies; 11+ messages in thread
From: qemudev @ 2025-07-02  2:25 UTC (permalink / raw)
  To: test-report

Test-Label: loongarch-unit-testing
Test-Status: SUCCESS
http://dpdk.org/patch/154944

_Unit Testing PASS_

Submitter: Zhangfei Gao <zhangfei.gao@linaro.org>
Date: Wed,  2 Jul 2025 02:42:15 +0000
DPDK git baseline: Repo:dpdk-next-crypto
  Branch: for-main
  CommitID: 5b132556bd54881bc69d413b0b8fbedb0efcb774

154943-154944 --> testing pass

Test environment and result as below:

+---------------------+----------------+
|     Environment     | dpdk_unit_test |
+---------------------+----------------+
| Loongnix-Server 8.3 | PASS           |
+---------------------+----------------+

Loongnix-Server 8.3
    Kernel: 4.19.190+
    Compiler: gcc 8.3


Test result details:
  1/120 DPDK:fast-tests / acl_autotest                            OK              3.37s
  2/120 DPDK:fast-tests / alarm_autotest                          OK              1.65s
  3/120 DPDK:fast-tests / argparse_autotest                       OK              0.64s
  4/120 DPDK:fast-tests / atomic_autotest                         OK              7.28s
  5/120 DPDK:fast-tests / bitcount_autotest                       OK              0.31s
  6/120 DPDK:fast-tests / bitmap_autotest                         OK              0.31s
  7/120 DPDK:fast-tests / bitops_autotest                         OK              1.81s
  8/120 DPDK:fast-tests / bitratestats_autotest                   OK              0.31s
  9/120 DPDK:fast-tests / bitset_autotest                         OK              3.02s
 10/120 DPDK:fast-tests / bpf_autotest                            OK              0.31s
 11/120 DPDK:fast-tests / bpf_convert_autotest                    OK              0.31s
 12/120 DPDK:fast-tests / byteorder_autotest                      OK              0.31s
 13/120 DPDK:fast-tests / cfgfile_autotest                        OK              0.31s
 14/120 DPDK:fast-tests / cksum_autotest                          OK              0.31s
 15/120 DPDK:fast-tests / cmdline_autotest                        OK              0.31s
 16/120 DPDK:fast-tests / common_autotest                         OK              1.19s
 17/120 DPDK:fast-tests / compressdev_autotest                    SKIP            0.06s   exit status 77
 18/120 DPDK:fast-tests / cpuflags_autotest                       OK              0.31s
 19/120 DPDK:fast-tests / crc_autotest                            OK              0.31s
 20/120 DPDK:fast-tests / user_delay_us                           OK              0.31s
 21/120 DPDK:fast-tests / debug_autotest                          OK             20.17s
 22/120 DPDK:fast-tests / devargs_autotest                        OK              0.31s
 23/120 DPDK:fast-tests / dispatcher_autotest                     OK              2.53s
 24/120 DPDK:fast-tests / distributor_autotest                    OK              1.20s
 25/120 DPDK:fast-tests / eal_flags_c_opt_autotest                OK              0.80s
 26/120 DPDK:fast-tests / eal_flags_main_opt_autotest             OK              0.22s
 27/120 DPDK:fast-tests / eal_flags_n_opt_autotest                OK              0.20s
 28/120 DPDK:fast-tests / eal_flags_hpet_autotest                 OK              0.13s
 29/120 DPDK:fast-tests / eal_flags_no_huge_autotest              OK              0.22s
 30/120 DPDK:fast-tests / eal_flags_a_opt_autotest                OK              0.30s
 31/120 DPDK:fast-tests / eal_flags_b_opt_autotest                OK              0.25s
 32/120 DPDK:fast-tests / eal_flags_vdev_opt_autotest             OK              0.20s
 33/120 DPDK:fast-tests / eal_flags_r_opt_autotest                OK              0.19s
 34/120 DPDK:fast-tests / eal_flags_mem_autotest                  OK              0.60s
 35/120 DPDK:fast-tests / eal_flags_file_prefix_autotest          OK             22.26s
 36/120 DPDK:fast-tests / eal_flags_misc_autotest                 OK              1.06s
 37/120 DPDK:fast-tests / eal_fs_autotest                         OK              0.31s
 38/120 DPDK:fast-tests / errno_autotest                          OK              0.31s
 39/120 DPDK:fast-tests / ethdev_link_status                      OK              0.31s
 40/120 DPDK:fast-tests / event_eth_tx_adapter_autotest           OK              1.68s
 41/120 DPDK:fast-tests / event_ring_autotest                     OK              0.31s
 42/120 DPDK:fast-tests / eventdev_common_autotest                OK              0.31s
 43/120 DPDK:fast-tests / eventdev_selftest_sw                    OK              7.10s
 44/120 DPDK:fast-tests / fbarray_autotest                        OK              0.31s
 45/120 DPDK:fast-tests / fib_autotest                            OK              1.14s
 46/120 DPDK:fast-tests / fib6_autotest                           OK              0.94s
 47/120 DPDK:fast-tests / func_reentrancy_autotest                OK              2.29s
 48/120 DPDK:fast-tests / graph_autotest                          OK              0.31s
 49/120 DPDK:fast-tests / node_list_dump                          OK              0.42s
 50/120 DPDK:fast-tests / graph_feature_arc_autotest              OK              0.42s
 51/120 DPDK:fast-tests / hash_autotest                           OK              1.04s
 52/120 DPDK:fast-tests / hash_readwrite_func_autotest            OK              6.39s
 53/120 DPDK:fast-tests / interrupt_autotest                      OK              1.70s
 54/120 DPDK:fast-tests / ipfrag_autotest                         OK              0.07s
 55/120 DPDK:fast-tests / ipsec_autotest                          SKIP            0.40s   exit status 77
 56/120 DPDK:fast-tests / kvargs_autotest                         OK              0.40s
 57/120 DPDK:fast-tests / latencystats_autotest                   OK              0.40s
 58/120 DPDK:fast-tests / lcore_var_autotest                      OK              0.54s
 59/120 DPDK:fast-tests / lcores_autotest                         OK              5.21s
 60/120 DPDK:fast-tests / logs_autotest                           OK              0.40s
 61/120 DPDK:fast-tests / lpm_autotest                            OK              2.45s
 62/120 DPDK:fast-tests / lpm6_autotest                           OK              5.55s
 63/120 DPDK:fast-tests / malloc_autotest                         OK             64.76s
 64/120 DPDK:fast-tests / mbuf_autotest                           OK              5.07s
 65/120 DPDK:fast-tests / mcslock_autotest                        OK              2.93s
 66/120 DPDK:fast-tests / member_autotest                         OK              1.59s
 67/120 DPDK:fast-tests / memcpy_autotest                         OK              7.00s
 68/120 DPDK:fast-tests / memory_autotest                         OK              0.10s
 69/120 DPDK:fast-tests / mempool_autotest                        OK              0.43s
 70/120 DPDK:fast-tests / memzone_autotest                        OK              0.14s
 71/120 DPDK:fast-tests / meter_autotest                          OK              0.39s
 72/120 DPDK:fast-tests / metrics_autotest                        OK              0.40s
 73/120 DPDK:fast-tests / multiprocess_autotest                   OK              0.19s
 74/120 DPDK:fast-tests / net_ether_autotest                      OK              1.06s
 75/120 DPDK:fast-tests / net_ipv6_autotest                       OK              0.40s
 76/120 DPDK:fast-tests / pcapng_autotest                         OK              5.93s
 77/120 DPDK:fast-tests / pdcp_autotest                           SKIP            0.07s   exit status 77
 78/120 DPDK:fast-tests / pdump_autotest                          OK              0.50s
 79/120 DPDK:fast-tests / per_lcore_autotest                      OK              0.50s
 80/120 DPDK:fast-tests / pflock_autotest                         OK              1.21s
 81/120 DPDK:fast-tests / pie_autotest                            OK              0.40s
 82/120 DPDK:fast-tests / ring_pmd_autotest                       OK              0.40s
 83/120 DPDK:fast-tests / power_autotest                          OK              0.40s
 84/120 DPDK:fast-tests / power_cpufreq_autotest                  SKIP            0.07s   exit status 77
 85/120 DPDK:fast-tests / power_intel_uncore_autotest             SKIP            0.39s   exit status 77
 86/120 DPDK:fast-tests / power_kvm_vm_autotest                   SKIP            0.07s   exit status 77
 87/120 DPDK:fast-tests / prefetch_autotest                       OK              0.39s
 88/120 DPDK:fast-tests / ptr_compress_autotest                   OK              0.40s
 89/120 DPDK:fast-tests / rawdev_autotest                         OK              0.40s
 90/120 DPDK:fast-tests / rcu_qsbr_autotest                       OK              0.92s
 91/120 DPDK:fast-tests / reorder_autotest                        OK              0.45s
 92/120 DPDK:fast-tests / rib_autotest                            OK              9.05s
 93/120 DPDK:fast-tests / rib6_autotest                           OK              9.04s
 94/120 DPDK:fast-tests / ring_autotest                           OK              0.42s
 95/120 DPDK:fast-tests / rwlock_test1_autotest                   OK              1.14s
 96/120 DPDK:fast-tests / rwlock_rda_autotest                     OK              5.40s
 97/120 DPDK:fast-tests / rwlock_rds_wrm_autotest                 OK              5.40s
 98/120 DPDK:fast-tests / rwlock_rde_wro_autotest                 OK              5.40s
 99/120 DPDK:fast-tests / sched_autotest                          OK              0.40s
100/120 DPDK:fast-tests / security_autotest                       OK              0.07s
101/120 DPDK:fast-tests / seqlock_autotest                        OK              2.39s
102/120 DPDK:fast-tests / service_autotest                        OK              3.10s
103/120 DPDK:fast-tests / soring_autotest                         OK              0.40s
104/120 DPDK:fast-tests / spinlock_autotest                       OK              0.52s
105/120 DPDK:fast-tests / stack_autotest                          OK              0.87s
106/120 DPDK:fast-tests / stack_lf_autotest                       SKIP            0.06s   exit status 77
107/120 DPDK:fast-tests / string_autotest                         OK              0.39s
108/120 DPDK:fast-tests / table_autotest                          OK              7.87s
109/120 DPDK:fast-tests / tailq_autotest                          OK              0.39s
110/120 DPDK:fast-tests / telemetry_data_autotest                 OK              0.40s
111/120 DPDK:fast-tests / telemetry_json_autotest                 OK              0.39s
112/120 DPDK:fast-tests / thash_autotest                          OK              0.41s
113/120 DPDK:fast-tests / threads_autotest                        OK              0.58s
114/120 DPDK:fast-tests / ticketlock_autotest                     OK              0.55s
115/120 DPDK:fast-tests / timer_autotest                          OK              3.89s
116/120 DPDK:fast-tests / trace_autotest                          OK              0.39s
117/120 DPDK:fast-tests / trace_autotest_with_traces              OK              0.40s
118/120 DPDK:fast-tests / vdev_autotest                           OK              0.39s
119/120 DPDK:fast-tests / version_autotest                        OK              0.40s
120/120 DPDK:fast-tests / telemetry_all                           OK              1.32s


Ok:                 113
Expected Fail:      0
Fail:               0
Unexpected Pass:    0
Skipped:            7
Timeout:            0


^ permalink raw reply	[flat|nested] 11+ messages in thread

* |SUCCESS| pw154944 [PATCH v4 2/2] crypto/uadk: use async mode to replace sync mode
       [not found] <20250702024216.49587-3-zhangfei.gao@linaro.org>
  2025-07-02  2:21 ` |SUCCESS| pw154943-154944 [PATCH v4 2/2] crypto/uadk: use async mode to replace sync mode qemudev
  2025-07-02  2:25 ` qemudev
@ 2025-07-02  2:41 ` checkpatch
  2025-07-02  4:03 ` 0-day Robot
                   ` (7 subsequent siblings)
  10 siblings, 0 replies; 11+ messages in thread
From: checkpatch @ 2025-07-02  2:41 UTC (permalink / raw)
  To: test-report

Test-Label: checkpatch
Test-Status: SUCCESS
http://dpdk.org/patch/154944

_coding style OK_



^ permalink raw reply	[flat|nested] 11+ messages in thread

* |SUCCESS| pw154944 [PATCH v4 2/2] crypto/uadk: use async mode to replace sync mode
       [not found] <20250702024216.49587-3-zhangfei.gao@linaro.org>
                   ` (2 preceding siblings ...)
  2025-07-02  2:41 ` |SUCCESS| pw154944 " checkpatch
@ 2025-07-02  4:03 ` 0-day Robot
  2025-07-02 20:10 ` |PENDING| pw154943-154944 [PATCH] [v4,2/2] crypto/uadk: use async mo dpdklab
                   ` (6 subsequent siblings)
  10 siblings, 0 replies; 11+ messages in thread
From: 0-day Robot @ 2025-07-02  4:03 UTC (permalink / raw)
  To: test-report; +Cc: robot

From: robot@bytheb.org

Test-Label: github-robot: build
Test-Status: SUCCESS
http://patchwork.dpdk.org/patch/154944/

_github build: passed_
Build URL: https://github.com/ovsrobot/dpdk/actions/runs/16015096112

^ permalink raw reply	[flat|nested] 11+ messages in thread

* |PENDING| pw154943-154944 [PATCH] [v4,2/2] crypto/uadk: use async mo
       [not found] <20250702024216.49587-3-zhangfei.gao@linaro.org>
                   ` (3 preceding siblings ...)
  2025-07-02  4:03 ` 0-day Robot
@ 2025-07-02 20:10 ` dpdklab
  2025-07-02 20:11 ` |SUCCESS| " dpdklab
                   ` (5 subsequent siblings)
  10 siblings, 0 replies; 11+ messages in thread
From: dpdklab @ 2025-07-02 20:10 UTC (permalink / raw)
  To: Test Report; +Cc: dpdk-test-reports

Test-Label: iol-compile-amd64-testing
Test-Status: PENDING
http://dpdk.org/patch/154944

_Testing pending_

Submitter: Zhangfei Gao <zhangfei.gao@linaro.org>
Date: Wednesday, July 02 2025 02:42:16 
DPDK git baseline: Repo:dpdk
  Branch: master
  CommitID:5b132556bd54881bc69d413b0b8fbedb0efcb774

154943-154944 --> testing pending

Upstream job id: Generic-VM-DPDK-Compile-Meson#36889

Test environment and result as below:

+--------------+--------------------+
| Environment  | dpdk_meson_compile |
+==============+====================+
| Ubuntu 20.04 | PASS               |
+--------------+--------------------+
| FreeBSD 14.2 | PEND               |
+--------------+--------------------+


Ubuntu 20.04
	Kernel: 4.19
	Compiler: gcc gcc (Ubuntu 9.4.0-1ubuntu1~20.04.2) 9.4.0

FreeBSD 14.2
	Kernel: 14.2-RELEASE
	Compiler: clang 18.1.6

To view detailed results, visit:
https://lab.dpdk.org/results/dashboard/patchsets/33561/

UNH-IOL DPDK Community Lab

To manage your email subscriptions, visit: 
https://lab.dpdk.org/results/dashboard/preferences/subscriptions/

^ permalink raw reply	[flat|nested] 11+ messages in thread

* |SUCCESS| pw154943-154944 [PATCH] [v4,2/2] crypto/uadk: use async mo
       [not found] <20250702024216.49587-3-zhangfei.gao@linaro.org>
                   ` (4 preceding siblings ...)
  2025-07-02 20:10 ` |PENDING| pw154943-154944 [PATCH] [v4,2/2] crypto/uadk: use async mo dpdklab
@ 2025-07-02 20:11 ` dpdklab
  2025-07-02 20:18 ` dpdklab
                   ` (4 subsequent siblings)
  10 siblings, 0 replies; 11+ messages in thread
From: dpdklab @ 2025-07-02 20:11 UTC (permalink / raw)
  To: Test Report; +Cc: dpdk-test-reports

Test-Label: iol-sample-apps-testing
Test-Status: SUCCESS
http://dpdk.org/patch/154944

_Testing PASS_

Submitter: Zhangfei Gao <zhangfei.gao@linaro.org>
Date: Wednesday, July 02 2025 02:42:16 
DPDK git baseline: Repo:dpdk
  Branch: master
  CommitID:5b132556bd54881bc69d413b0b8fbedb0efcb774

154943-154944 --> testing pass

Upstream job id: Template-DTS-Pipeline#234661

Test environment and result as below:

+--------------+----------------------+
| Environment  | compressdev_zlib_pmd |
+==============+======================+
| Ubuntu 22.04 | PASS                 |
+--------------+----------------------+


Ubuntu 22.04
	Kernel: 5.15
	Compiler: gcc gcc (Ubuntu 11.4.0-1ubuntu1~22.04) 11.4.0

To view detailed results, visit:
https://lab.dpdk.org/results/dashboard/patchsets/33561/

UNH-IOL DPDK Community Lab

To manage your email subscriptions, visit: 
https://lab.dpdk.org/results/dashboard/preferences/subscriptions/

^ permalink raw reply	[flat|nested] 11+ messages in thread

* |SUCCESS| pw154943-154944 [PATCH] [v4,2/2] crypto/uadk: use async mo
       [not found] <20250702024216.49587-3-zhangfei.gao@linaro.org>
                   ` (5 preceding siblings ...)
  2025-07-02 20:11 ` |SUCCESS| " dpdklab
@ 2025-07-02 20:18 ` dpdklab
  2025-07-02 20:19 ` dpdklab
                   ` (3 subsequent siblings)
  10 siblings, 0 replies; 11+ messages in thread
From: dpdklab @ 2025-07-02 20:18 UTC (permalink / raw)
  To: Test Report; +Cc: dpdk-test-reports

Test-Label: iol-compile-amd64-testing
Test-Status: SUCCESS
http://dpdk.org/patch/154944

_Testing PASS_

Submitter: Zhangfei Gao <zhangfei.gao@linaro.org>
Date: Wednesday, July 02 2025 02:42:16 
DPDK git baseline: Repo:dpdk
  Branch: master
  CommitID:5b132556bd54881bc69d413b0b8fbedb0efcb774

154943-154944 --> testing pass

Upstream job id: Generic-VM-DPDK-Compile-Meson#36890

Test environment and result as below:

+--------------+--------------------+
| Environment  | dpdk_meson_compile |
+==============+====================+
| Ubuntu 20.04 | PASS               |
+--------------+--------------------+
| FreeBSD 14.2 | PASS               |
+--------------+--------------------+


Ubuntu 20.04
	Kernel: 4.19
	Compiler: gcc gcc (Ubuntu 9.4.0-1ubuntu1~20.04.2) 9.4.0

FreeBSD 14.2
	Kernel: 14.2-RELEASE
	Compiler: clang 18.1.6

To view detailed results, visit:
https://lab.dpdk.org/results/dashboard/patchsets/33561/

UNH-IOL DPDK Community Lab

To manage your email subscriptions, visit: 
https://lab.dpdk.org/results/dashboard/preferences/subscriptions/

^ permalink raw reply	[flat|nested] 11+ messages in thread

* |SUCCESS| pw154943-154944 [PATCH] [v4,2/2] crypto/uadk: use async mo
       [not found] <20250702024216.49587-3-zhangfei.gao@linaro.org>
                   ` (6 preceding siblings ...)
  2025-07-02 20:18 ` dpdklab
@ 2025-07-02 20:19 ` dpdklab
  2025-07-02 20:51 ` |PENDING| " dpdklab
                   ` (2 subsequent siblings)
  10 siblings, 0 replies; 11+ messages in thread
From: dpdklab @ 2025-07-02 20:19 UTC (permalink / raw)
  To: Test Report, Ali Alnubani; +Cc: dpdk-test-reports

Test-Label: iol-mellanox-Performance
Test-Status: SUCCESS
http://dpdk.org/patch/154944

_Performance Testing PASS_

Submitter: Zhangfei Gao <zhangfei.gao@linaro.org>
Date: Wednesday, July 02 2025 02:42:16 
DPDK git baseline: Repo:dpdk
  Branch: master
  CommitID:5b132556bd54881bc69d413b0b8fbedb0efcb774

154943-154944 --> performance testing pass

Upstream job id: Template-DTS-Pipeline#234647

Test environment and result as below:

Ubuntu 24.04
Kernel: 6.8
Compiler: gcc gcc (Ubuntu 13.3.0-6ubuntu2~24.04) 13.3.0
NIC: Mellanox ConnectX-6 Lx 25000 Mbps
Fail/Total: 0/6

Detail performance results: 
+------------+---------+----------+-------------+------------------------------+
| frame_size | txd/rxd | num_cpus | num_threads |  throughput difference from  |
|            |         |          |             |           expected           |
+============+=========+==========+=============+==============================+
| 64         | 1024    | 1        | 1           | -0.0%                        |
+------------+---------+----------+-------------+------------------------------+
| 128        | 1024    | 1        | 1           | 0.0%                         |
+------------+---------+----------+-------------+------------------------------+
| 256        | 1024    | 1        | 1           | -0.0%                        |
+------------+---------+----------+-------------+------------------------------+
| 512        | 1024    | 1        | 1           | -0.2%                        |
+------------+---------+----------+-------------+------------------------------+
| 1024       | 1024    | 1        | 1           | -0.2%                        |
+------------+---------+----------+-------------+------------------------------+
| 1518       | 1024    | 1        | 1           | -0.2%                        |
+------------+---------+----------+-------------+------------------------------+

Ubuntu 24.04
Kernel: 6.8
Compiler: gcc gcc (Ubuntu 13.3.0-6ubuntu2~24.04) 13.3.0
NIC: NVIDIA Mellanox ConnectX-7 100000 Mbps
Fail/Total: 0/6

Detail performance results: 
+------------+---------+----------+-------------+------------------------------+
| frame_size | txd/rxd | num_cpus | num_threads |  throughput difference from  |
|            |         |          |             |           expected           |
+============+=========+==========+=============+==============================+
| 64         | 1024    | 1        | 1           | -0.2%                        |
+------------+---------+----------+-------------+------------------------------+
| 128        | 1024    | 1        | 1           | 0.5%                         |
+------------+---------+----------+-------------+------------------------------+
| 256        | 1024    | 1        | 1           | 0.1%                         |
+------------+---------+----------+-------------+------------------------------+
| 512        | 1024    | 1        | 1           | 0.0%                         |
+------------+---------+----------+-------------+------------------------------+
| 1024       | 1024    | 1        | 1           | -0.2%                        |
+------------+---------+----------+-------------+------------------------------+
| 1518       | 1024    | 1        | 1           | 0.2%                         |
+------------+---------+----------+-------------+------------------------------+

To view detailed results, visit:
https://lab.dpdk.org/results/dashboard/patchsets/33561/

UNH-IOL DPDK Community Lab

To manage your email subscriptions, visit: 
https://lab.dpdk.org/results/dashboard/preferences/subscriptions/

^ permalink raw reply	[flat|nested] 11+ messages in thread

* |PENDING| pw154943-154944 [PATCH] [v4,2/2] crypto/uadk: use async mo
       [not found] <20250702024216.49587-3-zhangfei.gao@linaro.org>
                   ` (7 preceding siblings ...)
  2025-07-02 20:19 ` dpdklab
@ 2025-07-02 20:51 ` dpdklab
  2025-07-02 22:07 ` |SUCCESS| " dpdklab
  2025-07-03  1:23 ` |PENDING| " dpdklab
  10 siblings, 0 replies; 11+ messages in thread
From: dpdklab @ 2025-07-02 20:51 UTC (permalink / raw)
  To: Test Report; +Cc: dpdk-test-reports

Test-Label: iol-unit-arm64-testing
Test-Status: PENDING
http://dpdk.org/patch/154944

_Testing pending_

Submitter: Zhangfei Gao <zhangfei.gao@linaro.org>
Date: Wednesday, July 02 2025 02:42:16 
DPDK git baseline: Repo:dpdk
  Branch: master
  CommitID:5b132556bd54881bc69d413b0b8fbedb0efcb774

154943-154944 --> testing pending

Upstream job id: Aarch32-Unit-Test#6788

Test environment and result as below:

+------------------------------+---------------------------+------------------------------+--------------+----------------+
|         Environment          | cryptodev_sw_zuc_autotest | cryptodev_sw_snow3g_autotest | lpm_autotest | dpdk_unit_test |
+==============================+===========================+==============================+==============+================+
| Debian 12 (arm)              | PEND                      | PEND                         | SKIPPED      | SKIPPED        |
+------------------------------+---------------------------+------------------------------+--------------+----------------+
| Ubuntu 20.04                 | SKIPPED                   | SKIPPED                      | PEND         | PEND           |
+------------------------------+---------------------------+------------------------------+--------------+----------------+
| Debian GNU/Linux 12          | SKIPPED                   | SKIPPED                      | SKIPPED      | PEND           |
+------------------------------+---------------------------+------------------------------+--------------+----------------+
| CentOS Stream 9              | SKIPPED                   | SKIPPED                      | SKIPPED      | PEND           |
+------------------------------+---------------------------+------------------------------+--------------+----------------+
| CentOS Stream 10             | SKIPPED                   | SKIPPED                      | SKIPPED      | PEND           |
+------------------------------+---------------------------+------------------------------+--------------+----------------+
| Fedora Linux 41              | SKIPPED                   | SKIPPED                      | SKIPPED      | PEND           |
+------------------------------+---------------------------+------------------------------+--------------+----------------+
| Fedora Linux 40              | SKIPPED                   | SKIPPED                      | SKIPPED      | PEND           |
+------------------------------+---------------------------+------------------------------+--------------+----------------+
| Red Hat Enterprise Linux 9.5 | SKIPPED                   | SKIPPED                      | SKIPPED      | PEND           |
+------------------------------+---------------------------+------------------------------+--------------+----------------+
| Ubuntu 22.04                 | SKIPPED                   | SKIPPED                      | SKIPPED      | PASS           |
+------------------------------+---------------------------+------------------------------+--------------+----------------+
| Ubuntu 24.04                 | SKIPPED                   | SKIPPED                      | SKIPPED      | PEND           |
+------------------------------+---------------------------+------------------------------+--------------+----------------+


Debian 12 (arm)
	Kernel: Depends on container host
	Compiler: gcc (Debian 12.2.0-14) 12.2.0

Ubuntu 20.04
	Kernel: 5.4
	Compiler: gcc gcc (Ubuntu 9.4.0-1ubuntu1~20.04.2) 9.4.0

Debian GNU/Linux 12
	Kernel: 5.4
	Compiler: gcc gcc (Debian 12.2.0-14+deb12u1) 12.2.0

CentOS Stream 9
	Kernel: 5.4
	Compiler: gcc gcc (GCC) 11.5.0 20240719 (Red Hat 11.5.0-7)

CentOS Stream 10
	Kernel: 5.4
	Compiler: gcc gcc (GCC) 14.2.1 20250110 (Red Hat 14.2.1-8)

Fedora Linux 41
	Kernel: 5.4
	Compiler: gcc gcc (GCC) 14.3.1 20250523 (Red Hat 14.3.1-1)

Fedora Linux 40
	Kernel: 5.4
	Compiler: gcc gcc (GCC) 14.2.1 20240912 (Red Hat 14.2.1-3)

Red Hat Enterprise Linux 9.5
	Kernel: 5.4
	Compiler: gcc gcc (GCC) 11.5.0 20240719 (Red Hat 11.5.0-2)

Ubuntu 22.04
	Kernel: 5.4
	Compiler: gcc gcc (Ubuntu 11.4.0-1ubuntu1~22.04) 11.4.0

Ubuntu 24.04
	Kernel: 5.4
	Compiler: gcc gcc (Ubuntu 13.3.0-6ubuntu2~24.04) 13.3.0

To view detailed results, visit:
https://lab.dpdk.org/results/dashboard/patchsets/33561/

UNH-IOL DPDK Community Lab

To manage your email subscriptions, visit: 
https://lab.dpdk.org/results/dashboard/preferences/subscriptions/

^ permalink raw reply	[flat|nested] 11+ messages in thread

* |SUCCESS| pw154943-154944 [PATCH] [v4,2/2] crypto/uadk: use async mo
       [not found] <20250702024216.49587-3-zhangfei.gao@linaro.org>
                   ` (8 preceding siblings ...)
  2025-07-02 20:51 ` |PENDING| " dpdklab
@ 2025-07-02 22:07 ` dpdklab
  2025-07-03  1:23 ` |PENDING| " dpdklab
  10 siblings, 0 replies; 11+ messages in thread
From: dpdklab @ 2025-07-02 22:07 UTC (permalink / raw)
  To: Test Report; +Cc: dpdk-test-reports

Test-Label: iol-sample-apps-testing
Test-Status: SUCCESS
http://dpdk.org/patch/154944

_Testing PASS_

Submitter: Zhangfei Gao <zhangfei.gao@linaro.org>
Date: Wednesday, July 02 2025 02:42:16 
DPDK git baseline: Repo:dpdk
  Branch: master
  CommitID:5b132556bd54881bc69d413b0b8fbedb0efcb774

154943-154944 --> testing pass

Upstream job id: Template-DTS-Pipeline#234660

Test environment and result as below:

+--------------+----------------------+
| Environment  | compressdev_zlib_pmd |
+==============+======================+
| Ubuntu 22.04 | PASS                 |
+--------------+----------------------+


Ubuntu 22.04
	Kernel: 5.15
	Compiler: gcc gcc (Ubuntu 11.4.0-1ubuntu1~22.04) 11.4.0

To view detailed results, visit:
https://lab.dpdk.org/results/dashboard/patchsets/33561/

UNH-IOL DPDK Community Lab

To manage your email subscriptions, visit: 
https://lab.dpdk.org/results/dashboard/preferences/subscriptions/

^ permalink raw reply	[flat|nested] 11+ messages in thread

* |PENDING| pw154943-154944 [PATCH] [v4,2/2] crypto/uadk: use async mo
       [not found] <20250702024216.49587-3-zhangfei.gao@linaro.org>
                   ` (9 preceding siblings ...)
  2025-07-02 22:07 ` |SUCCESS| " dpdklab
@ 2025-07-03  1:23 ` dpdklab
  10 siblings, 0 replies; 11+ messages in thread
From: dpdklab @ 2025-07-03  1:23 UTC (permalink / raw)
  To: Test Report; +Cc: dpdk-test-reports

Test-Label: iol-unit-amd64-testing
Test-Status: PENDING
http://dpdk.org/patch/154944

_Testing pending_

Submitter: Zhangfei Gao <zhangfei.gao@linaro.org>
Date: Wednesday, July 02 2025 02:42:16 
DPDK git baseline: Repo:dpdk
  Branch: master
  CommitID:5b132556bd54881bc69d413b0b8fbedb0efcb774

154943-154944 --> testing pending

Upstream job id: Generic-VM-Unit-Test-DPDK#29665

Test environment and result as below:

+-------------------------------+----------------+
|          Environment          | dpdk_unit_test |
+===============================+================+
| CentOS Stream 9               | PEND           |
+-------------------------------+----------------+
| CentOS Stream 10              | PEND           |
+-------------------------------+----------------+
| Fedora Linux 40               | PEND           |
+-------------------------------+----------------+
| Debian GNU/Linux 12           | PEND           |
+-------------------------------+----------------+
| Fedora Linux 41               | PEND           |
+-------------------------------+----------------+
| Red Hat Enterprise Linux 8.10 | PEND           |
+-------------------------------+----------------+
| Ubuntu 22.04                  | PEND           |
+-------------------------------+----------------+
| Red Hat Enterprise Linux 9.5  | PEND           |
+-------------------------------+----------------+
| Ubuntu 20.04                  | PEND           |
+-------------------------------+----------------+
| Ubuntu 24.04                  | PEND           |
+-------------------------------+----------------+
| Windows Server 2022           | PASS           |
+-------------------------------+----------------+


CentOS Stream 9
	Kernel: 5.15
	Compiler: gcc gcc (GCC) 11.5.0 20240719 (Red Hat 11.5.0-7)

CentOS Stream 10
	Kernel: 5.15
	Compiler: gcc gcc (GCC) 14.2.1 20250110 (Red Hat 14.2.1-8)

Fedora Linux 40
	Kernel: 5.15
	Compiler: gcc gcc (GCC) 14.2.1 20240912 (Red Hat 14.2.1-3)

Debian GNU/Linux 12
	Kernel: 5.15
	Compiler: gcc gcc (Debian 12.2.0-14+deb12u1) 12.2.0

Fedora Linux 41
	Kernel: 5.15
	Compiler: gcc gcc (GCC) 14.3.1 20250523 (Red Hat 14.3.1-1)

Red Hat Enterprise Linux 8.10
	Kernel: 5.15
	Compiler: gcc gcc (GCC) 8.5.0 20210514 (Red Hat 8.5.0-22)

Ubuntu 22.04
	Kernel: 5.15
	Compiler: gcc gcc (Ubuntu 11.4.0-1ubuntu1~22.04) 11.4.0

Red Hat Enterprise Linux 9.5
	Kernel: 5.15
	Compiler: gcc gcc (GCC) 11.5.0 20240719 (Red Hat 11.5.0-2)

Ubuntu 20.04
	Kernel: 5.15
	Compiler: gcc gcc (Ubuntu 9.4.0-1ubuntu1~20.04.2) 9.4.0

Ubuntu 24.04
	Kernel: 5.15
	Compiler: gcc gcc (Ubuntu 13.3.0-6ubuntu2~24.04) 13.3.0

Windows Server 2022
	Kernel: 10.0.20348.2031
	Compiler: clang 15.0.7, gcc 14.1.0 (MinGW), and MSVC VS 19.39.33521

To view detailed results, visit:
https://lab.dpdk.org/results/dashboard/patchsets/33561/

UNH-IOL DPDK Community Lab

To manage your email subscriptions, visit: 
https://lab.dpdk.org/results/dashboard/preferences/subscriptions/

^ permalink raw reply	[flat|nested] 11+ messages in thread

end of thread, other threads:[~2025-07-03  1:23 UTC | newest]

Thread overview: 11+ messages (download: mbox.gz / follow: Atom feed)
-- links below jump to the message on this page --
     [not found] <20250702024216.49587-3-zhangfei.gao@linaro.org>
2025-07-02  2:21 ` |SUCCESS| pw154943-154944 [PATCH v4 2/2] crypto/uadk: use async mode to replace sync mode qemudev
2025-07-02  2:25 ` qemudev
2025-07-02  2:41 ` |SUCCESS| pw154944 " checkpatch
2025-07-02  4:03 ` 0-day Robot
2025-07-02 20:10 ` |PENDING| pw154943-154944 [PATCH] [v4,2/2] crypto/uadk: use async mo dpdklab
2025-07-02 20:11 ` |SUCCESS| " dpdklab
2025-07-02 20:18 ` dpdklab
2025-07-02 20:19 ` dpdklab
2025-07-02 20:51 ` |PENDING| " dpdklab
2025-07-02 22:07 ` |SUCCESS| " dpdklab
2025-07-03  1:23 ` |PENDING| " dpdklab

This is a public inbox, see mirroring instructions
for how to clone and mirror all data and code used for this inbox;
as well as URLs for NNTP newsgroup(s).