* |SUCCESS| pw154950-154951 [PATCH v3 2/2] net/zxdh: add support flow director ops [not found] <20250702073453.113779-3-chen.bingbin@zte.com.cn> @ 2025-07-02 7:07 ` qemudev 2025-07-02 7:12 ` qemudev ` (2 subsequent siblings) 3 siblings, 0 replies; 4+ messages in thread From: qemudev @ 2025-07-02 7:07 UTC (permalink / raw) To: test-report Test-Label: loongarch-compilation Test-Status: SUCCESS http://dpdk.org/patch/154951 _Compilation OK_ Submitter: Bingbin Chen <chen.bingbin@zte.com.cn> Date: Wed, 2 Jul 2025 15:34:44 +0800 DPDK git baseline: Repo:dpdk-next-net Branch: main CommitID: b18c543ec30729ccc7708a6e064a1f9db5d8c11f 154950-154951 --> meson & ninja build successfully Test environment and result as below: +---------------------+----------------+ | Environment | compilation | +---------------------+----------------+ | Loongnix-Server 8.3 | PASS | +---------------------+----------------+ Loongnix-Server 8.3 Kernel: 4.19.190+ Compiler: gcc 8.3 ^ permalink raw reply [flat|nested] 4+ messages in thread
* |SUCCESS| pw154950-154951 [PATCH v3 2/2] net/zxdh: add support flow director ops [not found] <20250702073453.113779-3-chen.bingbin@zte.com.cn> 2025-07-02 7:07 ` |SUCCESS| pw154950-154951 [PATCH v3 2/2] net/zxdh: add support flow director ops qemudev @ 2025-07-02 7:12 ` qemudev 2025-07-02 7:42 ` |WARNING| pw154951 " checkpatch 2025-07-02 9:03 ` |SUCCESS| " 0-day Robot 3 siblings, 0 replies; 4+ messages in thread From: qemudev @ 2025-07-02 7:12 UTC (permalink / raw) To: test-report Test-Label: loongarch-unit-testing Test-Status: SUCCESS http://dpdk.org/patch/154951 _Unit Testing PASS_ Submitter: Bingbin Chen <chen.bingbin@zte.com.cn> Date: Wed, 2 Jul 2025 15:34:44 +0800 DPDK git baseline: Repo:dpdk-next-net Branch: main CommitID: b18c543ec30729ccc7708a6e064a1f9db5d8c11f 154950-154951 --> testing pass Test environment and result as below: +---------------------+----------------+ | Environment | dpdk_unit_test | +---------------------+----------------+ | Loongnix-Server 8.3 | PASS | +---------------------+----------------+ Loongnix-Server 8.3 Kernel: 4.19.190+ Compiler: gcc 8.3 Test result details: 1/121 DPDK:fast-tests / acl_autotest OK 3.14s 2/121 DPDK:fast-tests / alarm_autotest OK 1.40s 3/121 DPDK:fast-tests / argparse_autotest OK 0.39s 4/121 DPDK:fast-tests / atomic_autotest OK 7.29s 5/121 DPDK:fast-tests / bitcount_autotest OK 0.44s 6/121 DPDK:fast-tests / bitmap_autotest OK 0.53s 7/121 DPDK:fast-tests / bitops_autotest OK 2.03s 8/121 DPDK:fast-tests / bitratestats_autotest OK 0.54s 9/121 DPDK:fast-tests / bitset_autotest OK 3.24s 10/121 DPDK:fast-tests / bpf_autotest OK 0.54s 11/121 DPDK:fast-tests / bpf_convert_autotest OK 0.54s 12/121 DPDK:fast-tests / byteorder_autotest OK 0.53s 13/121 DPDK:fast-tests / cfgfile_autotest OK 0.54s 14/121 DPDK:fast-tests / cksum_autotest OK 0.53s 15/121 DPDK:fast-tests / cmdline_autotest OK 0.54s 16/121 DPDK:fast-tests / common_autotest OK 1.42s 17/121 DPDK:fast-tests / compressdev_autotest SKIP 0.07s exit status 77 18/121 DPDK:fast-tests / cpuflags_autotest OK 0.48s 19/121 DPDK:fast-tests / crc_autotest OK 0.48s 20/121 DPDK:fast-tests / user_delay_us OK 0.48s 21/121 DPDK:fast-tests / debug_autotest OK 25.72s 22/121 DPDK:fast-tests / devargs_autotest OK 0.48s 23/121 DPDK:fast-tests / dispatcher_autotest OK 2.56s 24/121 DPDK:fast-tests / distributor_autotest OK 1.21s 25/121 DPDK:fast-tests / eal_flags_c_opt_autotest OK 0.82s 26/121 DPDK:fast-tests / eal_flags_main_opt_autotest OK 0.23s 27/121 DPDK:fast-tests / eal_flags_n_opt_autotest OK 0.20s 28/121 DPDK:fast-tests / eal_flags_hpet_autotest OK 0.14s 29/121 DPDK:fast-tests / eal_flags_no_huge_autotest OK 0.23s 30/121 DPDK:fast-tests / eal_flags_a_opt_autotest OK 0.31s 31/121 DPDK:fast-tests / eal_flags_b_opt_autotest OK 0.26s 32/121 DPDK:fast-tests / eal_flags_vdev_opt_autotest OK 0.20s 33/121 DPDK:fast-tests / eal_flags_r_opt_autotest OK 0.19s 34/121 DPDK:fast-tests / eal_flags_mem_autotest OK 0.60s 35/121 DPDK:fast-tests / eal_flags_file_prefix_autotest OK 22.27s 36/121 DPDK:fast-tests / eal_flags_misc_autotest OK 1.07s 37/121 DPDK:fast-tests / eal_fs_autotest OK 0.48s 38/121 DPDK:fast-tests / errno_autotest OK 0.48s 39/121 DPDK:fast-tests / ethdev_link_status OK 0.48s 40/121 DPDK:fast-tests / event_eth_tx_adapter_autotest OK 1.69s 41/121 DPDK:fast-tests / event_ring_autotest OK 0.48s 42/121 DPDK:fast-tests / event_vector_adapter_autotest OK 0.84s 43/121 DPDK:fast-tests / eventdev_common_autotest OK 0.48s 44/121 DPDK:fast-tests / eventdev_selftest_sw OK 7.35s 45/121 DPDK:fast-tests / fbarray_autotest OK 0.48s 46/121 DPDK:fast-tests / fib_autotest OK 1.34s 47/121 DPDK:fast-tests / fib6_autotest OK 1.23s 48/121 DPDK:fast-tests / func_reentrancy_autotest OK 2.30s 49/121 DPDK:fast-tests / graph_autotest OK 0.48s 50/121 DPDK:fast-tests / node_list_dump OK 0.48s 51/121 DPDK:fast-tests / graph_feature_arc_autotest OK 0.49s 52/121 DPDK:fast-tests / hash_autotest OK 1.11s 53/121 DPDK:fast-tests / hash_readwrite_func_autotest OK 6.41s 54/121 DPDK:fast-tests / interrupt_autotest OK 1.78s 55/121 DPDK:fast-tests / ipfrag_autotest OK 0.08s 56/121 DPDK:fast-tests / ipsec_autotest SKIP 0.48s exit status 77 57/121 DPDK:fast-tests / kvargs_autotest OK 0.49s 58/121 DPDK:fast-tests / latencystats_autotest OK 0.49s 59/121 DPDK:fast-tests / lcore_var_autotest OK 0.62s 60/121 DPDK:fast-tests / lcores_autotest OK 5.29s 61/121 DPDK:fast-tests / logs_autotest OK 0.48s 62/121 DPDK:fast-tests / lpm_autotest OK 2.53s 63/121 DPDK:fast-tests / lpm6_autotest OK 5.65s 64/121 DPDK:fast-tests / malloc_autotest OK 61.22s 65/121 DPDK:fast-tests / mbuf_autotest OK 4.27s 66/121 DPDK:fast-tests / mcslock_autotest OK 4.37s 67/121 DPDK:fast-tests / member_autotest OK 1.65s 68/121 DPDK:fast-tests / memcpy_autotest OK 6.92s 69/121 DPDK:fast-tests / memory_autotest OK 0.10s 70/121 DPDK:fast-tests / mempool_autotest OK 0.43s 71/121 DPDK:fast-tests / memzone_autotest OK 0.14s 72/121 DPDK:fast-tests / meter_autotest OK 0.47s 73/121 DPDK:fast-tests / metrics_autotest OK 0.48s 74/121 DPDK:fast-tests / multiprocess_autotest OK 0.20s 75/121 DPDK:fast-tests / net_ether_autotest OK 1.14s 76/121 DPDK:fast-tests / net_ipv6_autotest OK 0.48s 77/121 DPDK:fast-tests / pcapng_autotest OK 7.14s 78/121 DPDK:fast-tests / pdcp_autotest SKIP 0.07s exit status 77 79/121 DPDK:fast-tests / pdump_autotest OK 0.59s 80/121 DPDK:fast-tests / per_lcore_autotest OK 0.58s 81/121 DPDK:fast-tests / pflock_autotest OK 1.29s 82/121 DPDK:fast-tests / pie_autotest OK 0.48s 83/121 DPDK:fast-tests / ring_pmd_autotest OK 0.48s 84/121 DPDK:fast-tests / power_autotest OK 0.48s 85/121 DPDK:fast-tests / power_cpufreq_autotest SKIP 0.07s exit status 77 86/121 DPDK:fast-tests / power_intel_uncore_autotest SKIP 0.47s exit status 77 87/121 DPDK:fast-tests / power_kvm_vm_autotest SKIP 0.07s exit status 77 88/121 DPDK:fast-tests / prefetch_autotest OK 0.47s 89/121 DPDK:fast-tests / ptr_compress_autotest OK 0.48s 90/121 DPDK:fast-tests / rawdev_autotest OK 0.48s 91/121 DPDK:fast-tests / rcu_qsbr_autotest OK 1.00s 92/121 DPDK:fast-tests / reorder_autotest OK 0.54s 93/121 DPDK:fast-tests / rib_autotest OK 9.14s 94/121 DPDK:fast-tests / rib6_autotest OK 9.13s 95/121 DPDK:fast-tests / ring_autotest OK 0.51s 96/121 DPDK:fast-tests / rwlock_test1_autotest OK 1.23s 97/121 DPDK:fast-tests / rwlock_rda_autotest OK 5.48s 98/121 DPDK:fast-tests / rwlock_rds_wrm_autotest OK 5.48s 99/121 DPDK:fast-tests / rwlock_rde_wro_autotest OK 5.48s 100/121 DPDK:fast-tests / sched_autotest OK 0.48s 101/121 DPDK:fast-tests / security_autotest OK 0.07s 102/121 DPDK:fast-tests / seqlock_autotest OK 2.48s 103/121 DPDK:fast-tests / service_autotest OK 3.19s 104/121 DPDK:fast-tests / soring_autotest OK 0.49s 105/121 DPDK:fast-tests / spinlock_autotest OK 0.56s 106/121 DPDK:fast-tests / stack_autotest OK 0.87s 107/121 DPDK:fast-tests / stack_lf_autotest SKIP 0.06s exit status 77 108/121 DPDK:fast-tests / string_autotest OK 0.48s 109/121 DPDK:fast-tests / table_autotest OK 7.86s 110/121 DPDK:fast-tests / tailq_autotest OK 0.48s 111/121 DPDK:fast-tests / telemetry_data_autotest OK 0.49s 112/121 DPDK:fast-tests / telemetry_json_autotest OK 0.48s 113/121 DPDK:fast-tests / thash_autotest OK 0.49s 114/121 DPDK:fast-tests / threads_autotest OK 0.66s 115/121 DPDK:fast-tests / ticketlock_autotest OK 0.66s 116/121 DPDK:fast-tests / timer_autotest OK 4.00s 117/121 DPDK:fast-tests / trace_autotest OK 0.47s 118/121 DPDK:fast-tests / trace_autotest_with_traces OK 0.49s 119/121 DPDK:fast-tests / vdev_autotest OK 0.48s 120/121 DPDK:fast-tests / version_autotest OK 0.48s 121/121 DPDK:fast-tests / telemetry_all OK 1.40s Ok: 114 Expected Fail: 0 Fail: 0 Unexpected Pass: 0 Skipped: 7 Timeout: 0 ^ permalink raw reply [flat|nested] 4+ messages in thread
* |WARNING| pw154951 [PATCH v3 2/2] net/zxdh: add support flow director ops [not found] <20250702073453.113779-3-chen.bingbin@zte.com.cn> 2025-07-02 7:07 ` |SUCCESS| pw154950-154951 [PATCH v3 2/2] net/zxdh: add support flow director ops qemudev 2025-07-02 7:12 ` qemudev @ 2025-07-02 7:42 ` checkpatch 2025-07-02 9:03 ` |SUCCESS| " 0-day Robot 3 siblings, 0 replies; 4+ messages in thread From: checkpatch @ 2025-07-02 7:42 UTC (permalink / raw) To: test-report; +Cc: Bingbin Chen Test-Label: checkpatch Test-Status: WARNING http://dpdk.org/patch/154951 _coding style issues_ WARNING:TYPO_SPELLING: 'stdio' may be misspelled - perhaps 'studio'? #374: FILE: drivers/net/zxdh/zxdh_flow.c:6: +#include <stdio.h> CHECK:MACRO_ARG_REUSE: Macro argument reuse 'buf_size' - possible side-effects? #415: FILE: drivers/net/zxdh/zxdh_flow.c:47: +#define MKDUMPSTR(buf, buf_size, cur_len, ...) \ +do { \ + if ((cur_len) >= (buf_size)) \ + break; \ + (cur_len) += snprintf((buf) + (cur_len), (buf_size) - (cur_len), __VA_ARGS__); \ +} while (0) CHECK:MACRO_ARG_REUSE: Macro argument reuse 'cur_len' - possible side-effects? #415: FILE: drivers/net/zxdh/zxdh_flow.c:47: +#define MKDUMPSTR(buf, buf_size, cur_len, ...) \ +do { \ + if ((cur_len) >= (buf_size)) \ + break; \ + (cur_len) += snprintf((buf) + (cur_len), (buf_size) - (cur_len), __VA_ARGS__); \ +} while (0) CHECK:CAMELCASE: Avoid CamelCase: <IPv6_BYTES_FMT> #493: FILE: drivers/net/zxdh/zxdh_flow.c:125: + "L3 dstip=0x%08x 0x%08x 0x%08x 0x%08x("IPv6_BYTES_FMT") ", CHECK:CONCATENATED_STRING: Concatenated strings should use spaces between elements #493: FILE: drivers/net/zxdh/zxdh_flow.c:125: + "L3 dstip=0x%08x 0x%08x 0x%08x 0x%08x("IPv6_BYTES_FMT") ", CHECK:CAMELCASE: Avoid CamelCase: <IPv6_BYTES> #497: FILE: drivers/net/zxdh/zxdh_flow.c:129: + IPv6_BYTES(key->dst_ip)); CHECK:CONCATENATED_STRING: Concatenated strings should use spaces between elements #499: FILE: drivers/net/zxdh/zxdh_flow.c:131: + " srcip=0x%08x 0x%08x 0x%08x 0x%08x("IPv6_BYTES_FMT") ", CHECK:CAMELCASE: Avoid CamelCase: <IPv4_BYTES> #2409: FILE: drivers/net/zxdh/zxdh_flow.h:32: +#ifndef IPv4_BYTES CHECK:CAMELCASE: Avoid CamelCase: <IPv4_BYTES_FMT> #2410: FILE: drivers/net/zxdh/zxdh_flow.h:33: +#define IPv4_BYTES_FMT "%" PRIu8 ".%" PRIu8 ".%" PRIu8 ".%" PRIu8 CHECK:CAMELCASE: Avoid CamelCase: <PRIu8> #2410: FILE: drivers/net/zxdh/zxdh_flow.h:33: +#define IPv4_BYTES_FMT "%" PRIu8 ".%" PRIu8 ".%" PRIu8 ".%" PRIu8 ERROR:COMPLEX_MACRO: Macros with complex values should be enclosed in parentheses #2411: FILE: drivers/net/zxdh/zxdh_flow.h:34: +#define IPv4_BYTES(addr) \ + (uint8_t)(((addr) >> 24) & 0xFF),\ + (uint8_t)(((addr) >> 16) & 0xFF),\ + (uint8_t)(((addr) >> 8) & 0xFF),\ + (uint8_t)((addr) & 0xFF) CHECK:MACRO_ARG_REUSE: Macro argument reuse 'addr' - possible side-effects? #2411: FILE: drivers/net/zxdh/zxdh_flow.h:34: +#define IPv4_BYTES(addr) \ + (uint8_t)(((addr) >> 24) & 0xFF),\ + (uint8_t)(((addr) >> 16) & 0xFF),\ + (uint8_t)(((addr) >> 8) & 0xFF),\ + (uint8_t)((addr) & 0xFF) ERROR:COMPLEX_MACRO: Macros with complex values should be enclosed in parentheses #2421: FILE: drivers/net/zxdh/zxdh_flow.h:44: +#define IPv6_BYTES(addr) \ + addr[0], addr[1], addr[2], addr[3], addr[4], addr[5], addr[6], addr[7], \ + addr[8], addr[9], addr[10], addr[11], addr[12], addr[13], addr[14], addr[15] CHECK:MACRO_ARG_REUSE: Macro argument reuse 'addr' - possible side-effects? #2421: FILE: drivers/net/zxdh/zxdh_flow.h:44: +#define IPv6_BYTES(addr) \ + addr[0], addr[1], addr[2], addr[3], addr[4], addr[5], addr[6], addr[7], \ + addr[8], addr[9], addr[10], addr[11], addr[12], addr[13], addr[14], addr[15] total: 2 errors, 1 warnings, 11 checks, 3045 lines checked ^ permalink raw reply [flat|nested] 4+ messages in thread
* |SUCCESS| pw154951 [PATCH v3 2/2] net/zxdh: add support flow director ops [not found] <20250702073453.113779-3-chen.bingbin@zte.com.cn> ` (2 preceding siblings ...) 2025-07-02 7:42 ` |WARNING| pw154951 " checkpatch @ 2025-07-02 9:03 ` 0-day Robot 3 siblings, 0 replies; 4+ messages in thread From: 0-day Robot @ 2025-07-02 9:03 UTC (permalink / raw) To: test-report; +Cc: robot From: robot@bytheb.org Test-Label: github-robot: build Test-Status: SUCCESS http://patchwork.dpdk.org/patch/154951/ _github build: passed_ Build URL: https://github.com/ovsrobot/dpdk/actions/runs/16019585070 ^ permalink raw reply [flat|nested] 4+ messages in thread
end of thread, other threads:[~2025-07-02 9:03 UTC | newest] Thread overview: 4+ messages (download: mbox.gz / follow: Atom feed) -- links below jump to the message on this page -- [not found] <20250702073453.113779-3-chen.bingbin@zte.com.cn> 2025-07-02 7:07 ` |SUCCESS| pw154950-154951 [PATCH v3 2/2] net/zxdh: add support flow director ops qemudev 2025-07-02 7:12 ` qemudev 2025-07-02 7:42 ` |WARNING| pw154951 " checkpatch 2025-07-02 9:03 ` |SUCCESS| " 0-day Robot
This is a public inbox, see mirroring instructions for how to clone and mirror all data and code used for this inbox; as well as URLs for NNTP newsgroup(s).