automatic DPDK test reports
 help / color / mirror / Atom feed
* |SUCCESS| pw154999 [PATCH v2] net/iavf: fix VLAN strip disabling for v2 capability
       [not found] <20250703102046.10576-1-amiyaranjan.mohakud@gmail.com>
@ 2025-07-03  9:54 ` qemudev
  2025-07-03  9:59 ` qemudev
                   ` (11 subsequent siblings)
  12 siblings, 0 replies; 13+ messages in thread
From: qemudev @ 2025-07-03  9:54 UTC (permalink / raw)
  To: test-report

Test-Label: loongarch-compilation
Test-Status: SUCCESS
http://dpdk.org/patch/154999

_Compilation OK_

Submitter: Amiya Ranjan Mohakud <amiyaranjan.mohakud@gmail.com>
Date: Thu,  3 Jul 2025 15:50:46 +0530
DPDK git baseline: Repo:dpdk-next-net-intel
  Branch: main
  CommitID: 9d9c24079d2f98ea595cefda4b60e1adf18f875d

154999 --> meson & ninja build successfully

Test environment and result as below:

+---------------------+----------------+
|     Environment     | compilation    |
+---------------------+----------------+
| Loongnix-Server 8.3 | PASS           |
+---------------------+----------------+

Loongnix-Server 8.3
    Kernel: 4.19.190+
    Compiler: gcc 8.3


^ permalink raw reply	[flat|nested] 13+ messages in thread

* |SUCCESS| pw154999 [PATCH v2] net/iavf: fix VLAN strip disabling for v2 capability
       [not found] <20250703102046.10576-1-amiyaranjan.mohakud@gmail.com>
  2025-07-03  9:54 ` |SUCCESS| pw154999 [PATCH v2] net/iavf: fix VLAN strip disabling for v2 capability qemudev
@ 2025-07-03  9:59 ` qemudev
  2025-07-03 10:20 ` checkpatch
                   ` (10 subsequent siblings)
  12 siblings, 0 replies; 13+ messages in thread
From: qemudev @ 2025-07-03  9:59 UTC (permalink / raw)
  To: test-report

Test-Label: loongarch-unit-testing
Test-Status: SUCCESS
http://dpdk.org/patch/154999

_Unit Testing PASS_

Submitter: Amiya Ranjan Mohakud <amiyaranjan.mohakud@gmail.com>
Date: Thu,  3 Jul 2025 15:50:46 +0530
DPDK git baseline: Repo:dpdk-next-net-intel
  Branch: main
  CommitID: 9d9c24079d2f98ea595cefda4b60e1adf18f875d

154999 --> testing pass

Test environment and result as below:

+---------------------+----------------+
|     Environment     | dpdk_unit_test |
+---------------------+----------------+
| Loongnix-Server 8.3 | PASS           |
+---------------------+----------------+

Loongnix-Server 8.3
    Kernel: 4.19.190+
    Compiler: gcc 8.3


Test result details:
  1/121 DPDK:fast-tests / acl_autotest                            OK              3.25s
  2/121 DPDK:fast-tests / alarm_autotest                          OK              1.53s
  3/121 DPDK:fast-tests / argparse_autotest                       OK              0.52s
  4/121 DPDK:fast-tests / atomic_autotest                         OK              7.29s
  5/121 DPDK:fast-tests / bitcount_autotest                       OK              0.39s
  6/121 DPDK:fast-tests / bitmap_autotest                         OK              0.39s
  7/121 DPDK:fast-tests / bitops_autotest                         OK              1.89s
  8/121 DPDK:fast-tests / bitratestats_autotest                   OK              0.40s
  9/121 DPDK:fast-tests / bitset_autotest                         OK              3.12s
 10/121 DPDK:fast-tests / bpf_autotest                            OK              0.40s
 11/121 DPDK:fast-tests / bpf_convert_autotest                    OK              0.40s
 12/121 DPDK:fast-tests / byteorder_autotest                      OK              0.39s
 13/121 DPDK:fast-tests / cfgfile_autotest                        OK              0.40s
 14/121 DPDK:fast-tests / cksum_autotest                          OK              0.39s
 15/121 DPDK:fast-tests / cmdline_autotest                        OK              0.40s
 16/121 DPDK:fast-tests / common_autotest                         OK              1.28s
 17/121 DPDK:fast-tests / compressdev_autotest                    SKIP            0.07s   exit status 77
 18/121 DPDK:fast-tests / cpuflags_autotest                       OK              0.39s
 19/121 DPDK:fast-tests / crc_autotest                            OK              0.40s
 20/121 DPDK:fast-tests / user_delay_us                           OK              0.39s
 21/121 DPDK:fast-tests / debug_autotest                          OK             19.51s
 22/121 DPDK:fast-tests / devargs_autotest                        OK              0.39s
 23/121 DPDK:fast-tests / dispatcher_autotest                     OK              2.56s
 24/121 DPDK:fast-tests / distributor_autotest                    OK              1.20s
 25/121 DPDK:fast-tests / eal_flags_c_opt_autotest                OK              0.81s
 26/121 DPDK:fast-tests / eal_flags_main_opt_autotest             OK              0.22s
 27/121 DPDK:fast-tests / eal_flags_n_opt_autotest                OK              0.20s
 28/121 DPDK:fast-tests / eal_flags_hpet_autotest                 OK              0.13s
 29/121 DPDK:fast-tests / eal_flags_no_huge_autotest              OK              0.22s
 30/121 DPDK:fast-tests / eal_flags_a_opt_autotest                OK              0.30s
 31/121 DPDK:fast-tests / eal_flags_b_opt_autotest                OK              0.25s
 32/121 DPDK:fast-tests / eal_flags_vdev_opt_autotest             OK              0.20s
 33/121 DPDK:fast-tests / eal_flags_r_opt_autotest                OK              0.19s
 34/121 DPDK:fast-tests / eal_flags_mem_autotest                  OK              0.60s
 35/121 DPDK:fast-tests / eal_flags_file_prefix_autotest          OK             22.29s
 36/121 DPDK:fast-tests / eal_flags_misc_autotest                 OK              1.06s
 37/121 DPDK:fast-tests / eal_fs_autotest                         OK              0.39s
 38/121 DPDK:fast-tests / errno_autotest                          OK              0.40s
 39/121 DPDK:fast-tests / ethdev_link_status                      OK              0.40s
 40/121 DPDK:fast-tests / event_eth_tx_adapter_autotest           OK              1.69s
 41/121 DPDK:fast-tests / event_ring_autotest                     OK              0.40s
 42/121 DPDK:fast-tests / event_vector_adapter_autotest           OK              0.76s
 43/121 DPDK:fast-tests / eventdev_common_autotest                OK              0.39s
 44/121 DPDK:fast-tests / eventdev_selftest_sw                    OK              7.33s
 45/121 DPDK:fast-tests / fbarray_autotest                        OK              0.40s
 46/121 DPDK:fast-tests / fib_autotest                            OK              1.24s
 47/121 DPDK:fast-tests / fib6_autotest                           OK              1.03s
 48/121 DPDK:fast-tests / func_reentrancy_autotest                OK              2.30s
 49/121 DPDK:fast-tests / graph_autotest                          OK              0.40s
 50/121 DPDK:fast-tests / node_list_dump                          OK              0.40s
 51/121 DPDK:fast-tests / graph_feature_arc_autotest              OK              0.40s
 52/121 DPDK:fast-tests / hash_autotest                           OK              1.03s
 53/121 DPDK:fast-tests / hash_readwrite_func_autotest            OK              6.42s
 54/121 DPDK:fast-tests / interrupt_autotest                      OK              1.70s
 55/121 DPDK:fast-tests / ipfrag_autotest                         OK              0.07s
 56/121 DPDK:fast-tests / ipsec_autotest                          SKIP            0.40s   exit status 77
 57/121 DPDK:fast-tests / kvargs_autotest                         OK              0.40s
 58/121 DPDK:fast-tests / latencystats_autotest                   OK              0.40s
 59/121 DPDK:fast-tests / lcore_var_autotest                      OK              0.54s
 60/121 DPDK:fast-tests / lcores_autotest                         OK              5.21s
 61/121 DPDK:fast-tests / logs_autotest                           OK              0.40s
 62/121 DPDK:fast-tests / lpm_autotest                            OK              2.44s
 63/121 DPDK:fast-tests / lpm6_autotest                           OK              5.58s
 64/121 DPDK:fast-tests / malloc_autotest                         OK             61.83s
 65/121 DPDK:fast-tests / mbuf_autotest                           OK              5.36s
 66/121 DPDK:fast-tests / mcslock_autotest                        OK              3.59s
 67/121 DPDK:fast-tests / member_autotest                         OK              1.66s
 68/121 DPDK:fast-tests / memcpy_autotest                         OK              7.00s
 69/121 DPDK:fast-tests / memory_autotest                         OK              0.11s
 70/121 DPDK:fast-tests / mempool_autotest                        OK              0.44s
 71/121 DPDK:fast-tests / memzone_autotest                        OK              0.14s
 72/121 DPDK:fast-tests / meter_autotest                          OK              0.48s
 73/121 DPDK:fast-tests / metrics_autotest                        OK              0.48s
 74/121 DPDK:fast-tests / multiprocess_autotest                   OK              0.20s
 75/121 DPDK:fast-tests / net_ether_autotest                      OK              1.14s
 76/121 DPDK:fast-tests / net_ipv6_autotest                       OK              0.48s
 77/121 DPDK:fast-tests / pcapng_autotest                         OK              6.97s
 78/121 DPDK:fast-tests / pdcp_autotest                           SKIP            0.07s   exit status 77
 79/121 DPDK:fast-tests / pdump_autotest                          OK              0.59s
 80/121 DPDK:fast-tests / per_lcore_autotest                      OK              0.58s
 81/121 DPDK:fast-tests / pflock_autotest                         OK              1.29s
 82/121 DPDK:fast-tests / pie_autotest                            OK              0.49s
 83/121 DPDK:fast-tests / ring_pmd_autotest                       OK              0.48s
 84/121 DPDK:fast-tests / power_autotest                          OK              0.48s
 85/121 DPDK:fast-tests / power_cpufreq_autotest                  SKIP            0.07s   exit status 77
 86/121 DPDK:fast-tests / power_intel_uncore_autotest             SKIP            0.48s   exit status 77
 87/121 DPDK:fast-tests / power_kvm_vm_autotest                   SKIP            0.07s   exit status 77
 88/121 DPDK:fast-tests / prefetch_autotest                       OK              0.48s
 89/121 DPDK:fast-tests / ptr_compress_autotest                   OK              0.48s
 90/121 DPDK:fast-tests / rawdev_autotest                         OK              0.48s
 91/121 DPDK:fast-tests / rcu_qsbr_autotest                       OK              1.00s
 92/121 DPDK:fast-tests / reorder_autotest                        OK              0.54s
 93/121 DPDK:fast-tests / rib_autotest                            OK              9.15s
 94/121 DPDK:fast-tests / rib6_autotest                           OK              9.13s
 95/121 DPDK:fast-tests / ring_autotest                           OK              0.51s
 96/121 DPDK:fast-tests / rwlock_test1_autotest                   OK              1.23s
 97/121 DPDK:fast-tests / rwlock_rda_autotest                     OK              5.49s
 98/121 DPDK:fast-tests / rwlock_rds_wrm_autotest                 OK              5.49s
 99/121 DPDK:fast-tests / rwlock_rde_wro_autotest                 OK              5.48s
100/121 DPDK:fast-tests / sched_autotest                          OK              0.48s
101/121 DPDK:fast-tests / security_autotest                       OK              0.07s
102/121 DPDK:fast-tests / seqlock_autotest                        OK              2.48s
103/121 DPDK:fast-tests / service_autotest                        OK              3.19s
104/121 DPDK:fast-tests / soring_autotest                         OK              0.49s
105/121 DPDK:fast-tests / spinlock_autotest                       OK              0.56s
106/121 DPDK:fast-tests / stack_autotest                          OK              0.87s
107/121 DPDK:fast-tests / stack_lf_autotest                       SKIP            0.06s   exit status 77
108/121 DPDK:fast-tests / string_autotest                         OK              0.48s
109/121 DPDK:fast-tests / table_autotest                          OK              7.90s
110/121 DPDK:fast-tests / tailq_autotest                          OK              0.48s
111/121 DPDK:fast-tests / telemetry_data_autotest                 OK              0.49s
112/121 DPDK:fast-tests / telemetry_json_autotest                 OK              0.48s
113/121 DPDK:fast-tests / thash_autotest                          OK              0.50s
114/121 DPDK:fast-tests / threads_autotest                        OK              0.66s
115/121 DPDK:fast-tests / ticketlock_autotest                     OK              0.67s
116/121 DPDK:fast-tests / timer_autotest                          OK              3.99s
117/121 DPDK:fast-tests / trace_autotest                          OK              0.48s
118/121 DPDK:fast-tests / trace_autotest_with_traces              OK              0.49s
119/121 DPDK:fast-tests / vdev_autotest                           OK              0.48s
120/121 DPDK:fast-tests / version_autotest                        OK              0.48s
121/121 DPDK:fast-tests / telemetry_all                           OK              1.37s


Ok:                 114
Expected Fail:      0
Fail:               0
Unexpected Pass:    0
Skipped:            7
Timeout:            0


^ permalink raw reply	[flat|nested] 13+ messages in thread

* |SUCCESS| pw154999 [PATCH v2] net/iavf: fix VLAN strip disabling for v2 capability
       [not found] <20250703102046.10576-1-amiyaranjan.mohakud@gmail.com>
  2025-07-03  9:54 ` |SUCCESS| pw154999 [PATCH v2] net/iavf: fix VLAN strip disabling for v2 capability qemudev
  2025-07-03  9:59 ` qemudev
@ 2025-07-03 10:20 ` checkpatch
  2025-07-03 11:43 ` 0-day Robot
                   ` (9 subsequent siblings)
  12 siblings, 0 replies; 13+ messages in thread
From: checkpatch @ 2025-07-03 10:20 UTC (permalink / raw)
  To: test-report

Test-Label: checkpatch
Test-Status: SUCCESS
http://dpdk.org/patch/154999

_coding style OK_



^ permalink raw reply	[flat|nested] 13+ messages in thread

* |SUCCESS| pw154999 [PATCH v2] net/iavf: fix VLAN strip disabling for v2 capability
       [not found] <20250703102046.10576-1-amiyaranjan.mohakud@gmail.com>
                   ` (2 preceding siblings ...)
  2025-07-03 10:20 ` checkpatch
@ 2025-07-03 11:43 ` 0-day Robot
  2025-07-03 16:50 ` |SUCCESS| pw154999 [PATCH] [v2] net/iavf: fix VLAN strip disabling f dpdklab
                   ` (8 subsequent siblings)
  12 siblings, 0 replies; 13+ messages in thread
From: 0-day Robot @ 2025-07-03 11:43 UTC (permalink / raw)
  To: test-report; +Cc: robot

From: robot@bytheb.org

Test-Label: github-robot: build
Test-Status: SUCCESS
http://patchwork.dpdk.org/patch/154999/

_github build: passed_
Build URL: https://github.com/ovsrobot/dpdk/actions/runs/16048330274

^ permalink raw reply	[flat|nested] 13+ messages in thread

* |SUCCESS| pw154999 [PATCH] [v2] net/iavf: fix VLAN strip disabling f
       [not found] <20250703102046.10576-1-amiyaranjan.mohakud@gmail.com>
                   ` (3 preceding siblings ...)
  2025-07-03 11:43 ` 0-day Robot
@ 2025-07-03 16:50 ` dpdklab
  2025-07-03 16:54 ` dpdklab
                   ` (7 subsequent siblings)
  12 siblings, 0 replies; 13+ messages in thread
From: dpdklab @ 2025-07-03 16:50 UTC (permalink / raw)
  To: Test Report; +Cc: dpdk-test-reports

Test-Label: iol-sample-apps-testing
Test-Status: SUCCESS
http://dpdk.org/patch/154999

_Testing PASS_

Submitter: Amiya Ranjan Mohakud <amiyaranjan.mohakud@gmail.com>
Date: Thursday, July 03 2025 10:20:46 
DPDK git baseline: Repo:dpdk
  Branch: master
  CommitID:0ae2a33d16a8727ac2935ac500e216906b50ac2c

154999 --> testing pass

Upstream job id: Template-DTS-Pipeline#234885

Test environment and result as below:

+--------------+----------------------+
| Environment  | compressdev_zlib_pmd |
+==============+======================+
| Ubuntu 22.04 | PASS                 |
+--------------+----------------------+


Ubuntu 22.04
	Kernel: 5.15
	Compiler: gcc gcc (Ubuntu 11.4.0-1ubuntu1~22.04) 11.4.0

To view detailed results, visit:
https://lab.dpdk.org/results/dashboard/patchsets/33582/

UNH-IOL DPDK Community Lab

To manage your email subscriptions, visit: 
https://lab.dpdk.org/results/dashboard/preferences/subscriptions/

^ permalink raw reply	[flat|nested] 13+ messages in thread

* |SUCCESS| pw154999 [PATCH] [v2] net/iavf: fix VLAN strip disabling f
       [not found] <20250703102046.10576-1-amiyaranjan.mohakud@gmail.com>
                   ` (4 preceding siblings ...)
  2025-07-03 16:50 ` |SUCCESS| pw154999 [PATCH] [v2] net/iavf: fix VLAN strip disabling f dpdklab
@ 2025-07-03 16:54 ` dpdklab
  2025-07-03 17:07 ` dpdklab
                   ` (6 subsequent siblings)
  12 siblings, 0 replies; 13+ messages in thread
From: dpdklab @ 2025-07-03 16:54 UTC (permalink / raw)
  To: Test Report; +Cc: dpdk-test-reports

Test-Label: iol-compile-amd64-testing
Test-Status: SUCCESS
http://dpdk.org/patch/154999

_Testing PASS_

Submitter: Amiya Ranjan Mohakud <amiyaranjan.mohakud@gmail.com>
Date: Thursday, July 03 2025 10:20:46 
DPDK git baseline: Repo:dpdk
  Branch: master
  CommitID:0ae2a33d16a8727ac2935ac500e216906b50ac2c

154999 --> testing pass

Upstream job id: Generic-VM-DPDK-Compile-Meson#36915

Test environment and result as below:

+--------------+--------------------+
| Environment  | dpdk_meson_compile |
+==============+====================+
| Ubuntu 20.04 | PASS               |
+--------------+--------------------+


Ubuntu 20.04
	Kernel: 4.19
	Compiler: gcc gcc (Ubuntu 9.4.0-1ubuntu1~20.04.2) 9.4.0

To view detailed results, visit:
https://lab.dpdk.org/results/dashboard/patchsets/33582/

UNH-IOL DPDK Community Lab

To manage your email subscriptions, visit: 
https://lab.dpdk.org/results/dashboard/preferences/subscriptions/

^ permalink raw reply	[flat|nested] 13+ messages in thread

* |SUCCESS| pw154999 [PATCH] [v2] net/iavf: fix VLAN strip disabling f
       [not found] <20250703102046.10576-1-amiyaranjan.mohakud@gmail.com>
                   ` (5 preceding siblings ...)
  2025-07-03 16:54 ` dpdklab
@ 2025-07-03 17:07 ` dpdklab
  2025-07-03 17:09 ` dpdklab
                   ` (5 subsequent siblings)
  12 siblings, 0 replies; 13+ messages in thread
From: dpdklab @ 2025-07-03 17:07 UTC (permalink / raw)
  To: Test Report; +Cc: dpdk-test-reports

Test-Label: iol-compile-amd64-testing
Test-Status: SUCCESS
http://dpdk.org/patch/154999

_Testing PASS_

Submitter: Amiya Ranjan Mohakud <amiyaranjan.mohakud@gmail.com>
Date: Thursday, July 03 2025 10:20:46 
DPDK git baseline: Repo:dpdk
  Branch: master
  CommitID:0ae2a33d16a8727ac2935ac500e216906b50ac2c

154999 --> testing pass

Upstream job id: Generic-VM-DPDK-Compile-Meson#36917

Test environment and result as below:

+--------------+--------------------+
| Environment  | dpdk_meson_compile |
+==============+====================+
| Ubuntu 20.04 | PASS               |
+--------------+--------------------+


Ubuntu 20.04
	Kernel: 4.19
	Compiler: gcc gcc (Ubuntu 9.4.0-1ubuntu1~20.04.2) 9.4.0

To view detailed results, visit:
https://lab.dpdk.org/results/dashboard/patchsets/33582/

UNH-IOL DPDK Community Lab

To manage your email subscriptions, visit: 
https://lab.dpdk.org/results/dashboard/preferences/subscriptions/

^ permalink raw reply	[flat|nested] 13+ messages in thread

* |SUCCESS| pw154999 [PATCH] [v2] net/iavf: fix VLAN strip disabling f
       [not found] <20250703102046.10576-1-amiyaranjan.mohakud@gmail.com>
                   ` (6 preceding siblings ...)
  2025-07-03 17:07 ` dpdklab
@ 2025-07-03 17:09 ` dpdklab
  2025-07-03 17:48 ` dpdklab
                   ` (4 subsequent siblings)
  12 siblings, 0 replies; 13+ messages in thread
From: dpdklab @ 2025-07-03 17:09 UTC (permalink / raw)
  To: Test Report; +Cc: dpdk-test-reports

Test-Label: iol-sample-apps-testing
Test-Status: SUCCESS
http://dpdk.org/patch/154999

_Testing PASS_

Submitter: Amiya Ranjan Mohakud <amiyaranjan.mohakud@gmail.com>
Date: Thursday, July 03 2025 10:20:46 
DPDK git baseline: Repo:dpdk
  Branch: master
  CommitID:0ae2a33d16a8727ac2935ac500e216906b50ac2c

154999 --> testing pass

Upstream job id: Template-DTS-Pipeline#234901

Test environment and result as below:

+--------------+----------------------+
| Environment  | compressdev_zlib_pmd |
+==============+======================+
| Ubuntu 22.04 | PASS                 |
+--------------+----------------------+


Ubuntu 22.04
	Kernel: 5.15
	Compiler: gcc gcc (Ubuntu 11.4.0-1ubuntu1~22.04) 11.4.0

To view detailed results, visit:
https://lab.dpdk.org/results/dashboard/patchsets/33582/

UNH-IOL DPDK Community Lab

To manage your email subscriptions, visit: 
https://lab.dpdk.org/results/dashboard/preferences/subscriptions/

^ permalink raw reply	[flat|nested] 13+ messages in thread

* |SUCCESS| pw154999 [PATCH] [v2] net/iavf: fix VLAN strip disabling f
       [not found] <20250703102046.10576-1-amiyaranjan.mohakud@gmail.com>
                   ` (7 preceding siblings ...)
  2025-07-03 17:09 ` dpdklab
@ 2025-07-03 17:48 ` dpdklab
  2025-07-03 17:58 ` |PENDING| " dpdklab
                   ` (3 subsequent siblings)
  12 siblings, 0 replies; 13+ messages in thread
From: dpdklab @ 2025-07-03 17:48 UTC (permalink / raw)
  To: Test Report; +Cc: dpdk-test-reports

Test-Label: iol-compile-amd64-testing
Test-Status: SUCCESS
http://dpdk.org/patch/154999

_Testing PASS_

Submitter: Amiya Ranjan Mohakud <amiyaranjan.mohakud@gmail.com>
Date: Thursday, July 03 2025 10:20:46 
DPDK git baseline: Repo:dpdk
  Branch: master
  CommitID:0ae2a33d16a8727ac2935ac500e216906b50ac2c

154999 --> testing pass

Upstream job id: Windows-Compile-DPDK-VS#6251

Test environment and result as below:

+---------------------+--------------------+-------------------+
|     Environment     | dpdk_meson_compile | dpdk_msvc_compile |
+=====================+====================+===================+
| Ubuntu 20.04        | PASS               | SKIPPED           |
+---------------------+--------------------+-------------------+
| Windows Server 2022 | SKIPPED            | PASS              |
+---------------------+--------------------+-------------------+


Ubuntu 20.04
	Kernel: 4.19
	Compiler: gcc gcc (Ubuntu 9.4.0-1ubuntu1~20.04.2) 9.4.0

Windows Server 2022
	Kernel: 10.0.20348.2031
	Compiler: clang 15.0.7, gcc 14.1.0 (MinGW), and MSVC VS 19.39.33521

To view detailed results, visit:
https://lab.dpdk.org/results/dashboard/patchsets/33582/

UNH-IOL DPDK Community Lab

To manage your email subscriptions, visit: 
https://lab.dpdk.org/results/dashboard/preferences/subscriptions/

^ permalink raw reply	[flat|nested] 13+ messages in thread

* |PENDING| pw154999 [PATCH] [v2] net/iavf: fix VLAN strip disabling f
       [not found] <20250703102046.10576-1-amiyaranjan.mohakud@gmail.com>
                   ` (8 preceding siblings ...)
  2025-07-03 17:48 ` dpdklab
@ 2025-07-03 17:58 ` dpdklab
  2025-07-03 18:11 ` |SUCCESS| " dpdklab
                   ` (2 subsequent siblings)
  12 siblings, 0 replies; 13+ messages in thread
From: dpdklab @ 2025-07-03 17:58 UTC (permalink / raw)
  To: Test Report; +Cc: dpdk-test-reports

Test-Label: iol-unit-amd64-testing
Test-Status: PENDING
http://dpdk.org/patch/154999

_Testing pending_

Submitter: Amiya Ranjan Mohakud <amiyaranjan.mohakud@gmail.com>
Date: Thursday, July 03 2025 10:20:46 
DPDK git baseline: Repo:dpdk
  Branch: master
  CommitID:0ae2a33d16a8727ac2935ac500e216906b50ac2c

154999 --> testing pending

Upstream job id: Generic-VM-Unit-Test-DPDK#29693

Test environment and result as below:

+-------------------------------+----------------+
|          Environment          | dpdk_unit_test |
+===============================+================+
| Debian GNU/Linux 12           | PEND           |
+-------------------------------+----------------+
| Fedora Linux 40               | PEND           |
+-------------------------------+----------------+
| CentOS Stream 9               | PEND           |
+-------------------------------+----------------+
| CentOS Stream 10              | PEND           |
+-------------------------------+----------------+
| Red Hat Enterprise Linux 8.10 | PEND           |
+-------------------------------+----------------+
| Red Hat Enterprise Linux 9.5  | PEND           |
+-------------------------------+----------------+
| Fedora Linux 41               | PEND           |
+-------------------------------+----------------+
| Ubuntu 20.04                  | PEND           |
+-------------------------------+----------------+
| Ubuntu 22.04                  | PEND           |
+-------------------------------+----------------+
| Ubuntu 24.04                  | PEND           |
+-------------------------------+----------------+
| Windows Server 2022           | PASS           |
+-------------------------------+----------------+


Debian GNU/Linux 12
	Kernel: 5.15
	Compiler: gcc gcc (Debian 12.2.0-14+deb12u1) 12.2.0

Fedora Linux 40
	Kernel: 5.15
	Compiler: gcc gcc (GCC) 14.2.1 20240912 (Red Hat 14.2.1-3)

CentOS Stream 9
	Kernel: 5.15
	Compiler: gcc gcc (GCC) 11.5.0 20240719 (Red Hat 11.5.0-7)

CentOS Stream 10
	Kernel: 5.15
	Compiler: gcc gcc (GCC) 14.2.1 20250110 (Red Hat 14.2.1-8)

Red Hat Enterprise Linux 8.10
	Kernel: 5.15
	Compiler: gcc gcc (GCC) 8.5.0 20210514 (Red Hat 8.5.0-22)

Red Hat Enterprise Linux 9.5
	Kernel: 5.15
	Compiler: gcc gcc (GCC) 11.5.0 20240719 (Red Hat 11.5.0-2)

Fedora Linux 41
	Kernel: 5.15
	Compiler: gcc gcc (GCC) 14.3.1 20250523 (Red Hat 14.3.1-1)

Ubuntu 20.04
	Kernel: 5.15
	Compiler: gcc gcc (Ubuntu 9.4.0-1ubuntu1~20.04.2) 9.4.0

Ubuntu 22.04
	Kernel: 5.15
	Compiler: gcc gcc (Ubuntu 11.4.0-1ubuntu1~22.04) 11.4.0

Ubuntu 24.04
	Kernel: 5.15
	Compiler: gcc gcc (Ubuntu 13.3.0-6ubuntu2~24.04) 13.3.0

Windows Server 2022
	Kernel: 10.0.20348.2031
	Compiler: clang 15.0.7, gcc 14.1.0 (MinGW), and MSVC VS 19.39.33521

To view detailed results, visit:
https://lab.dpdk.org/results/dashboard/patchsets/33582/

UNH-IOL DPDK Community Lab

To manage your email subscriptions, visit: 
https://lab.dpdk.org/results/dashboard/preferences/subscriptions/

^ permalink raw reply	[flat|nested] 13+ messages in thread

* |SUCCESS| pw154999 [PATCH] [v2] net/iavf: fix VLAN strip disabling f
       [not found] <20250703102046.10576-1-amiyaranjan.mohakud@gmail.com>
                   ` (9 preceding siblings ...)
  2025-07-03 17:58 ` |PENDING| " dpdklab
@ 2025-07-03 18:11 ` dpdklab
  2025-07-03 22:36 ` |PENDING| " dpdklab
  2025-07-03 23:55 ` dpdklab
  12 siblings, 0 replies; 13+ messages in thread
From: dpdklab @ 2025-07-03 18:11 UTC (permalink / raw)
  To: Test Report; +Cc: dpdk-test-reports

Test-Label: iol-compile-amd64-testing
Test-Status: SUCCESS
http://dpdk.org/patch/154999

_Testing PASS_

Submitter: Amiya Ranjan Mohakud <amiyaranjan.mohakud@gmail.com>
Date: Thursday, July 03 2025 10:20:46 
DPDK git baseline: Repo:dpdk
  Branch: master
  CommitID:0ae2a33d16a8727ac2935ac500e216906b50ac2c

154999 --> testing pass

Upstream job id: Windows-Compile-DPDK-VS#6252

Test environment and result as below:

+---------------------+--------------------+-------------------+
|     Environment     | dpdk_meson_compile | dpdk_msvc_compile |
+=====================+====================+===================+
| Ubuntu 20.04        | PASS               | SKIPPED           |
+---------------------+--------------------+-------------------+
| Windows Server 2022 | SKIPPED            | PASS              |
+---------------------+--------------------+-------------------+


Ubuntu 20.04
	Kernel: 4.19
	Compiler: gcc gcc (Ubuntu 9.4.0-1ubuntu1~20.04.2) 9.4.0

Windows Server 2022
	Kernel: 10.0.20348.2031
	Compiler: clang 15.0.7, gcc 14.1.0 (MinGW), and MSVC VS 19.39.33521

To view detailed results, visit:
https://lab.dpdk.org/results/dashboard/patchsets/33582/

UNH-IOL DPDK Community Lab

To manage your email subscriptions, visit: 
https://lab.dpdk.org/results/dashboard/preferences/subscriptions/

^ permalink raw reply	[flat|nested] 13+ messages in thread

* |PENDING| pw154999 [PATCH] [v2] net/iavf: fix VLAN strip disabling f
       [not found] <20250703102046.10576-1-amiyaranjan.mohakud@gmail.com>
                   ` (10 preceding siblings ...)
  2025-07-03 18:11 ` |SUCCESS| " dpdklab
@ 2025-07-03 22:36 ` dpdklab
  2025-07-03 23:55 ` dpdklab
  12 siblings, 0 replies; 13+ messages in thread
From: dpdklab @ 2025-07-03 22:36 UTC (permalink / raw)
  To: Test Report; +Cc: dpdk-test-reports

Test-Label: iol-unit-amd64-testing
Test-Status: PENDING
http://dpdk.org/patch/154999

_Testing pending_

Submitter: Amiya Ranjan Mohakud <amiyaranjan.mohakud@gmail.com>
Date: Thursday, July 03 2025 10:20:46 
DPDK git baseline: Repo:dpdk
  Branch: master
  CommitID:0ae2a33d16a8727ac2935ac500e216906b50ac2c

154999 --> testing pending

Upstream job id: Generic-VM-Unit-Test-DPDK#29700

Test environment and result as below:

+-------------------------------+----------------+
|          Environment          | dpdk_unit_test |
+===============================+================+
| Debian GNU/Linux 12           | PEND           |
+-------------------------------+----------------+
| CentOS Stream 9               | PEND           |
+-------------------------------+----------------+
| Fedora Linux 40               | PEND           |
+-------------------------------+----------------+
| CentOS Stream 10              | PEND           |
+-------------------------------+----------------+
| Fedora Linux 41               | PEND           |
+-------------------------------+----------------+
| Red Hat Enterprise Linux 9.5  | PEND           |
+-------------------------------+----------------+
| Red Hat Enterprise Linux 8.10 | PEND           |
+-------------------------------+----------------+
| Ubuntu 22.04                  | PEND           |
+-------------------------------+----------------+
| Ubuntu 20.04                  | PEND           |
+-------------------------------+----------------+
| Ubuntu 24.04                  | PEND           |
+-------------------------------+----------------+
| Windows Server 2022           | PASS           |
+-------------------------------+----------------+


Debian GNU/Linux 12
	Kernel: 5.15
	Compiler: gcc gcc (Debian 12.2.0-14+deb12u1) 12.2.0

CentOS Stream 9
	Kernel: 5.15
	Compiler: gcc gcc (GCC) 11.5.0 20240719 (Red Hat 11.5.0-7)

Fedora Linux 40
	Kernel: 5.15
	Compiler: gcc gcc (GCC) 14.2.1 20240912 (Red Hat 14.2.1-3)

CentOS Stream 10
	Kernel: 5.15
	Compiler: gcc gcc (GCC) 14.2.1 20250110 (Red Hat 14.2.1-8)

Fedora Linux 41
	Kernel: 5.15
	Compiler: gcc gcc (GCC) 14.3.1 20250523 (Red Hat 14.3.1-1)

Red Hat Enterprise Linux 9.5
	Kernel: 5.15
	Compiler: gcc gcc (GCC) 11.5.0 20240719 (Red Hat 11.5.0-2)

Red Hat Enterprise Linux 8.10
	Kernel: 5.15
	Compiler: gcc gcc (GCC) 8.5.0 20210514 (Red Hat 8.5.0-22)

Ubuntu 22.04
	Kernel: 5.15
	Compiler: gcc gcc (Ubuntu 11.4.0-1ubuntu1~22.04) 11.4.0

Ubuntu 20.04
	Kernel: 5.15
	Compiler: gcc gcc (Ubuntu 9.4.0-1ubuntu1~20.04.2) 9.4.0

Ubuntu 24.04
	Kernel: 5.15
	Compiler: gcc gcc (Ubuntu 13.3.0-6ubuntu2~24.04) 13.3.0

Windows Server 2022
	Kernel: 10.0.20348.2031
	Compiler: clang 15.0.7, gcc 14.1.0 (MinGW), and MSVC VS 19.39.33521

To view detailed results, visit:
https://lab.dpdk.org/results/dashboard/patchsets/33582/

UNH-IOL DPDK Community Lab

To manage your email subscriptions, visit: 
https://lab.dpdk.org/results/dashboard/preferences/subscriptions/

^ permalink raw reply	[flat|nested] 13+ messages in thread

* |PENDING| pw154999 [PATCH] [v2] net/iavf: fix VLAN strip disabling f
       [not found] <20250703102046.10576-1-amiyaranjan.mohakud@gmail.com>
                   ` (11 preceding siblings ...)
  2025-07-03 22:36 ` |PENDING| " dpdklab
@ 2025-07-03 23:55 ` dpdklab
  12 siblings, 0 replies; 13+ messages in thread
From: dpdklab @ 2025-07-03 23:55 UTC (permalink / raw)
  To: Test Report; +Cc: dpdk-test-reports

Test-Label: iol-unit-arm64-testing
Test-Status: PENDING
http://dpdk.org/patch/154999

_Testing pending_

Submitter: Amiya Ranjan Mohakud <amiyaranjan.mohakud@gmail.com>
Date: Thursday, July 03 2025 10:20:46 
DPDK git baseline: Repo:dpdk
  Branch: master
  CommitID:0ae2a33d16a8727ac2935ac500e216906b50ac2c

154999 --> testing pending

Upstream job id: Generic-Unit-Test-DPDK#352341

Test environment and result as below:

+------------------------------+------------------------------+---------------------------+----------------+--------------+
|         Environment          | cryptodev_sw_snow3g_autotest | cryptodev_sw_zuc_autotest | dpdk_unit_test | lpm_autotest |
+==============================+==============================+===========================+================+==============+
| Debian 12 (arm)              | PEND                         | PASS                      | SKIPPED        | SKIPPED      |
+------------------------------+------------------------------+---------------------------+----------------+--------------+
| Fedora Linux 40              | SKIPPED                      | SKIPPED                   | PEND           | SKIPPED      |
+------------------------------+------------------------------+---------------------------+----------------+--------------+
| CentOS Stream 9              | SKIPPED                      | SKIPPED                   | PEND           | SKIPPED      |
+------------------------------+------------------------------+---------------------------+----------------+--------------+
| CentOS Stream 10             | SKIPPED                      | SKIPPED                   | PEND           | SKIPPED      |
+------------------------------+------------------------------+---------------------------+----------------+--------------+
| Debian GNU/Linux 12          | SKIPPED                      | SKIPPED                   | PEND           | SKIPPED      |
+------------------------------+------------------------------+---------------------------+----------------+--------------+
| Fedora Linux 41              | SKIPPED                      | SKIPPED                   | PEND           | SKIPPED      |
+------------------------------+------------------------------+---------------------------+----------------+--------------+
| Red Hat Enterprise Linux 9.5 | SKIPPED                      | SKIPPED                   | PEND           | SKIPPED      |
+------------------------------+------------------------------+---------------------------+----------------+--------------+
| Ubuntu 20.04                 | SKIPPED                      | SKIPPED                   | PEND           | PEND         |
+------------------------------+------------------------------+---------------------------+----------------+--------------+
| Ubuntu 22.04                 | SKIPPED                      | SKIPPED                   | PEND           | SKIPPED      |
+------------------------------+------------------------------+---------------------------+----------------+--------------+
| Ubuntu 24.04                 | SKIPPED                      | SKIPPED                   | PEND           | SKIPPED      |
+------------------------------+------------------------------+---------------------------+----------------+--------------+


Debian 12 (arm)
	Kernel: Depends on container host
	Compiler: gcc (Debian 12.2.0-14) 12.2.0

Fedora Linux 40
	Kernel: 5.4
	Compiler: gcc gcc (GCC) 14.2.1 20240912 (Red Hat 14.2.1-3)

CentOS Stream 9
	Kernel: 5.4
	Compiler: gcc gcc (GCC) 11.5.0 20240719 (Red Hat 11.5.0-7)

CentOS Stream 10
	Kernel: 5.4
	Compiler: gcc gcc (GCC) 14.2.1 20250110 (Red Hat 14.2.1-8)

Debian GNU/Linux 12
	Kernel: 5.4
	Compiler: gcc gcc (Debian 12.2.0-14+deb12u1) 12.2.0

Fedora Linux 41
	Kernel: 5.4
	Compiler: gcc gcc (GCC) 14.3.1 20250523 (Red Hat 14.3.1-1)

Red Hat Enterprise Linux 9.5
	Kernel: 5.4
	Compiler: gcc gcc (GCC) 11.5.0 20240719 (Red Hat 11.5.0-2)

Ubuntu 20.04
	Kernel: 5.4
	Compiler: gcc gcc (Ubuntu 9.4.0-1ubuntu1~20.04.2) 9.4.0

Ubuntu 22.04
	Kernel: 5.4
	Compiler: gcc gcc (Ubuntu 11.4.0-1ubuntu1~22.04) 11.4.0

Ubuntu 24.04
	Kernel: 5.4
	Compiler: gcc gcc (Ubuntu 13.3.0-6ubuntu2~24.04) 13.3.0

To view detailed results, visit:
https://lab.dpdk.org/results/dashboard/patchsets/33582/

UNH-IOL DPDK Community Lab

To manage your email subscriptions, visit: 
https://lab.dpdk.org/results/dashboard/preferences/subscriptions/

^ permalink raw reply	[flat|nested] 13+ messages in thread

end of thread, other threads:[~2025-07-03 23:55 UTC | newest]

Thread overview: 13+ messages (download: mbox.gz / follow: Atom feed)
-- links below jump to the message on this page --
     [not found] <20250703102046.10576-1-amiyaranjan.mohakud@gmail.com>
2025-07-03  9:54 ` |SUCCESS| pw154999 [PATCH v2] net/iavf: fix VLAN strip disabling for v2 capability qemudev
2025-07-03  9:59 ` qemudev
2025-07-03 10:20 ` checkpatch
2025-07-03 11:43 ` 0-day Robot
2025-07-03 16:50 ` |SUCCESS| pw154999 [PATCH] [v2] net/iavf: fix VLAN strip disabling f dpdklab
2025-07-03 16:54 ` dpdklab
2025-07-03 17:07 ` dpdklab
2025-07-03 17:09 ` dpdklab
2025-07-03 17:48 ` dpdklab
2025-07-03 17:58 ` |PENDING| " dpdklab
2025-07-03 18:11 ` |SUCCESS| " dpdklab
2025-07-03 22:36 ` |PENDING| " dpdklab
2025-07-03 23:55 ` dpdklab

This is a public inbox, see mirroring instructions
for how to clone and mirror all data and code used for this inbox;
as well as URLs for NNTP newsgroup(s).