automatic DPDK test reports
 help / color / mirror / Atom feed
* |SUCCESS| pw155012-155013 [PATCH v2 2/2] dts: add generic blocking app class
       [not found] <20250704152908.683265-3-luca.vizzarro@arm.com>
@ 2025-07-04 14:57 ` qemudev
  2025-07-04 15:02 ` qemudev
                   ` (8 subsequent siblings)
  9 siblings, 0 replies; 10+ messages in thread
From: qemudev @ 2025-07-04 14:57 UTC (permalink / raw)
  To: test-report

Test-Label: loongarch-compilation
Test-Status: SUCCESS
http://dpdk.org/patch/155013

_Compilation OK_

Submitter: Luca Vizzarro <luca.vizzarro@arm.com>
Date: Fri,  4 Jul 2025 16:29:07 +0100
DPDK git baseline: Repo:dpdk
  Branch: main
  CommitID: 70c2297528e7c7789af452f78de1932e9a20c8a2

155012-155013 --> meson & ninja build successfully

Test environment and result as below:

+---------------------+----------------+
|     Environment     | compilation    |
+---------------------+----------------+
| Loongnix-Server 8.3 | PASS           |
+---------------------+----------------+

Loongnix-Server 8.3
    Kernel: 4.19.190+
    Compiler: gcc 8.3


^ permalink raw reply	[flat|nested] 10+ messages in thread

* |SUCCESS| pw155012-155013 [PATCH v2 2/2] dts: add generic blocking app class
       [not found] <20250704152908.683265-3-luca.vizzarro@arm.com>
  2025-07-04 14:57 ` |SUCCESS| pw155012-155013 [PATCH v2 2/2] dts: add generic blocking app class qemudev
@ 2025-07-04 15:02 ` qemudev
  2025-07-04 15:29 ` |SUCCESS| pw155013 " checkpatch
                   ` (7 subsequent siblings)
  9 siblings, 0 replies; 10+ messages in thread
From: qemudev @ 2025-07-04 15:02 UTC (permalink / raw)
  To: test-report

Test-Label: loongarch-unit-testing
Test-Status: SUCCESS
http://dpdk.org/patch/155013

_Unit Testing PASS_

Submitter: Luca Vizzarro <luca.vizzarro@arm.com>
Date: Fri,  4 Jul 2025 16:29:07 +0100
DPDK git baseline: Repo:dpdk
  Branch: main
  CommitID: 70c2297528e7c7789af452f78de1932e9a20c8a2

155012-155013 --> testing pass

Test environment and result as below:

+---------------------+----------------+
|     Environment     | dpdk_unit_test |
+---------------------+----------------+
| Loongnix-Server 8.3 | PASS           |
+---------------------+----------------+

Loongnix-Server 8.3
    Kernel: 4.19.190+
    Compiler: gcc 8.3


Test result details:
  1/120 DPDK:fast-tests / acl_autotest                            OK              3.21s
  2/120 DPDK:fast-tests / alarm_autotest                          OK              1.48s
  3/120 DPDK:fast-tests / argparse_autotest                       OK              0.50s
  4/120 DPDK:fast-tests / atomic_autotest                         OK              7.29s
  5/120 DPDK:fast-tests / bitcount_autotest                       OK              0.43s
  6/120 DPDK:fast-tests / bitmap_autotest                         OK              0.43s
  7/120 DPDK:fast-tests / bitops_autotest                         OK              1.93s
  8/120 DPDK:fast-tests / bitratestats_autotest                   OK              0.43s
  9/120 DPDK:fast-tests / bitset_autotest                         OK              3.18s
 10/120 DPDK:fast-tests / bpf_autotest                            OK              0.43s
 11/120 DPDK:fast-tests / bpf_convert_autotest                    OK              0.43s
 12/120 DPDK:fast-tests / byteorder_autotest                      OK              0.43s
 13/120 DPDK:fast-tests / cfgfile_autotest                        OK              0.43s
 14/120 DPDK:fast-tests / cksum_autotest                          OK              0.43s
 15/120 DPDK:fast-tests / cmdline_autotest                        OK              0.43s
 16/120 DPDK:fast-tests / common_autotest                         OK              1.31s
 17/120 DPDK:fast-tests / compressdev_autotest                    SKIP            0.07s   exit status 77
 18/120 DPDK:fast-tests / cpuflags_autotest                       OK              0.42s
 19/120 DPDK:fast-tests / crc_autotest                            OK              0.43s
 20/120 DPDK:fast-tests / user_delay_us                           OK              0.43s
 21/120 DPDK:fast-tests / debug_autotest                          OK             24.75s
 22/120 DPDK:fast-tests / devargs_autotest                        OK              0.43s
 23/120 DPDK:fast-tests / dispatcher_autotest                     OK              2.52s
 24/120 DPDK:fast-tests / distributor_autotest                    OK              1.20s
 25/120 DPDK:fast-tests / eal_flags_c_opt_autotest                OK              0.81s
 26/120 DPDK:fast-tests / eal_flags_main_opt_autotest             OK              0.22s
 27/120 DPDK:fast-tests / eal_flags_n_opt_autotest                OK              0.20s
 28/120 DPDK:fast-tests / eal_flags_hpet_autotest                 OK              0.13s
 29/120 DPDK:fast-tests / eal_flags_no_huge_autotest              OK              0.23s
 30/120 DPDK:fast-tests / eal_flags_a_opt_autotest                OK              0.31s
 31/120 DPDK:fast-tests / eal_flags_b_opt_autotest                OK              0.25s
 32/120 DPDK:fast-tests / eal_flags_vdev_opt_autotest             OK              0.20s
 33/120 DPDK:fast-tests / eal_flags_r_opt_autotest                OK              0.19s
 34/120 DPDK:fast-tests / eal_flags_mem_autotest                  OK              0.60s
 35/120 DPDK:fast-tests / eal_flags_file_prefix_autotest          OK             22.29s
 36/120 DPDK:fast-tests / eal_flags_misc_autotest                 OK              1.07s
 37/120 DPDK:fast-tests / eal_fs_autotest                         OK              0.43s
 38/120 DPDK:fast-tests / errno_autotest                          OK              0.43s
 39/120 DPDK:fast-tests / ethdev_link_status                      OK              0.43s
 40/120 DPDK:fast-tests / event_eth_tx_adapter_autotest           OK              1.69s
 41/120 DPDK:fast-tests / event_ring_autotest                     OK              0.43s
 42/120 DPDK:fast-tests / eventdev_common_autotest                OK              0.43s
 43/120 DPDK:fast-tests / eventdev_selftest_sw                    OK              7.33s
 44/120 DPDK:fast-tests / fbarray_autotest                        OK              0.43s
 45/120 DPDK:fast-tests / fib_autotest                            OK              1.27s
 46/120 DPDK:fast-tests / fib6_autotest                           OK              1.06s
 47/120 DPDK:fast-tests / func_reentrancy_autotest                OK              2.25s
 48/120 DPDK:fast-tests / graph_autotest                          OK              0.43s
 49/120 DPDK:fast-tests / node_list_dump                          OK              0.43s
 50/120 DPDK:fast-tests / graph_feature_arc_autotest              OK              0.44s
 51/120 DPDK:fast-tests / hash_autotest                           OK              1.06s
 52/120 DPDK:fast-tests / hash_readwrite_func_autotest            OK              6.37s
 53/120 DPDK:fast-tests / interrupt_autotest                      OK              1.73s
 54/120 DPDK:fast-tests / ipfrag_autotest                         OK              0.08s
 55/120 DPDK:fast-tests / ipsec_autotest                          SKIP            0.43s   exit status 77
 56/120 DPDK:fast-tests / kvargs_autotest                         OK              0.44s
 57/120 DPDK:fast-tests / latencystats_autotest                   OK              0.44s
 58/120 DPDK:fast-tests / lcore_var_autotest                      OK              0.57s
 59/120 DPDK:fast-tests / lcores_autotest                         OK              5.24s
 60/120 DPDK:fast-tests / logs_autotest                           OK              0.43s
 61/120 DPDK:fast-tests / lpm_autotest                            OK              2.49s
 62/120 DPDK:fast-tests / lpm6_autotest                           OK              5.59s
 63/120 DPDK:fast-tests / malloc_autotest                         OK             61.13s
 64/120 DPDK:fast-tests / mbuf_autotest                           OK              4.76s
 65/120 DPDK:fast-tests / mcslock_autotest                        OK              2.73s
 66/120 DPDK:fast-tests / member_autotest                         OK              1.64s
 67/120 DPDK:fast-tests / memcpy_autotest                         OK              7.14s
 68/120 DPDK:fast-tests / memory_autotest                         OK              0.09s
 69/120 DPDK:fast-tests / mempool_autotest                        OK              0.44s
 70/120 DPDK:fast-tests / memzone_autotest                        OK              0.14s
 71/120 DPDK:fast-tests / meter_autotest                          OK              0.43s
 72/120 DPDK:fast-tests / metrics_autotest                        OK              0.43s
 73/120 DPDK:fast-tests / multiprocess_autotest                   OK              0.20s
 74/120 DPDK:fast-tests / net_ether_autotest                      OK              1.09s
 75/120 DPDK:fast-tests / net_ipv6_autotest                       OK              0.43s
 76/120 DPDK:fast-tests / pcapng_autotest                         OK              6.42s
 77/120 DPDK:fast-tests / pdcp_autotest                           SKIP            0.07s   exit status 77
 78/120 DPDK:fast-tests / pdump_autotest                          OK              0.54s
 79/120 DPDK:fast-tests / per_lcore_autotest                      OK              0.53s
 80/120 DPDK:fast-tests / pflock_autotest                         OK              1.24s
 81/120 DPDK:fast-tests / pie_autotest                            OK              0.43s
 82/120 DPDK:fast-tests / ring_pmd_autotest                       OK              0.43s
 83/120 DPDK:fast-tests / power_autotest                          OK              0.43s
 84/120 DPDK:fast-tests / power_cpufreq_autotest                  SKIP            0.07s   exit status 77
 85/120 DPDK:fast-tests / power_intel_uncore_autotest             SKIP            0.42s   exit status 77
 86/120 DPDK:fast-tests / power_kvm_vm_autotest                   SKIP            0.07s   exit status 77
 87/120 DPDK:fast-tests / prefetch_autotest                       OK              0.42s
 88/120 DPDK:fast-tests / ptr_compress_autotest                   OK              0.43s
 89/120 DPDK:fast-tests / rawdev_autotest                         OK              0.43s
 90/120 DPDK:fast-tests / rcu_qsbr_autotest                       OK              0.95s
 91/120 DPDK:fast-tests / reorder_autotest                        OK              0.49s
 92/120 DPDK:fast-tests / rib_autotest                            OK              9.08s
 93/120 DPDK:fast-tests / rib6_autotest                           OK              9.07s
 94/120 DPDK:fast-tests / ring_autotest                           OK              0.46s
 95/120 DPDK:fast-tests / rwlock_test1_autotest                   OK              1.18s
 96/120 DPDK:fast-tests / rwlock_rda_autotest                     OK              5.43s
 97/120 DPDK:fast-tests / rwlock_rds_wrm_autotest                 OK              5.43s
 98/120 DPDK:fast-tests / rwlock_rde_wro_autotest                 OK              5.43s
 99/120 DPDK:fast-tests / sched_autotest                          OK              0.43s
100/120 DPDK:fast-tests / security_autotest                       OK              0.07s
101/120 DPDK:fast-tests / seqlock_autotest                        OK              2.43s
102/120 DPDK:fast-tests / service_autotest                        OK              3.23s
103/120 DPDK:fast-tests / soring_autotest                         OK              0.44s
104/120 DPDK:fast-tests / spinlock_autotest                       OK              0.51s
105/120 DPDK:fast-tests / stack_autotest                          OK              0.87s
106/120 DPDK:fast-tests / stack_lf_autotest                       SKIP            0.06s   exit status 77
107/120 DPDK:fast-tests / string_autotest                         OK              0.43s
108/120 DPDK:fast-tests / table_autotest                          OK              7.55s
109/120 DPDK:fast-tests / tailq_autotest                          OK              0.42s
110/120 DPDK:fast-tests / telemetry_data_autotest                 OK              0.44s
111/120 DPDK:fast-tests / telemetry_json_autotest                 OK              0.43s
112/120 DPDK:fast-tests / thash_autotest                          OK              0.44s
113/120 DPDK:fast-tests / threads_autotest                        OK              0.61s
114/120 DPDK:fast-tests / ticketlock_autotest                     OK              0.58s
115/120 DPDK:fast-tests / timer_autotest                          OK              3.96s
116/120 DPDK:fast-tests / trace_autotest                          OK              0.42s
117/120 DPDK:fast-tests / trace_autotest_with_traces              OK              0.43s
118/120 DPDK:fast-tests / vdev_autotest                           OK              0.43s
119/120 DPDK:fast-tests / version_autotest                        OK              0.43s
120/120 DPDK:fast-tests / telemetry_all                           OK              1.39s


Ok:                 113
Expected Fail:      0
Fail:               0
Unexpected Pass:    0
Skipped:            7
Timeout:            0


^ permalink raw reply	[flat|nested] 10+ messages in thread

* |SUCCESS| pw155013 [PATCH v2 2/2] dts: add generic blocking app class
       [not found] <20250704152908.683265-3-luca.vizzarro@arm.com>
  2025-07-04 14:57 ` |SUCCESS| pw155012-155013 [PATCH v2 2/2] dts: add generic blocking app class qemudev
  2025-07-04 15:02 ` qemudev
@ 2025-07-04 15:29 ` checkpatch
  2025-07-04 16:42 ` 0-day Robot
                   ` (6 subsequent siblings)
  9 siblings, 0 replies; 10+ messages in thread
From: checkpatch @ 2025-07-04 15:29 UTC (permalink / raw)
  To: test-report

Test-Label: checkpatch
Test-Status: SUCCESS
http://dpdk.org/patch/155013

_coding style OK_



^ permalink raw reply	[flat|nested] 10+ messages in thread

* |SUCCESS| pw155013 [PATCH v2 2/2] dts: add generic blocking app class
       [not found] <20250704152908.683265-3-luca.vizzarro@arm.com>
                   ` (2 preceding siblings ...)
  2025-07-04 15:29 ` |SUCCESS| pw155013 " checkpatch
@ 2025-07-04 16:42 ` 0-day Robot
  2025-07-04 21:24 ` |SUCCESS| pw155012-155013 [PATCH] [v2,2/2] dts: add generic blocking dpdklab
                   ` (5 subsequent siblings)
  9 siblings, 0 replies; 10+ messages in thread
From: 0-day Robot @ 2025-07-04 16:42 UTC (permalink / raw)
  To: test-report; +Cc: robot

From: robot@bytheb.org

Test-Label: github-robot: build
Test-Status: SUCCESS
http://patchwork.dpdk.org/patch/155013/

_github build: passed_
Build URL: https://github.com/ovsrobot/dpdk/actions/runs/16077216791

^ permalink raw reply	[flat|nested] 10+ messages in thread

* |SUCCESS| pw155012-155013 [PATCH] [v2,2/2] dts: add generic blocking
       [not found] <20250704152908.683265-3-luca.vizzarro@arm.com>
                   ` (3 preceding siblings ...)
  2025-07-04 16:42 ` 0-day Robot
@ 2025-07-04 21:24 ` dpdklab
  2025-07-04 21:43 ` dpdklab
                   ` (4 subsequent siblings)
  9 siblings, 0 replies; 10+ messages in thread
From: dpdklab @ 2025-07-04 21:24 UTC (permalink / raw)
  To: Test Report; +Cc: dpdk-test-reports

Test-Label: iol-dts-check-format-testing
Test-Status: SUCCESS
http://dpdk.org/patch/155013

_Testing PASS_

Submitter: Luca Vizzarro <luca.vizzarro@arm.com>
Date: Friday, July 04 2025 15:29:08 
DPDK git baseline: Repo:dpdk
  Branch: master
  CommitID:31ba785774d258d4c57b68dabdf544e575f3af83

155012-155013 --> testing pass

Upstream job id: DTS-Check-Format-Pipeline#56

Test environment and result as below:

+--------------+------------------+
| Environment  | dts-check-format |
+==============+==================+
| Ubuntu 24.04 | PASS             |
+--------------+------------------+


Ubuntu 24.04
	Kernel: 5.15
	Compiler: gcc gcc (Ubuntu 13.3.0-6ubuntu2~24.04) 13.3.0

To view detailed results, visit:
https://lab.dpdk.org/results/dashboard/patchsets/33595/

UNH-IOL DPDK Community Lab

To manage your email subscriptions, visit: 
https://lab.dpdk.org/results/dashboard/preferences/subscriptions/

^ permalink raw reply	[flat|nested] 10+ messages in thread

* |SUCCESS| pw155012-155013 [PATCH] [v2,2/2] dts: add generic blocking
       [not found] <20250704152908.683265-3-luca.vizzarro@arm.com>
                   ` (4 preceding siblings ...)
  2025-07-04 21:24 ` |SUCCESS| pw155012-155013 [PATCH] [v2,2/2] dts: add generic blocking dpdklab
@ 2025-07-04 21:43 ` dpdklab
  2025-07-04 21:50 ` dpdklab
                   ` (3 subsequent siblings)
  9 siblings, 0 replies; 10+ messages in thread
From: dpdklab @ 2025-07-04 21:43 UTC (permalink / raw)
  To: Ali Alnubani, Test Report; +Cc: dpdk-test-reports

Test-Label: iol-mellanox-Performance
Test-Status: SUCCESS
http://dpdk.org/patch/155013

_Performance Testing PASS_

Submitter: Luca Vizzarro <luca.vizzarro@arm.com>
Date: Friday, July 04 2025 15:29:08 
DPDK git baseline: Repo:dpdk
  Branch: master
  CommitID:31ba785774d258d4c57b68dabdf544e575f3af83

155012-155013 --> performance testing pass

Upstream job id: Template-DTS-Pipeline#235147

Test environment and result as below:

Ubuntu 24.04
Kernel: 6.8
Compiler: gcc gcc (Ubuntu 13.3.0-6ubuntu2~24.04) 13.3.0
NIC: NVIDIA Mellanox ConnectX-7 100000 Mbps
Fail/Total: 0/6

Detail performance results: 
+------------+---------+----------+-------------+------------------------------+
| frame_size | txd/rxd | num_cpus | num_threads |  throughput difference from  |
|            |         |          |             |           expected           |
+============+=========+==========+=============+==============================+
| 64         | 1024    | 1        | 1           | -0.1%                        |
+------------+---------+----------+-------------+------------------------------+
| 128        | 1024    | 1        | 1           | -1.0%                        |
+------------+---------+----------+-------------+------------------------------+
| 256        | 1024    | 1        | 1           | 1.4%                         |
+------------+---------+----------+-------------+------------------------------+
| 512        | 1024    | 1        | 1           | 0.2%                         |
+------------+---------+----------+-------------+------------------------------+
| 1024       | 1024    | 1        | 1           | -0.0%                        |
+------------+---------+----------+-------------+------------------------------+
| 1518       | 1024    | 1        | 1           | -0.0%                        |
+------------+---------+----------+-------------+------------------------------+

Ubuntu 24.04
Kernel: 6.8
Compiler: gcc gcc (Ubuntu 13.3.0-6ubuntu2~24.04) 13.3.0
NIC: Mellanox ConnectX-6 Lx 25000 Mbps
Fail/Total: 0/6

Detail performance results: 
+------------+---------+----------+-------------+------------------------------+
| frame_size | txd/rxd | num_cpus | num_threads |  throughput difference from  |
|            |         |          |             |           expected           |
+============+=========+==========+=============+==============================+
| 64         | 1024    | 1        | 1           | -0.1%                        |
+------------+---------+----------+-------------+------------------------------+
| 128        | 1024    | 1        | 1           | -0.2%                        |
+------------+---------+----------+-------------+------------------------------+
| 256        | 1024    | 1        | 1           | -0.1%                        |
+------------+---------+----------+-------------+------------------------------+
| 512        | 1024    | 1        | 1           | -0.1%                        |
+------------+---------+----------+-------------+------------------------------+
| 1024       | 1024    | 1        | 1           | -0.0%                        |
+------------+---------+----------+-------------+------------------------------+
| 1518       | 1024    | 1        | 1           | 0.1%                         |
+------------+---------+----------+-------------+------------------------------+

To view detailed results, visit:
https://lab.dpdk.org/results/dashboard/patchsets/33595/

UNH-IOL DPDK Community Lab

To manage your email subscriptions, visit: 
https://lab.dpdk.org/results/dashboard/preferences/subscriptions/

^ permalink raw reply	[flat|nested] 10+ messages in thread

* |SUCCESS| pw155012-155013 [PATCH] [v2,2/2] dts: add generic blocking
       [not found] <20250704152908.683265-3-luca.vizzarro@arm.com>
                   ` (5 preceding siblings ...)
  2025-07-04 21:43 ` dpdklab
@ 2025-07-04 21:50 ` dpdklab
  2025-07-04 22:01 ` dpdklab
                   ` (2 subsequent siblings)
  9 siblings, 0 replies; 10+ messages in thread
From: dpdklab @ 2025-07-04 21:50 UTC (permalink / raw)
  To: Test Report; +Cc: dpdk-test-reports

Test-Label: iol-sample-apps-testing
Test-Status: SUCCESS
http://dpdk.org/patch/155013

_Testing PASS_

Submitter: Luca Vizzarro <luca.vizzarro@arm.com>
Date: Friday, July 04 2025 15:29:08 
DPDK git baseline: Repo:dpdk
  Branch: master
  CommitID:31ba785774d258d4c57b68dabdf544e575f3af83

155012-155013 --> testing pass

Upstream job id: Template-DTS-Pipeline#235160

Test environment and result as below:

+--------------+----------------------+
| Environment  | compressdev_zlib_pmd |
+==============+======================+
| Ubuntu 22.04 | PASS                 |
+--------------+----------------------+


Ubuntu 22.04
	Kernel: 5.15
	Compiler: gcc gcc (Ubuntu 11.4.0-1ubuntu1~22.04) 11.4.0

To view detailed results, visit:
https://lab.dpdk.org/results/dashboard/patchsets/33595/

UNH-IOL DPDK Community Lab

To manage your email subscriptions, visit: 
https://lab.dpdk.org/results/dashboard/preferences/subscriptions/

^ permalink raw reply	[flat|nested] 10+ messages in thread

* |SUCCESS| pw155012-155013 [PATCH] [v2,2/2] dts: add generic blocking
       [not found] <20250704152908.683265-3-luca.vizzarro@arm.com>
                   ` (6 preceding siblings ...)
  2025-07-04 21:50 ` dpdklab
@ 2025-07-04 22:01 ` dpdklab
  2025-07-04 23:02 ` dpdklab
  2025-07-04 23:23 ` dpdklab
  9 siblings, 0 replies; 10+ messages in thread
From: dpdklab @ 2025-07-04 22:01 UTC (permalink / raw)
  To: Test Report; +Cc: dpdk-test-reports

Test-Label: iol-dts-check-format-testing
Test-Status: SUCCESS
http://dpdk.org/patch/155013

_Testing PASS_

Submitter: Luca Vizzarro <luca.vizzarro@arm.com>
Date: Friday, July 04 2025 15:29:08 
DPDK git baseline: Repo:dpdk
  Branch: master
  CommitID:31ba785774d258d4c57b68dabdf544e575f3af83

155012-155013 --> testing pass

Upstream job id: DTS-Check-Format-Pipeline#57

Test environment and result as below:

+--------------+------------------+
| Environment  | dts-check-format |
+==============+==================+
| Ubuntu 24.04 | PASS             |
+--------------+------------------+


Ubuntu 24.04
	Kernel: 5.15
	Compiler: gcc gcc (Ubuntu 13.3.0-6ubuntu2~24.04) 13.3.0

To view detailed results, visit:
https://lab.dpdk.org/results/dashboard/patchsets/33595/

UNH-IOL DPDK Community Lab

To manage your email subscriptions, visit: 
https://lab.dpdk.org/results/dashboard/preferences/subscriptions/

^ permalink raw reply	[flat|nested] 10+ messages in thread

* |SUCCESS| pw155012-155013 [PATCH] [v2,2/2] dts: add generic blocking
       [not found] <20250704152908.683265-3-luca.vizzarro@arm.com>
                   ` (7 preceding siblings ...)
  2025-07-04 22:01 ` dpdklab
@ 2025-07-04 23:02 ` dpdklab
  2025-07-04 23:23 ` dpdklab
  9 siblings, 0 replies; 10+ messages in thread
From: dpdklab @ 2025-07-04 23:02 UTC (permalink / raw)
  To: Test Report; +Cc: dpdk-test-reports

Test-Label: iol-sample-apps-testing
Test-Status: SUCCESS
http://dpdk.org/patch/155013

_Testing PASS_

Submitter: Luca Vizzarro <luca.vizzarro@arm.com>
Date: Friday, July 04 2025 15:29:08 
DPDK git baseline: Repo:dpdk
  Branch: master
  CommitID:31ba785774d258d4c57b68dabdf544e575f3af83

155012-155013 --> testing pass

Upstream job id: Template-DTS-Pipeline#235176

Test environment and result as below:

+--------------+----------------------+
| Environment  | compressdev_zlib_pmd |
+==============+======================+
| Ubuntu 22.04 | PASS                 |
+--------------+----------------------+


Ubuntu 22.04
	Kernel: 5.15
	Compiler: gcc gcc (Ubuntu 11.4.0-1ubuntu1~22.04) 11.4.0

To view detailed results, visit:
https://lab.dpdk.org/results/dashboard/patchsets/33595/

UNH-IOL DPDK Community Lab

To manage your email subscriptions, visit: 
https://lab.dpdk.org/results/dashboard/preferences/subscriptions/

^ permalink raw reply	[flat|nested] 10+ messages in thread

* |SUCCESS| pw155012-155013 [PATCH] [v2,2/2] dts: add generic blocking
       [not found] <20250704152908.683265-3-luca.vizzarro@arm.com>
                   ` (8 preceding siblings ...)
  2025-07-04 23:02 ` dpdklab
@ 2025-07-04 23:23 ` dpdklab
  9 siblings, 0 replies; 10+ messages in thread
From: dpdklab @ 2025-07-04 23:23 UTC (permalink / raw)
  To: Ali Alnubani, Test Report; +Cc: dpdk-test-reports

Test-Label: iol-mellanox-Performance
Test-Status: SUCCESS
http://dpdk.org/patch/155013

_Performance Testing PASS_

Submitter: Luca Vizzarro <luca.vizzarro@arm.com>
Date: Friday, July 04 2025 15:29:08 
DPDK git baseline: Repo:dpdk
  Branch: master
  CommitID:31ba785774d258d4c57b68dabdf544e575f3af83

155012-155013 --> performance testing pass

Upstream job id: Template-DTS-Pipeline#235163

Test environment and result as below:

Ubuntu 24.04
Kernel: 6.8
Compiler: gcc gcc (Ubuntu 13.3.0-6ubuntu2~24.04) 13.3.0
NIC: NVIDIA Mellanox ConnectX-7 100000 Mbps
Fail/Total: 0/6

Detail performance results: 
+------------+---------+----------+-------------+------------------------------+
| frame_size | txd/rxd | num_cpus | num_threads |  throughput difference from  |
|            |         |          |             |           expected           |
+============+=========+==========+=============+==============================+
| 64         | 1024    | 1        | 1           | 0.3%                         |
+------------+---------+----------+-------------+------------------------------+
| 128        | 1024    | 1        | 1           | 0.2%                         |
+------------+---------+----------+-------------+------------------------------+
| 256        | 1024    | 1        | 1           | 1.9%                         |
+------------+---------+----------+-------------+------------------------------+
| 512        | 1024    | 1        | 1           | 0.1%                         |
+------------+---------+----------+-------------+------------------------------+
| 1024       | 1024    | 1        | 1           | 0.1%                         |
+------------+---------+----------+-------------+------------------------------+
| 1518       | 1024    | 1        | 1           | -0.1%                        |
+------------+---------+----------+-------------+------------------------------+

Ubuntu 24.04
Kernel: 6.8
Compiler: gcc gcc (Ubuntu 13.3.0-6ubuntu2~24.04) 13.3.0
NIC: Mellanox ConnectX-6 Lx 25000 Mbps
Fail/Total: 0/6

Detail performance results: 
+------------+---------+----------+-------------+------------------------------+
| frame_size | txd/rxd | num_cpus | num_threads |  throughput difference from  |
|            |         |          |             |           expected           |
+============+=========+==========+=============+==============================+
| 64         | 1024    | 1        | 1           | -0.1%                        |
+------------+---------+----------+-------------+------------------------------+
| 128        | 1024    | 1        | 1           | -0.2%                        |
+------------+---------+----------+-------------+------------------------------+
| 256        | 1024    | 1        | 1           | -0.1%                        |
+------------+---------+----------+-------------+------------------------------+
| 512        | 1024    | 1        | 1           | -0.1%                        |
+------------+---------+----------+-------------+------------------------------+
| 1024       | 1024    | 1        | 1           | -0.0%                        |
+------------+---------+----------+-------------+------------------------------+
| 1518       | 1024    | 1        | 1           | 0.1%                         |
+------------+---------+----------+-------------+------------------------------+

To view detailed results, visit:
https://lab.dpdk.org/results/dashboard/patchsets/33595/

UNH-IOL DPDK Community Lab

To manage your email subscriptions, visit: 
https://lab.dpdk.org/results/dashboard/preferences/subscriptions/

^ permalink raw reply	[flat|nested] 10+ messages in thread

end of thread, other threads:[~2025-07-04 23:23 UTC | newest]

Thread overview: 10+ messages (download: mbox.gz / follow: Atom feed)
-- links below jump to the message on this page --
     [not found] <20250704152908.683265-3-luca.vizzarro@arm.com>
2025-07-04 14:57 ` |SUCCESS| pw155012-155013 [PATCH v2 2/2] dts: add generic blocking app class qemudev
2025-07-04 15:02 ` qemudev
2025-07-04 15:29 ` |SUCCESS| pw155013 " checkpatch
2025-07-04 16:42 ` 0-day Robot
2025-07-04 21:24 ` |SUCCESS| pw155012-155013 [PATCH] [v2,2/2] dts: add generic blocking dpdklab
2025-07-04 21:43 ` dpdklab
2025-07-04 21:50 ` dpdklab
2025-07-04 22:01 ` dpdklab
2025-07-04 23:02 ` dpdklab
2025-07-04 23:23 ` dpdklab

This is a public inbox, see mirroring instructions
for how to clone and mirror all data and code used for this inbox;
as well as URLs for NNTP newsgroup(s).