automatic DPDK test reports
 help / color / mirror / Atom feed
* |SUCCESS| pw155010 [PATCH] net/bonding: avoid RSS reta update in flow-isolation mode
       [not found] <20250704135031.5306-1-madhuker.mythri@oracle.com>
@ 2025-07-04 13:17 ` qemudev
  2025-07-04 13:22 ` qemudev
                   ` (12 subsequent siblings)
  13 siblings, 0 replies; 14+ messages in thread
From: qemudev @ 2025-07-04 13:17 UTC (permalink / raw)
  To: test-report

Test-Label: loongarch-compilation
Test-Status: SUCCESS
http://dpdk.org/patch/155010

_Compilation OK_

Submitter: Madhuker Mythri <madhuker.mythri@oracle.com>
Date: Fri,  4 Jul 2025 19:20:31 +0530
DPDK git baseline: Repo:dpdk-next-net
  Branch: main
  CommitID: b18c543ec30729ccc7708a6e064a1f9db5d8c11f

155010 --> meson & ninja build successfully

Test environment and result as below:

+---------------------+----------------+
|     Environment     | compilation    |
+---------------------+----------------+
| Loongnix-Server 8.3 | PASS           |
+---------------------+----------------+

Loongnix-Server 8.3
    Kernel: 4.19.190+
    Compiler: gcc 8.3


^ permalink raw reply	[flat|nested] 14+ messages in thread

* |SUCCESS| pw155010 [PATCH] net/bonding: avoid RSS reta update in flow-isolation mode
       [not found] <20250704135031.5306-1-madhuker.mythri@oracle.com>
  2025-07-04 13:17 ` |SUCCESS| pw155010 [PATCH] net/bonding: avoid RSS reta update in flow-isolation mode qemudev
@ 2025-07-04 13:22 ` qemudev
  2025-07-04 13:50 ` checkpatch
                   ` (11 subsequent siblings)
  13 siblings, 0 replies; 14+ messages in thread
From: qemudev @ 2025-07-04 13:22 UTC (permalink / raw)
  To: test-report

Test-Label: loongarch-unit-testing
Test-Status: SUCCESS
http://dpdk.org/patch/155010

_Unit Testing PASS_

Submitter: Madhuker Mythri <madhuker.mythri@oracle.com>
Date: Fri,  4 Jul 2025 19:20:31 +0530
DPDK git baseline: Repo:dpdk-next-net
  Branch: main
  CommitID: b18c543ec30729ccc7708a6e064a1f9db5d8c11f

155010 --> testing pass

Test environment and result as below:

+---------------------+----------------+
|     Environment     | dpdk_unit_test |
+---------------------+----------------+
| Loongnix-Server 8.3 | PASS           |
+---------------------+----------------+

Loongnix-Server 8.3
    Kernel: 4.19.190+
    Compiler: gcc 8.3


Test result details:
  1/121 DPDK:fast-tests / acl_autotest                            OK              3.38s
  2/121 DPDK:fast-tests / alarm_autotest                          OK              1.64s
  3/121 DPDK:fast-tests / argparse_autotest                       OK              0.63s
  4/121 DPDK:fast-tests / atomic_autotest                         OK              7.13s
  5/121 DPDK:fast-tests / bitcount_autotest                       OK              0.31s
  6/121 DPDK:fast-tests / bitmap_autotest                         OK              0.31s
  7/121 DPDK:fast-tests / bitops_autotest                         OK              1.93s
  8/121 DPDK:fast-tests / bitratestats_autotest                   OK              0.42s
  9/121 DPDK:fast-tests / bitset_autotest                         OK              3.13s
 10/121 DPDK:fast-tests / bpf_autotest                            OK              0.43s
 11/121 DPDK:fast-tests / bpf_convert_autotest                    OK              0.42s
 12/121 DPDK:fast-tests / byteorder_autotest                      OK              0.42s
 13/121 DPDK:fast-tests / cfgfile_autotest                        OK              0.42s
 14/121 DPDK:fast-tests / cksum_autotest                          OK              0.42s
 15/121 DPDK:fast-tests / cmdline_autotest                        OK              0.42s
 16/121 DPDK:fast-tests / common_autotest                         OK              1.30s
 17/121 DPDK:fast-tests / compressdev_autotest                    SKIP            0.07s   exit status 77
 18/121 DPDK:fast-tests / cpuflags_autotest                       OK              0.62s
 19/121 DPDK:fast-tests / crc_autotest                            OK              0.63s
 20/121 DPDK:fast-tests / user_delay_us                           OK              0.62s
 21/121 DPDK:fast-tests / debug_autotest                          OK             25.73s
 22/121 DPDK:fast-tests / devargs_autotest                        OK              0.61s
 23/121 DPDK:fast-tests / dispatcher_autotest                     OK              2.59s
 24/121 DPDK:fast-tests / distributor_autotest                    OK              1.21s
 25/121 DPDK:fast-tests / eal_flags_c_opt_autotest                OK              0.79s
 26/121 DPDK:fast-tests / eal_flags_main_opt_autotest             OK              0.23s
 27/121 DPDK:fast-tests / eal_flags_n_opt_autotest                OK              0.21s
 28/121 DPDK:fast-tests / eal_flags_hpet_autotest                 OK              0.14s
 29/121 DPDK:fast-tests / eal_flags_no_huge_autotest              OK              0.23s
 30/121 DPDK:fast-tests / eal_flags_a_opt_autotest                OK              0.31s
 31/121 DPDK:fast-tests / eal_flags_b_opt_autotest                OK              0.26s
 32/121 DPDK:fast-tests / eal_flags_vdev_opt_autotest             OK              0.21s
 33/121 DPDK:fast-tests / eal_flags_r_opt_autotest                OK              0.20s
 34/121 DPDK:fast-tests / eal_flags_mem_autotest                  OK              0.61s
 35/121 DPDK:fast-tests / eal_flags_file_prefix_autotest          OK             22.31s
 36/121 DPDK:fast-tests / eal_flags_misc_autotest                 OK              1.09s
 37/121 DPDK:fast-tests / eal_fs_autotest                         OK              0.62s
 38/121 DPDK:fast-tests / errno_autotest                          OK              0.61s
 39/121 DPDK:fast-tests / ethdev_link_status                      OK              0.61s
 40/121 DPDK:fast-tests / event_eth_tx_adapter_autotest           OK              1.69s
 41/121 DPDK:fast-tests / event_ring_autotest                     OK              0.62s
 42/121 DPDK:fast-tests / event_vector_adapter_autotest           OK              0.97s
 43/121 DPDK:fast-tests / eventdev_common_autotest                OK              0.61s
 44/121 DPDK:fast-tests / eventdev_selftest_sw                    OK              7.42s
 45/121 DPDK:fast-tests / fbarray_autotest                        OK              0.62s
 46/121 DPDK:fast-tests / fib_autotest                            OK              1.44s
 47/121 DPDK:fast-tests / fib6_autotest                           OK              1.23s
 48/121 DPDK:fast-tests / func_reentrancy_autotest                OK              2.28s
 49/121 DPDK:fast-tests / graph_autotest                          OK              0.62s
 50/121 DPDK:fast-tests / node_list_dump                          OK              0.61s
 51/121 DPDK:fast-tests / graph_feature_arc_autotest              OK              0.62s
 52/121 DPDK:fast-tests / hash_autotest                           OK              1.24s
 53/121 DPDK:fast-tests / hash_readwrite_func_autotest            OK              6.41s
 54/121 DPDK:fast-tests / interrupt_autotest                      OK              1.92s
 55/121 DPDK:fast-tests / ipfrag_autotest                         OK              0.08s
 56/121 DPDK:fast-tests / ipsec_autotest                          SKIP            0.60s   exit status 77
 57/121 DPDK:fast-tests / kvargs_autotest                         OK              0.60s
 58/121 DPDK:fast-tests / latencystats_autotest                   OK              0.60s
 59/121 DPDK:fast-tests / lcore_var_autotest                      OK              0.71s
 60/121 DPDK:fast-tests / lcores_autotest                         OK              5.40s
 61/121 DPDK:fast-tests / logs_autotest                           OK              0.59s
 62/121 DPDK:fast-tests / lpm_autotest                            OK              2.63s
 63/121 DPDK:fast-tests / lpm6_autotest                           OK              5.77s
 64/121 DPDK:fast-tests / malloc_autotest                         OK             61.03s
 65/121 DPDK:fast-tests / mbuf_autotest                           OK              4.97s
 66/121 DPDK:fast-tests / mcslock_autotest                        OK              3.78s
 67/121 DPDK:fast-tests / member_autotest                         OK              1.80s
 68/121 DPDK:fast-tests / memcpy_autotest                         OK              7.02s
 69/121 DPDK:fast-tests / memory_autotest                         OK              0.11s
 70/121 DPDK:fast-tests / mempool_autotest                        OK              0.45s
 71/121 DPDK:fast-tests / memzone_autotest                        OK              0.15s
 72/121 DPDK:fast-tests / meter_autotest                          OK              0.61s
 73/121 DPDK:fast-tests / metrics_autotest                        OK              0.61s
 74/121 DPDK:fast-tests / multiprocess_autotest                   OK              0.20s
 75/121 DPDK:fast-tests / net_ether_autotest                      OK              1.29s
 76/121 DPDK:fast-tests / net_ipv6_autotest                       OK              0.62s
 77/121 DPDK:fast-tests / pcapng_autotest                         OK              7.38s
 78/121 DPDK:fast-tests / pdcp_autotest                           SKIP            0.08s   exit status 77
 79/121 DPDK:fast-tests / pdump_autotest                          OK              0.73s
 80/121 DPDK:fast-tests / per_lcore_autotest                      OK              0.71s
 81/121 DPDK:fast-tests / pflock_autotest                         OK              1.42s
 82/121 DPDK:fast-tests / pie_autotest                            OK              0.62s
 83/121 DPDK:fast-tests / ring_pmd_autotest                       OK              0.61s
 84/121 DPDK:fast-tests / power_autotest                          OK              0.62s
 85/121 DPDK:fast-tests / power_cpufreq_autotest                  SKIP            0.07s   exit status 77
 86/121 DPDK:fast-tests / power_intel_uncore_autotest             SKIP            0.62s   exit status 77
 87/121 DPDK:fast-tests / power_kvm_vm_autotest                   SKIP            0.07s   exit status 77
 88/121 DPDK:fast-tests / prefetch_autotest                       OK              0.61s
 89/121 DPDK:fast-tests / ptr_compress_autotest                   OK              0.61s
 90/121 DPDK:fast-tests / rawdev_autotest                         OK              0.61s
 91/121 DPDK:fast-tests / rcu_qsbr_autotest                       OK              1.13s
 92/121 DPDK:fast-tests / reorder_autotest                        OK              0.67s
 93/121 DPDK:fast-tests / rib_autotest                            OK              9.26s
 94/121 DPDK:fast-tests / rib6_autotest                           OK              9.26s
 95/121 DPDK:fast-tests / ring_autotest                           OK              0.65s
 96/121 DPDK:fast-tests / rwlock_test1_autotest                   OK              1.36s
 97/121 DPDK:fast-tests / rwlock_rda_autotest                     OK              5.61s
 98/121 DPDK:fast-tests / rwlock_rds_wrm_autotest                 OK              5.62s
 99/121 DPDK:fast-tests / rwlock_rde_wro_autotest                 OK              5.61s
100/121 DPDK:fast-tests / sched_autotest                          OK              0.62s
101/121 DPDK:fast-tests / security_autotest                       OK              0.08s
102/121 DPDK:fast-tests / seqlock_autotest                        OK              2.59s
103/121 DPDK:fast-tests / service_autotest                        OK              3.28s
104/121 DPDK:fast-tests / soring_autotest                         OK              0.59s
105/121 DPDK:fast-tests / spinlock_autotest                       OK              0.66s
106/121 DPDK:fast-tests / stack_autotest                          OK              0.87s
107/121 DPDK:fast-tests / stack_lf_autotest                       SKIP            0.06s   exit status 77
108/121 DPDK:fast-tests / string_autotest                         OK              0.62s
109/121 DPDK:fast-tests / table_autotest                          OK              7.95s
110/121 DPDK:fast-tests / tailq_autotest                          OK              0.62s
111/121 DPDK:fast-tests / telemetry_data_autotest                 OK              0.62s
112/121 DPDK:fast-tests / telemetry_json_autotest                 OK              0.54s
113/121 DPDK:fast-tests / thash_autotest                          OK              0.62s
114/121 DPDK:fast-tests / threads_autotest                        OK              0.79s
115/121 DPDK:fast-tests / ticketlock_autotest                     OK              0.77s
116/121 DPDK:fast-tests / timer_autotest                          OK              3.87s
117/121 DPDK:fast-tests / trace_autotest                          OK              0.61s
118/121 DPDK:fast-tests / trace_autotest_with_traces              OK              0.62s
119/121 DPDK:fast-tests / vdev_autotest                           OK              0.61s
120/121 DPDK:fast-tests / version_autotest                        OK              0.61s
121/121 DPDK:fast-tests / telemetry_all                           OK              1.30s


Ok:                 114
Expected Fail:      0
Fail:               0
Unexpected Pass:    0
Skipped:            7
Timeout:            0


^ permalink raw reply	[flat|nested] 14+ messages in thread

* |SUCCESS| pw155010 [PATCH] net/bonding: avoid RSS reta update in flow-isolation mode
       [not found] <20250704135031.5306-1-madhuker.mythri@oracle.com>
  2025-07-04 13:17 ` |SUCCESS| pw155010 [PATCH] net/bonding: avoid RSS reta update in flow-isolation mode qemudev
  2025-07-04 13:22 ` qemudev
@ 2025-07-04 13:50 ` checkpatch
  2025-07-04 15:03 ` 0-day Robot
                   ` (10 subsequent siblings)
  13 siblings, 0 replies; 14+ messages in thread
From: checkpatch @ 2025-07-04 13:50 UTC (permalink / raw)
  To: test-report

Test-Label: checkpatch
Test-Status: SUCCESS
http://dpdk.org/patch/155010

_coding style OK_



^ permalink raw reply	[flat|nested] 14+ messages in thread

* |SUCCESS| pw155010 [PATCH] net/bonding: avoid RSS reta update in flow-isolation mode
       [not found] <20250704135031.5306-1-madhuker.mythri@oracle.com>
                   ` (2 preceding siblings ...)
  2025-07-04 13:50 ` checkpatch
@ 2025-07-04 15:03 ` 0-day Robot
  2025-07-04 23:39 ` |SUCCESS| pw155010 [PATCH] net/bonding: avoid RSS reta update in flo dpdklab
                   ` (9 subsequent siblings)
  13 siblings, 0 replies; 14+ messages in thread
From: 0-day Robot @ 2025-07-04 15:03 UTC (permalink / raw)
  To: test-report; +Cc: robot

From: robot@bytheb.org

Test-Label: github-robot: build
Test-Status: SUCCESS
http://patchwork.dpdk.org/patch/155010/

_github build: passed_
Build URL: https://github.com/ovsrobot/dpdk/actions/runs/16075533889

^ permalink raw reply	[flat|nested] 14+ messages in thread

* |SUCCESS| pw155010 [PATCH] net/bonding: avoid RSS reta update in flo
       [not found] <20250704135031.5306-1-madhuker.mythri@oracle.com>
                   ` (3 preceding siblings ...)
  2025-07-04 15:03 ` 0-day Robot
@ 2025-07-04 23:39 ` dpdklab
  2025-07-04 23:59 ` dpdklab
                   ` (8 subsequent siblings)
  13 siblings, 0 replies; 14+ messages in thread
From: dpdklab @ 2025-07-04 23:39 UTC (permalink / raw)
  To: Test Report; +Cc: dpdk-test-reports

Test-Label: iol-sample-apps-testing
Test-Status: SUCCESS
http://dpdk.org/patch/155010

_Testing PASS_

Submitter: Madhuker Mythri <madhuker.mythri@oracle.com>
Date: Friday, July 04 2025 13:50:31 
DPDK git baseline: Repo:dpdk
  Branch: master
  CommitID:b18c543ec30729ccc7708a6e064a1f9db5d8c11f

155010 --> testing pass

Upstream job id: Template-DTS-Pipeline#235192

Test environment and result as below:

+--------------+----------------------+
| Environment  | compressdev_zlib_pmd |
+==============+======================+
| Ubuntu 22.04 | PASS                 |
+--------------+----------------------+


Ubuntu 22.04
	Kernel: 5.15
	Compiler: gcc gcc (Ubuntu 11.4.0-1ubuntu1~22.04) 11.4.0

To view detailed results, visit:
https://lab.dpdk.org/results/dashboard/patchsets/33593/

UNH-IOL DPDK Community Lab

To manage your email subscriptions, visit: 
https://lab.dpdk.org/results/dashboard/preferences/subscriptions/

^ permalink raw reply	[flat|nested] 14+ messages in thread

* |SUCCESS| pw155010 [PATCH] net/bonding: avoid RSS reta update in flo
       [not found] <20250704135031.5306-1-madhuker.mythri@oracle.com>
                   ` (4 preceding siblings ...)
  2025-07-04 23:39 ` |SUCCESS| pw155010 [PATCH] net/bonding: avoid RSS reta update in flo dpdklab
@ 2025-07-04 23:59 ` dpdklab
  2025-07-05  0:25 ` |PENDING| " dpdklab
                   ` (7 subsequent siblings)
  13 siblings, 0 replies; 14+ messages in thread
From: dpdklab @ 2025-07-04 23:59 UTC (permalink / raw)
  To: Ali Alnubani, Test Report; +Cc: dpdk-test-reports

Test-Label: iol-mellanox-Performance
Test-Status: SUCCESS
http://dpdk.org/patch/155010

_Performance Testing PASS_

Submitter: Madhuker Mythri <madhuker.mythri@oracle.com>
Date: Friday, July 04 2025 13:50:31 
DPDK git baseline: Repo:dpdk
  Branch: master
  CommitID:b18c543ec30729ccc7708a6e064a1f9db5d8c11f

155010 --> performance testing pass

Upstream job id: Template-DTS-Pipeline#235179

Test environment and result as below:

Ubuntu 24.04
Kernel: 6.8
Compiler: gcc gcc (Ubuntu 13.3.0-6ubuntu2~24.04) 13.3.0
NIC: NVIDIA Mellanox ConnectX-7 100000 Mbps
Fail/Total: 0/6

Detail performance results: 
+------------+---------+----------+-------------+------------------------------+
| frame_size | txd/rxd | num_cpus | num_threads |  throughput difference from  |
|            |         |          |             |           expected           |
+============+=========+==========+=============+==============================+
| 64         | 1024    | 1        | 1           | 0.1%                         |
+------------+---------+----------+-------------+------------------------------+
| 128        | 1024    | 1        | 1           | 0.1%                         |
+------------+---------+----------+-------------+------------------------------+
| 256        | 1024    | 1        | 1           | 0.3%                         |
+------------+---------+----------+-------------+------------------------------+
| 512        | 1024    | 1        | 1           | 0.0%                         |
+------------+---------+----------+-------------+------------------------------+
| 1024       | 1024    | 1        | 1           | 0.0%                         |
+------------+---------+----------+-------------+------------------------------+
| 1518       | 1024    | 1        | 1           | 0.1%                         |
+------------+---------+----------+-------------+------------------------------+

Ubuntu 24.04
Kernel: 6.8
Compiler: gcc gcc (Ubuntu 13.3.0-6ubuntu2~24.04) 13.3.0
NIC: Mellanox ConnectX-6 Lx 25000 Mbps
Fail/Total: 0/6

Detail performance results: 
+------------+---------+----------+-------------+------------------------------+
| frame_size | txd/rxd | num_cpus | num_threads |  throughput difference from  |
|            |         |          |             |           expected           |
+============+=========+==========+=============+==============================+
| 64         | 1024    | 1        | 1           | 0.1%                         |
+------------+---------+----------+-------------+------------------------------+
| 128        | 1024    | 1        | 1           | 0.1%                         |
+------------+---------+----------+-------------+------------------------------+
| 256        | 1024    | 1        | 1           | -0.0%                        |
+------------+---------+----------+-------------+------------------------------+
| 512        | 1024    | 1        | 1           | -0.0%                        |
+------------+---------+----------+-------------+------------------------------+
| 1024       | 1024    | 1        | 1           | -0.0%                        |
+------------+---------+----------+-------------+------------------------------+
| 1518       | 1024    | 1        | 1           | 0.0%                         |
+------------+---------+----------+-------------+------------------------------+

To view detailed results, visit:
https://lab.dpdk.org/results/dashboard/patchsets/33593/

UNH-IOL DPDK Community Lab

To manage your email subscriptions, visit: 
https://lab.dpdk.org/results/dashboard/preferences/subscriptions/

^ permalink raw reply	[flat|nested] 14+ messages in thread

* |PENDING| pw155010 [PATCH] net/bonding: avoid RSS reta update in flo
       [not found] <20250704135031.5306-1-madhuker.mythri@oracle.com>
                   ` (5 preceding siblings ...)
  2025-07-04 23:59 ` dpdklab
@ 2025-07-05  0:25 ` dpdklab
  2025-07-05  0:45 ` |SUCCESS| " dpdklab
                   ` (6 subsequent siblings)
  13 siblings, 0 replies; 14+ messages in thread
From: dpdklab @ 2025-07-05  0:25 UTC (permalink / raw)
  To: Test Report; +Cc: dpdk-test-reports

Test-Label: iol-compile-amd64-testing
Test-Status: PENDING
http://dpdk.org/patch/155010

_Testing pending_

Submitter: Madhuker Mythri <madhuker.mythri@oracle.com>
Date: Friday, July 04 2025 13:50:31 
DPDK git baseline: Repo:dpdk
  Branch: master
  CommitID:b18c543ec30729ccc7708a6e064a1f9db5d8c11f

155010 --> testing pending

Upstream job id: Generic-VM-DPDK-Compile-Meson#36951

Test environment and result as below:

+---------------------+--------------------+-------------------+
|     Environment     | dpdk_meson_compile | dpdk_msvc_compile |
+=====================+====================+===================+
| Ubuntu 20.04        | PASS               | SKIPPED           |
+---------------------+--------------------+-------------------+
| Windows Server 2022 | SKIPPED            | PEND              |
+---------------------+--------------------+-------------------+


Ubuntu 20.04
	Kernel: 4.19
	Compiler: gcc gcc (Ubuntu 9.4.0-1ubuntu1~20.04.2) 9.4.0

Windows Server 2022
	Kernel: 10.0.20348.2031
	Compiler: clang 15.0.7, gcc 14.1.0 (MinGW), and MSVC VS 19.39.33521

To view detailed results, visit:
https://lab.dpdk.org/results/dashboard/patchsets/33593/

UNH-IOL DPDK Community Lab

To manage your email subscriptions, visit: 
https://lab.dpdk.org/results/dashboard/preferences/subscriptions/

^ permalink raw reply	[flat|nested] 14+ messages in thread

* |SUCCESS| pw155010 [PATCH] net/bonding: avoid RSS reta update in flo
       [not found] <20250704135031.5306-1-madhuker.mythri@oracle.com>
                   ` (6 preceding siblings ...)
  2025-07-05  0:25 ` |PENDING| " dpdklab
@ 2025-07-05  0:45 ` dpdklab
  2025-07-05  1:08 ` |PENDING| " dpdklab
                   ` (5 subsequent siblings)
  13 siblings, 0 replies; 14+ messages in thread
From: dpdklab @ 2025-07-05  0:45 UTC (permalink / raw)
  To: Test Report; +Cc: dpdk-test-reports

Test-Label: iol-compile-amd64-testing
Test-Status: SUCCESS
http://dpdk.org/patch/155010

_Testing PASS_

Submitter: Madhuker Mythri <madhuker.mythri@oracle.com>
Date: Friday, July 04 2025 13:50:31 
DPDK git baseline: Repo:dpdk
  Branch: master
  CommitID:b18c543ec30729ccc7708a6e064a1f9db5d8c11f

155010 --> testing pass

Upstream job id: Windows-Compile-DPDK-VS#6268

Test environment and result as below:

+---------------------+--------------------+-------------------+
|     Environment     | dpdk_meson_compile | dpdk_msvc_compile |
+=====================+====================+===================+
| Ubuntu 20.04        | PASS               | SKIPPED           |
+---------------------+--------------------+-------------------+
| Windows Server 2022 | SKIPPED            | PASS              |
+---------------------+--------------------+-------------------+


Ubuntu 20.04
	Kernel: 4.19
	Compiler: gcc gcc (Ubuntu 9.4.0-1ubuntu1~20.04.2) 9.4.0

Windows Server 2022
	Kernel: 10.0.20348.2031
	Compiler: clang 15.0.7, gcc 14.1.0 (MinGW), and MSVC VS 19.39.33521

To view detailed results, visit:
https://lab.dpdk.org/results/dashboard/patchsets/33593/

UNH-IOL DPDK Community Lab

To manage your email subscriptions, visit: 
https://lab.dpdk.org/results/dashboard/preferences/subscriptions/

^ permalink raw reply	[flat|nested] 14+ messages in thread

* |PENDING| pw155010 [PATCH] net/bonding: avoid RSS reta update in flo
       [not found] <20250704135031.5306-1-madhuker.mythri@oracle.com>
                   ` (7 preceding siblings ...)
  2025-07-05  0:45 ` |SUCCESS| " dpdklab
@ 2025-07-05  1:08 ` dpdklab
  2025-07-05  1:52 ` |SUCCESS| " dpdklab
                   ` (4 subsequent siblings)
  13 siblings, 0 replies; 14+ messages in thread
From: dpdklab @ 2025-07-05  1:08 UTC (permalink / raw)
  To: Test Report; +Cc: dpdk-test-reports

Test-Label: iol-unit-arm64-testing
Test-Status: PENDING
http://dpdk.org/patch/155010

_Testing pending_

Submitter: Madhuker Mythri <madhuker.mythri@oracle.com>
Date: Friday, July 04 2025 13:50:31 
DPDK git baseline: Repo:dpdk
  Branch: master
  CommitID:b18c543ec30729ccc7708a6e064a1f9db5d8c11f

155010 --> testing pending

Upstream job id: Aarch32-Unit-Test#6820

Test environment and result as below:

+------------------------------+----------------+---------------------------+------------------------------+--------------+
|         Environment          | dpdk_unit_test | cryptodev_sw_zuc_autotest | cryptodev_sw_snow3g_autotest | lpm_autotest |
+==============================+================+===========================+==============================+==============+
| Fedora Linux 40              | PEND           | SKIPPED                   | SKIPPED                      | SKIPPED      |
+------------------------------+----------------+---------------------------+------------------------------+--------------+
| CentOS Stream 10             | PEND           | SKIPPED                   | SKIPPED                      | SKIPPED      |
+------------------------------+----------------+---------------------------+------------------------------+--------------+
| Debian GNU/Linux 12          | PEND           | SKIPPED                   | SKIPPED                      | SKIPPED      |
+------------------------------+----------------+---------------------------+------------------------------+--------------+
| CentOS Stream 9              | PEND           | SKIPPED                   | SKIPPED                      | SKIPPED      |
+------------------------------+----------------+---------------------------+------------------------------+--------------+
| Fedora Linux 41              | PEND           | SKIPPED                   | SKIPPED                      | SKIPPED      |
+------------------------------+----------------+---------------------------+------------------------------+--------------+
| Ubuntu 20.04                 | PEND           | SKIPPED                   | SKIPPED                      | PEND         |
+------------------------------+----------------+---------------------------+------------------------------+--------------+
| Red Hat Enterprise Linux 9.5 | PEND           | SKIPPED                   | SKIPPED                      | SKIPPED      |
+------------------------------+----------------+---------------------------+------------------------------+--------------+
| Ubuntu 22.04                 | PASS           | SKIPPED                   | SKIPPED                      | SKIPPED      |
+------------------------------+----------------+---------------------------+------------------------------+--------------+
| Ubuntu 24.04                 | PEND           | SKIPPED                   | SKIPPED                      | SKIPPED      |
+------------------------------+----------------+---------------------------+------------------------------+--------------+
| Debian 12 (arm)              | SKIPPED        | PEND                      | PEND                         | SKIPPED      |
+------------------------------+----------------+---------------------------+------------------------------+--------------+


Fedora Linux 40
	Kernel: 5.4
	Compiler: gcc gcc (GCC) 14.2.1 20240912 (Red Hat 14.2.1-3)

CentOS Stream 10
	Kernel: 5.4
	Compiler: gcc gcc (GCC) 14.2.1 20250110 (Red Hat 14.2.1-8)

Debian GNU/Linux 12
	Kernel: 5.4
	Compiler: gcc gcc (Debian 12.2.0-14+deb12u1) 12.2.0

CentOS Stream 9
	Kernel: 5.4
	Compiler: gcc gcc (GCC) 11.5.0 20240719 (Red Hat 11.5.0-7)

Fedora Linux 41
	Kernel: 5.4
	Compiler: gcc gcc (GCC) 14.3.1 20250523 (Red Hat 14.3.1-1)

Ubuntu 20.04
	Kernel: 5.4
	Compiler: gcc gcc (Ubuntu 9.4.0-1ubuntu1~20.04.2) 9.4.0

Red Hat Enterprise Linux 9.5
	Kernel: 5.4
	Compiler: gcc gcc (GCC) 11.5.0 20240719 (Red Hat 11.5.0-2)

Ubuntu 22.04
	Kernel: 5.4
	Compiler: gcc gcc (Ubuntu 11.4.0-1ubuntu1~22.04) 11.4.0

Ubuntu 24.04
	Kernel: 5.4
	Compiler: gcc gcc (Ubuntu 13.3.0-6ubuntu2~24.04) 13.3.0

Debian 12 (arm)
	Kernel: Depends on container host
	Compiler: gcc (Debian 12.2.0-14) 12.2.0

To view detailed results, visit:
https://lab.dpdk.org/results/dashboard/patchsets/33593/

UNH-IOL DPDK Community Lab

To manage your email subscriptions, visit: 
https://lab.dpdk.org/results/dashboard/preferences/subscriptions/

^ permalink raw reply	[flat|nested] 14+ messages in thread

* |SUCCESS| pw155010 [PATCH] net/bonding: avoid RSS reta update in flo
       [not found] <20250704135031.5306-1-madhuker.mythri@oracle.com>
                   ` (8 preceding siblings ...)
  2025-07-05  1:08 ` |PENDING| " dpdklab
@ 2025-07-05  1:52 ` dpdklab
  2025-07-05  1:55 ` dpdklab
                   ` (3 subsequent siblings)
  13 siblings, 0 replies; 14+ messages in thread
From: dpdklab @ 2025-07-05  1:52 UTC (permalink / raw)
  To: Test Report; +Cc: dpdk-test-reports

Test-Label: iol-compile-amd64-testing
Test-Status: SUCCESS
http://dpdk.org/patch/155010

_Testing PASS_

Submitter: Madhuker Mythri <madhuker.mythri@oracle.com>
Date: Friday, July 04 2025 13:50:31 
DPDK git baseline: Repo:dpdk
  Branch: master
  CommitID:b18c543ec30729ccc7708a6e064a1f9db5d8c11f

155010 --> testing pass

Upstream job id: Windows-Compile-DPDK-Native#29584

Test environment and result as below:

+---------------------+--------------------+-------------------+-------------------------+
|     Environment     | dpdk_meson_compile | dpdk_msvc_compile | dpdk_llvm_clang_compile |
+=====================+====================+===================+=========================+
| Ubuntu 20.04        | PASS               | SKIPPED           | SKIPPED                 |
+---------------------+--------------------+-------------------+-------------------------+
| Windows Server 2022 | SKIPPED            | PASS              | PASS                    |
+---------------------+--------------------+-------------------+-------------------------+


Ubuntu 20.04
	Kernel: 4.19
	Compiler: gcc gcc (Ubuntu 9.4.0-1ubuntu1~20.04.2) 9.4.0

Windows Server 2022
	Kernel: 10.0.20348.2031
	Compiler: clang 15.0.7, gcc 14.1.0 (MinGW), and MSVC VS 19.39.33521

To view detailed results, visit:
https://lab.dpdk.org/results/dashboard/patchsets/33593/

UNH-IOL DPDK Community Lab

To manage your email subscriptions, visit: 
https://lab.dpdk.org/results/dashboard/preferences/subscriptions/

^ permalink raw reply	[flat|nested] 14+ messages in thread

* |SUCCESS| pw155010 [PATCH] net/bonding: avoid RSS reta update in flo
       [not found] <20250704135031.5306-1-madhuker.mythri@oracle.com>
                   ` (9 preceding siblings ...)
  2025-07-05  1:52 ` |SUCCESS| " dpdklab
@ 2025-07-05  1:55 ` dpdklab
  2025-07-05  2:06 ` dpdklab
                   ` (2 subsequent siblings)
  13 siblings, 0 replies; 14+ messages in thread
From: dpdklab @ 2025-07-05  1:55 UTC (permalink / raw)
  To: Test Report; +Cc: dpdk-test-reports

Test-Label: iol-compile-amd64-testing
Test-Status: SUCCESS
http://dpdk.org/patch/155010

_Testing PASS_

Submitter: Madhuker Mythri <madhuker.mythri@oracle.com>
Date: Friday, July 04 2025 13:50:31 
DPDK git baseline: Repo:dpdk
  Branch: master
  CommitID:b18c543ec30729ccc7708a6e064a1f9db5d8c11f

155010 --> testing pass

Upstream job id: Windows-Compile-DPDK-Native#29585

Test environment and result as below:

+---------------------+--------------------+-------------------+-------------------------+----------------------+
|     Environment     | dpdk_meson_compile | dpdk_msvc_compile | dpdk_llvm_clang_compile | dpdk_mingw64_compile |
+=====================+====================+===================+=========================+======================+
| Ubuntu 20.04        | PASS               | SKIPPED           | SKIPPED                 | SKIPPED              |
+---------------------+--------------------+-------------------+-------------------------+----------------------+
| Windows Server 2022 | SKIPPED            | PASS              | PASS                    | PASS                 |
+---------------------+--------------------+-------------------+-------------------------+----------------------+


Ubuntu 20.04
	Kernel: 4.19
	Compiler: gcc gcc (Ubuntu 9.4.0-1ubuntu1~20.04.2) 9.4.0

Windows Server 2022
	Kernel: 10.0.20348.2031
	Compiler: clang 15.0.7, gcc 14.1.0 (MinGW), and MSVC VS 19.39.33521

To view detailed results, visit:
https://lab.dpdk.org/results/dashboard/patchsets/33593/

UNH-IOL DPDK Community Lab

To manage your email subscriptions, visit: 
https://lab.dpdk.org/results/dashboard/preferences/subscriptions/

^ permalink raw reply	[flat|nested] 14+ messages in thread

* |SUCCESS| pw155010 [PATCH] net/bonding: avoid RSS reta update in flo
       [not found] <20250704135031.5306-1-madhuker.mythri@oracle.com>
                   ` (10 preceding siblings ...)
  2025-07-05  1:55 ` dpdklab
@ 2025-07-05  2:06 ` dpdklab
  2025-07-05  2:21 ` dpdklab
  2025-07-05  2:28 ` dpdklab
  13 siblings, 0 replies; 14+ messages in thread
From: dpdklab @ 2025-07-05  2:06 UTC (permalink / raw)
  To: Test Report; +Cc: dpdk-test-reports

Test-Label: iol-sample-apps-testing
Test-Status: SUCCESS
http://dpdk.org/patch/155010

_Testing PASS_

Submitter: Madhuker Mythri <madhuker.mythri@oracle.com>
Date: Friday, July 04 2025 13:50:31 
DPDK git baseline: Repo:dpdk
  Branch: master
  CommitID:b18c543ec30729ccc7708a6e064a1f9db5d8c11f

155010 --> testing pass

Upstream job id: Template-DTS-Pipeline#235191

Test environment and result as below:

+--------------+----------------------+
| Environment  | compressdev_zlib_pmd |
+==============+======================+
| Ubuntu 22.04 | PASS                 |
+--------------+----------------------+


Ubuntu 22.04
	Kernel: 5.15
	Compiler: gcc gcc (Ubuntu 11.4.0-1ubuntu1~22.04) 11.4.0

To view detailed results, visit:
https://lab.dpdk.org/results/dashboard/patchsets/33593/

UNH-IOL DPDK Community Lab

To manage your email subscriptions, visit: 
https://lab.dpdk.org/results/dashboard/preferences/subscriptions/

^ permalink raw reply	[flat|nested] 14+ messages in thread

* |SUCCESS| pw155010 [PATCH] net/bonding: avoid RSS reta update in flo
       [not found] <20250704135031.5306-1-madhuker.mythri@oracle.com>
                   ` (11 preceding siblings ...)
  2025-07-05  2:06 ` dpdklab
@ 2025-07-05  2:21 ` dpdklab
  2025-07-05  2:28 ` dpdklab
  13 siblings, 0 replies; 14+ messages in thread
From: dpdklab @ 2025-07-05  2:21 UTC (permalink / raw)
  To: Test Report; +Cc: dpdk-test-reports

Test-Label: iol-intel-Functional
Test-Status: SUCCESS
http://dpdk.org/patch/155010

_Functional Testing PASS_

Submitter: Madhuker Mythri <madhuker.mythri@oracle.com>
Date: Friday, July 04 2025 13:50:31 
DPDK git baseline: Repo:dpdk
  Branch: master
  CommitID:b18c543ec30729ccc7708a6e064a1f9db5d8c11f

155010 --> functional testing pass

Upstream job id: Template-DTS-Pipeline#235189

Test environment and result as below:

Ubuntu 22.04
Kernel: 5.15
Compiler: gcc gcc (Ubuntu 11.4.0-1ubuntu1~22.04) 11.4.0
NIC: Intel Corporation QAT 8970 0 Mbps

Aggregate Results by Test Suite
+----------------------------+--------+
|         Test Suite         | Result |
+============================+========+
| crypto_perf_cryptodev_perf |  PASS  |
+----------------------------+--------+


To view detailed results, visit:
https://lab.dpdk.org/results/dashboard/patchsets/33593/

UNH-IOL DPDK Community Lab

To manage your email subscriptions, visit: 
https://lab.dpdk.org/results/dashboard/preferences/subscriptions/

^ permalink raw reply	[flat|nested] 14+ messages in thread

* |SUCCESS| pw155010 [PATCH] net/bonding: avoid RSS reta update in flo
       [not found] <20250704135031.5306-1-madhuker.mythri@oracle.com>
                   ` (12 preceding siblings ...)
  2025-07-05  2:21 ` dpdklab
@ 2025-07-05  2:28 ` dpdklab
  13 siblings, 0 replies; 14+ messages in thread
From: dpdklab @ 2025-07-05  2:28 UTC (permalink / raw)
  To: Test Report; +Cc: dpdk-test-reports

Test-Label: iol-broadcom-Performance
Test-Status: SUCCESS
http://dpdk.org/patch/155010

_Performance Testing PASS_

Submitter: Madhuker Mythri <madhuker.mythri@oracle.com>
Date: Friday, July 04 2025 13:50:31 
DPDK git baseline: Repo:dpdk
  Branch: master
  CommitID:b18c543ec30729ccc7708a6e064a1f9db5d8c11f

155010 --> performance testing pass

Upstream job id: Template-DTS-Pipeline#235184

Test environment and result as below:

Ubuntu 22.04
Kernel: 5.15
Compiler: gcc gcc (Ubuntu 11.4.0-1ubuntu1~22.04) 11.4.0
NIC: Broadcom Inc. and subsidiaries BCM57414 NetXtreme-E 10Gb/25Gb RDMA Ethernet Controller 16d7 25 Mbps
Fail/Total: 0/3

Detail performance results: 
+------------+---------+----------+-------------+------------------------------+
| frame_size | txd/rxd | num_cpus | num_threads |  throughput difference from  |
|            |         |          |             |           expected           |
+============+=========+==========+=============+==============================+
| 64         | 128     | 1        | 1           | 0.5%                         |
+------------+---------+----------+-------------+------------------------------+
| 64         | 512     | 1        | 1           | -0.7%                        |
+------------+---------+----------+-------------+------------------------------+
| 64         | 2048    | 1        | 1           | 1.5%                         |
+------------+---------+----------+-------------+------------------------------+

Ubuntu 22.04
Kernel: 5.15
Compiler: gcc gcc (Ubuntu 11.4.0-1ubuntu1~22.04) 11.4.0
NIC: Arm Broadcom Inc. brcm_57414 25000 Mbps
Fail/Total: 0/2

Detail performance results: 
+------------+---------+----------+-------------+------------------------------+
| frame_size | txd/rxd | num_cpus | num_threads |  throughput difference from  |
|            |         |          |             |           expected           |
+============+=========+==========+=============+==============================+
| 64         | 512     | 1        | 1           | -0.0%                        |
+------------+---------+----------+-------------+------------------------------+
| 64         | 2048    | 1        | 1           | 0.1%                         |
+------------+---------+----------+-------------+------------------------------+

To view detailed results, visit:
https://lab.dpdk.org/results/dashboard/patchsets/33593/

UNH-IOL DPDK Community Lab

To manage your email subscriptions, visit: 
https://lab.dpdk.org/results/dashboard/preferences/subscriptions/

^ permalink raw reply	[flat|nested] 14+ messages in thread

end of thread, other threads:[~2025-07-05  2:28 UTC | newest]

Thread overview: 14+ messages (download: mbox.gz / follow: Atom feed)
-- links below jump to the message on this page --
     [not found] <20250704135031.5306-1-madhuker.mythri@oracle.com>
2025-07-04 13:17 ` |SUCCESS| pw155010 [PATCH] net/bonding: avoid RSS reta update in flow-isolation mode qemudev
2025-07-04 13:22 ` qemudev
2025-07-04 13:50 ` checkpatch
2025-07-04 15:03 ` 0-day Robot
2025-07-04 23:39 ` |SUCCESS| pw155010 [PATCH] net/bonding: avoid RSS reta update in flo dpdklab
2025-07-04 23:59 ` dpdklab
2025-07-05  0:25 ` |PENDING| " dpdklab
2025-07-05  0:45 ` |SUCCESS| " dpdklab
2025-07-05  1:08 ` |PENDING| " dpdklab
2025-07-05  1:52 ` |SUCCESS| " dpdklab
2025-07-05  1:55 ` dpdklab
2025-07-05  2:06 ` dpdklab
2025-07-05  2:21 ` dpdklab
2025-07-05  2:28 ` dpdklab

This is a public inbox, see mirroring instructions
for how to clone and mirror all data and code used for this inbox;
as well as URLs for NNTP newsgroup(s).