automatic DPDK test reports
 help / color / mirror / Atom feed
From: qemudev@loongson.cn
To: test-report@dpdk.org
Subject: |SUCCESS| pw155058-155075 [PATCH v3 18/18] ci: extend coverage with UBSan
Date: Tue, 8 Jul 2025 19:57:54 +0800	[thread overview]
Message-ID: <202507081157.568BvscR3733227@localhost.localdomain> (raw)
In-Reply-To: <20250708122823.3406288-19-david.marchand@redhat.com>

Test-Label: loongarch-compilation
Test-Status: SUCCESS
http://dpdk.org/patch/155075

_Compilation OK_

Submitter: David Marchand <david.marchand@redhat.com>
Date: Tue,  8 Jul 2025 14:28:05 +0200
DPDK git baseline: Repo:dpdk
  Branch: main
  CommitID: 70c2297528e7c7789af452f78de1932e9a20c8a2

155058-155075 --> meson & ninja build successfully

Test environment and result as below:

+---------------------+----------------+
|     Environment     | compilation    |
+---------------------+----------------+
| Loongnix-Server 8.3 | PASS           |
+---------------------+----------------+

Loongnix-Server 8.3
    Kernel: 4.19.190+
    Compiler: gcc 8.3


       reply	other threads:[~2025-07-08 12:34 UTC|newest]

Thread overview: 21+ messages / expand[flat|nested]  mbox.gz  Atom feed  top
     [not found] <20250708122823.3406288-19-david.marchand@redhat.com>
2025-07-08 11:57 ` qemudev [this message]
2025-07-08 12:02 ` qemudev
2025-07-08 12:32 ` |SUCCESS| pw155075 " checkpatch
2025-07-08 13:23 ` 0-day Robot
2025-07-08 13:58 ` |SUCCESS| pw155058-155075 [PATCH] [v3,18/18] ci: extend coverage wit dpdklab
2025-07-08 14:04 ` dpdklab
2025-07-08 14:07 ` dpdklab
2025-07-08 14:17 ` dpdklab
2025-07-08 14:21 ` |PENDING| " dpdklab
2025-07-08 14:58 ` dpdklab
2025-07-08 15:07 ` dpdklab
2025-07-08 15:18 ` |SUCCESS| " dpdklab
2025-07-08 15:20 ` dpdklab
2025-07-08 15:36 ` |WARNING| " dpdklab
2025-07-08 15:39 ` dpdklab
2025-07-08 15:43 ` |SUCCESS| " dpdklab
2025-07-08 15:44 ` |WARNING| " dpdklab
2025-07-08 15:45 ` dpdklab
2025-07-08 15:47 ` dpdklab
2025-07-08 16:06 ` dpdklab
2025-07-08 17:29 ` |SUCCESS| " dpdklab

Reply instructions:

You may reply publicly to this message via plain-text email
using any one of the following methods:

* Save the following mbox file, import it into your mail client,
  and reply-to-all from there: mbox

  Avoid top-posting and favor interleaved quoting:
  https://en.wikipedia.org/wiki/Posting_style#Interleaved_style

* Reply using the --to, --cc, and --in-reply-to
  switches of git-send-email(1):

  git send-email \
    --in-reply-to=202507081157.568BvscR3733227@localhost.localdomain \
    --to=qemudev@loongson.cn \
    --cc=test-report@dpdk.org \
    /path/to/YOUR_REPLY

  https://kernel.org/pub/software/scm/git/docs/git-send-email.html

* If your mail client supports setting the In-Reply-To header
  via mailto: links, try the mailto: link
Be sure your reply has a Subject: header at the top and a blank line before the message body.
This is a public inbox, see mirroring instructions
for how to clone and mirror all data and code used for this inbox;
as well as URLs for NNTP newsgroup(s).