From: qemudev@loongson.cn
To: test-report@dpdk.org
Subject: |SUCCESS| pw155106 [PATCH] net/mlx5: fix panic for non template age rules flush
Date: Wed, 9 Jul 2025 17:51:26 +0800 [thread overview]
Message-ID: <202507090951.5699pQ4H046616@localhost.localdomain> (raw)
In-Reply-To: <20250709102508.229287-1-mkashani@nvidia.com>
Test-Label: loongarch-compilation
Test-Status: SUCCESS
http://dpdk.org/patch/155106
_Compilation OK_
Submitter: Maayan Kashani <mkashani@nvidia.com>
Date: Wed, 9 Jul 2025 13:25:07 +0300
DPDK git baseline: Repo:dpdk-next-net-mlx
Branch: for-next-net
CommitID: f3b22640b47b37231e0a8e6732d162b875e5aa31
155106 --> meson & ninja build successfully
Test environment and result as below:
+---------------------+----------------+
| Environment | compilation |
+---------------------+----------------+
| Loongnix-Server 8.3 | PASS |
+---------------------+----------------+
Loongnix-Server 8.3
Kernel: 4.19.190+
Compiler: gcc 8.3
next parent reply other threads:[~2025-07-09 10:27 UTC|newest]
Thread overview: 24+ messages / expand[flat|nested] mbox.gz Atom feed top
[not found] <20250709102508.229287-1-mkashani@nvidia.com>
2025-07-09 9:51 ` qemudev [this message]
2025-07-09 9:56 ` qemudev
2025-07-09 10:25 ` checkpatch
2025-07-09 11:43 ` 0-day Robot
2025-07-09 14:11 ` |SUCCESS| pw155106 [PATCH] net/mlx5: fix panic for non template age dpdklab
2025-07-09 14:21 ` dpdklab
2025-07-09 14:22 ` dpdklab
2025-07-09 14:35 ` dpdklab
2025-07-09 15:13 ` |PENDING| " dpdklab
2025-07-09 15:17 ` dpdklab
2025-07-09 15:29 ` dpdklab
2025-07-09 15:32 ` dpdklab
2025-07-09 15:59 ` |SUCCESS| " dpdklab
2025-07-09 16:00 ` dpdklab
2025-07-09 16:17 ` dpdklab
2025-07-09 16:28 ` dpdklab
2025-07-09 18:03 ` |WARNING| " dpdklab
2025-07-09 18:05 ` dpdklab
2025-07-09 18:07 ` dpdklab
2025-07-09 18:19 ` |SUCCESS| " dpdklab
2025-07-09 18:42 ` dpdklab
2025-07-09 18:43 ` dpdklab
2025-07-09 22:49 ` |WARNING| " dpdklab
2025-07-10 0:07 ` dpdklab
Reply instructions:
You may reply publicly to this message via plain-text email
using any one of the following methods:
* Save the following mbox file, import it into your mail client,
and reply-to-all from there: mbox
Avoid top-posting and favor interleaved quoting:
https://en.wikipedia.org/wiki/Posting_style#Interleaved_style
* Reply using the --to, --cc, and --in-reply-to
switches of git-send-email(1):
git send-email \
--in-reply-to=202507090951.5699pQ4H046616@localhost.localdomain \
--to=qemudev@loongson.cn \
--cc=test-report@dpdk.org \
/path/to/YOUR_REPLY
https://kernel.org/pub/software/scm/git/docs/git-send-email.html
* If your mail client supports setting the In-Reply-To header
via mailto: links, try the mailto: link
Be sure your reply has a Subject: header at the top and a blank line
before the message body.
This is a public inbox, see mirroring instructions
for how to clone and mirror all data and code used for this inbox;
as well as URLs for NNTP newsgroup(s).