automatic DPDK test reports
 help / color / mirror / Atom feed
* |SUCCESS| pw155457 [PATCH] net/af_xdp: enable AF_XDP program attachment mode
       [not found] <20250723074249.3264675-1-shivajikant@google.com>
@ 2025-07-23  7:09 ` qemudev
  2025-07-23  7:13 ` qemudev
                   ` (36 subsequent siblings)
  37 siblings, 0 replies; 38+ messages in thread
From: qemudev @ 2025-07-23  7:09 UTC (permalink / raw)
  To: test-report

Test-Label: loongarch-compilation
Test-Status: SUCCESS
http://dpdk.org/patch/155457

_Compilation OK_

Submitter: Shivaji Kant <shivajikant@google.com>
Date: Wed, 23 Jul 2025 07:42:49 +0000
DPDK git baseline: Repo:dpdk-next-net
  Branch: main
  CommitID: b78afde1fed9e11ee5cdce333a1a69dd7a9cf13e

155457 --> meson & ninja build successfully

Test environment and result as below:

+---------------------+----------------+
|     Environment     | compilation    |
+---------------------+----------------+
| Loongnix-Server 8.3 | PASS           |
+---------------------+----------------+

Loongnix-Server 8.3
    Kernel: 4.19.190+
    Compiler: gcc 8.3


^ permalink raw reply	[flat|nested] 38+ messages in thread

* |SUCCESS| pw155457 [PATCH] net/af_xdp: enable AF_XDP program attachment mode
       [not found] <20250723074249.3264675-1-shivajikant@google.com>
  2025-07-23  7:09 ` |SUCCESS| pw155457 [PATCH] net/af_xdp: enable AF_XDP program attachment mode qemudev
@ 2025-07-23  7:13 ` qemudev
  2025-07-23  7:42 ` checkpatch
                   ` (35 subsequent siblings)
  37 siblings, 0 replies; 38+ messages in thread
From: qemudev @ 2025-07-23  7:13 UTC (permalink / raw)
  To: test-report

Test-Label: loongarch-unit-testing
Test-Status: SUCCESS
http://dpdk.org/patch/155457

_Unit Testing PASS_

Submitter: Shivaji Kant <shivajikant@google.com>
Date: Wed, 23 Jul 2025 07:42:49 +0000
DPDK git baseline: Repo:dpdk-next-net
  Branch: main
  CommitID: b78afde1fed9e11ee5cdce333a1a69dd7a9cf13e

155457 --> testing pass

Test environment and result as below:

+---------------------+----------------+
|     Environment     | dpdk_unit_test |
+---------------------+----------------+
| Loongnix-Server 8.3 | PASS           |
+---------------------+----------------+

Loongnix-Server 8.3
    Kernel: 4.19.190+
    Compiler: gcc 8.3


Test result details:
  1/120 DPDK:fast-tests / acl_autotest                            OK              3.34s
  2/120 DPDK:fast-tests / alarm_autotest                          OK              1.56s
  3/120 DPDK:fast-tests / argparse_autotest                       OK              0.56s
  4/120 DPDK:fast-tests / atomic_autotest                         OK              7.35s
  5/120 DPDK:fast-tests / bitcount_autotest                       OK              0.57s
  6/120 DPDK:fast-tests / bitmap_autotest                         OK              0.56s
  7/120 DPDK:fast-tests / bitops_autotest                         OK              2.03s
  8/120 DPDK:fast-tests / bitratestats_autotest                   OK              0.48s
  9/120 DPDK:fast-tests / bitset_autotest                         OK              3.17s
 10/120 DPDK:fast-tests / bpf_autotest                            OK              0.47s
 11/120 DPDK:fast-tests / bpf_convert_autotest                    OK              0.47s
 12/120 DPDK:fast-tests / byteorder_autotest                      OK              0.46s
 13/120 DPDK:fast-tests / cfgfile_autotest                        OK              0.47s
 14/120 DPDK:fast-tests / cksum_autotest                          OK              0.47s
 15/120 DPDK:fast-tests / cmdline_autotest                        OK              0.47s
 16/120 DPDK:fast-tests / common_autotest                         OK              1.35s
 17/120 DPDK:fast-tests / compressdev_autotest                    SKIP            0.06s   exit status 77
 18/120 DPDK:fast-tests / cpuflags_autotest                       OK              0.30s
 19/120 DPDK:fast-tests / crc_autotest                            OK              0.31s
 20/120 DPDK:fast-tests / user_delay_us                           OK              0.31s
 21/120 DPDK:fast-tests / debug_autotest                          OK             18.46s
 22/120 DPDK:fast-tests / devargs_autotest                        OK              0.31s
 23/120 DPDK:fast-tests / dispatcher_autotest                     OK              2.56s
 24/120 DPDK:fast-tests / distributor_autotest                    OK              1.20s
 25/120 DPDK:fast-tests / eal_flags_c_opt_autotest                OK              0.81s
 26/120 DPDK:fast-tests / eal_flags_main_opt_autotest             OK              0.23s
 27/120 DPDK:fast-tests / eal_flags_n_opt_autotest                OK              0.20s
 28/120 DPDK:fast-tests / eal_flags_hpet_autotest                 OK              0.13s
 29/120 DPDK:fast-tests / eal_flags_no_huge_autotest              OK              0.22s
 30/120 DPDK:fast-tests / eal_flags_a_opt_autotest                OK              0.31s
 31/120 DPDK:fast-tests / eal_flags_b_opt_autotest                OK              0.25s
 32/120 DPDK:fast-tests / eal_flags_vdev_opt_autotest             OK              0.20s
 33/120 DPDK:fast-tests / eal_flags_r_opt_autotest                OK              0.19s
 34/120 DPDK:fast-tests / eal_flags_mem_autotest                  OK              0.60s
 35/120 DPDK:fast-tests / eal_flags_file_prefix_autotest          OK             22.27s
 36/120 DPDK:fast-tests / eal_flags_misc_autotest                 OK              1.08s
 37/120 DPDK:fast-tests / eal_fs_autotest                         OK              0.31s
 38/120 DPDK:fast-tests / errno_autotest                          OK              0.31s
 39/120 DPDK:fast-tests / ethdev_link_status                      OK              0.31s
 40/120 DPDK:fast-tests / event_eth_tx_adapter_autotest           OK              1.68s
 41/120 DPDK:fast-tests / event_ring_autotest                     OK              0.31s
 42/120 DPDK:fast-tests / eventdev_common_autotest                OK              0.31s
 43/120 DPDK:fast-tests / eventdev_selftest_sw                    OK              7.18s
 44/120 DPDK:fast-tests / fbarray_autotest                        OK              0.31s
 45/120 DPDK:fast-tests / fib_autotest                            OK              1.16s
 46/120 DPDK:fast-tests / fib6_autotest                           OK              0.95s
 47/120 DPDK:fast-tests / func_reentrancy_autotest                OK              2.20s
 48/120 DPDK:fast-tests / graph_autotest                          OK              0.31s
 49/120 DPDK:fast-tests / node_list_dump                          OK              0.31s
 50/120 DPDK:fast-tests / graph_feature_arc_autotest              OK              0.32s
 51/120 DPDK:fast-tests / hash_autotest                           OK              0.93s
 52/120 DPDK:fast-tests / hash_readwrite_func_autotest            OK              6.39s
 53/120 DPDK:fast-tests / interrupt_autotest                      OK              1.61s
 54/120 DPDK:fast-tests / ipfrag_autotest                         OK              0.07s
 55/120 DPDK:fast-tests / ipsec_autotest                          SKIP            0.31s   exit status 77
 56/120 DPDK:fast-tests / kvargs_autotest                         OK              0.31s
 57/120 DPDK:fast-tests / latencystats_autotest                   OK              0.32s
 58/120 DPDK:fast-tests / lcore_var_autotest                      OK              0.45s
 59/120 DPDK:fast-tests / lcores_autotest                         OK              5.12s
 60/120 DPDK:fast-tests / logs_autotest                           OK              0.31s
 61/120 DPDK:fast-tests / lpm_autotest                            OK              2.35s
 62/120 DPDK:fast-tests / lpm6_autotest                           OK              5.47s
 63/120 DPDK:fast-tests / malloc_autotest                         OK             59.58s
 64/120 DPDK:fast-tests / mbuf_autotest                           OK              5.26s
 65/120 DPDK:fast-tests / mcslock_autotest                        OK              3.82s
 66/120 DPDK:fast-tests / member_autotest                         OK              1.48s
 67/120 DPDK:fast-tests / memcpy_autotest                         OK              6.91s
 68/120 DPDK:fast-tests / memory_autotest                         OK              0.10s
 69/120 DPDK:fast-tests / mempool_autotest                        OK              0.44s
 70/120 DPDK:fast-tests / memzone_autotest                        OK              0.14s
 71/120 DPDK:fast-tests / meter_autotest                          OK              0.31s
 72/120 DPDK:fast-tests / metrics_autotest                        OK              0.31s
 73/120 DPDK:fast-tests / multiprocess_autotest                   OK              0.19s
 74/120 DPDK:fast-tests / net_ether_autotest                      OK              0.97s
 75/120 DPDK:fast-tests / net_ipv6_autotest                       OK              0.31s
 76/120 DPDK:fast-tests / pcapng_autotest                         OK              7.08s
 77/120 DPDK:fast-tests / pdcp_autotest                           SKIP            0.06s   exit status 77
 78/120 DPDK:fast-tests / pdump_autotest                          OK              0.41s
 79/120 DPDK:fast-tests / per_lcore_autotest                      OK              0.41s
 80/120 DPDK:fast-tests / pflock_autotest                         OK              1.12s
 81/120 DPDK:fast-tests / pie_autotest                            OK              0.31s
 82/120 DPDK:fast-tests / ring_pmd_autotest                       OK              0.31s
 83/120 DPDK:fast-tests / power_autotest                          OK              0.31s
 84/120 DPDK:fast-tests / power_cpufreq_autotest                  SKIP            0.07s   exit status 77
 85/120 DPDK:fast-tests / power_intel_uncore_autotest             SKIP            0.47s   exit status 77
 86/120 DPDK:fast-tests / power_kvm_vm_autotest                   SKIP            0.07s   exit status 77
 87/120 DPDK:fast-tests / prefetch_autotest                       OK              0.47s
 88/120 DPDK:fast-tests / ptr_compress_autotest                   OK              0.48s
 89/120 DPDK:fast-tests / rawdev_autotest                         OK              0.48s
 90/120 DPDK:fast-tests / rcu_qsbr_autotest                       OK              1.00s
 91/120 DPDK:fast-tests / reorder_autotest                        OK              0.54s
 92/120 DPDK:fast-tests / rib_autotest                            OK              9.14s
 93/120 DPDK:fast-tests / rib6_autotest                           OK              9.14s
 94/120 DPDK:fast-tests / ring_autotest                           OK              0.51s
 95/120 DPDK:fast-tests / rwlock_test1_autotest                   OK              1.23s
 96/120 DPDK:fast-tests / rwlock_rda_autotest                     OK              5.49s
 97/120 DPDK:fast-tests / rwlock_rds_wrm_autotest                 OK              5.48s
 98/120 DPDK:fast-tests / rwlock_rde_wro_autotest                 OK              5.48s
 99/120 DPDK:fast-tests / sched_autotest                          OK              0.48s
100/120 DPDK:fast-tests / security_autotest                       OK              0.07s
101/120 DPDK:fast-tests / seqlock_autotest                        OK              2.48s
102/120 DPDK:fast-tests / service_autotest                        OK              3.19s
103/120 DPDK:fast-tests / soring_autotest                         OK              0.49s
104/120 DPDK:fast-tests / spinlock_autotest                       OK              0.56s
105/120 DPDK:fast-tests / stack_autotest                          OK              0.87s
106/120 DPDK:fast-tests / stack_lf_autotest                       SKIP            0.06s   exit status 77
107/120 DPDK:fast-tests / string_autotest                         OK              0.48s
108/120 DPDK:fast-tests / table_autotest                          OK              7.84s
109/120 DPDK:fast-tests / tailq_autotest                          OK              0.48s
110/120 DPDK:fast-tests / telemetry_data_autotest                 OK              0.49s
111/120 DPDK:fast-tests / telemetry_json_autotest                 OK              0.48s
112/120 DPDK:fast-tests / thash_autotest                          OK              0.49s
113/120 DPDK:fast-tests / threads_autotest                        OK              0.66s
114/120 DPDK:fast-tests / ticketlock_autotest                     OK              0.66s
115/120 DPDK:fast-tests / timer_autotest                          OK              4.00s
116/120 DPDK:fast-tests / trace_autotest                          OK              0.48s
117/120 DPDK:fast-tests / trace_autotest_with_traces              OK              0.49s
118/120 DPDK:fast-tests / vdev_autotest                           OK              0.48s
119/120 DPDK:fast-tests / version_autotest                        OK              0.48s
120/120 DPDK:fast-tests / telemetry_all                           OK              1.46s


Ok:                 113
Expected Fail:      0
Fail:               0
Unexpected Pass:    0
Skipped:            7
Timeout:            0


^ permalink raw reply	[flat|nested] 38+ messages in thread

* |SUCCESS| pw155457 [PATCH] net/af_xdp: enable AF_XDP program attachment mode
       [not found] <20250723074249.3264675-1-shivajikant@google.com>
  2025-07-23  7:09 ` |SUCCESS| pw155457 [PATCH] net/af_xdp: enable AF_XDP program attachment mode qemudev
  2025-07-23  7:13 ` qemudev
@ 2025-07-23  7:42 ` checkpatch
  2025-07-23  8:52 ` |SUCCESS| pw155457 [PATCH] net/af_xdp: enable AF_XDP program attachm dpdklab
                   ` (34 subsequent siblings)
  37 siblings, 0 replies; 38+ messages in thread
From: checkpatch @ 2025-07-23  7:42 UTC (permalink / raw)
  To: test-report

Test-Label: checkpatch
Test-Status: SUCCESS
http://dpdk.org/patch/155457

_coding style OK_



^ permalink raw reply	[flat|nested] 38+ messages in thread

* |SUCCESS| pw155457 [PATCH] net/af_xdp: enable AF_XDP program attachm
       [not found] <20250723074249.3264675-1-shivajikant@google.com>
                   ` (2 preceding siblings ...)
  2025-07-23  7:42 ` checkpatch
@ 2025-07-23  8:52 ` dpdklab
  2025-07-23  9:03 ` |SUCCESS| pw155457 [PATCH] net/af_xdp: enable AF_XDP program attachment mode 0-day Robot
                   ` (33 subsequent siblings)
  37 siblings, 0 replies; 38+ messages in thread
From: dpdklab @ 2025-07-23  8:52 UTC (permalink / raw)
  To: Test Report; +Cc: dpdk-test-reports

Test-Label: iol-marvell-Functional
Test-Status: SUCCESS
http://dpdk.org/patch/155457

_Functional Testing PASS_

Submitter: Shivaji Kant <shivajikant@google.com>
Date: Wednesday, July 23 2025 07:42:49 
DPDK git baseline: Repo:dpdk
  Branch: master
  CommitID:b78afde1fed9e11ee5cdce333a1a69dd7a9cf13e

155457 --> functional testing pass

Upstream job id: Template-DTS-Pipeline#237871

Test environment and result as below:

Ubuntu 20.04.6
Kernel: 5.4.105
Compiler: gcc 9.4
NIC: Marvell CN106XX 50000 Mbps
Target: arm64-native-linuxapp-gcc

Aggregate Results by Test Suite
+----------------+--------+
|   Test Suite   | Result |
+================+========+
| cmdline        |  PASS  |
+----------------+--------+
| rxtx_callbacks |  PASS  |
+----------------+--------+


To view detailed results, visit:
https://lab.dpdk.org/results/dashboard/patchsets/33735/

UNH-IOL DPDK Community Lab

To manage your email subscriptions, visit: 
https://lab.dpdk.org/results/dashboard/preferences/subscriptions/

^ permalink raw reply	[flat|nested] 38+ messages in thread

* |SUCCESS| pw155457 [PATCH] net/af_xdp: enable AF_XDP program attachment mode
       [not found] <20250723074249.3264675-1-shivajikant@google.com>
                   ` (3 preceding siblings ...)
  2025-07-23  8:52 ` |SUCCESS| pw155457 [PATCH] net/af_xdp: enable AF_XDP program attachm dpdklab
@ 2025-07-23  9:03 ` 0-day Robot
  2025-07-23  9:04 ` |SUCCESS| pw155457 [PATCH] net/af_xdp: enable AF_XDP program attachm dpdklab
                   ` (32 subsequent siblings)
  37 siblings, 0 replies; 38+ messages in thread
From: 0-day Robot @ 2025-07-23  9:03 UTC (permalink / raw)
  To: test-report; +Cc: robot

From: robot@bytheb.org

Test-Label: github-robot: build
Test-Status: SUCCESS
http://patchwork.dpdk.org/patch/155457/

_github build: passed_
Build URL: https://github.com/ovsrobot/dpdk/actions/runs/16465071895

^ permalink raw reply	[flat|nested] 38+ messages in thread

* |SUCCESS| pw155457 [PATCH] net/af_xdp: enable AF_XDP program attachm
       [not found] <20250723074249.3264675-1-shivajikant@google.com>
                   ` (4 preceding siblings ...)
  2025-07-23  9:03 ` |SUCCESS| pw155457 [PATCH] net/af_xdp: enable AF_XDP program attachment mode 0-day Robot
@ 2025-07-23  9:04 ` dpdklab
  2025-07-23  9:04 ` dpdklab
                   ` (31 subsequent siblings)
  37 siblings, 0 replies; 38+ messages in thread
From: dpdklab @ 2025-07-23  9:04 UTC (permalink / raw)
  To: Ali Alnubani, Test Report; +Cc: dpdk-test-reports

Test-Label: iol-mellanox-Performance
Test-Status: SUCCESS
http://dpdk.org/patch/155457

_Performance Testing PASS_

Submitter: Shivaji Kant <shivajikant@google.com>
Date: Wednesday, July 23 2025 07:42:49 
DPDK git baseline: Repo:dpdk
  Branch: master
  CommitID:b78afde1fed9e11ee5cdce333a1a69dd7a9cf13e

155457 --> performance testing pass

Upstream job id: Template-DTS-Pipeline#237862

Test environment and result as below:

Ubuntu 24.04
Kernel: 6.8
Compiler: gcc gcc (Ubuntu 13.3.0-6ubuntu2~24.04) 13.3.0
NIC: NVIDIA Mellanox ConnectX-7 100000 Mbps
Fail/Total: 0/6

Detail performance results: 
+------------+---------+----------+-------------+------------------------------+
| frame_size | txd/rxd | num_cpus | num_threads |  throughput difference from  |
|            |         |          |             |           expected           |
+============+=========+==========+=============+==============================+
| 64         | 1024    | 1        | 1           | -0.2%                        |
+------------+---------+----------+-------------+------------------------------+
| 128        | 1024    | 1        | 1           | -0.6%                        |
+------------+---------+----------+-------------+------------------------------+
| 256        | 1024    | 1        | 1           | -1.1%                        |
+------------+---------+----------+-------------+------------------------------+
| 512        | 1024    | 1        | 1           | -0.3%                        |
+------------+---------+----------+-------------+------------------------------+
| 1024       | 1024    | 1        | 1           | 0.0%                         |
+------------+---------+----------+-------------+------------------------------+
| 1518       | 1024    | 1        | 1           | 0.0%                         |
+------------+---------+----------+-------------+------------------------------+

Ubuntu 24.04
Kernel: 6.8
Compiler: gcc gcc (Ubuntu 13.3.0-6ubuntu2~24.04) 13.3.0
NIC: Mellanox ConnectX-6 Lx 25000 Mbps
Fail/Total: 0/6

Detail performance results: 
+------------+---------+----------+-------------+------------------------------+
| frame_size | txd/rxd | num_cpus | num_threads |  throughput difference from  |
|            |         |          |             |           expected           |
+============+=========+==========+=============+==============================+
| 64         | 1024    | 1        | 1           | -0.1%                        |
+------------+---------+----------+-------------+------------------------------+
| 128        | 1024    | 1        | 1           | 0.0%                         |
+------------+---------+----------+-------------+------------------------------+
| 256        | 1024    | 1        | 1           | -0.3%                        |
+------------+---------+----------+-------------+------------------------------+
| 512        | 1024    | 1        | 1           | -0.0%                        |
+------------+---------+----------+-------------+------------------------------+
| 1024       | 1024    | 1        | 1           | 0.1%                         |
+------------+---------+----------+-------------+------------------------------+
| 1518       | 1024    | 1        | 1           | 0.1%                         |
+------------+---------+----------+-------------+------------------------------+

To view detailed results, visit:
https://lab.dpdk.org/results/dashboard/patchsets/33735/

UNH-IOL DPDK Community Lab

To manage your email subscriptions, visit: 
https://lab.dpdk.org/results/dashboard/preferences/subscriptions/

^ permalink raw reply	[flat|nested] 38+ messages in thread

* |SUCCESS| pw155457 [PATCH] net/af_xdp: enable AF_XDP program attachm
       [not found] <20250723074249.3264675-1-shivajikant@google.com>
                   ` (5 preceding siblings ...)
  2025-07-23  9:04 ` |SUCCESS| pw155457 [PATCH] net/af_xdp: enable AF_XDP program attachm dpdklab
@ 2025-07-23  9:04 ` dpdklab
  2025-07-23  9:15 ` dpdklab
                   ` (30 subsequent siblings)
  37 siblings, 0 replies; 38+ messages in thread
From: dpdklab @ 2025-07-23  9:04 UTC (permalink / raw)
  To: Test Report; +Cc: dpdk-test-reports

Test-Label: iol-intel-Functional
Test-Status: SUCCESS
http://dpdk.org/patch/155457

_Functional Testing PASS_

Submitter: Shivaji Kant <shivajikant@google.com>
Date: Wednesday, July 23 2025 07:42:49 
DPDK git baseline: Repo:dpdk
  Branch: master
  CommitID:b78afde1fed9e11ee5cdce333a1a69dd7a9cf13e

155457 --> functional testing pass

Upstream job id: Template-DTS-Pipeline#237872

Test environment and result as below:

Ubuntu 24.04
Kernel: 6.8
Compiler: gcc gcc (Ubuntu 13.3.0-6ubuntu2~24.04) 13.3.0
NIC: Intel Corporation 4xxx Series QAT 0 Mbps

Aggregate Results by Test Suite
+----------------------------+--------+
|         Test Suite         | Result |
+============================+========+
| crypto_perf_cryptodev_perf |  PASS  |
+----------------------------+--------+


To view detailed results, visit:
https://lab.dpdk.org/results/dashboard/patchsets/33735/

UNH-IOL DPDK Community Lab

To manage your email subscriptions, visit: 
https://lab.dpdk.org/results/dashboard/preferences/subscriptions/

^ permalink raw reply	[flat|nested] 38+ messages in thread

* |SUCCESS| pw155457 [PATCH] net/af_xdp: enable AF_XDP program attachm
       [not found] <20250723074249.3264675-1-shivajikant@google.com>
                   ` (6 preceding siblings ...)
  2025-07-23  9:04 ` dpdklab
@ 2025-07-23  9:15 ` dpdklab
  2025-07-23  9:21 ` dpdklab
                   ` (29 subsequent siblings)
  37 siblings, 0 replies; 38+ messages in thread
From: dpdklab @ 2025-07-23  9:15 UTC (permalink / raw)
  To: Test Report; +Cc: dpdk-test-reports

Test-Label: iol-intel-Performance
Test-Status: SUCCESS
http://dpdk.org/patch/155457

_Performance Testing PASS_

Submitter: Shivaji Kant <shivajikant@google.com>
Date: Wednesday, July 23 2025 07:42:49 
DPDK git baseline: Repo:dpdk
  Branch: master
  CommitID:b78afde1fed9e11ee5cdce333a1a69dd7a9cf13e

155457 --> performance testing pass

Upstream job id: Template-DTS-Pipeline#237864

Test environment and result as below:

Ubuntu 22.04
Kernel: 5.15
Compiler: gcc gcc (Ubuntu 11.4.0-1ubuntu1~22.04) 11.4.0
NIC: Intel E810 100000 Mbps
Fail/Total: 0/2

Detail performance results: 
+------------+---------+----------+-------------+------------------------------+
| frame_size | txd/rxd | num_cpus | num_threads |  throughput difference from  |
|            |         |          |             |           expected           |
+============+=========+==========+=============+==============================+
| 64         | 512     | 1        | 1           | -0.7%                        |
+------------+---------+----------+-------------+------------------------------+
| 64         | 2048    | 1        | 1           | 0.2%                         |
+------------+---------+----------+-------------+------------------------------+

Ubuntu 24.04
Kernel: 6.8
Compiler: gcc gcc (Ubuntu 13.3.0-6ubuntu2~24.04) 13.3.0
NIC: Intel E810 (Arm Grace Server) 100000 Mbps
Fail/Total: 0/2

Detail performance results: 
+------------+---------+----------+-------------+------------------------------+
| frame_size | txd/rxd | num_cpus | num_threads |  throughput difference from  |
|            |         |          |             |           expected           |
+============+=========+==========+=============+==============================+
| 64         | 512     | 1        | 1           | -0.1%                        |
+------------+---------+----------+-------------+------------------------------+
| 64         | 2048    | 1        | 1           | 0.3%                         |
+------------+---------+----------+-------------+------------------------------+

Ubuntu 20.04
Kernel: 5.4
Compiler: gcc gcc (Ubuntu 9.4.0-1ubuntu1~20.04.1) 9.4.0
NIC: Intel Corporation Ethernet Converged Network Adapter XL710-QDA2 40000 Mbps
Fail/Total: 0/4

Detail performance results: 
+----------+-------------+---------+------------+------------------------------+
| num_cpus | num_threads | txd/rxd | frame_size |  throughput difference from  |
|          |             |         |            |           expected           |
+==========+=============+=========+============+==============================+
| 1        | 2           | 512     | 64         | 0.0%                         |
+----------+-------------+---------+------------+------------------------------+
| 1        | 2           | 2048    | 64         | -0.7%                        |
+----------+-------------+---------+------------+------------------------------+
| 1        | 1           | 512     | 64         | -1.0%                        |
+----------+-------------+---------+------------+------------------------------+
| 1        | 1           | 2048    | 64         | 1.1%                         |
+----------+-------------+---------+------------+------------------------------+

To view detailed results, visit:
https://lab.dpdk.org/results/dashboard/patchsets/33735/

UNH-IOL DPDK Community Lab

To manage your email subscriptions, visit: 
https://lab.dpdk.org/results/dashboard/preferences/subscriptions/

^ permalink raw reply	[flat|nested] 38+ messages in thread

* |SUCCESS| pw155457 [PATCH] net/af_xdp: enable AF_XDP program attachm
       [not found] <20250723074249.3264675-1-shivajikant@google.com>
                   ` (7 preceding siblings ...)
  2025-07-23  9:15 ` dpdklab
@ 2025-07-23  9:21 ` dpdklab
  2025-07-23  9:36 ` dpdklab
                   ` (28 subsequent siblings)
  37 siblings, 0 replies; 38+ messages in thread
From: dpdklab @ 2025-07-23  9:21 UTC (permalink / raw)
  To: Test Report; +Cc: dpdk-test-reports

Test-Label: iol-marvell-Functional
Test-Status: SUCCESS
http://dpdk.org/patch/155457

_Functional Testing PASS_

Submitter: Shivaji Kant <shivajikant@google.com>
Date: Wednesday, July 23 2025 07:42:49 
DPDK git baseline: Repo:dpdk
  Branch: master
  CommitID:b78afde1fed9e11ee5cdce333a1a69dd7a9cf13e

155457 --> functional testing pass

Upstream job id: Template-DTS-Pipeline#237883

Test environment and result as below:

Ubuntu 20.04.6
Kernel: 5.4.105
Compiler: gcc 9.4
NIC: Marvell CN106XX 50000 Mbps
Target: arm64-native-linuxapp-gcc

Aggregate Results by Test Suite
+----------------+--------+
|   Test Suite   | Result |
+================+========+
| cmdline        |  PASS  |
+----------------+--------+
| rxtx_callbacks |  PASS  |
+----------------+--------+


To view detailed results, visit:
https://lab.dpdk.org/results/dashboard/patchsets/33735/

UNH-IOL DPDK Community Lab

To manage your email subscriptions, visit: 
https://lab.dpdk.org/results/dashboard/preferences/subscriptions/

^ permalink raw reply	[flat|nested] 38+ messages in thread

* |SUCCESS| pw155457 [PATCH] net/af_xdp: enable AF_XDP program attachm
       [not found] <20250723074249.3264675-1-shivajikant@google.com>
                   ` (8 preceding siblings ...)
  2025-07-23  9:21 ` dpdklab
@ 2025-07-23  9:36 ` dpdklab
  2025-07-23  9:39 ` dpdklab
                   ` (27 subsequent siblings)
  37 siblings, 0 replies; 38+ messages in thread
From: dpdklab @ 2025-07-23  9:36 UTC (permalink / raw)
  To: Test Report; +Cc: dpdk-test-reports

Test-Label: iol-intel-Functional
Test-Status: SUCCESS
http://dpdk.org/patch/155457

_Functional Testing PASS_

Submitter: Shivaji Kant <shivajikant@google.com>
Date: Wednesday, July 23 2025 07:42:49 
DPDK git baseline: Repo:dpdk
  Branch: master
  CommitID:b78afde1fed9e11ee5cdce333a1a69dd7a9cf13e

155457 --> functional testing pass

Upstream job id: Template-DTS-Pipeline#237884

Test environment and result as below:

Ubuntu 24.04
Kernel: 6.8
Compiler: gcc gcc (Ubuntu 13.3.0-6ubuntu2~24.04) 13.3.0
NIC: Intel Corporation 4xxx Series QAT 0 Mbps

Aggregate Results by Test Suite
+----------------------------+--------+
|         Test Suite         | Result |
+============================+========+
| crypto_perf_cryptodev_perf |  PASS  |
+----------------------------+--------+


To view detailed results, visit:
https://lab.dpdk.org/results/dashboard/patchsets/33735/

UNH-IOL DPDK Community Lab

To manage your email subscriptions, visit: 
https://lab.dpdk.org/results/dashboard/preferences/subscriptions/

^ permalink raw reply	[flat|nested] 38+ messages in thread

* |SUCCESS| pw155457 [PATCH] net/af_xdp: enable AF_XDP program attachm
       [not found] <20250723074249.3264675-1-shivajikant@google.com>
                   ` (9 preceding siblings ...)
  2025-07-23  9:36 ` dpdklab
@ 2025-07-23  9:39 ` dpdklab
  2025-07-23  9:42 ` dpdklab
                   ` (26 subsequent siblings)
  37 siblings, 0 replies; 38+ messages in thread
From: dpdklab @ 2025-07-23  9:39 UTC (permalink / raw)
  To: Ali Alnubani, Test Report; +Cc: dpdk-test-reports

Test-Label: iol-mellanox-Performance
Test-Status: SUCCESS
http://dpdk.org/patch/155457

_Performance Testing PASS_

Submitter: Shivaji Kant <shivajikant@google.com>
Date: Wednesday, July 23 2025 07:42:49 
DPDK git baseline: Repo:dpdk
  Branch: master
  CommitID:b78afde1fed9e11ee5cdce333a1a69dd7a9cf13e

155457 --> performance testing pass

Upstream job id: Template-DTS-Pipeline#237874

Test environment and result as below:

Ubuntu 24.04
Kernel: 6.8
Compiler: gcc gcc (Ubuntu 13.3.0-6ubuntu2~24.04) 13.3.0
NIC: NVIDIA Mellanox ConnectX-7 100000 Mbps
Fail/Total: 0/6

Detail performance results: 
+------------+---------+----------+-------------+------------------------------+
| frame_size | txd/rxd | num_cpus | num_threads |  throughput difference from  |
|            |         |          |             |           expected           |
+============+=========+==========+=============+==============================+
| 64         | 1024    | 1        | 1           | -0.4%                        |
+------------+---------+----------+-------------+------------------------------+
| 128        | 1024    | 1        | 1           | 0.0%                         |
+------------+---------+----------+-------------+------------------------------+
| 256        | 1024    | 1        | 1           | 0.6%                         |
+------------+---------+----------+-------------+------------------------------+
| 512        | 1024    | 1        | 1           | -0.0%                        |
+------------+---------+----------+-------------+------------------------------+
| 1024       | 1024    | 1        | 1           | -0.1%                        |
+------------+---------+----------+-------------+------------------------------+
| 1518       | 1024    | 1        | 1           | -0.0%                        |
+------------+---------+----------+-------------+------------------------------+

Ubuntu 24.04
Kernel: 6.8
Compiler: gcc gcc (Ubuntu 13.3.0-6ubuntu2~24.04) 13.3.0
NIC: Mellanox ConnectX-6 Lx 25000 Mbps
Fail/Total: 0/6

Detail performance results: 
+------------+---------+----------+-------------+------------------------------+
| frame_size | txd/rxd | num_cpus | num_threads |  throughput difference from  |
|            |         |          |             |           expected           |
+============+=========+==========+=============+==============================+
| 64         | 1024    | 1        | 1           | -0.1%                        |
+------------+---------+----------+-------------+------------------------------+
| 128        | 1024    | 1        | 1           | -0.0%                        |
+------------+---------+----------+-------------+------------------------------+
| 256        | 1024    | 1        | 1           | -0.0%                        |
+------------+---------+----------+-------------+------------------------------+
| 512        | 1024    | 1        | 1           | 0.2%                         |
+------------+---------+----------+-------------+------------------------------+
| 1024       | 1024    | 1        | 1           | 0.2%                         |
+------------+---------+----------+-------------+------------------------------+
| 1518       | 1024    | 1        | 1           | 0.2%                         |
+------------+---------+----------+-------------+------------------------------+

To view detailed results, visit:
https://lab.dpdk.org/results/dashboard/patchsets/33735/

UNH-IOL DPDK Community Lab

To manage your email subscriptions, visit: 
https://lab.dpdk.org/results/dashboard/preferences/subscriptions/

^ permalink raw reply	[flat|nested] 38+ messages in thread

* |SUCCESS| pw155457 [PATCH] net/af_xdp: enable AF_XDP program attachm
       [not found] <20250723074249.3264675-1-shivajikant@google.com>
                   ` (10 preceding siblings ...)
  2025-07-23  9:39 ` dpdklab
@ 2025-07-23  9:42 ` dpdklab
  2025-07-23  9:42 ` dpdklab
                   ` (25 subsequent siblings)
  37 siblings, 0 replies; 38+ messages in thread
From: dpdklab @ 2025-07-23  9:42 UTC (permalink / raw)
  To: Test Report; +Cc: dpdk-test-reports

Test-Label: iol-intel-Performance
Test-Status: SUCCESS
http://dpdk.org/patch/155457

_Performance Testing PASS_

Submitter: Shivaji Kant <shivajikant@google.com>
Date: Wednesday, July 23 2025 07:42:49 
DPDK git baseline: Repo:dpdk
  Branch: master
  CommitID:b78afde1fed9e11ee5cdce333a1a69dd7a9cf13e

155457 --> performance testing pass

Upstream job id: Template-DTS-Pipeline#237876

Test environment and result as below:

Ubuntu 22.04
Kernel: 5.15
Compiler: gcc gcc (Ubuntu 11.4.0-1ubuntu1~22.04) 11.4.0
NIC: Intel E810 100000 Mbps
Fail/Total: 0/2

Detail performance results: 
+------------+---------+----------+-------------+------------------------------+
| frame_size | txd/rxd | num_cpus | num_threads |  throughput difference from  |
|            |         |          |             |           expected           |
+============+=========+==========+=============+==============================+
| 64         | 512     | 1        | 1           | -0.6%                        |
+------------+---------+----------+-------------+------------------------------+
| 64         | 2048    | 1        | 1           | 0.2%                         |
+------------+---------+----------+-------------+------------------------------+

Ubuntu 24.04
Kernel: 6.8
Compiler: gcc gcc (Ubuntu 13.3.0-6ubuntu2~24.04) 13.3.0
NIC: Intel E810 (Arm Grace Server) 100000 Mbps
Fail/Total: 0/2

Detail performance results: 
+------------+---------+----------+-------------+------------------------------+
| frame_size | txd/rxd | num_cpus | num_threads |  throughput difference from  |
|            |         |          |             |           expected           |
+============+=========+==========+=============+==============================+
| 64         | 512     | 1        | 1           | 0.8%                         |
+------------+---------+----------+-------------+------------------------------+
| 64         | 2048    | 1        | 1           | -0.2%                        |
+------------+---------+----------+-------------+------------------------------+

Ubuntu 20.04
Kernel: 5.4
Compiler: gcc gcc (Ubuntu 9.4.0-1ubuntu1~20.04.1) 9.4.0
NIC: Intel Corporation Ethernet Converged Network Adapter XL710-QDA2 40000 Mbps
Fail/Total: 0/4

Detail performance results: 
+----------+-------------+---------+------------+------------------------------+
| num_cpus | num_threads | txd/rxd | frame_size |  throughput difference from  |
|          |             |         |            |           expected           |
+==========+=============+=========+============+==============================+
| 1        | 2           | 512     | 64         | 1.1%                         |
+----------+-------------+---------+------------+------------------------------+
| 1        | 2           | 2048    | 64         | -1.5%                        |
+----------+-------------+---------+------------+------------------------------+
| 1        | 1           | 512     | 64         | -3.8%                        |
+----------+-------------+---------+------------+------------------------------+
| 1        | 1           | 2048    | 64         | 3.3%                         |
+----------+-------------+---------+------------+------------------------------+

To view detailed results, visit:
https://lab.dpdk.org/results/dashboard/patchsets/33735/

UNH-IOL DPDK Community Lab

To manage your email subscriptions, visit: 
https://lab.dpdk.org/results/dashboard/preferences/subscriptions/

^ permalink raw reply	[flat|nested] 38+ messages in thread

* |SUCCESS| pw155457 [PATCH] net/af_xdp: enable AF_XDP program attachm
       [not found] <20250723074249.3264675-1-shivajikant@google.com>
                   ` (11 preceding siblings ...)
  2025-07-23  9:42 ` dpdklab
@ 2025-07-23  9:42 ` dpdklab
  2025-07-23  9:42 ` dpdklab
                   ` (24 subsequent siblings)
  37 siblings, 0 replies; 38+ messages in thread
From: dpdklab @ 2025-07-23  9:42 UTC (permalink / raw)
  To: Test Report; +Cc: dpdk-test-reports

Test-Label: iol-intel-Functional
Test-Status: SUCCESS
http://dpdk.org/patch/155457

_Functional Testing PASS_

Submitter: Shivaji Kant <shivajikant@google.com>
Date: Wednesday, July 23 2025 07:42:49 
DPDK git baseline: Repo:dpdk
  Branch: master
  CommitID:b78afde1fed9e11ee5cdce333a1a69dd7a9cf13e

155457 --> functional testing pass

Upstream job id: Template-DTS-Pipeline#237868

Test environment and result as below:

Ubuntu 24.04
Kernel: 6.8
Compiler: gcc gcc (Ubuntu 13.3.0-6ubuntu2~24.04) 13.3.0
NIC: Intel Corporation 4xxx Series QAT 0 Mbps

Aggregate Results by Test Suite
+----------------------------+--------+
|         Test Suite         | Result |
+============================+========+
| crypto_perf_cryptodev_perf |  PASS  |
+----------------------------+--------+


Ubuntu 20.04
Kernel: 5.4
Compiler: gcc gcc (Ubuntu 9.4.0-1ubuntu1~20.04.1) 9.4.0
NIC: Intel Corporation Ethernet Converged Network Adapter XL710-QDA2 40000 Mbps

Aggregate Results by Test Suite
+-----------------------------+--------+
|         Test Suite          | Result |
+=============================+========+
| unit_tests_mbuf             |  PASS  |
+-----------------------------+--------+
| vhost_virtio_user_interrupt |  PASS  |
+-----------------------------+--------+
| virtio_smoke                |  PASS  |
+-----------------------------+--------+


To view detailed results, visit:
https://lab.dpdk.org/results/dashboard/patchsets/33735/

UNH-IOL DPDK Community Lab

To manage your email subscriptions, visit: 
https://lab.dpdk.org/results/dashboard/preferences/subscriptions/

^ permalink raw reply	[flat|nested] 38+ messages in thread

* |SUCCESS| pw155457 [PATCH] net/af_xdp: enable AF_XDP program attachm
       [not found] <20250723074249.3264675-1-shivajikant@google.com>
                   ` (12 preceding siblings ...)
  2025-07-23  9:42 ` dpdklab
@ 2025-07-23  9:42 ` dpdklab
  2025-07-23  9:56 ` |PENDING| " dpdklab
                   ` (23 subsequent siblings)
  37 siblings, 0 replies; 38+ messages in thread
From: dpdklab @ 2025-07-23  9:42 UTC (permalink / raw)
  To: Test Report; +Cc: dpdk-test-reports

Test-Label: iol-intel-Functional
Test-Status: SUCCESS
http://dpdk.org/patch/155457

_Functional Testing PASS_

Submitter: Shivaji Kant <shivajikant@google.com>
Date: Wednesday, July 23 2025 07:42:49 
DPDK git baseline: Repo:dpdk
  Branch: master
  CommitID:b78afde1fed9e11ee5cdce333a1a69dd7a9cf13e

155457 --> functional testing pass

Upstream job id: Template-DTS-Pipeline#237880

Test environment and result as below:

Ubuntu 24.04
Kernel: 6.8
Compiler: gcc gcc (Ubuntu 13.3.0-6ubuntu2~24.04) 13.3.0
NIC: Intel Corporation 4xxx Series QAT 0 Mbps

Aggregate Results by Test Suite
+----------------------------+--------+
|         Test Suite         | Result |
+============================+========+
| crypto_perf_cryptodev_perf |  PASS  |
+----------------------------+--------+


Ubuntu 20.04
Kernel: 5.4
Compiler: gcc gcc (Ubuntu 9.4.0-1ubuntu1~20.04.1) 9.4.0
NIC: Intel Corporation Ethernet Converged Network Adapter XL710-QDA2 40000 Mbps

Aggregate Results by Test Suite
+-----------------------------+--------+
|         Test Suite          | Result |
+=============================+========+
| unit_tests_mbuf             |  PASS  |
+-----------------------------+--------+
| vhost_virtio_user_interrupt |  PASS  |
+-----------------------------+--------+
| virtio_smoke                |  PASS  |
+-----------------------------+--------+


To view detailed results, visit:
https://lab.dpdk.org/results/dashboard/patchsets/33735/

UNH-IOL DPDK Community Lab

To manage your email subscriptions, visit: 
https://lab.dpdk.org/results/dashboard/preferences/subscriptions/

^ permalink raw reply	[flat|nested] 38+ messages in thread

* |PENDING| pw155457 [PATCH] net/af_xdp: enable AF_XDP program attachm
       [not found] <20250723074249.3264675-1-shivajikant@google.com>
                   ` (13 preceding siblings ...)
  2025-07-23  9:42 ` dpdklab
@ 2025-07-23  9:56 ` dpdklab
  2025-07-23 10:37 ` |SUCCESS| " dpdklab
                   ` (22 subsequent siblings)
  37 siblings, 0 replies; 38+ messages in thread
From: dpdklab @ 2025-07-23  9:56 UTC (permalink / raw)
  To: Test Report; +Cc: dpdk-test-reports

Test-Label: iol-unit-arm64-testing
Test-Status: PENDING
http://dpdk.org/patch/155457

_Testing pending_

Submitter: Shivaji Kant <shivajikant@google.com>
Date: Wednesday, July 23 2025 07:42:49 
DPDK git baseline: Repo:dpdk
  Branch: master
  CommitID:b78afde1fed9e11ee5cdce333a1a69dd7a9cf13e

155457 --> testing pending

Upstream job id: Aarch32-Unit-Test#7014

Test environment and result as below:

+------------------------------+----------------+---------------------------+--------------+------------------------------+
|         Environment          | dpdk_unit_test | cryptodev_sw_zuc_autotest | lpm_autotest | cryptodev_sw_snow3g_autotest |
+==============================+================+===========================+==============+==============================+
| CentOS Stream 9              | PEND           | SKIPPED                   | SKIPPED      | SKIPPED                      |
+------------------------------+----------------+---------------------------+--------------+------------------------------+
| CentOS Stream 10             | PEND           | SKIPPED                   | SKIPPED      | SKIPPED                      |
+------------------------------+----------------+---------------------------+--------------+------------------------------+
| Fedora Linux 40              | PEND           | SKIPPED                   | SKIPPED      | SKIPPED                      |
+------------------------------+----------------+---------------------------+--------------+------------------------------+
| Debian GNU/Linux 12          | PEND           | SKIPPED                   | SKIPPED      | SKIPPED                      |
+------------------------------+----------------+---------------------------+--------------+------------------------------+
| Fedora Linux 41              | PEND           | SKIPPED                   | SKIPPED      | SKIPPED                      |
+------------------------------+----------------+---------------------------+--------------+------------------------------+
| Ubuntu 20.04                 | PEND           | SKIPPED                   | PEND         | SKIPPED                      |
+------------------------------+----------------+---------------------------+--------------+------------------------------+
| Red Hat Enterprise Linux 9.5 | PEND           | SKIPPED                   | SKIPPED      | SKIPPED                      |
+------------------------------+----------------+---------------------------+--------------+------------------------------+
| Ubuntu 24.04                 | PEND           | SKIPPED                   | SKIPPED      | SKIPPED                      |
+------------------------------+----------------+---------------------------+--------------+------------------------------+
| Ubuntu 22.04                 | PASS           | SKIPPED                   | SKIPPED      | SKIPPED                      |
+------------------------------+----------------+---------------------------+--------------+------------------------------+
| Debian 12 (arm)              | SKIPPED        | PEND                      | SKIPPED      | PEND                         |
+------------------------------+----------------+---------------------------+--------------+------------------------------+


CentOS Stream 9
	Kernel: 5.4
	Compiler: gcc gcc (GCC) 11.5.0 20240719 (Red Hat 11.5.0-7)

CentOS Stream 10
	Kernel: 5.4
	Compiler: gcc gcc (GCC) 14.2.1 20250110 (Red Hat 14.2.1-8)

Fedora Linux 40
	Kernel: 5.4
	Compiler: gcc gcc (GCC) 14.2.1 20240912 (Red Hat 14.2.1-3)

Debian GNU/Linux 12
	Kernel: 5.4
	Compiler: gcc gcc (Debian 12.2.0-14+deb12u1) 12.2.0

Fedora Linux 41
	Kernel: 5.4
	Compiler: clang gcc (GCC) 14.3.1 20250523 (Red Hat 14.3.1-1)

Ubuntu 20.04
	Kernel: 5.4
	Compiler: gcc gcc (Ubuntu 9.4.0-1ubuntu1~20.04.2) 9.4.0

Red Hat Enterprise Linux 9.5
	Kernel: 5.4
	Compiler: gcc gcc (GCC) 11.5.0 20240719 (Red Hat 11.5.0-2)

Ubuntu 24.04
	Kernel: 5.4
	Compiler: gcc gcc (Ubuntu 13.3.0-6ubuntu2~24.04) 13.3.0

Ubuntu 22.04
	Kernel: 5.4
	Compiler: gcc gcc (Ubuntu 11.4.0-1ubuntu1~22.04) 11.4.0

Debian 12 (arm)
	Kernel: Depends on container host
	Compiler: gcc (Debian 12.2.0-14) 12.2.0

To view detailed results, visit:
https://lab.dpdk.org/results/dashboard/patchsets/33735/

UNH-IOL DPDK Community Lab

To manage your email subscriptions, visit: 
https://lab.dpdk.org/results/dashboard/preferences/subscriptions/

^ permalink raw reply	[flat|nested] 38+ messages in thread

* |SUCCESS| pw155457 [PATCH] net/af_xdp: enable AF_XDP program attachm
       [not found] <20250723074249.3264675-1-shivajikant@google.com>
                   ` (14 preceding siblings ...)
  2025-07-23  9:56 ` |PENDING| " dpdklab
@ 2025-07-23 10:37 ` dpdklab
  2025-07-23 11:02 ` dpdklab
                   ` (21 subsequent siblings)
  37 siblings, 0 replies; 38+ messages in thread
From: dpdklab @ 2025-07-23 10:37 UTC (permalink / raw)
  To: Test Report; +Cc: dpdk-test-reports

Test-Label: iol-broadcom-Performance
Test-Status: SUCCESS
http://dpdk.org/patch/155457

_Performance Testing PASS_

Submitter: Shivaji Kant <shivajikant@google.com>
Date: Wednesday, July 23 2025 07:42:49 
DPDK git baseline: Repo:dpdk
  Branch: master
  CommitID:b78afde1fed9e11ee5cdce333a1a69dd7a9cf13e

155457 --> performance testing pass

Upstream job id: Template-DTS-Pipeline#237866

Test environment and result as below:

Ubuntu 22.04
Kernel: 5.15
Compiler: gcc gcc (Ubuntu 11.4.0-1ubuntu1~22.04) 11.4.0
NIC: Arm Broadcom Inc. brcm_57414 25000 Mbps
Fail/Total: 0/2

Detail performance results: 
+------------+---------+----------+-------------+------------------------------+
| frame_size | txd/rxd | num_cpus | num_threads |  throughput difference from  |
|            |         |          |             |           expected           |
+============+=========+==========+=============+==============================+
| 64         | 512     | 1        | 1           | 0.1%                         |
+------------+---------+----------+-------------+------------------------------+
| 64         | 2048    | 1        | 1           | 0.2%                         |
+------------+---------+----------+-------------+------------------------------+

Ubuntu 22.04
Kernel: 5.15
Compiler: gcc gcc (Ubuntu 11.4.0-1ubuntu1~22.04) 11.4.0
NIC: Broadcom Inc. and subsidiaries BCM57414 NetXtreme-E 10Gb/25Gb RDMA Ethernet Controller 16d7 25 Mbps
Fail/Total: 0/3

Detail performance results: 
+------------+---------+----------+-------------+------------------------------+
| frame_size | txd/rxd | num_cpus | num_threads |  throughput difference from  |
|            |         |          |             |           expected           |
+============+=========+==========+=============+==============================+
| 64         | 128     | 1        | 1           | -0.4%                        |
+------------+---------+----------+-------------+------------------------------+
| 64         | 512     | 1        | 1           | -0.8%                        |
+------------+---------+----------+-------------+------------------------------+
| 64         | 2048    | 1        | 1           | -0.4%                        |
+------------+---------+----------+-------------+------------------------------+

To view detailed results, visit:
https://lab.dpdk.org/results/dashboard/patchsets/33735/

UNH-IOL DPDK Community Lab

To manage your email subscriptions, visit: 
https://lab.dpdk.org/results/dashboard/preferences/subscriptions/

^ permalink raw reply	[flat|nested] 38+ messages in thread

* |SUCCESS| pw155457 [PATCH] net/af_xdp: enable AF_XDP program attachm
       [not found] <20250723074249.3264675-1-shivajikant@google.com>
                   ` (15 preceding siblings ...)
  2025-07-23 10:37 ` |SUCCESS| " dpdklab
@ 2025-07-23 11:02 ` dpdklab
  2025-07-23 11:11 ` dpdklab
                   ` (20 subsequent siblings)
  37 siblings, 0 replies; 38+ messages in thread
From: dpdklab @ 2025-07-23 11:02 UTC (permalink / raw)
  To: Test Report; +Cc: dpdk-test-reports

Test-Label: iol-intel-Functional
Test-Status: SUCCESS
http://dpdk.org/patch/155457

_Functional Testing PASS_

Submitter: Shivaji Kant <shivajikant@google.com>
Date: Wednesday, July 23 2025 07:42:49 
DPDK git baseline: Repo:dpdk
  Branch: master
  CommitID:b78afde1fed9e11ee5cdce333a1a69dd7a9cf13e

155457 --> functional testing pass

Upstream job id: Template-DTS-Pipeline#237870

Test environment and result as below:

Ubuntu 24.04
Kernel: 6.8
Compiler: gcc gcc (Ubuntu 13.3.0-6ubuntu2~24.04) 13.3.0
NIC: Intel Corporation 4xxx Series QAT 0 Mbps

Aggregate Results by Test Suite
+----------------------------+--------+
|         Test Suite         | Result |
+============================+========+
| crypto_perf_cryptodev_perf |  PASS  |
+----------------------------+--------+


Ubuntu 22.04
Kernel: 5.15
Compiler: gcc gcc (Ubuntu 11.4.0-1ubuntu1~22.04) 11.4.0
NIC: Intel Corporation QAT 8970 0 Mbps

Aggregate Results by Test Suite
+----------------------------+--------+
|         Test Suite         | Result |
+============================+========+
| crypto_perf_cryptodev_perf |  PASS  |
+----------------------------+--------+


Ubuntu 20.04
Kernel: 5.4
Compiler: gcc gcc (Ubuntu 9.4.0-1ubuntu1~20.04.1) 9.4.0
NIC: Intel Corporation Ethernet Converged Network Adapter XL710-QDA2 40000 Mbps

Aggregate Results by Test Suite
+-----------------------------+--------+
|         Test Suite          | Result |
+=============================+========+
| unit_tests_mbuf             |  PASS  |
+-----------------------------+--------+
| vhost_virtio_user_interrupt |  PASS  |
+-----------------------------+--------+
| virtio_smoke                |  PASS  |
+-----------------------------+--------+


To view detailed results, visit:
https://lab.dpdk.org/results/dashboard/patchsets/33735/

UNH-IOL DPDK Community Lab

To manage your email subscriptions, visit: 
https://lab.dpdk.org/results/dashboard/preferences/subscriptions/

^ permalink raw reply	[flat|nested] 38+ messages in thread

* |SUCCESS| pw155457 [PATCH] net/af_xdp: enable AF_XDP program attachm
       [not found] <20250723074249.3264675-1-shivajikant@google.com>
                   ` (16 preceding siblings ...)
  2025-07-23 11:02 ` dpdklab
@ 2025-07-23 11:11 ` dpdklab
  2025-07-23 11:14 ` |PENDING| " dpdklab
                   ` (19 subsequent siblings)
  37 siblings, 0 replies; 38+ messages in thread
From: dpdklab @ 2025-07-23 11:11 UTC (permalink / raw)
  To: Test Report; +Cc: dpdk-test-reports

Test-Label: iol-broadcom-Performance
Test-Status: SUCCESS
http://dpdk.org/patch/155457

_Performance Testing PASS_

Submitter: Shivaji Kant <shivajikant@google.com>
Date: Wednesday, July 23 2025 07:42:49 
DPDK git baseline: Repo:dpdk
  Branch: master
  CommitID:b78afde1fed9e11ee5cdce333a1a69dd7a9cf13e

155457 --> performance testing pass

Upstream job id: Template-DTS-Pipeline#237878

Test environment and result as below:

Ubuntu 22.04
Kernel: 5.15
Compiler: gcc gcc (Ubuntu 11.4.0-1ubuntu1~22.04) 11.4.0
NIC: Broadcom Inc. and subsidiaries BCM57414 NetXtreme-E 10Gb/25Gb RDMA Ethernet Controller 16d7 25 Mbps
Fail/Total: 0/3

Detail performance results: 
+------------+---------+----------+-------------+------------------------------+
| frame_size | txd/rxd | num_cpus | num_threads |  throughput difference from  |
|            |         |          |             |           expected           |
+============+=========+==========+=============+==============================+
| 64         | 128     | 1        | 1           | -0.1%                        |
+------------+---------+----------+-------------+------------------------------+
| 64         | 512     | 1        | 1           | 0.5%                         |
+------------+---------+----------+-------------+------------------------------+
| 64         | 2048    | 1        | 1           | 0.2%                         |
+------------+---------+----------+-------------+------------------------------+

Ubuntu 22.04
Kernel: 5.15
Compiler: gcc gcc (Ubuntu 11.4.0-1ubuntu1~22.04) 11.4.0
NIC: Arm Broadcom Inc. brcm_57414 25000 Mbps
Fail/Total: 0/2

Detail performance results: 
+------------+---------+----------+-------------+------------------------------+
| frame_size | txd/rxd | num_cpus | num_threads |  throughput difference from  |
|            |         |          |             |           expected           |
+============+=========+==========+=============+==============================+
| 64         | 512     | 1        | 1           | -0.0%                        |
+------------+---------+----------+-------------+------------------------------+
| 64         | 2048    | 1        | 1           | -0.0%                        |
+------------+---------+----------+-------------+------------------------------+

To view detailed results, visit:
https://lab.dpdk.org/results/dashboard/patchsets/33735/

UNH-IOL DPDK Community Lab

To manage your email subscriptions, visit: 
https://lab.dpdk.org/results/dashboard/preferences/subscriptions/

^ permalink raw reply	[flat|nested] 38+ messages in thread

* |PENDING| pw155457 [PATCH] net/af_xdp: enable AF_XDP program attachm
       [not found] <20250723074249.3264675-1-shivajikant@google.com>
                   ` (17 preceding siblings ...)
  2025-07-23 11:11 ` dpdklab
@ 2025-07-23 11:14 ` dpdklab
  2025-07-23 11:33 ` |SUCCESS| " dpdklab
                   ` (18 subsequent siblings)
  37 siblings, 0 replies; 38+ messages in thread
From: dpdklab @ 2025-07-23 11:14 UTC (permalink / raw)
  To: Test Report; +Cc: dpdk-test-reports

Test-Label: iol-compile-amd64-testing
Test-Status: PENDING
http://dpdk.org/patch/155457

_Testing pending_

Submitter: Shivaji Kant <shivajikant@google.com>
Date: Wednesday, July 23 2025 07:42:49 
DPDK git baseline: Repo:dpdk
  Branch: master
  CommitID:b78afde1fed9e11ee5cdce333a1a69dd7a9cf13e

155457 --> testing pending

Upstream job id: Generic-VM-DPDK-Compile-Meson#37339

Test environment and result as below:

+---------------------+--------------------+-------------------------+-------------------+
|     Environment     | dpdk_meson_compile | dpdk_llvm_clang_compile | dpdk_msvc_compile |
+=====================+====================+=========================+===================+
| Ubuntu 20.04        | PASS               | SKIPPED                 | SKIPPED           |
+---------------------+--------------------+-------------------------+-------------------+
| Windows Server 2022 | SKIPPED            | PEND                    | PEND              |
+---------------------+--------------------+-------------------------+-------------------+


Ubuntu 20.04
	Kernel: 4.19
	Compiler: gcc gcc (Ubuntu 9.4.0-1ubuntu1~20.04.2) 9.4.0

Windows Server 2022
	Kernel: 10.0.20348.2031
	Compiler: clang 15.0.7, gcc 14.1.0 (MinGW), and MSVC VS 19.39.33521

To view detailed results, visit:
https://lab.dpdk.org/results/dashboard/patchsets/33735/

UNH-IOL DPDK Community Lab

To manage your email subscriptions, visit: 
https://lab.dpdk.org/results/dashboard/preferences/subscriptions/

^ permalink raw reply	[flat|nested] 38+ messages in thread

* |SUCCESS| pw155457 [PATCH] net/af_xdp: enable AF_XDP program attachm
       [not found] <20250723074249.3264675-1-shivajikant@google.com>
                   ` (18 preceding siblings ...)
  2025-07-23 11:14 ` |PENDING| " dpdklab
@ 2025-07-23 11:33 ` dpdklab
  2025-07-23 11:40 ` |PENDING| " dpdklab
                   ` (17 subsequent siblings)
  37 siblings, 0 replies; 38+ messages in thread
From: dpdklab @ 2025-07-23 11:33 UTC (permalink / raw)
  To: Test Report; +Cc: dpdk-test-reports

Test-Label: iol-compile-amd64-testing
Test-Status: SUCCESS
http://dpdk.org/patch/155457

_Testing PASS_

Submitter: Shivaji Kant <shivajikant@google.com>
Date: Wednesday, July 23 2025 07:42:49 
DPDK git baseline: Repo:dpdk
  Branch: master
  CommitID:b78afde1fed9e11ee5cdce333a1a69dd7a9cf13e

155457 --> testing pass

Upstream job id: Windows-Compile-DPDK-VS#6443

Test environment and result as below:

+---------------------+--------------------+-------------------------+-------------------+
|     Environment     | dpdk_meson_compile | dpdk_llvm_clang_compile | dpdk_msvc_compile |
+=====================+====================+=========================+===================+
| Ubuntu 20.04        | PASS               | SKIPPED                 | SKIPPED           |
+---------------------+--------------------+-------------------------+-------------------+
| FreeBSD 14.2        | PASS               | SKIPPED                 | SKIPPED           |
+---------------------+--------------------+-------------------------+-------------------+
| Windows Server 2022 | SKIPPED            | PASS                    | PASS              |
+---------------------+--------------------+-------------------------+-------------------+


Ubuntu 20.04
	Kernel: 4.19
	Compiler: gcc gcc (Ubuntu 9.4.0-1ubuntu1~20.04.2) 9.4.0

FreeBSD 14.2
	Kernel: 14.2-RELEASE
	Compiler: clang 18.1.6

Windows Server 2022
	Kernel: 10.0.20348.2031
	Compiler: clang 15.0.7, gcc 14.1.0 (MinGW), and MSVC VS 19.39.33521

To view detailed results, visit:
https://lab.dpdk.org/results/dashboard/patchsets/33735/

UNH-IOL DPDK Community Lab

To manage your email subscriptions, visit: 
https://lab.dpdk.org/results/dashboard/preferences/subscriptions/

^ permalink raw reply	[flat|nested] 38+ messages in thread

* |PENDING| pw155457 [PATCH] net/af_xdp: enable AF_XDP program attachm
       [not found] <20250723074249.3264675-1-shivajikant@google.com>
                   ` (19 preceding siblings ...)
  2025-07-23 11:33 ` |SUCCESS| " dpdklab
@ 2025-07-23 11:40 ` dpdklab
  2025-07-23 11:48 ` |SUCCESS| " dpdklab
                   ` (16 subsequent siblings)
  37 siblings, 0 replies; 38+ messages in thread
From: dpdklab @ 2025-07-23 11:40 UTC (permalink / raw)
  To: Test Report; +Cc: dpdk-test-reports

Test-Label: iol-unit-amd64-testing
Test-Status: PENDING
http://dpdk.org/patch/155457

_Testing pending_

Submitter: Shivaji Kant <shivajikant@google.com>
Date: Wednesday, July 23 2025 07:42:49 
DPDK git baseline: Repo:dpdk
  Branch: master
  CommitID:b78afde1fed9e11ee5cdce333a1a69dd7a9cf13e

155457 --> testing pending

Upstream job id: Generic-Unit-Test-DPDK#357689

Test environment and result as below:

+-------------------------------+----------------+
|          Environment          | dpdk_unit_test |
+===============================+================+
| CentOS Stream 10              | PASS           |
+-------------------------------+----------------+
| CentOS Stream 9               | PEND           |
+-------------------------------+----------------+
| Debian GNU/Linux 12           | PEND           |
+-------------------------------+----------------+
| Fedora Linux 41               | PEND           |
+-------------------------------+----------------+
| Fedora Linux 40               | PEND           |
+-------------------------------+----------------+
| Ubuntu 20.04                  | PEND           |
+-------------------------------+----------------+
| Red Hat Enterprise Linux 9.5  | PEND           |
+-------------------------------+----------------+
| Red Hat Enterprise Linux 8.10 | PEND           |
+-------------------------------+----------------+
| Ubuntu 22.04                  | PEND           |
+-------------------------------+----------------+
| Ubuntu 24.04                  | PEND           |
+-------------------------------+----------------+


CentOS Stream 10
	Kernel: 5.15
	Compiler: gcc gcc (GCC) 14.2.1 20250110 (Red Hat 14.2.1-8)

CentOS Stream 9
	Kernel: 5.15
	Compiler: gcc gcc (GCC) 11.5.0 20240719 (Red Hat 11.5.0-7)

Debian GNU/Linux 12
	Kernel: 5.15
	Compiler: gcc gcc (Debian 12.2.0-14+deb12u1) 12.2.0

Fedora Linux 41
	Kernel: 5.15
	Compiler: gcc gcc (GCC) 14.3.1 20250523 (Red Hat 14.3.1-1)

Fedora Linux 40
	Kernel: 5.15
	Compiler: clang gcc (GCC) 14.2.1 20240912 (Red Hat 14.2.1-3)

Ubuntu 20.04
	Kernel: 5.15
	Compiler: gcc gcc (Ubuntu 9.4.0-1ubuntu1~20.04.2) 9.4.0

Red Hat Enterprise Linux 9.5
	Kernel: 5.15
	Compiler: gcc gcc (GCC) 11.5.0 20240719 (Red Hat 11.5.0-2)

Red Hat Enterprise Linux 8.10
	Kernel: 5.15
	Compiler: gcc gcc (GCC) 8.5.0 20210514 (Red Hat 8.5.0-22)

Ubuntu 22.04
	Kernel: 5.15
	Compiler: gcc gcc (Ubuntu 11.4.0-1ubuntu1~22.04) 11.4.0

Ubuntu 24.04
	Kernel: 5.15
	Compiler: gcc gcc (Ubuntu 13.3.0-6ubuntu2~24.04) 13.3.0

To view detailed results, visit:
https://lab.dpdk.org/results/dashboard/patchsets/33735/

UNH-IOL DPDK Community Lab

To manage your email subscriptions, visit: 
https://lab.dpdk.org/results/dashboard/preferences/subscriptions/

^ permalink raw reply	[flat|nested] 38+ messages in thread

* |SUCCESS| pw155457 [PATCH] net/af_xdp: enable AF_XDP program attachm
       [not found] <20250723074249.3264675-1-shivajikant@google.com>
                   ` (20 preceding siblings ...)
  2025-07-23 11:40 ` |PENDING| " dpdklab
@ 2025-07-23 11:48 ` dpdklab
  2025-07-23 11:49 ` |PENDING| " dpdklab
                   ` (15 subsequent siblings)
  37 siblings, 0 replies; 38+ messages in thread
From: dpdklab @ 2025-07-23 11:48 UTC (permalink / raw)
  To: Test Report; +Cc: dpdk-test-reports

Test-Label: iol-intel-Functional
Test-Status: SUCCESS
http://dpdk.org/patch/155457

_Functional Testing PASS_

Submitter: Shivaji Kant <shivajikant@google.com>
Date: Wednesday, July 23 2025 07:42:49 
DPDK git baseline: Repo:dpdk
  Branch: master
  CommitID:b78afde1fed9e11ee5cdce333a1a69dd7a9cf13e

155457 --> functional testing pass

Upstream job id: Template-DTS-Pipeline#237881

Test environment and result as below:

Ubuntu 24.04
Kernel: 6.8
Compiler: gcc gcc (Ubuntu 13.3.0-6ubuntu2~24.04) 13.3.0
NIC: Intel Corporation 4xxx Series QAT 0 Mbps

Aggregate Results by Test Suite
+----------------------------+--------+
|         Test Suite         | Result |
+============================+========+
| crypto_perf_cryptodev_perf |  PASS  |
+----------------------------+--------+


Ubuntu 22.04
Kernel: 5.15
Compiler: gcc gcc (Ubuntu 11.4.0-1ubuntu1~22.04) 11.4.0
NIC: Intel Corporation QAT 8970 0 Mbps

Aggregate Results by Test Suite
+----------------------------+--------+
|         Test Suite         | Result |
+============================+========+
| crypto_perf_cryptodev_perf |  PASS  |
+----------------------------+--------+


Ubuntu 20.04
Kernel: 5.4
Compiler: gcc gcc (Ubuntu 9.4.0-1ubuntu1~20.04.1) 9.4.0
NIC: Intel Corporation Ethernet Converged Network Adapter XL710-QDA2 40000 Mbps

Aggregate Results by Test Suite
+-----------------------------+--------+
|         Test Suite          | Result |
+=============================+========+
| unit_tests_mbuf             |  PASS  |
+-----------------------------+--------+
| vhost_virtio_user_interrupt |  PASS  |
+-----------------------------+--------+
| virtio_smoke                |  PASS  |
+-----------------------------+--------+


To view detailed results, visit:
https://lab.dpdk.org/results/dashboard/patchsets/33735/

UNH-IOL DPDK Community Lab

To manage your email subscriptions, visit: 
https://lab.dpdk.org/results/dashboard/preferences/subscriptions/

^ permalink raw reply	[flat|nested] 38+ messages in thread

* |PENDING| pw155457 [PATCH] net/af_xdp: enable AF_XDP program attachm
       [not found] <20250723074249.3264675-1-shivajikant@google.com>
                   ` (21 preceding siblings ...)
  2025-07-23 11:48 ` |SUCCESS| " dpdklab
@ 2025-07-23 11:49 ` dpdklab
  2025-07-23 12:15 ` |SUCCESS| " dpdklab
                   ` (14 subsequent siblings)
  37 siblings, 0 replies; 38+ messages in thread
From: dpdklab @ 2025-07-23 11:49 UTC (permalink / raw)
  To: Test Report; +Cc: dpdk-test-reports

Test-Label: iol-unit-arm64-testing
Test-Status: PENDING
http://dpdk.org/patch/155457

_Testing pending_

Submitter: Shivaji Kant <shivajikant@google.com>
Date: Wednesday, July 23 2025 07:42:49 
DPDK git baseline: Repo:dpdk
  Branch: master
  CommitID:b78afde1fed9e11ee5cdce333a1a69dd7a9cf13e

155457 --> testing pending

Upstream job id: Aarch32-Unit-Test#7015

Test environment and result as below:

+------------------------------+--------------+------------------------------+---------------------------+----------------+
|         Environment          | lpm_autotest | cryptodev_sw_snow3g_autotest | cryptodev_sw_zuc_autotest | dpdk_unit_test |
+==============================+==============+==============================+===========================+================+
| Ubuntu 20.04                 | PEND         | SKIPPED                      | SKIPPED                   | PEND           |
+------------------------------+--------------+------------------------------+---------------------------+----------------+
| Debian 12 (arm)              | SKIPPED      | PEND                         | PEND                      | SKIPPED        |
+------------------------------+--------------+------------------------------+---------------------------+----------------+
| CentOS Stream 9              | SKIPPED      | SKIPPED                      | SKIPPED                   | PEND           |
+------------------------------+--------------+------------------------------+---------------------------+----------------+
| Fedora Linux 40              | SKIPPED      | SKIPPED                      | SKIPPED                   | PEND           |
+------------------------------+--------------+------------------------------+---------------------------+----------------+
| CentOS Stream 10             | SKIPPED      | SKIPPED                      | SKIPPED                   | PEND           |
+------------------------------+--------------+------------------------------+---------------------------+----------------+
| Red Hat Enterprise Linux 9.5 | SKIPPED      | SKIPPED                      | SKIPPED                   | PEND           |
+------------------------------+--------------+------------------------------+---------------------------+----------------+
| Debian GNU/Linux 12          | SKIPPED      | SKIPPED                      | SKIPPED                   | PEND           |
+------------------------------+--------------+------------------------------+---------------------------+----------------+
| Fedora Linux 41              | SKIPPED      | SKIPPED                      | SKIPPED                   | PEND           |
+------------------------------+--------------+------------------------------+---------------------------+----------------+
| Ubuntu 22.04                 | SKIPPED      | SKIPPED                      | SKIPPED                   | PASS           |
+------------------------------+--------------+------------------------------+---------------------------+----------------+
| Ubuntu 24.04                 | SKIPPED      | SKIPPED                      | SKIPPED                   | PEND           |
+------------------------------+--------------+------------------------------+---------------------------+----------------+


Ubuntu 20.04
	Kernel: 5.4
	Compiler: gcc gcc (Ubuntu 9.4.0-1ubuntu1~20.04.2) 9.4.0

Debian 12 (arm)
	Kernel: Depends on container host
	Compiler: gcc (Debian 12.2.0-14) 12.2.0

CentOS Stream 9
	Kernel: 5.4
	Compiler: gcc gcc (GCC) 11.5.0 20240719 (Red Hat 11.5.0-7)

Fedora Linux 40
	Kernel: 5.4
	Compiler: gcc gcc (GCC) 14.2.1 20240912 (Red Hat 14.2.1-3)

CentOS Stream 10
	Kernel: 5.4
	Compiler: gcc gcc (GCC) 14.2.1 20250110 (Red Hat 14.2.1-8)

Red Hat Enterprise Linux 9.5
	Kernel: 5.4
	Compiler: gcc gcc (GCC) 11.5.0 20240719 (Red Hat 11.5.0-2)

Debian GNU/Linux 12
	Kernel: 5.4
	Compiler: gcc gcc (Debian 12.2.0-14+deb12u1) 12.2.0

Fedora Linux 41
	Kernel: 5.4
	Compiler: gcc gcc (GCC) 14.3.1 20250523 (Red Hat 14.3.1-1)

Ubuntu 22.04
	Kernel: 5.4
	Compiler: gcc gcc (Ubuntu 11.4.0-1ubuntu1~22.04) 11.4.0

Ubuntu 24.04
	Kernel: 5.4
	Compiler: gcc gcc (Ubuntu 13.3.0-6ubuntu2~24.04) 13.3.0

To view detailed results, visit:
https://lab.dpdk.org/results/dashboard/patchsets/33735/

UNH-IOL DPDK Community Lab

To manage your email subscriptions, visit: 
https://lab.dpdk.org/results/dashboard/preferences/subscriptions/

^ permalink raw reply	[flat|nested] 38+ messages in thread

* |SUCCESS| pw155457 [PATCH] net/af_xdp: enable AF_XDP program attachm
       [not found] <20250723074249.3264675-1-shivajikant@google.com>
                   ` (22 preceding siblings ...)
  2025-07-23 11:49 ` |PENDING| " dpdklab
@ 2025-07-23 12:15 ` dpdklab
  2025-07-23 12:15 ` dpdklab
                   ` (13 subsequent siblings)
  37 siblings, 0 replies; 38+ messages in thread
From: dpdklab @ 2025-07-23 12:15 UTC (permalink / raw)
  To: Test Report; +Cc: dpdk-test-reports

Test-Label: iol-unit-amd64-testing
Test-Status: SUCCESS
http://dpdk.org/patch/155457

_Testing PASS_

Submitter: Shivaji Kant <shivajikant@google.com>
Date: Wednesday, July 23 2025 07:42:49 
DPDK git baseline: Repo:dpdk
  Branch: master
  CommitID:b78afde1fed9e11ee5cdce333a1a69dd7a9cf13e

155457 --> testing pass

Upstream job id: Generic-Unit-Test-DPDK#357691

Test environment and result as below:

+-------------------------------+----------------+
|          Environment          | dpdk_unit_test |
+===============================+================+
| CentOS Stream 10              | PASS           |
+-------------------------------+----------------+
| CentOS Stream 9               | PASS           |
+-------------------------------+----------------+
| Debian GNU/Linux 12           | PASS           |
+-------------------------------+----------------+
| Fedora Linux 41               | PASS           |
+-------------------------------+----------------+
| Fedora Linux 40               | PASS           |
+-------------------------------+----------------+
| Ubuntu 20.04                  | PASS           |
+-------------------------------+----------------+
| Red Hat Enterprise Linux 9.5  | PASS           |
+-------------------------------+----------------+
| Red Hat Enterprise Linux 8.10 | PASS           |
+-------------------------------+----------------+
| Ubuntu 22.04                  | PASS           |
+-------------------------------+----------------+
| Ubuntu 24.04                  | PASS           |
+-------------------------------+----------------+


CentOS Stream 10
	Kernel: 5.15
	Compiler: gcc gcc (GCC) 14.2.1 20250110 (Red Hat 14.2.1-8)

CentOS Stream 9
	Kernel: 5.15
	Compiler: gcc gcc (GCC) 11.5.0 20240719 (Red Hat 11.5.0-7)

Debian GNU/Linux 12
	Kernel: 5.15
	Compiler: gcc gcc (Debian 12.2.0-14+deb12u1) 12.2.0

Fedora Linux 41
	Kernel: 5.15
	Compiler: gcc gcc (GCC) 14.3.1 20250523 (Red Hat 14.3.1-1)

Fedora Linux 40
	Kernel: 5.15
	Compiler: clang gcc (GCC) 14.2.1 20240912 (Red Hat 14.2.1-3)

Ubuntu 20.04
	Kernel: 5.15
	Compiler: gcc gcc (Ubuntu 9.4.0-1ubuntu1~20.04.2) 9.4.0

Red Hat Enterprise Linux 9.5
	Kernel: 5.15
	Compiler: gcc gcc (GCC) 11.5.0 20240719 (Red Hat 11.5.0-2)

Red Hat Enterprise Linux 8.10
	Kernel: 5.15
	Compiler: gcc gcc (GCC) 8.5.0 20210514 (Red Hat 8.5.0-22)

Ubuntu 22.04
	Kernel: 5.15
	Compiler: gcc gcc (Ubuntu 11.4.0-1ubuntu1~22.04) 11.4.0

Ubuntu 24.04
	Kernel: 5.15
	Compiler: gcc gcc (Ubuntu 13.3.0-6ubuntu2~24.04) 13.3.0

To view detailed results, visit:
https://lab.dpdk.org/results/dashboard/patchsets/33735/

UNH-IOL DPDK Community Lab

To manage your email subscriptions, visit: 
https://lab.dpdk.org/results/dashboard/preferences/subscriptions/

^ permalink raw reply	[flat|nested] 38+ messages in thread

* |SUCCESS| pw155457 [PATCH] net/af_xdp: enable AF_XDP program attachm
       [not found] <20250723074249.3264675-1-shivajikant@google.com>
                   ` (23 preceding siblings ...)
  2025-07-23 12:15 ` |SUCCESS| " dpdklab
@ 2025-07-23 12:15 ` dpdklab
  2025-07-23 12:21 ` |PENDING| " dpdklab
                   ` (12 subsequent siblings)
  37 siblings, 0 replies; 38+ messages in thread
From: dpdklab @ 2025-07-23 12:15 UTC (permalink / raw)
  To: Test Report; +Cc: dpdk-test-reports

Test-Label: iol-unit-amd64-testing
Test-Status: SUCCESS
http://dpdk.org/patch/155457

_Testing PASS_

Submitter: Shivaji Kant <shivajikant@google.com>
Date: Wednesday, July 23 2025 07:42:49 
DPDK git baseline: Repo:dpdk
  Branch: master
  CommitID:b78afde1fed9e11ee5cdce333a1a69dd7a9cf13e

155457 --> testing pass

Upstream job id: Generic-Unit-Test-DPDK#357707

Test environment and result as below:

+-------------------------------+----------------+
|          Environment          | dpdk_unit_test |
+===============================+================+
| CentOS Stream 10              | PASS           |
+-------------------------------+----------------+
| CentOS Stream 9               | PASS           |
+-------------------------------+----------------+
| Debian GNU/Linux 12           | PASS           |
+-------------------------------+----------------+
| Fedora Linux 41               | PASS           |
+-------------------------------+----------------+
| Fedora Linux 40               | PASS           |
+-------------------------------+----------------+
| Ubuntu 20.04                  | PASS           |
+-------------------------------+----------------+
| Red Hat Enterprise Linux 9.5  | PASS           |
+-------------------------------+----------------+
| Red Hat Enterprise Linux 8.10 | PASS           |
+-------------------------------+----------------+
| Ubuntu 22.04                  | PASS           |
+-------------------------------+----------------+
| Ubuntu 24.04                  | PASS           |
+-------------------------------+----------------+


CentOS Stream 10
	Kernel: 5.15
	Compiler: gcc gcc (GCC) 14.2.1 20250110 (Red Hat 14.2.1-8)

CentOS Stream 9
	Kernel: 5.15
	Compiler: gcc gcc (GCC) 11.5.0 20240719 (Red Hat 11.5.0-7)

Debian GNU/Linux 12
	Kernel: 5.15
	Compiler: gcc gcc (Debian 12.2.0-14+deb12u1) 12.2.0

Fedora Linux 41
	Kernel: 5.15
	Compiler: gcc gcc (GCC) 14.3.1 20250523 (Red Hat 14.3.1-1)

Fedora Linux 40
	Kernel: 5.15
	Compiler: clang gcc (GCC) 14.2.1 20240912 (Red Hat 14.2.1-3)

Ubuntu 20.04
	Kernel: 5.15
	Compiler: gcc gcc (Ubuntu 9.4.0-1ubuntu1~20.04.2) 9.4.0

Red Hat Enterprise Linux 9.5
	Kernel: 5.15
	Compiler: gcc gcc (GCC) 11.5.0 20240719 (Red Hat 11.5.0-2)

Red Hat Enterprise Linux 8.10
	Kernel: 5.15
	Compiler: gcc gcc (GCC) 8.5.0 20210514 (Red Hat 8.5.0-22)

Ubuntu 22.04
	Kernel: 5.15
	Compiler: gcc gcc (Ubuntu 11.4.0-1ubuntu1~22.04) 11.4.0

Ubuntu 24.04
	Kernel: 5.15
	Compiler: gcc gcc (Ubuntu 13.3.0-6ubuntu2~24.04) 13.3.0

To view detailed results, visit:
https://lab.dpdk.org/results/dashboard/patchsets/33735/

UNH-IOL DPDK Community Lab

To manage your email subscriptions, visit: 
https://lab.dpdk.org/results/dashboard/preferences/subscriptions/

^ permalink raw reply	[flat|nested] 38+ messages in thread

* |PENDING| pw155457 [PATCH] net/af_xdp: enable AF_XDP program attachm
       [not found] <20250723074249.3264675-1-shivajikant@google.com>
                   ` (24 preceding siblings ...)
  2025-07-23 12:15 ` dpdklab
@ 2025-07-23 12:21 ` dpdklab
  2025-07-23 12:48 ` dpdklab
                   ` (11 subsequent siblings)
  37 siblings, 0 replies; 38+ messages in thread
From: dpdklab @ 2025-07-23 12:21 UTC (permalink / raw)
  To: Test Report; +Cc: dpdk-test-reports

Test-Label: iol-unit-amd64-testing
Test-Status: PENDING
http://dpdk.org/patch/155457

_Testing pending_

Submitter: Shivaji Kant <shivajikant@google.com>
Date: Wednesday, July 23 2025 07:42:49 
DPDK git baseline: Repo:dpdk
  Branch: master
  CommitID:b78afde1fed9e11ee5cdce333a1a69dd7a9cf13e

155457 --> testing pending

Upstream job id: Generic-Unit-Test-DPDK#357722

Test environment and result as below:

+-------------------------------+----------------+
|          Environment          | dpdk_unit_test |
+===============================+================+
| CentOS Stream 9               | PEND           |
+-------------------------------+----------------+
| CentOS Stream 10              | PEND           |
+-------------------------------+----------------+
| Fedora Linux 40               | PASS           |
+-------------------------------+----------------+
| Fedora Linux 41               | PEND           |
+-------------------------------+----------------+
| Red Hat Enterprise Linux 8.10 | PEND           |
+-------------------------------+----------------+
| Red Hat Enterprise Linux 9.5  | PEND           |
+-------------------------------+----------------+
| Ubuntu 22.04                  | PEND           |
+-------------------------------+----------------+
| Debian GNU/Linux 12           | PEND           |
+-------------------------------+----------------+
| Ubuntu 20.04                  | PEND           |
+-------------------------------+----------------+
| Ubuntu 24.04                  | PEND           |
+-------------------------------+----------------+


CentOS Stream 9
	Kernel: 5.15
	Compiler: gcc gcc (GCC) 11.5.0 20240719 (Red Hat 11.5.0-7)

CentOS Stream 10
	Kernel: 5.15
	Compiler: gcc gcc (GCC) 14.2.1 20250110 (Red Hat 14.2.1-8)

Fedora Linux 40
	Kernel: 5.15
	Compiler: clang gcc (GCC) 14.2.1 20240912 (Red Hat 14.2.1-3)

Fedora Linux 41
	Kernel: 5.15
	Compiler: gcc gcc (GCC) 14.3.1 20250523 (Red Hat 14.3.1-1)

Red Hat Enterprise Linux 8.10
	Kernel: 5.15
	Compiler: gcc gcc (GCC) 8.5.0 20210514 (Red Hat 8.5.0-22)

Red Hat Enterprise Linux 9.5
	Kernel: 5.15
	Compiler: gcc gcc (GCC) 11.5.0 20240719 (Red Hat 11.5.0-2)

Ubuntu 22.04
	Kernel: 5.15
	Compiler: gcc gcc (Ubuntu 11.4.0-1ubuntu1~22.04) 11.4.0

Debian GNU/Linux 12
	Kernel: 5.15
	Compiler: gcc gcc (Debian 12.2.0-14+deb12u1) 12.2.0

Ubuntu 20.04
	Kernel: 5.15
	Compiler: gcc gcc (Ubuntu 9.4.0-1ubuntu1~20.04.2) 9.4.0

Ubuntu 24.04
	Kernel: 5.15
	Compiler: gcc gcc (Ubuntu 13.3.0-6ubuntu2~24.04) 13.3.0

To view detailed results, visit:
https://lab.dpdk.org/results/dashboard/patchsets/33735/

UNH-IOL DPDK Community Lab

To manage your email subscriptions, visit: 
https://lab.dpdk.org/results/dashboard/preferences/subscriptions/

^ permalink raw reply	[flat|nested] 38+ messages in thread

* |PENDING| pw155457 [PATCH] net/af_xdp: enable AF_XDP program attachm
       [not found] <20250723074249.3264675-1-shivajikant@google.com>
                   ` (25 preceding siblings ...)
  2025-07-23 12:21 ` |PENDING| " dpdklab
@ 2025-07-23 12:48 ` dpdklab
  2025-07-23 13:04 ` |SUCCESS| " dpdklab
                   ` (10 subsequent siblings)
  37 siblings, 0 replies; 38+ messages in thread
From: dpdklab @ 2025-07-23 12:48 UTC (permalink / raw)
  To: Test Report; +Cc: dpdk-test-reports

Test-Label: iol-abi-testing
Test-Status: PENDING
http://dpdk.org/patch/155457

_Testing pending_

Submitter: Shivaji Kant <shivajikant@google.com>
Date: Wednesday, July 23 2025 07:42:49 
DPDK git baseline: Repo:dpdk
  Branch: master
  CommitID:b78afde1fed9e11ee5cdce333a1a69dd7a9cf13e

155457 --> testing pending

Upstream job id: Generic-DPDK-Compile-ABI#135469

Test environment and result as below:

+-------------------------------+----------+
|          Environment          | abi_test |
+===============================+==========+
| CentOS Stream 9               | PEND     |
+-------------------------------+----------+
| CentOS Stream 10              | PEND     |
+-------------------------------+----------+
| Debian GNU/Linux 12           | PEND     |
+-------------------------------+----------+
| Fedora Linux 40               | PEND     |
+-------------------------------+----------+
| openSUSE Leap 15.6            | PASS     |
+-------------------------------+----------+
| Fedora Linux 41               | PEND     |
+-------------------------------+----------+
| Red Hat Enterprise Linux 8.10 | PEND     |
+-------------------------------+----------+
| Red Hat Enterprise Linux 9.5  | PEND     |
+-------------------------------+----------+
| Ubuntu 22.04                  | PEND     |
+-------------------------------+----------+
| Ubuntu 24.04                  | PEND     |
+-------------------------------+----------+


CentOS Stream 9
	Kernel: 5.15
	Compiler: gcc gcc (GCC) 11.5.0 20240719 (Red Hat 11.5.0-7)

CentOS Stream 10
	Kernel: 5.15
	Compiler: gcc gcc (GCC) 14.2.1 20250110 (Red Hat 14.2.1-8)

Debian GNU/Linux 12
	Kernel: 5.15
	Compiler: gcc gcc (Debian 12.2.0-14+deb12u1) 12.2.0

Fedora Linux 40
	Kernel: 5.15
	Compiler: clang gcc (GCC) 14.2.1 20240912 (Red Hat 14.2.1-3)

openSUSE Leap 15.6
	Kernel: 5.15
	Compiler: gcc gcc (SUSE Linux) 7.5.0

Fedora Linux 41
	Kernel: 5.15
	Compiler: clang gcc (GCC) 14.3.1 20250523 (Red Hat 14.3.1-1)

Red Hat Enterprise Linux 8.10
	Kernel: 5.15
	Compiler: gcc gcc (GCC) 8.5.0 20210514 (Red Hat 8.5.0-22)

Red Hat Enterprise Linux 9.5
	Kernel: 5.15
	Compiler: gcc gcc (GCC) 11.5.0 20240719 (Red Hat 11.5.0-2)

Ubuntu 22.04
	Kernel: 5.15
	Compiler: gcc gcc (Ubuntu 11.4.0-1ubuntu1~22.04) 11.4.0

Ubuntu 24.04
	Kernel: 5.15
	Compiler: gcc gcc (Ubuntu 13.3.0-6ubuntu2~24.04) 13.3.0

To view detailed results, visit:
https://lab.dpdk.org/results/dashboard/patchsets/33735/

UNH-IOL DPDK Community Lab

To manage your email subscriptions, visit: 
https://lab.dpdk.org/results/dashboard/preferences/subscriptions/

^ permalink raw reply	[flat|nested] 38+ messages in thread

* |SUCCESS| pw155457 [PATCH] net/af_xdp: enable AF_XDP program attachm
       [not found] <20250723074249.3264675-1-shivajikant@google.com>
                   ` (26 preceding siblings ...)
  2025-07-23 12:48 ` dpdklab
@ 2025-07-23 13:04 ` dpdklab
  2025-07-23 13:20 ` dpdklab
                   ` (9 subsequent siblings)
  37 siblings, 0 replies; 38+ messages in thread
From: dpdklab @ 2025-07-23 13:04 UTC (permalink / raw)
  To: Test Report; +Cc: dpdk-test-reports

Test-Label: iol-unit-amd64-testing
Test-Status: SUCCESS
http://dpdk.org/patch/155457

_Testing PASS_

Submitter: Shivaji Kant <shivajikant@google.com>
Date: Wednesday, July 23 2025 07:42:49 
DPDK git baseline: Repo:dpdk
  Branch: master
  CommitID:b78afde1fed9e11ee5cdce333a1a69dd7a9cf13e

155457 --> testing pass

Upstream job id: Generic-Unit-Test-DPDK#357728

Test environment and result as below:

+-------------------------------+----------------+
|          Environment          | dpdk_unit_test |
+===============================+================+
| CentOS Stream 9               | PASS           |
+-------------------------------+----------------+
| CentOS Stream 10              | PASS           |
+-------------------------------+----------------+
| Fedora Linux 40               | PASS           |
+-------------------------------+----------------+
| Fedora Linux 41               | PASS           |
+-------------------------------+----------------+
| Red Hat Enterprise Linux 8.10 | PASS           |
+-------------------------------+----------------+
| Red Hat Enterprise Linux 9.5  | PASS           |
+-------------------------------+----------------+
| Ubuntu 22.04                  | PASS           |
+-------------------------------+----------------+
| Debian GNU/Linux 12           | PASS           |
+-------------------------------+----------------+
| Ubuntu 20.04                  | PASS           |
+-------------------------------+----------------+
| Ubuntu 24.04                  | PASS           |
+-------------------------------+----------------+


CentOS Stream 9
	Kernel: 5.15
	Compiler: gcc gcc (GCC) 11.5.0 20240719 (Red Hat 11.5.0-7)

CentOS Stream 10
	Kernel: 5.15
	Compiler: gcc gcc (GCC) 14.2.1 20250110 (Red Hat 14.2.1-8)

Fedora Linux 40
	Kernel: 5.15
	Compiler: clang gcc (GCC) 14.2.1 20240912 (Red Hat 14.2.1-3)

Fedora Linux 41
	Kernel: 5.15
	Compiler: gcc gcc (GCC) 14.3.1 20250523 (Red Hat 14.3.1-1)

Red Hat Enterprise Linux 8.10
	Kernel: 5.15
	Compiler: gcc gcc (GCC) 8.5.0 20210514 (Red Hat 8.5.0-22)

Red Hat Enterprise Linux 9.5
	Kernel: 5.15
	Compiler: gcc gcc (GCC) 11.5.0 20240719 (Red Hat 11.5.0-2)

Ubuntu 22.04
	Kernel: 5.15
	Compiler: gcc gcc (Ubuntu 11.4.0-1ubuntu1~22.04) 11.4.0

Debian GNU/Linux 12
	Kernel: 5.15
	Compiler: gcc gcc (Debian 12.2.0-14+deb12u1) 12.2.0

Ubuntu 20.04
	Kernel: 5.15
	Compiler: gcc gcc (Ubuntu 9.4.0-1ubuntu1~20.04.2) 9.4.0

Ubuntu 24.04
	Kernel: 5.15
	Compiler: gcc gcc (Ubuntu 13.3.0-6ubuntu2~24.04) 13.3.0

To view detailed results, visit:
https://lab.dpdk.org/results/dashboard/patchsets/33735/

UNH-IOL DPDK Community Lab

To manage your email subscriptions, visit: 
https://lab.dpdk.org/results/dashboard/preferences/subscriptions/

^ permalink raw reply	[flat|nested] 38+ messages in thread

* |SUCCESS| pw155457 [PATCH] net/af_xdp: enable AF_XDP program attachm
       [not found] <20250723074249.3264675-1-shivajikant@google.com>
                   ` (27 preceding siblings ...)
  2025-07-23 13:04 ` |SUCCESS| " dpdklab
@ 2025-07-23 13:20 ` dpdklab
  2025-07-23 13:35 ` dpdklab
                   ` (8 subsequent siblings)
  37 siblings, 0 replies; 38+ messages in thread
From: dpdklab @ 2025-07-23 13:20 UTC (permalink / raw)
  To: Test Report; +Cc: dpdk-test-reports

Test-Label: iol-unit-amd64-testing
Test-Status: SUCCESS
http://dpdk.org/patch/155457

_Testing PASS_

Submitter: Shivaji Kant <shivajikant@google.com>
Date: Wednesday, July 23 2025 07:42:49 
DPDK git baseline: Repo:dpdk
  Branch: master
  CommitID:b78afde1fed9e11ee5cdce333a1a69dd7a9cf13e

155457 --> testing pass

Upstream job id: Generic-VM-Unit-Test-DPDK#30130

Test environment and result as below:

+-------------------------------+----------------+
|          Environment          | dpdk_unit_test |
+===============================+================+
| CentOS Stream 10              | PASS           |
+-------------------------------+----------------+
| CentOS Stream 9               | PASS           |
+-------------------------------+----------------+
| Debian GNU/Linux 12           | PASS           |
+-------------------------------+----------------+
| Fedora Linux 41               | PASS           |
+-------------------------------+----------------+
| Fedora Linux 40               | PASS           |
+-------------------------------+----------------+
| Ubuntu 20.04                  | PASS           |
+-------------------------------+----------------+
| Red Hat Enterprise Linux 9.5  | PASS           |
+-------------------------------+----------------+
| Red Hat Enterprise Linux 8.10 | PASS           |
+-------------------------------+----------------+
| Ubuntu 22.04                  | PASS           |
+-------------------------------+----------------+
| Ubuntu 24.04                  | PASS           |
+-------------------------------+----------------+
| Windows Server 2022           | PASS           |
+-------------------------------+----------------+


CentOS Stream 10
	Kernel: 5.15
	Compiler: gcc gcc (GCC) 14.2.1 20250110 (Red Hat 14.2.1-8)

CentOS Stream 9
	Kernel: 5.15
	Compiler: gcc gcc (GCC) 11.5.0 20240719 (Red Hat 11.5.0-7)

Debian GNU/Linux 12
	Kernel: 5.15
	Compiler: gcc gcc (Debian 12.2.0-14+deb12u1) 12.2.0

Fedora Linux 41
	Kernel: 5.15
	Compiler: gcc gcc (GCC) 14.3.1 20250523 (Red Hat 14.3.1-1)

Fedora Linux 40
	Kernel: 5.15
	Compiler: clang gcc (GCC) 14.2.1 20240912 (Red Hat 14.2.1-3)

Ubuntu 20.04
	Kernel: 5.15
	Compiler: gcc gcc (Ubuntu 9.4.0-1ubuntu1~20.04.2) 9.4.0

Red Hat Enterprise Linux 9.5
	Kernel: 5.15
	Compiler: gcc gcc (GCC) 11.5.0 20240719 (Red Hat 11.5.0-2)

Red Hat Enterprise Linux 8.10
	Kernel: 5.15
	Compiler: gcc gcc (GCC) 8.5.0 20210514 (Red Hat 8.5.0-22)

Ubuntu 22.04
	Kernel: 5.15
	Compiler: gcc gcc (Ubuntu 11.4.0-1ubuntu1~22.04) 11.4.0

Ubuntu 24.04
	Kernel: 5.15
	Compiler: gcc gcc (Ubuntu 13.3.0-6ubuntu2~24.04) 13.3.0

Windows Server 2022
	Kernel: 10.0.20348.2031
	Compiler: clang 15.0.7, gcc 14.1.0 (MinGW), and MSVC VS 19.39.33521

To view detailed results, visit:
https://lab.dpdk.org/results/dashboard/patchsets/33735/

UNH-IOL DPDK Community Lab

To manage your email subscriptions, visit: 
https://lab.dpdk.org/results/dashboard/preferences/subscriptions/

^ permalink raw reply	[flat|nested] 38+ messages in thread

* |SUCCESS| pw155457 [PATCH] net/af_xdp: enable AF_XDP program attachm
       [not found] <20250723074249.3264675-1-shivajikant@google.com>
                   ` (28 preceding siblings ...)
  2025-07-23 13:20 ` dpdklab
@ 2025-07-23 13:35 ` dpdklab
  2025-07-23 14:00 ` dpdklab
                   ` (7 subsequent siblings)
  37 siblings, 0 replies; 38+ messages in thread
From: dpdklab @ 2025-07-23 13:35 UTC (permalink / raw)
  To: Test Report; +Cc: dpdk-test-reports

Test-Label: iol-unit-amd64-testing
Test-Status: SUCCESS
http://dpdk.org/patch/155457

_Testing PASS_

Submitter: Shivaji Kant <shivajikant@google.com>
Date: Wednesday, July 23 2025 07:42:49 
DPDK git baseline: Repo:dpdk
  Branch: master
  CommitID:b78afde1fed9e11ee5cdce333a1a69dd7a9cf13e

155457 --> testing pass

Upstream job id: Generic-VM-Unit-Test-DPDK#30131

Test environment and result as below:

+-------------------------------+----------------+
|          Environment          | dpdk_unit_test |
+===============================+================+
| CentOS Stream 10              | PASS           |
+-------------------------------+----------------+
| CentOS Stream 9               | PASS           |
+-------------------------------+----------------+
| Debian GNU/Linux 12           | PASS           |
+-------------------------------+----------------+
| Fedora Linux 41               | PASS           |
+-------------------------------+----------------+
| Fedora Linux 40               | PASS           |
+-------------------------------+----------------+
| Ubuntu 20.04                  | PASS           |
+-------------------------------+----------------+
| Red Hat Enterprise Linux 9.5  | PASS           |
+-------------------------------+----------------+
| Red Hat Enterprise Linux 8.10 | PASS           |
+-------------------------------+----------------+
| Ubuntu 22.04                  | PASS           |
+-------------------------------+----------------+
| Ubuntu 24.04                  | PASS           |
+-------------------------------+----------------+
| Windows Server 2022           | PASS           |
+-------------------------------+----------------+


CentOS Stream 10
	Kernel: 5.15
	Compiler: gcc gcc (GCC) 14.2.1 20250110 (Red Hat 14.2.1-8)

CentOS Stream 9
	Kernel: 5.15
	Compiler: gcc gcc (GCC) 11.5.0 20240719 (Red Hat 11.5.0-7)

Debian GNU/Linux 12
	Kernel: 5.15
	Compiler: gcc gcc (Debian 12.2.0-14+deb12u1) 12.2.0

Fedora Linux 41
	Kernel: 5.15
	Compiler: gcc gcc (GCC) 14.3.1 20250523 (Red Hat 14.3.1-1)

Fedora Linux 40
	Kernel: 5.15
	Compiler: clang gcc (GCC) 14.2.1 20240912 (Red Hat 14.2.1-3)

Ubuntu 20.04
	Kernel: 5.15
	Compiler: gcc gcc (Ubuntu 9.4.0-1ubuntu1~20.04.2) 9.4.0

Red Hat Enterprise Linux 9.5
	Kernel: 5.15
	Compiler: gcc gcc (GCC) 11.5.0 20240719 (Red Hat 11.5.0-2)

Red Hat Enterprise Linux 8.10
	Kernel: 5.15
	Compiler: gcc gcc (GCC) 8.5.0 20210514 (Red Hat 8.5.0-22)

Ubuntu 22.04
	Kernel: 5.15
	Compiler: gcc gcc (Ubuntu 11.4.0-1ubuntu1~22.04) 11.4.0

Ubuntu 24.04
	Kernel: 5.15
	Compiler: gcc gcc (Ubuntu 13.3.0-6ubuntu2~24.04) 13.3.0

Windows Server 2022
	Kernel: 10.0.20348.2031
	Compiler: clang 15.0.7, gcc 14.1.0 (MinGW), and MSVC VS 19.39.33521

To view detailed results, visit:
https://lab.dpdk.org/results/dashboard/patchsets/33735/

UNH-IOL DPDK Community Lab

To manage your email subscriptions, visit: 
https://lab.dpdk.org/results/dashboard/preferences/subscriptions/

^ permalink raw reply	[flat|nested] 38+ messages in thread

* |SUCCESS| pw155457 [PATCH] net/af_xdp: enable AF_XDP program attachm
       [not found] <20250723074249.3264675-1-shivajikant@google.com>
                   ` (29 preceding siblings ...)
  2025-07-23 13:35 ` dpdklab
@ 2025-07-23 14:00 ` dpdklab
  2025-07-23 14:01 ` dpdklab
                   ` (6 subsequent siblings)
  37 siblings, 0 replies; 38+ messages in thread
From: dpdklab @ 2025-07-23 14:00 UTC (permalink / raw)
  To: Test Report; +Cc: dpdk-test-reports

Test-Label: iol-abi-testing
Test-Status: SUCCESS
http://dpdk.org/patch/155457

_Testing PASS_

Submitter: Shivaji Kant <shivajikant@google.com>
Date: Wednesday, July 23 2025 07:42:49 
DPDK git baseline: Repo:dpdk
  Branch: master
  CommitID:b78afde1fed9e11ee5cdce333a1a69dd7a9cf13e

155457 --> testing pass

Upstream job id: Generic-DPDK-Compile-ABI#135473

Test environment and result as below:

+-------------------------------+----------+
|          Environment          | abi_test |
+===============================+==========+
| CentOS Stream 9               | PASS     |
+-------------------------------+----------+
| CentOS Stream 10              | PASS     |
+-------------------------------+----------+
| Debian GNU/Linux 12           | PASS     |
+-------------------------------+----------+
| Fedora Linux 40               | PASS     |
+-------------------------------+----------+
| openSUSE Leap 15.6            | PASS     |
+-------------------------------+----------+
| Fedora Linux 41               | PASS     |
+-------------------------------+----------+
| Red Hat Enterprise Linux 8.10 | PASS     |
+-------------------------------+----------+
| Red Hat Enterprise Linux 9.5  | PASS     |
+-------------------------------+----------+
| Ubuntu 22.04                  | PASS     |
+-------------------------------+----------+
| Ubuntu 24.04                  | PASS     |
+-------------------------------+----------+


CentOS Stream 9
	Kernel: 5.15
	Compiler: gcc gcc (GCC) 11.5.0 20240719 (Red Hat 11.5.0-7)

CentOS Stream 10
	Kernel: 5.15
	Compiler: gcc gcc (GCC) 14.2.1 20250110 (Red Hat 14.2.1-8)

Debian GNU/Linux 12
	Kernel: 5.15
	Compiler: gcc gcc (Debian 12.2.0-14+deb12u1) 12.2.0

Fedora Linux 40
	Kernel: 5.15
	Compiler: clang gcc (GCC) 14.2.1 20240912 (Red Hat 14.2.1-3)

openSUSE Leap 15.6
	Kernel: 5.15
	Compiler: gcc gcc (SUSE Linux) 7.5.0

Fedora Linux 41
	Kernel: 5.15
	Compiler: clang gcc (GCC) 14.3.1 20250523 (Red Hat 14.3.1-1)

Red Hat Enterprise Linux 8.10
	Kernel: 5.15
	Compiler: gcc gcc (GCC) 8.5.0 20210514 (Red Hat 8.5.0-22)

Red Hat Enterprise Linux 9.5
	Kernel: 5.15
	Compiler: gcc gcc (GCC) 11.5.0 20240719 (Red Hat 11.5.0-2)

Ubuntu 22.04
	Kernel: 5.15
	Compiler: gcc gcc (Ubuntu 11.4.0-1ubuntu1~22.04) 11.4.0

Ubuntu 24.04
	Kernel: 5.15
	Compiler: gcc gcc (Ubuntu 13.3.0-6ubuntu2~24.04) 13.3.0

To view detailed results, visit:
https://lab.dpdk.org/results/dashboard/patchsets/33735/

UNH-IOL DPDK Community Lab

To manage your email subscriptions, visit: 
https://lab.dpdk.org/results/dashboard/preferences/subscriptions/

^ permalink raw reply	[flat|nested] 38+ messages in thread

* |SUCCESS| pw155457 [PATCH] net/af_xdp: enable AF_XDP program attachm
       [not found] <20250723074249.3264675-1-shivajikant@google.com>
                   ` (30 preceding siblings ...)
  2025-07-23 14:00 ` dpdklab
@ 2025-07-23 14:01 ` dpdklab
  2025-07-23 14:35 ` dpdklab
                   ` (5 subsequent siblings)
  37 siblings, 0 replies; 38+ messages in thread
From: dpdklab @ 2025-07-23 14:01 UTC (permalink / raw)
  To: Test Report; +Cc: dpdk-test-reports

Test-Label: iol-unit-amd64-testing
Test-Status: SUCCESS
http://dpdk.org/patch/155457

_Testing PASS_

Submitter: Shivaji Kant <shivajikant@google.com>
Date: Wednesday, July 23 2025 07:42:49 
DPDK git baseline: Repo:dpdk
  Branch: master
  CommitID:b78afde1fed9e11ee5cdce333a1a69dd7a9cf13e

155457 --> testing pass

Upstream job id: Generic-VM-Unit-Test-DPDK#30132

Test environment and result as below:

+-------------------------------+----------------+
|          Environment          | dpdk_unit_test |
+===============================+================+
| CentOS Stream 9               | PASS           |
+-------------------------------+----------------+
| CentOS Stream 10              | PASS           |
+-------------------------------+----------------+
| Fedora Linux 40               | PASS           |
+-------------------------------+----------------+
| Fedora Linux 41               | PASS           |
+-------------------------------+----------------+
| Red Hat Enterprise Linux 8.10 | PASS           |
+-------------------------------+----------------+
| Red Hat Enterprise Linux 9.5  | PASS           |
+-------------------------------+----------------+
| Ubuntu 22.04                  | PASS           |
+-------------------------------+----------------+
| Debian GNU/Linux 12           | PASS           |
+-------------------------------+----------------+
| Ubuntu 20.04                  | PASS           |
+-------------------------------+----------------+
| Ubuntu 24.04                  | PASS           |
+-------------------------------+----------------+
| Windows Server 2022           | PASS           |
+-------------------------------+----------------+


CentOS Stream 9
	Kernel: 5.15
	Compiler: gcc gcc (GCC) 11.5.0 20240719 (Red Hat 11.5.0-7)

CentOS Stream 10
	Kernel: 5.15
	Compiler: gcc gcc (GCC) 14.2.1 20250110 (Red Hat 14.2.1-8)

Fedora Linux 40
	Kernel: 5.15
	Compiler: clang gcc (GCC) 14.2.1 20240912 (Red Hat 14.2.1-3)

Fedora Linux 41
	Kernel: 5.15
	Compiler: gcc gcc (GCC) 14.3.1 20250523 (Red Hat 14.3.1-1)

Red Hat Enterprise Linux 8.10
	Kernel: 5.15
	Compiler: gcc gcc (GCC) 8.5.0 20210514 (Red Hat 8.5.0-22)

Red Hat Enterprise Linux 9.5
	Kernel: 5.15
	Compiler: gcc gcc (GCC) 11.5.0 20240719 (Red Hat 11.5.0-2)

Ubuntu 22.04
	Kernel: 5.15
	Compiler: gcc gcc (Ubuntu 11.4.0-1ubuntu1~22.04) 11.4.0

Debian GNU/Linux 12
	Kernel: 5.15
	Compiler: gcc gcc (Debian 12.2.0-14+deb12u1) 12.2.0

Ubuntu 20.04
	Kernel: 5.15
	Compiler: gcc gcc (Ubuntu 9.4.0-1ubuntu1~20.04.2) 9.4.0

Ubuntu 24.04
	Kernel: 5.15
	Compiler: gcc gcc (Ubuntu 13.3.0-6ubuntu2~24.04) 13.3.0

Windows Server 2022
	Kernel: 10.0.20348.2031
	Compiler: clang 15.0.7, gcc 14.1.0 (MinGW), and MSVC VS 19.39.33521

To view detailed results, visit:
https://lab.dpdk.org/results/dashboard/patchsets/33735/

UNH-IOL DPDK Community Lab

To manage your email subscriptions, visit: 
https://lab.dpdk.org/results/dashboard/preferences/subscriptions/

^ permalink raw reply	[flat|nested] 38+ messages in thread

* |SUCCESS| pw155457 [PATCH] net/af_xdp: enable AF_XDP program attachm
       [not found] <20250723074249.3264675-1-shivajikant@google.com>
                   ` (31 preceding siblings ...)
  2025-07-23 14:01 ` dpdklab
@ 2025-07-23 14:35 ` dpdklab
  2025-07-23 14:46 ` dpdklab
                   ` (4 subsequent siblings)
  37 siblings, 0 replies; 38+ messages in thread
From: dpdklab @ 2025-07-23 14:35 UTC (permalink / raw)
  To: Test Report; +Cc: dpdk-test-reports

Test-Label: iol-unit-amd64-testing
Test-Status: SUCCESS
http://dpdk.org/patch/155457

_Testing PASS_

Submitter: Shivaji Kant <shivajikant@google.com>
Date: Wednesday, July 23 2025 07:42:49 
DPDK git baseline: Repo:dpdk
  Branch: master
  CommitID:b78afde1fed9e11ee5cdce333a1a69dd7a9cf13e

155457 --> testing pass

Upstream job id: Generic-VM-Unit-Test-DPDK#30133

Test environment and result as below:

+-------------------------------+----------------+
|          Environment          | dpdk_unit_test |
+===============================+================+
| CentOS Stream 9               | PASS           |
+-------------------------------+----------------+
| CentOS Stream 10              | PASS           |
+-------------------------------+----------------+
| Fedora Linux 40               | PASS           |
+-------------------------------+----------------+
| Fedora Linux 41               | PASS           |
+-------------------------------+----------------+
| Red Hat Enterprise Linux 8.10 | PASS           |
+-------------------------------+----------------+
| Red Hat Enterprise Linux 9.5  | PASS           |
+-------------------------------+----------------+
| Ubuntu 22.04                  | PASS           |
+-------------------------------+----------------+
| Debian GNU/Linux 12           | PASS           |
+-------------------------------+----------------+
| Ubuntu 20.04                  | PASS           |
+-------------------------------+----------------+
| Ubuntu 24.04                  | PASS           |
+-------------------------------+----------------+
| Windows Server 2022           | PASS           |
+-------------------------------+----------------+


CentOS Stream 9
	Kernel: 5.15
	Compiler: gcc gcc (GCC) 11.5.0 20240719 (Red Hat 11.5.0-7)

CentOS Stream 10
	Kernel: 5.15
	Compiler: gcc gcc (GCC) 14.2.1 20250110 (Red Hat 14.2.1-8)

Fedora Linux 40
	Kernel: 5.15
	Compiler: clang gcc (GCC) 14.2.1 20240912 (Red Hat 14.2.1-3)

Fedora Linux 41
	Kernel: 5.15
	Compiler: gcc gcc (GCC) 14.3.1 20250523 (Red Hat 14.3.1-1)

Red Hat Enterprise Linux 8.10
	Kernel: 5.15
	Compiler: gcc gcc (GCC) 8.5.0 20210514 (Red Hat 8.5.0-22)

Red Hat Enterprise Linux 9.5
	Kernel: 5.15
	Compiler: gcc gcc (GCC) 11.5.0 20240719 (Red Hat 11.5.0-2)

Ubuntu 22.04
	Kernel: 5.15
	Compiler: gcc gcc (Ubuntu 11.4.0-1ubuntu1~22.04) 11.4.0

Debian GNU/Linux 12
	Kernel: 5.15
	Compiler: gcc gcc (Debian 12.2.0-14+deb12u1) 12.2.0

Ubuntu 20.04
	Kernel: 5.15
	Compiler: gcc gcc (Ubuntu 9.4.0-1ubuntu1~20.04.2) 9.4.0

Ubuntu 24.04
	Kernel: 5.15
	Compiler: gcc gcc (Ubuntu 13.3.0-6ubuntu2~24.04) 13.3.0

Windows Server 2022
	Kernel: 10.0.20348.2031
	Compiler: clang 15.0.7, gcc 14.1.0 (MinGW), and MSVC VS 19.39.33521

To view detailed results, visit:
https://lab.dpdk.org/results/dashboard/patchsets/33735/

UNH-IOL DPDK Community Lab

To manage your email subscriptions, visit: 
https://lab.dpdk.org/results/dashboard/preferences/subscriptions/

^ permalink raw reply	[flat|nested] 38+ messages in thread

* |SUCCESS| pw155457 [PATCH] net/af_xdp: enable AF_XDP program attachm
       [not found] <20250723074249.3264675-1-shivajikant@google.com>
                   ` (32 preceding siblings ...)
  2025-07-23 14:35 ` dpdklab
@ 2025-07-23 14:46 ` dpdklab
  2025-07-23 15:39 ` |PENDING| " dpdklab
                   ` (3 subsequent siblings)
  37 siblings, 0 replies; 38+ messages in thread
From: dpdklab @ 2025-07-23 14:46 UTC (permalink / raw)
  To: Test Report; +Cc: dpdk-test-reports

Test-Label: iol-abi-testing
Test-Status: SUCCESS
http://dpdk.org/patch/155457

_Testing PASS_

Submitter: Shivaji Kant <shivajikant@google.com>
Date: Wednesday, July 23 2025 07:42:49 
DPDK git baseline: Repo:dpdk
  Branch: master
  CommitID:b78afde1fed9e11ee5cdce333a1a69dd7a9cf13e

155457 --> testing pass

Upstream job id: Generic-DPDK-Compile-ABI#135483

Test environment and result as below:

+-------------------------------+----------+
|          Environment          | abi_test |
+===============================+==========+
| CentOS Stream 9               | PASS     |
+-------------------------------+----------+
| Fedora Linux 40               | PASS     |
+-------------------------------+----------+
| CentOS Stream 10              | PASS     |
+-------------------------------+----------+
| Debian GNU/Linux 12           | PASS     |
+-------------------------------+----------+
| openSUSE Leap 15.6            | PASS     |
+-------------------------------+----------+
| Ubuntu 24.04                  | PASS     |
+-------------------------------+----------+
| Fedora Linux 41               | PASS     |
+-------------------------------+----------+
| Ubuntu 22.04                  | PASS     |
+-------------------------------+----------+
| Red Hat Enterprise Linux 9.5  | PASS     |
+-------------------------------+----------+
| Red Hat Enterprise Linux 8.10 | PASS     |
+-------------------------------+----------+


CentOS Stream 9
	Kernel: 5.15
	Compiler: gcc gcc (GCC) 11.5.0 20240719 (Red Hat 11.5.0-7)

Fedora Linux 40
	Kernel: 5.15
	Compiler: clang gcc (GCC) 14.2.1 20240912 (Red Hat 14.2.1-3)

CentOS Stream 10
	Kernel: 5.15
	Compiler: gcc gcc (GCC) 14.2.1 20250110 (Red Hat 14.2.1-8)

Debian GNU/Linux 12
	Kernel: 5.15
	Compiler: gcc gcc (Debian 12.2.0-14+deb12u1) 12.2.0

openSUSE Leap 15.6
	Kernel: 5.15
	Compiler: gcc gcc (SUSE Linux) 7.5.0

Ubuntu 24.04
	Kernel: 5.15
	Compiler: gcc gcc (Ubuntu 13.3.0-6ubuntu2~24.04) 13.3.0

Fedora Linux 41
	Kernel: 5.15
	Compiler: gcc gcc (GCC) 14.3.1 20250523 (Red Hat 14.3.1-1)

Ubuntu 22.04
	Kernel: 5.15
	Compiler: gcc gcc (Ubuntu 11.4.0-1ubuntu1~22.04) 11.4.0

Red Hat Enterprise Linux 9.5
	Kernel: 5.15
	Compiler: gcc gcc (GCC) 11.5.0 20240719 (Red Hat 11.5.0-2)

Red Hat Enterprise Linux 8.10
	Kernel: 5.15
	Compiler: gcc gcc (GCC) 8.5.0 20210514 (Red Hat 8.5.0-22)

To view detailed results, visit:
https://lab.dpdk.org/results/dashboard/patchsets/33735/

UNH-IOL DPDK Community Lab

To manage your email subscriptions, visit: 
https://lab.dpdk.org/results/dashboard/preferences/subscriptions/

^ permalink raw reply	[flat|nested] 38+ messages in thread

* |PENDING| pw155457 [PATCH] net/af_xdp: enable AF_XDP program attachm
       [not found] <20250723074249.3264675-1-shivajikant@google.com>
                   ` (33 preceding siblings ...)
  2025-07-23 14:46 ` dpdklab
@ 2025-07-23 15:39 ` dpdklab
  2025-07-23 15:58 ` dpdklab
                   ` (2 subsequent siblings)
  37 siblings, 0 replies; 38+ messages in thread
From: dpdklab @ 2025-07-23 15:39 UTC (permalink / raw)
  To: Test Report; +Cc: dpdk-test-reports

Test-Label: iol-compile-arm64-testing
Test-Status: PENDING
http://dpdk.org/patch/155457

_Testing pending_

Submitter: Shivaji Kant <shivajikant@google.com>
Date: Wednesday, July 23 2025 07:42:49 
DPDK git baseline: Repo:dpdk
  Branch: master
  CommitID:b78afde1fed9e11ee5cdce333a1a69dd7a9cf13e

155457 --> testing pending

Upstream job id: Generic-DPDK-Compile-Meson#411523

Test environment and result as below:

+------------------------------+--------------------+
|         Environment          | dpdk_meson_compile |
+==============================+====================+
| Red Hat Enterprise Linux 9.5 | PEND               |
+------------------------------+--------------------+
| Ubuntu 20.04                 | PEND               |
+------------------------------+--------------------+
| Debian GNU/Linux 12          | PEND               |
+------------------------------+--------------------+
| Fedora Linux 40              | PEND               |
+------------------------------+--------------------+
| Fedora Linux 41              | PEND               |
+------------------------------+--------------------+
| Ubuntu 22.04                 | PEND               |
+------------------------------+--------------------+
| Ubuntu 24.04                 | PEND               |
+------------------------------+--------------------+
| CentOS Stream 9              | PEND               |
+------------------------------+--------------------+
| CentOS Stream 10             | PEND               |
+------------------------------+--------------------+


Red Hat Enterprise Linux 9.5
	Kernel: 5.4
	Compiler: gcc gcc (GCC) 11.5.0 20240719 (Red Hat 11.5.0-2)

Ubuntu 20.04
	Kernel: 5.15
	Compiler: aarch64-linux-gnu-gcc gcc (Ubuntu 9.4.0-1ubuntu1~20.04.2) 9.4.0

Debian GNU/Linux 12
	Kernel: 5.4
	Compiler: gcc gcc (Debian 12.2.0-14+deb12u1) 12.2.0

Fedora Linux 40
	Kernel: 5.4
	Compiler: gcc gcc (GCC) 14.2.1 20240912 (Red Hat 14.2.1-3)

Fedora Linux 41
	Kernel: 5.4
	Compiler: gcc gcc (GCC) 14.3.1 20250523 (Red Hat 14.3.1-1)

Ubuntu 22.04
	Kernel: 5.4
	Compiler: gcc gcc (Ubuntu 11.4.0-1ubuntu1~22.04) 11.4.0

Ubuntu 24.04
	Kernel: 5.4
	Compiler: gcc gcc (Ubuntu 13.3.0-6ubuntu2~24.04) 13.3.0

CentOS Stream 9
	Kernel: 5.4
	Compiler: gcc gcc (GCC) 11.5.0 20240719 (Red Hat 11.5.0-7)

CentOS Stream 10
	Kernel: 5.4
	Compiler: gcc gcc (GCC) 14.2.1 20250110 (Red Hat 14.2.1-8)

To view detailed results, visit:
https://lab.dpdk.org/results/dashboard/patchsets/33735/

UNH-IOL DPDK Community Lab

To manage your email subscriptions, visit: 
https://lab.dpdk.org/results/dashboard/preferences/subscriptions/

^ permalink raw reply	[flat|nested] 38+ messages in thread

* |PENDING| pw155457 [PATCH] net/af_xdp: enable AF_XDP program attachm
       [not found] <20250723074249.3264675-1-shivajikant@google.com>
                   ` (34 preceding siblings ...)
  2025-07-23 15:39 ` |PENDING| " dpdklab
@ 2025-07-23 15:58 ` dpdklab
  2025-07-23 16:49 ` |SUCCESS| " dpdklab
  2025-07-23 16:51 ` dpdklab
  37 siblings, 0 replies; 38+ messages in thread
From: dpdklab @ 2025-07-23 15:58 UTC (permalink / raw)
  To: Test Report; +Cc: dpdk-test-reports

Test-Label: iol-compile-arm64-testing
Test-Status: PENDING
http://dpdk.org/patch/155457

_Testing pending_

Submitter: Shivaji Kant <shivajikant@google.com>
Date: Wednesday, July 23 2025 07:42:49 
DPDK git baseline: Repo:dpdk
  Branch: master
  CommitID:b78afde1fed9e11ee5cdce333a1a69dd7a9cf13e

155457 --> testing pending

Upstream job id: Generic-DPDK-Compile-Meson#411555

Test environment and result as below:

+------------------------------+--------------------+
|         Environment          | dpdk_meson_compile |
+==============================+====================+
| Red Hat Enterprise Linux 9.5 | PEND               |
+------------------------------+--------------------+
| Ubuntu 20.04                 | PEND               |
+------------------------------+--------------------+
| Debian GNU/Linux 12          | PEND               |
+------------------------------+--------------------+
| Fedora Linux 40              | PEND               |
+------------------------------+--------------------+
| Fedora Linux 41              | PEND               |
+------------------------------+--------------------+
| Ubuntu 22.04                 | PEND               |
+------------------------------+--------------------+
| Ubuntu 24.04                 | PEND               |
+------------------------------+--------------------+
| CentOS Stream 9              | PEND               |
+------------------------------+--------------------+
| CentOS Stream 10             | PEND               |
+------------------------------+--------------------+


Red Hat Enterprise Linux 9.5
	Kernel: 5.4
	Compiler: gcc gcc (GCC) 11.5.0 20240719 (Red Hat 11.5.0-2)

Ubuntu 20.04
	Kernel: 5.15
	Compiler: aarch64-linux-gnu-gcc gcc (Ubuntu 9.4.0-1ubuntu1~20.04.2) 9.4.0

Debian GNU/Linux 12
	Kernel: 5.4
	Compiler: gcc gcc (Debian 12.2.0-14+deb12u1) 12.2.0

Fedora Linux 40
	Kernel: 5.4
	Compiler: gcc gcc (GCC) 14.2.1 20240912 (Red Hat 14.2.1-3)

Fedora Linux 41
	Kernel: 5.4
	Compiler: gcc gcc (GCC) 14.3.1 20250523 (Red Hat 14.3.1-1)

Ubuntu 22.04
	Kernel: 5.4
	Compiler: gcc gcc (Ubuntu 11.4.0-1ubuntu1~22.04) 11.4.0

Ubuntu 24.04
	Kernel: 5.4
	Compiler: gcc gcc (Ubuntu 13.3.0-6ubuntu2~24.04) 13.3.0

CentOS Stream 9
	Kernel: 5.4
	Compiler: gcc gcc (GCC) 11.5.0 20240719 (Red Hat 11.5.0-7)

CentOS Stream 10
	Kernel: 5.4
	Compiler: gcc gcc (GCC) 14.2.1 20250110 (Red Hat 14.2.1-8)

To view detailed results, visit:
https://lab.dpdk.org/results/dashboard/patchsets/33735/

UNH-IOL DPDK Community Lab

To manage your email subscriptions, visit: 
https://lab.dpdk.org/results/dashboard/preferences/subscriptions/

^ permalink raw reply	[flat|nested] 38+ messages in thread

* |SUCCESS| pw155457 [PATCH] net/af_xdp: enable AF_XDP program attachm
       [not found] <20250723074249.3264675-1-shivajikant@google.com>
                   ` (35 preceding siblings ...)
  2025-07-23 15:58 ` dpdklab
@ 2025-07-23 16:49 ` dpdklab
  2025-07-23 16:51 ` dpdklab
  37 siblings, 0 replies; 38+ messages in thread
From: dpdklab @ 2025-07-23 16:49 UTC (permalink / raw)
  To: Test Report; +Cc: dpdk-test-reports

Test-Label: iol-compile-amd64-testing
Test-Status: SUCCESS
http://dpdk.org/patch/155457

_Testing PASS_

Submitter: Shivaji Kant <shivajikant@google.com>
Date: Wednesday, July 23 2025 07:42:49 
DPDK git baseline: Repo:dpdk
  Branch: master
  CommitID:b78afde1fed9e11ee5cdce333a1a69dd7a9cf13e

155457 --> testing pass

Upstream job id: Generic-DPDK-Compile-Meson#411537

Test environment and result as below:

+-------------------------------+--------------------+-------------------------+-------------------+-------------------+------------------+----------------------+
|          Environment          | dpdk_meson_compile | dpdk_llvm_clang_compile | dpdk_msvc_compile | dpdk_compile_spdk | dpdk_compile_ovs | dpdk_mingw64_compile |
+===============================+====================+=========================+===================+===================+==================+======================+
| Ubuntu 20.04                  | PASS               | SKIPPED                 | SKIPPED           | SKIPPED           | SKIPPED          | SKIPPED              |
+-------------------------------+--------------------+-------------------------+-------------------+-------------------+------------------+----------------------+
| FreeBSD 14.2                  | PASS               | SKIPPED                 | SKIPPED           | SKIPPED           | SKIPPED          | SKIPPED              |
+-------------------------------+--------------------+-------------------------+-------------------+-------------------+------------------+----------------------+
| CentOS Stream 9               | PASS               | SKIPPED                 | SKIPPED           | PASS              | SKIPPED          | SKIPPED              |
+-------------------------------+--------------------+-------------------------+-------------------+-------------------+------------------+----------------------+
| CentOS Stream 10              | PASS               | SKIPPED                 | SKIPPED           | SKIPPED           | SKIPPED          | SKIPPED              |
+-------------------------------+--------------------+-------------------------+-------------------+-------------------+------------------+----------------------+
| Debian GNU/Linux 12           | PASS               | SKIPPED                 | SKIPPED           | PASS              | SKIPPED          | SKIPPED              |
+-------------------------------+--------------------+-------------------------+-------------------+-------------------+------------------+----------------------+
| Fedora Linux 40               | PASS               | SKIPPED                 | SKIPPED           | PASS              | SKIPPED          | SKIPPED              |
+-------------------------------+--------------------+-------------------------+-------------------+-------------------+------------------+----------------------+
| Fedora Linux 41               | PASS               | SKIPPED                 | SKIPPED           | PASS              | PASS             | SKIPPED              |
+-------------------------------+--------------------+-------------------------+-------------------+-------------------+------------------+----------------------+
| openSUSE Leap 15.6            | PASS               | SKIPPED                 | SKIPPED           | SKIPPED           | SKIPPED          | SKIPPED              |
+-------------------------------+--------------------+-------------------------+-------------------+-------------------+------------------+----------------------+
| Red Hat Enterprise Linux 8.10 | PASS               | SKIPPED                 | SKIPPED           | SKIPPED           | SKIPPED          | SKIPPED              |
+-------------------------------+--------------------+-------------------------+-------------------+-------------------+------------------+----------------------+
| Red Hat Enterprise Linux 9.5  | PASS               | SKIPPED                 | SKIPPED           | SKIPPED           | SKIPPED          | SKIPPED              |
+-------------------------------+--------------------+-------------------------+-------------------+-------------------+------------------+----------------------+
| Ubuntu 22.04                  | PASS               | SKIPPED                 | SKIPPED           | PASS              | SKIPPED          | SKIPPED              |
+-------------------------------+--------------------+-------------------------+-------------------+-------------------+------------------+----------------------+
| Ubuntu 24.04                  | PASS               | SKIPPED                 | SKIPPED           | PASS              | PASS             | SKIPPED              |
+-------------------------------+--------------------+-------------------------+-------------------+-------------------+------------------+----------------------+
| Alpine Linux 3.22.0           | PASS               | SKIPPED                 | SKIPPED           | SKIPPED           | SKIPPED          | SKIPPED              |
+-------------------------------+--------------------+-------------------------+-------------------+-------------------+------------------+----------------------+
| Windows Server 2022           | SKIPPED            | PASS                    | PASS              | SKIPPED           | SKIPPED          | PASS                 |
+-------------------------------+--------------------+-------------------------+-------------------+-------------------+------------------+----------------------+


Ubuntu 20.04
	Kernel: 4.19
	Compiler: gcc gcc (Ubuntu 9.4.0-1ubuntu1~20.04.2) 9.4.0

FreeBSD 14.2
	Kernel: 14.2-RELEASE
	Compiler: clang 18.1.6

CentOS Stream 9
	Kernel: 5.15
	Compiler: gcc gcc (GCC) 11.5.0 20240719 (Red Hat 11.5.0-7)

CentOS Stream 10
	Kernel: 5.15
	Compiler: gcc gcc (GCC) 14.2.1 20250110 (Red Hat 14.2.1-8)

Debian GNU/Linux 12
	Kernel: 5.15
	Compiler: gcc gcc (Debian 12.2.0-14+deb12u1) 12.2.0

Fedora Linux 40
	Kernel: 5.15
	Compiler: clang gcc (GCC) 14.2.1 20240912 (Red Hat 14.2.1-3)

Fedora Linux 41
	Kernel: 5.15
	Compiler: clang gcc (GCC) 14.3.1 20250523 (Red Hat 14.3.1-1)

openSUSE Leap 15.6
	Kernel: 5.15
	Compiler: gcc gcc (SUSE Linux) 7.5.0

Red Hat Enterprise Linux 8.10
	Kernel: 5.15
	Compiler: gcc gcc (GCC) 8.5.0 20210514 (Red Hat 8.5.0-22)

Red Hat Enterprise Linux 9.5
	Kernel: 5.15
	Compiler: gcc gcc (GCC) 11.5.0 20240719 (Red Hat 11.5.0-2)

Ubuntu 22.04
	Kernel: 5.15
	Compiler: gcc gcc (Ubuntu 11.4.0-1ubuntu1~22.04) 11.4.0

Ubuntu 24.04
	Kernel: 5.15
	Compiler: gcc gcc (Ubuntu 13.3.0-6ubuntu2~24.04) 13.3.0

Alpine Linux 3.22.0
	Kernel: 5.15
	Compiler: gcc gcc (Alpine 14.2.0) 14.2.0

Windows Server 2022
	Kernel: 10.0.20348.2031
	Compiler: clang 15.0.7, gcc 14.1.0 (MinGW), and MSVC VS 19.39.33521

To view detailed results, visit:
https://lab.dpdk.org/results/dashboard/patchsets/33735/

UNH-IOL DPDK Community Lab

To manage your email subscriptions, visit: 
https://lab.dpdk.org/results/dashboard/preferences/subscriptions/

^ permalink raw reply	[flat|nested] 38+ messages in thread

* |SUCCESS| pw155457 [PATCH] net/af_xdp: enable AF_XDP program attachm
       [not found] <20250723074249.3264675-1-shivajikant@google.com>
                   ` (36 preceding siblings ...)
  2025-07-23 16:49 ` |SUCCESS| " dpdklab
@ 2025-07-23 16:51 ` dpdklab
  37 siblings, 0 replies; 38+ messages in thread
From: dpdklab @ 2025-07-23 16:51 UTC (permalink / raw)
  To: Test Report; +Cc: dpdk-test-reports

Test-Label: iol-compile-amd64-testing
Test-Status: SUCCESS
http://dpdk.org/patch/155457

_Testing PASS_

Submitter: Shivaji Kant <shivajikant@google.com>
Date: Wednesday, July 23 2025 07:42:49 
DPDK git baseline: Repo:dpdk
  Branch: master
  CommitID:b78afde1fed9e11ee5cdce333a1a69dd7a9cf13e

155457 --> testing pass

Upstream job id: Generic-DPDK-Compile-Meson#411526

Test environment and result as below:

+-------------------------------+--------------------+-------------------------+-------------------+-------------------+------------------+----------------------+
|          Environment          | dpdk_meson_compile | dpdk_llvm_clang_compile | dpdk_msvc_compile | dpdk_compile_spdk | dpdk_compile_ovs | dpdk_mingw64_compile |
+===============================+====================+=========================+===================+===================+==================+======================+
| Ubuntu 20.04                  | PASS               | SKIPPED                 | SKIPPED           | SKIPPED           | SKIPPED          | SKIPPED              |
+-------------------------------+--------------------+-------------------------+-------------------+-------------------+------------------+----------------------+
| FreeBSD 14.2                  | PASS               | SKIPPED                 | SKIPPED           | SKIPPED           | SKIPPED          | SKIPPED              |
+-------------------------------+--------------------+-------------------------+-------------------+-------------------+------------------+----------------------+
| CentOS Stream 9               | PASS               | SKIPPED                 | SKIPPED           | PASS              | SKIPPED          | SKIPPED              |
+-------------------------------+--------------------+-------------------------+-------------------+-------------------+------------------+----------------------+
| CentOS Stream 10              | PASS               | SKIPPED                 | SKIPPED           | SKIPPED           | SKIPPED          | SKIPPED              |
+-------------------------------+--------------------+-------------------------+-------------------+-------------------+------------------+----------------------+
| Debian GNU/Linux 12           | PASS               | SKIPPED                 | SKIPPED           | PASS              | SKIPPED          | SKIPPED              |
+-------------------------------+--------------------+-------------------------+-------------------+-------------------+------------------+----------------------+
| Fedora Linux 40               | PASS               | SKIPPED                 | SKIPPED           | PASS              | SKIPPED          | SKIPPED              |
+-------------------------------+--------------------+-------------------------+-------------------+-------------------+------------------+----------------------+
| Fedora Linux 41               | PASS               | SKIPPED                 | SKIPPED           | PASS              | PASS             | SKIPPED              |
+-------------------------------+--------------------+-------------------------+-------------------+-------------------+------------------+----------------------+
| openSUSE Leap 15.6            | PASS               | SKIPPED                 | SKIPPED           | SKIPPED           | SKIPPED          | SKIPPED              |
+-------------------------------+--------------------+-------------------------+-------------------+-------------------+------------------+----------------------+
| Red Hat Enterprise Linux 8.10 | PASS               | SKIPPED                 | SKIPPED           | SKIPPED           | SKIPPED          | SKIPPED              |
+-------------------------------+--------------------+-------------------------+-------------------+-------------------+------------------+----------------------+
| Red Hat Enterprise Linux 9.5  | PASS               | SKIPPED                 | SKIPPED           | SKIPPED           | SKIPPED          | SKIPPED              |
+-------------------------------+--------------------+-------------------------+-------------------+-------------------+------------------+----------------------+
| Ubuntu 22.04                  | PASS               | SKIPPED                 | SKIPPED           | PASS              | SKIPPED          | SKIPPED              |
+-------------------------------+--------------------+-------------------------+-------------------+-------------------+------------------+----------------------+
| Ubuntu 24.04                  | PASS               | SKIPPED                 | SKIPPED           | PASS              | PASS             | SKIPPED              |
+-------------------------------+--------------------+-------------------------+-------------------+-------------------+------------------+----------------------+
| Alpine Linux 3.22.0           | PASS               | SKIPPED                 | SKIPPED           | SKIPPED           | SKIPPED          | SKIPPED              |
+-------------------------------+--------------------+-------------------------+-------------------+-------------------+------------------+----------------------+
| Windows Server 2022           | SKIPPED            | PASS                    | PASS              | SKIPPED           | SKIPPED          | PASS                 |
+-------------------------------+--------------------+-------------------------+-------------------+-------------------+------------------+----------------------+


Ubuntu 20.04
	Kernel: 4.19
	Compiler: gcc gcc (Ubuntu 9.4.0-1ubuntu1~20.04.2) 9.4.0

FreeBSD 14.2
	Kernel: 14.2-RELEASE
	Compiler: clang 18.1.6

CentOS Stream 9
	Kernel: 5.15
	Compiler: gcc gcc (GCC) 11.5.0 20240719 (Red Hat 11.5.0-7)

CentOS Stream 10
	Kernel: 5.15
	Compiler: gcc gcc (GCC) 14.2.1 20250110 (Red Hat 14.2.1-8)

Debian GNU/Linux 12
	Kernel: 5.15
	Compiler: gcc gcc (Debian 12.2.0-14+deb12u1) 12.2.0

Fedora Linux 40
	Kernel: 5.15
	Compiler: clang gcc (GCC) 14.2.1 20240912 (Red Hat 14.2.1-3)

Fedora Linux 41
	Kernel: 5.15
	Compiler: clang gcc (GCC) 14.3.1 20250523 (Red Hat 14.3.1-1)

openSUSE Leap 15.6
	Kernel: 5.15
	Compiler: gcc gcc (SUSE Linux) 7.5.0

Red Hat Enterprise Linux 8.10
	Kernel: 5.15
	Compiler: gcc gcc (GCC) 8.5.0 20210514 (Red Hat 8.5.0-22)

Red Hat Enterprise Linux 9.5
	Kernel: 5.15
	Compiler: gcc gcc (GCC) 11.5.0 20240719 (Red Hat 11.5.0-2)

Ubuntu 22.04
	Kernel: 5.15
	Compiler: gcc gcc (Ubuntu 11.4.0-1ubuntu1~22.04) 11.4.0

Ubuntu 24.04
	Kernel: 5.15
	Compiler: gcc gcc (Ubuntu 13.3.0-6ubuntu2~24.04) 13.3.0

Alpine Linux 3.22.0
	Kernel: 5.15
	Compiler: gcc gcc (Alpine 14.2.0) 14.2.0

Windows Server 2022
	Kernel: 10.0.20348.2031
	Compiler: clang 15.0.7, gcc 14.1.0 (MinGW), and MSVC VS 19.39.33521

To view detailed results, visit:
https://lab.dpdk.org/results/dashboard/patchsets/33735/

UNH-IOL DPDK Community Lab

To manage your email subscriptions, visit: 
https://lab.dpdk.org/results/dashboard/preferences/subscriptions/

^ permalink raw reply	[flat|nested] 38+ messages in thread

end of thread, other threads:[~2025-07-23 16:51 UTC | newest]

Thread overview: 38+ messages (download: mbox.gz / follow: Atom feed)
-- links below jump to the message on this page --
     [not found] <20250723074249.3264675-1-shivajikant@google.com>
2025-07-23  7:09 ` |SUCCESS| pw155457 [PATCH] net/af_xdp: enable AF_XDP program attachment mode qemudev
2025-07-23  7:13 ` qemudev
2025-07-23  7:42 ` checkpatch
2025-07-23  8:52 ` |SUCCESS| pw155457 [PATCH] net/af_xdp: enable AF_XDP program attachm dpdklab
2025-07-23  9:03 ` |SUCCESS| pw155457 [PATCH] net/af_xdp: enable AF_XDP program attachment mode 0-day Robot
2025-07-23  9:04 ` |SUCCESS| pw155457 [PATCH] net/af_xdp: enable AF_XDP program attachm dpdklab
2025-07-23  9:04 ` dpdklab
2025-07-23  9:15 ` dpdklab
2025-07-23  9:21 ` dpdklab
2025-07-23  9:36 ` dpdklab
2025-07-23  9:39 ` dpdklab
2025-07-23  9:42 ` dpdklab
2025-07-23  9:42 ` dpdklab
2025-07-23  9:42 ` dpdklab
2025-07-23  9:56 ` |PENDING| " dpdklab
2025-07-23 10:37 ` |SUCCESS| " dpdklab
2025-07-23 11:02 ` dpdklab
2025-07-23 11:11 ` dpdklab
2025-07-23 11:14 ` |PENDING| " dpdklab
2025-07-23 11:33 ` |SUCCESS| " dpdklab
2025-07-23 11:40 ` |PENDING| " dpdklab
2025-07-23 11:48 ` |SUCCESS| " dpdklab
2025-07-23 11:49 ` |PENDING| " dpdklab
2025-07-23 12:15 ` |SUCCESS| " dpdklab
2025-07-23 12:15 ` dpdklab
2025-07-23 12:21 ` |PENDING| " dpdklab
2025-07-23 12:48 ` dpdklab
2025-07-23 13:04 ` |SUCCESS| " dpdklab
2025-07-23 13:20 ` dpdklab
2025-07-23 13:35 ` dpdklab
2025-07-23 14:00 ` dpdklab
2025-07-23 14:01 ` dpdklab
2025-07-23 14:35 ` dpdklab
2025-07-23 14:46 ` dpdklab
2025-07-23 15:39 ` |PENDING| " dpdklab
2025-07-23 15:58 ` dpdklab
2025-07-23 16:49 ` |SUCCESS| " dpdklab
2025-07-23 16:51 ` dpdklab

This is a public inbox, see mirroring instructions
for how to clone and mirror all data and code used for this inbox;
as well as URLs for NNTP newsgroup(s).