* |SUCCESS| pw155545-155557 [PATCH v12 13/13] net/sxe: add virtual function
[not found] <20250728090517.1811244-13-liujie5@linkdatatechnology.com>
@ 2025-07-28 8:36 ` qemudev
2025-07-28 8:40 ` qemudev
` (10 subsequent siblings)
11 siblings, 0 replies; 12+ messages in thread
From: qemudev @ 2025-07-28 8:36 UTC (permalink / raw)
To: test-report
Test-Label: loongarch-compilation
Test-Status: SUCCESS
http://dpdk.org/patch/155557
_Compilation OK_
Submitter: Jie Liu <liujie5@linkdatatechnology.com>
Date: Mon, 28 Jul 2025 17:05:05 +0800
DPDK git baseline: Repo:dpdk
Branch: main
CommitID: 38543d33bd47fc0ee21f59db80a8763620741879
155545-155557 --> meson & ninja build successfully
Test environment and result as below:
+---------------------+----------------+
| Environment | compilation |
+---------------------+----------------+
| Loongnix-Server 8.3 | PASS |
+---------------------+----------------+
Loongnix-Server 8.3
Kernel: 4.19.190+
Compiler: gcc 8.3
^ permalink raw reply [flat|nested] 12+ messages in thread
* |SUCCESS| pw155545-155557 [PATCH v12 13/13] net/sxe: add virtual function
[not found] <20250728090517.1811244-13-liujie5@linkdatatechnology.com>
2025-07-28 8:36 ` |SUCCESS| pw155545-155557 [PATCH v12 13/13] net/sxe: add virtual function qemudev
@ 2025-07-28 8:40 ` qemudev
2025-07-28 9:09 ` |WARNING| pw155557 " checkpatch
` (9 subsequent siblings)
11 siblings, 0 replies; 12+ messages in thread
From: qemudev @ 2025-07-28 8:40 UTC (permalink / raw)
To: test-report
Test-Label: loongarch-unit-testing
Test-Status: SUCCESS
http://dpdk.org/patch/155557
_Unit Testing PASS_
Submitter: Jie Liu <liujie5@linkdatatechnology.com>
Date: Mon, 28 Jul 2025 17:05:05 +0800
DPDK git baseline: Repo:dpdk
Branch: main
CommitID: 38543d33bd47fc0ee21f59db80a8763620741879
155545-155557 --> testing pass
Test environment and result as below:
+---------------------+----------------+
| Environment | dpdk_unit_test |
+---------------------+----------------+
| Loongnix-Server 8.3 | PASS |
+---------------------+----------------+
Loongnix-Server 8.3
Kernel: 4.19.190+
Compiler: gcc 8.3
Test result details:
1/120 DPDK:fast-tests / acl_autotest OK 3.20s
2/120 DPDK:fast-tests / alarm_autotest OK 1.50s
3/120 DPDK:fast-tests / argparse_autotest OK 0.49s
4/120 DPDK:fast-tests / atomic_autotest OK 7.25s
5/120 DPDK:fast-tests / bitcount_autotest OK 0.43s
6/120 DPDK:fast-tests / bitmap_autotest OK 0.43s
7/120 DPDK:fast-tests / bitops_autotest OK 1.93s
8/120 DPDK:fast-tests / bitratestats_autotest OK 0.43s
9/120 DPDK:fast-tests / bitset_autotest OK 3.20s
10/120 DPDK:fast-tests / bpf_autotest OK 0.43s
11/120 DPDK:fast-tests / bpf_convert_autotest OK 0.44s
12/120 DPDK:fast-tests / byteorder_autotest OK 0.43s
13/120 DPDK:fast-tests / cfgfile_autotest OK 0.43s
14/120 DPDK:fast-tests / cksum_autotest OK 0.43s
15/120 DPDK:fast-tests / cmdline_autotest OK 0.43s
16/120 DPDK:fast-tests / common_autotest OK 1.32s
17/120 DPDK:fast-tests / compressdev_autotest SKIP 0.07s exit status 77
18/120 DPDK:fast-tests / cpuflags_autotest OK 0.42s
19/120 DPDK:fast-tests / crc_autotest OK 0.42s
20/120 DPDK:fast-tests / user_delay_us OK 0.43s
21/120 DPDK:fast-tests / debug_autotest OK 26.31s
22/120 DPDK:fast-tests / devargs_autotest OK 0.42s
23/120 DPDK:fast-tests / dispatcher_autotest OK 2.51s
24/120 DPDK:fast-tests / distributor_autotest OK 1.20s
25/120 DPDK:fast-tests / eal_flags_c_opt_autotest OK 0.80s
26/120 DPDK:fast-tests / eal_flags_main_opt_autotest OK 0.22s
27/120 DPDK:fast-tests / eal_flags_n_opt_autotest OK 0.20s
28/120 DPDK:fast-tests / eal_flags_hpet_autotest OK 0.13s
29/120 DPDK:fast-tests / eal_flags_no_huge_autotest OK 0.22s
30/120 DPDK:fast-tests / eal_flags_a_opt_autotest OK 0.30s
31/120 DPDK:fast-tests / eal_flags_b_opt_autotest OK 0.25s
32/120 DPDK:fast-tests / eal_flags_vdev_opt_autotest OK 0.20s
33/120 DPDK:fast-tests / eal_flags_r_opt_autotest OK 0.19s
34/120 DPDK:fast-tests / eal_flags_mem_autotest OK 0.59s
35/120 DPDK:fast-tests / eal_flags_file_prefix_autotest OK 22.24s
36/120 DPDK:fast-tests / eal_flags_misc_autotest OK 1.06s
37/120 DPDK:fast-tests / eal_fs_autotest OK 0.42s
38/120 DPDK:fast-tests / errno_autotest OK 0.43s
39/120 DPDK:fast-tests / ethdev_link_status OK 0.43s
40/120 DPDK:fast-tests / event_eth_tx_adapter_autotest OK 1.68s
41/120 DPDK:fast-tests / event_ring_autotest OK 0.43s
42/120 DPDK:fast-tests / eventdev_common_autotest OK 0.43s
43/120 DPDK:fast-tests / eventdev_selftest_sw OK 7.32s
44/120 DPDK:fast-tests / fbarray_autotest OK 0.43s
45/120 DPDK:fast-tests / fib_autotest OK 1.28s
46/120 DPDK:fast-tests / fib6_autotest OK 1.06s
47/120 DPDK:fast-tests / func_reentrancy_autotest OK 2.23s
48/120 DPDK:fast-tests / graph_autotest OK 0.43s
49/120 DPDK:fast-tests / node_list_dump OK 0.43s
50/120 DPDK:fast-tests / graph_feature_arc_autotest OK 0.44s
51/120 DPDK:fast-tests / hash_autotest OK 1.05s
52/120 DPDK:fast-tests / hash_readwrite_func_autotest OK 6.40s
53/120 DPDK:fast-tests / interrupt_autotest OK 1.73s
54/120 DPDK:fast-tests / ipfrag_autotest OK 0.08s
55/120 DPDK:fast-tests / ipsec_autotest SKIP 0.43s exit status 77
56/120 DPDK:fast-tests / kvargs_autotest OK 0.43s
57/120 DPDK:fast-tests / latencystats_autotest OK 0.44s
58/120 DPDK:fast-tests / lcore_var_autotest OK 0.57s
59/120 DPDK:fast-tests / lcores_autotest OK 5.24s
60/120 DPDK:fast-tests / logs_autotest OK 0.52s
61/120 DPDK:fast-tests / lpm_autotest OK 2.48s
62/120 DPDK:fast-tests / lpm6_autotest OK 5.63s
63/120 DPDK:fast-tests / malloc_autotest OK 59.82s
64/120 DPDK:fast-tests / mbuf_autotest OK 4.77s
65/120 DPDK:fast-tests / mcslock_autotest OK 3.55s
66/120 DPDK:fast-tests / member_autotest OK 1.62s
67/120 DPDK:fast-tests / memcpy_autotest OK 6.89s
68/120 DPDK:fast-tests / memory_autotest OK 0.09s
69/120 DPDK:fast-tests / mempool_autotest OK 0.44s
70/120 DPDK:fast-tests / memzone_autotest OK 0.14s
71/120 DPDK:fast-tests / meter_autotest OK 0.43s
72/120 DPDK:fast-tests / metrics_autotest OK 0.43s
73/120 DPDK:fast-tests / multiprocess_autotest OK 0.19s
74/120 DPDK:fast-tests / net_ether_autotest OK 1.09s
75/120 DPDK:fast-tests / net_ipv6_autotest OK 0.43s
76/120 DPDK:fast-tests / pcapng_autotest OK 6.49s
77/120 DPDK:fast-tests / pdcp_autotest SKIP 0.07s exit status 77
78/120 DPDK:fast-tests / pdump_autotest OK 0.55s
79/120 DPDK:fast-tests / per_lcore_autotest OK 0.53s
80/120 DPDK:fast-tests / pflock_autotest OK 1.24s
81/120 DPDK:fast-tests / pie_autotest OK 0.43s
82/120 DPDK:fast-tests / ring_pmd_autotest OK 0.43s
83/120 DPDK:fast-tests / power_autotest OK 0.43s
84/120 DPDK:fast-tests / power_cpufreq_autotest SKIP 0.07s exit status 77
85/120 DPDK:fast-tests / power_intel_uncore_autotest SKIP 0.42s exit status 77
86/120 DPDK:fast-tests / power_kvm_vm_autotest SKIP 0.07s exit status 77
87/120 DPDK:fast-tests / prefetch_autotest OK 0.42s
88/120 DPDK:fast-tests / ptr_compress_autotest OK 0.43s
89/120 DPDK:fast-tests / rawdev_autotest OK 0.43s
90/120 DPDK:fast-tests / rcu_qsbr_autotest OK 0.95s
91/120 DPDK:fast-tests / reorder_autotest OK 0.49s
92/120 DPDK:fast-tests / rib_autotest OK 9.08s
93/120 DPDK:fast-tests / rib6_autotest OK 9.05s
94/120 DPDK:fast-tests / ring_autotest OK 0.46s
95/120 DPDK:fast-tests / rwlock_test1_autotest OK 1.18s
96/120 DPDK:fast-tests / rwlock_rda_autotest OK 5.43s
97/120 DPDK:fast-tests / rwlock_rds_wrm_autotest OK 5.43s
98/120 DPDK:fast-tests / rwlock_rde_wro_autotest OK 5.43s
99/120 DPDK:fast-tests / sched_autotest OK 0.43s
100/120 DPDK:fast-tests / security_autotest OK 0.07s
101/120 DPDK:fast-tests / seqlock_autotest OK 2.43s
102/120 DPDK:fast-tests / service_autotest OK 3.13s
103/120 DPDK:fast-tests / soring_autotest OK 0.43s
104/120 DPDK:fast-tests / spinlock_autotest OK 0.51s
105/120 DPDK:fast-tests / stack_autotest OK 0.87s
106/120 DPDK:fast-tests / stack_lf_autotest SKIP 0.06s exit status 77
107/120 DPDK:fast-tests / string_autotest OK 0.43s
108/120 DPDK:fast-tests / table_autotest OK 7.97s
109/120 DPDK:fast-tests / tailq_autotest OK 0.42s
110/120 DPDK:fast-tests / telemetry_data_autotest OK 0.44s
111/120 DPDK:fast-tests / telemetry_json_autotest OK 0.43s
112/120 DPDK:fast-tests / thash_autotest OK 0.44s
113/120 DPDK:fast-tests / threads_autotest OK 0.61s
114/120 DPDK:fast-tests / ticketlock_autotest OK 0.58s
115/120 DPDK:fast-tests / timer_autotest OK 3.93s
116/120 DPDK:fast-tests / trace_autotest OK 0.42s
117/120 DPDK:fast-tests / trace_autotest_with_traces OK 0.43s
118/120 DPDK:fast-tests / vdev_autotest OK 0.43s
119/120 DPDK:fast-tests / version_autotest OK 0.43s
120/120 DPDK:fast-tests / telemetry_all OK 1.39s
Ok: 113
Expected Fail: 0
Fail: 0
Unexpected Pass: 0
Skipped: 7
Timeout: 0
^ permalink raw reply [flat|nested] 12+ messages in thread
* |WARNING| pw155557 [PATCH v12 13/13] net/sxe: add virtual function
[not found] <20250728090517.1811244-13-liujie5@linkdatatechnology.com>
2025-07-28 8:36 ` |SUCCESS| pw155545-155557 [PATCH v12 13/13] net/sxe: add virtual function qemudev
2025-07-28 8:40 ` qemudev
@ 2025-07-28 9:09 ` checkpatch
2025-07-28 10:24 ` |SUCCESS| " 0-day Robot
` (8 subsequent siblings)
11 siblings, 0 replies; 12+ messages in thread
From: checkpatch @ 2025-07-28 9:09 UTC (permalink / raw)
To: test-report; +Cc: liujie5
Test-Label: checkpatch
Test-Status: WARNING
http://dpdk.org/patch/155557
_coding style issues_
^ permalink raw reply [flat|nested] 12+ messages in thread
* |SUCCESS| pw155557 [PATCH v12 13/13] net/sxe: add virtual function
[not found] <20250728090517.1811244-13-liujie5@linkdatatechnology.com>
` (2 preceding siblings ...)
2025-07-28 9:09 ` |WARNING| pw155557 " checkpatch
@ 2025-07-28 10:24 ` 0-day Robot
2025-07-28 16:14 ` |PENDING| pw155545-155557 [PATCH] [v12,13/13] net/sxe: add virtual f dpdklab
` (7 subsequent siblings)
11 siblings, 0 replies; 12+ messages in thread
From: 0-day Robot @ 2025-07-28 10:24 UTC (permalink / raw)
To: test-report; +Cc: robot
From: robot@bytheb.org
Test-Label: github-robot: build
Test-Status: SUCCESS
http://patchwork.dpdk.org/patch/155557/
_github build: passed_
Build URL: https://github.com/ovsrobot/dpdk/actions/runs/16565355445
^ permalink raw reply [flat|nested] 12+ messages in thread
* |PENDING| pw155545-155557 [PATCH] [v12,13/13] net/sxe: add virtual f
[not found] <20250728090517.1811244-13-liujie5@linkdatatechnology.com>
` (3 preceding siblings ...)
2025-07-28 10:24 ` |SUCCESS| " 0-day Robot
@ 2025-07-28 16:14 ` dpdklab
2025-07-28 16:17 ` dpdklab
` (6 subsequent siblings)
11 siblings, 0 replies; 12+ messages in thread
From: dpdklab @ 2025-07-28 16:14 UTC (permalink / raw)
To: Test Report; +Cc: dpdk-test-reports
Test-Label: iol-unit-amd64-testing
Test-Status: PENDING
http://dpdk.org/patch/155557
_Testing pending_
Submitter: Jie Liu <liujie5@linkdatatechnology.com>
Date: Monday, July 28 2025 09:05:17
DPDK git baseline: Repo:dpdk
Branch: master
CommitID:38543d33bd47fc0ee21f59db80a8763620741879
155545-155557 --> testing pending
Upstream job id: Generic-Unit-Test-DPDK#358504
Test environment and result as below:
+-------------------------------+----------------+
| Environment | dpdk_unit_test |
+===============================+================+
| CentOS Stream 9 | PEND |
+-------------------------------+----------------+
| Debian GNU/Linux 12 | PASS |
+-------------------------------+----------------+
| CentOS Stream 10 | PEND |
+-------------------------------+----------------+
| Fedora Linux 40 | PEND |
+-------------------------------+----------------+
| Fedora Linux 41 | PEND |
+-------------------------------+----------------+
| Red Hat Enterprise Linux 8.10 | PEND |
+-------------------------------+----------------+
| Red Hat Enterprise Linux 9.5 | PEND |
+-------------------------------+----------------+
| Ubuntu 20.04 | PEND |
+-------------------------------+----------------+
| Ubuntu 22.04 | PEND |
+-------------------------------+----------------+
| Ubuntu 24.04 | PEND |
+-------------------------------+----------------+
CentOS Stream 9
Kernel: 5.15
Compiler: gcc gcc (GCC) 11.5.0 20240719 (Red Hat 11.5.0-7)
Debian GNU/Linux 12
Kernel: 5.15
Compiler: gcc gcc (Debian 12.2.0-14+deb12u1) 12.2.0
CentOS Stream 10
Kernel: 5.15
Compiler: gcc gcc (GCC) 14.2.1 20250110 (Red Hat 14.2.1-8)
Fedora Linux 40
Kernel: 5.15
Compiler: gcc gcc (GCC) 14.2.1 20240912 (Red Hat 14.2.1-3)
Fedora Linux 41
Kernel: 5.15
Compiler: gcc gcc (GCC) 14.3.1 20250523 (Red Hat 14.3.1-1)
Red Hat Enterprise Linux 8.10
Kernel: 5.15
Compiler: gcc gcc (GCC) 8.5.0 20210514 (Red Hat 8.5.0-22)
Red Hat Enterprise Linux 9.5
Kernel: 5.15
Compiler: gcc gcc (GCC) 11.5.0 20240719 (Red Hat 11.5.0-2)
Ubuntu 20.04
Kernel: 5.15
Compiler: gcc gcc (Ubuntu 9.4.0-1ubuntu1~20.04.2) 9.4.0
Ubuntu 22.04
Kernel: 5.15
Compiler: gcc gcc (Ubuntu 11.4.0-1ubuntu1~22.04) 11.4.0
Ubuntu 24.04
Kernel: 5.15
Compiler: gcc gcc (Ubuntu 13.3.0-6ubuntu2~24.04) 13.3.0
To view detailed results, visit:
https://lab.dpdk.org/results/dashboard/patchsets/33758/
UNH-IOL DPDK Community Lab
To manage your email subscriptions, visit:
https://lab.dpdk.org/results/dashboard/preferences/subscriptions/
^ permalink raw reply [flat|nested] 12+ messages in thread
* |PENDING| pw155545-155557 [PATCH] [v12,13/13] net/sxe: add virtual f
[not found] <20250728090517.1811244-13-liujie5@linkdatatechnology.com>
` (4 preceding siblings ...)
2025-07-28 16:14 ` |PENDING| pw155545-155557 [PATCH] [v12,13/13] net/sxe: add virtual f dpdklab
@ 2025-07-28 16:17 ` dpdklab
2025-07-28 16:46 ` |SUCCESS| " dpdklab
` (5 subsequent siblings)
11 siblings, 0 replies; 12+ messages in thread
From: dpdklab @ 2025-07-28 16:17 UTC (permalink / raw)
To: Test Report; +Cc: dpdk-test-reports
Test-Label: iol-unit-arm64-testing
Test-Status: PENDING
http://dpdk.org/patch/155557
_Testing pending_
Submitter: Jie Liu <liujie5@linkdatatechnology.com>
Date: Monday, July 28 2025 09:05:17
DPDK git baseline: Repo:dpdk
Branch: master
CommitID:38543d33bd47fc0ee21f59db80a8763620741879
155545-155557 --> testing pending
Upstream job id: Generic-Unit-Test-DPDK#358497
Test environment and result as below:
+------------------------------+------------------------------+---------------------------+--------------+----------------+
| Environment | cryptodev_sw_snow3g_autotest | cryptodev_sw_zuc_autotest | lpm_autotest | dpdk_unit_test |
+==============================+==============================+===========================+==============+================+
| Debian 12 (arm) | PEND | PEND | SKIPPED | SKIPPED |
+------------------------------+------------------------------+---------------------------+--------------+----------------+
| Ubuntu 20.04 | SKIPPED | SKIPPED | PASS | PEND |
+------------------------------+------------------------------+---------------------------+--------------+----------------+
| Debian GNU/Linux 12 | SKIPPED | SKIPPED | SKIPPED | PEND |
+------------------------------+------------------------------+---------------------------+--------------+----------------+
| CentOS Stream 9 | SKIPPED | SKIPPED | SKIPPED | PEND |
+------------------------------+------------------------------+---------------------------+--------------+----------------+
| CentOS Stream 10 | SKIPPED | SKIPPED | SKIPPED | PEND |
+------------------------------+------------------------------+---------------------------+--------------+----------------+
| Fedora Linux 41 | SKIPPED | SKIPPED | SKIPPED | PEND |
+------------------------------+------------------------------+---------------------------+--------------+----------------+
| Red Hat Enterprise Linux 9.5 | SKIPPED | SKIPPED | SKIPPED | PEND |
+------------------------------+------------------------------+---------------------------+--------------+----------------+
| Fedora Linux 40 | SKIPPED | SKIPPED | SKIPPED | PEND |
+------------------------------+------------------------------+---------------------------+--------------+----------------+
| Ubuntu 22.04 | SKIPPED | SKIPPED | SKIPPED | PEND |
+------------------------------+------------------------------+---------------------------+--------------+----------------+
| Ubuntu 24.04 | SKIPPED | SKIPPED | SKIPPED | PEND |
+------------------------------+------------------------------+---------------------------+--------------+----------------+
Debian 12 (arm)
Kernel: Depends on container host
Compiler: gcc (Debian 12.2.0-14) 12.2.0
Ubuntu 20.04
Kernel: 5.4
Compiler: gcc gcc (Ubuntu 9.4.0-1ubuntu1~20.04.2) 9.4.0
Debian GNU/Linux 12
Kernel: 5.4
Compiler: gcc gcc (Debian 12.2.0-14+deb12u1) 12.2.0
CentOS Stream 9
Kernel: 5.4
Compiler: gcc gcc (GCC) 11.5.0 20240719 (Red Hat 11.5.0-7)
CentOS Stream 10
Kernel: 5.4
Compiler: gcc gcc (GCC) 14.2.1 20250110 (Red Hat 14.2.1-8)
Fedora Linux 41
Kernel: 5.4
Compiler: gcc gcc (GCC) 14.3.1 20250523 (Red Hat 14.3.1-1)
Red Hat Enterprise Linux 9.5
Kernel: 5.4
Compiler: gcc gcc (GCC) 11.5.0 20240719 (Red Hat 11.5.0-2)
Fedora Linux 40
Kernel: 5.4
Compiler: clang gcc (GCC) 14.2.1 20240912 (Red Hat 14.2.1-3)
Ubuntu 22.04
Kernel: 5.4
Compiler: gcc gcc (Ubuntu 11.4.0-1ubuntu1~22.04) 11.4.0
Ubuntu 24.04
Kernel: 5.4
Compiler: gcc gcc (Ubuntu 13.3.0-6ubuntu2~24.04) 13.3.0
To view detailed results, visit:
https://lab.dpdk.org/results/dashboard/patchsets/33758/
UNH-IOL DPDK Community Lab
To manage your email subscriptions, visit:
https://lab.dpdk.org/results/dashboard/preferences/subscriptions/
^ permalink raw reply [flat|nested] 12+ messages in thread
* |SUCCESS| pw155545-155557 [PATCH] [v12,13/13] net/sxe: add virtual f
[not found] <20250728090517.1811244-13-liujie5@linkdatatechnology.com>
` (5 preceding siblings ...)
2025-07-28 16:17 ` dpdklab
@ 2025-07-28 16:46 ` dpdklab
2025-07-28 17:14 ` dpdklab
` (4 subsequent siblings)
11 siblings, 0 replies; 12+ messages in thread
From: dpdklab @ 2025-07-28 16:46 UTC (permalink / raw)
To: Test Report; +Cc: dpdk-test-reports
Test-Label: iol-unit-amd64-testing
Test-Status: SUCCESS
http://dpdk.org/patch/155557
_Testing PASS_
Submitter: Jie Liu <liujie5@linkdatatechnology.com>
Date: Monday, July 28 2025 09:05:17
DPDK git baseline: Repo:dpdk
Branch: master
CommitID:38543d33bd47fc0ee21f59db80a8763620741879
155545-155557 --> testing pass
Upstream job id: Generic-Unit-Test-DPDK#358514
Test environment and result as below:
+-------------------------------+----------------+
| Environment | dpdk_unit_test |
+===============================+================+
| CentOS Stream 9 | PASS |
+-------------------------------+----------------+
| Debian GNU/Linux 12 | PASS |
+-------------------------------+----------------+
| CentOS Stream 10 | PASS |
+-------------------------------+----------------+
| Fedora Linux 40 | PASS |
+-------------------------------+----------------+
| Fedora Linux 41 | PASS |
+-------------------------------+----------------+
| Red Hat Enterprise Linux 8.10 | PASS |
+-------------------------------+----------------+
| Red Hat Enterprise Linux 9.5 | PASS |
+-------------------------------+----------------+
| Ubuntu 20.04 | PASS |
+-------------------------------+----------------+
| Ubuntu 22.04 | PASS |
+-------------------------------+----------------+
| Ubuntu 24.04 | PASS |
+-------------------------------+----------------+
CentOS Stream 9
Kernel: 5.15
Compiler: gcc gcc (GCC) 11.5.0 20240719 (Red Hat 11.5.0-7)
Debian GNU/Linux 12
Kernel: 5.15
Compiler: gcc gcc (Debian 12.2.0-14+deb12u1) 12.2.0
CentOS Stream 10
Kernel: 5.15
Compiler: gcc gcc (GCC) 14.2.1 20250110 (Red Hat 14.2.1-8)
Fedora Linux 40
Kernel: 5.15
Compiler: gcc gcc (GCC) 14.2.1 20240912 (Red Hat 14.2.1-3)
Fedora Linux 41
Kernel: 5.15
Compiler: gcc gcc (GCC) 14.3.1 20250523 (Red Hat 14.3.1-1)
Red Hat Enterprise Linux 8.10
Kernel: 5.15
Compiler: gcc gcc (GCC) 8.5.0 20210514 (Red Hat 8.5.0-22)
Red Hat Enterprise Linux 9.5
Kernel: 5.15
Compiler: gcc gcc (GCC) 11.5.0 20240719 (Red Hat 11.5.0-2)
Ubuntu 20.04
Kernel: 5.15
Compiler: gcc gcc (Ubuntu 9.4.0-1ubuntu1~20.04.2) 9.4.0
Ubuntu 22.04
Kernel: 5.15
Compiler: gcc gcc (Ubuntu 11.4.0-1ubuntu1~22.04) 11.4.0
Ubuntu 24.04
Kernel: 5.15
Compiler: gcc gcc (Ubuntu 13.3.0-6ubuntu2~24.04) 13.3.0
To view detailed results, visit:
https://lab.dpdk.org/results/dashboard/patchsets/33758/
UNH-IOL DPDK Community Lab
To manage your email subscriptions, visit:
https://lab.dpdk.org/results/dashboard/preferences/subscriptions/
^ permalink raw reply [flat|nested] 12+ messages in thread
* |SUCCESS| pw155545-155557 [PATCH] [v12,13/13] net/sxe: add virtual f
[not found] <20250728090517.1811244-13-liujie5@linkdatatechnology.com>
` (6 preceding siblings ...)
2025-07-28 16:46 ` |SUCCESS| " dpdklab
@ 2025-07-28 17:14 ` dpdklab
2025-07-28 17:26 ` dpdklab
` (3 subsequent siblings)
11 siblings, 0 replies; 12+ messages in thread
From: dpdklab @ 2025-07-28 17:14 UTC (permalink / raw)
To: Test Report; +Cc: dpdk-test-reports
Test-Label: iol-unit-amd64-testing
Test-Status: SUCCESS
http://dpdk.org/patch/155557
_Testing PASS_
Submitter: Jie Liu <liujie5@linkdatatechnology.com>
Date: Monday, July 28 2025 09:05:17
DPDK git baseline: Repo:dpdk
Branch: master
CommitID:38543d33bd47fc0ee21f59db80a8763620741879
155545-155557 --> testing pass
Upstream job id: Generic-VM-Unit-Test-DPDK#30194
Test environment and result as below:
+-------------------------------+----------------+
| Environment | dpdk_unit_test |
+===============================+================+
| CentOS Stream 9 | PASS |
+-------------------------------+----------------+
| Debian GNU/Linux 12 | PASS |
+-------------------------------+----------------+
| CentOS Stream 10 | PASS |
+-------------------------------+----------------+
| Fedora Linux 40 | PASS |
+-------------------------------+----------------+
| Fedora Linux 41 | PASS |
+-------------------------------+----------------+
| Red Hat Enterprise Linux 8.10 | PASS |
+-------------------------------+----------------+
| Red Hat Enterprise Linux 9.5 | PASS |
+-------------------------------+----------------+
| Ubuntu 20.04 | PASS |
+-------------------------------+----------------+
| Ubuntu 22.04 | PASS |
+-------------------------------+----------------+
| Ubuntu 24.04 | PASS |
+-------------------------------+----------------+
| Windows Server 2022 | PASS |
+-------------------------------+----------------+
CentOS Stream 9
Kernel: 5.15
Compiler: gcc gcc (GCC) 11.5.0 20240719 (Red Hat 11.5.0-7)
Debian GNU/Linux 12
Kernel: 5.15
Compiler: gcc gcc (Debian 12.2.0-14+deb12u1) 12.2.0
CentOS Stream 10
Kernel: 5.15
Compiler: gcc gcc (GCC) 14.2.1 20250110 (Red Hat 14.2.1-8)
Fedora Linux 40
Kernel: 5.15
Compiler: gcc gcc (GCC) 14.2.1 20240912 (Red Hat 14.2.1-3)
Fedora Linux 41
Kernel: 5.15
Compiler: gcc gcc (GCC) 14.3.1 20250523 (Red Hat 14.3.1-1)
Red Hat Enterprise Linux 8.10
Kernel: 5.15
Compiler: gcc gcc (GCC) 8.5.0 20210514 (Red Hat 8.5.0-22)
Red Hat Enterprise Linux 9.5
Kernel: 5.15
Compiler: gcc gcc (GCC) 11.5.0 20240719 (Red Hat 11.5.0-2)
Ubuntu 20.04
Kernel: 5.15
Compiler: gcc gcc (Ubuntu 9.4.0-1ubuntu1~20.04.2) 9.4.0
Ubuntu 22.04
Kernel: 5.15
Compiler: gcc gcc (Ubuntu 11.4.0-1ubuntu1~22.04) 11.4.0
Ubuntu 24.04
Kernel: 5.15
Compiler: gcc gcc (Ubuntu 13.3.0-6ubuntu2~24.04) 13.3.0
Windows Server 2022
Kernel: 10.0.20348.2031
Compiler: clang 15.0.7, gcc 14.1.0 (MinGW), and MSVC VS 19.39.33521
To view detailed results, visit:
https://lab.dpdk.org/results/dashboard/patchsets/33758/
UNH-IOL DPDK Community Lab
To manage your email subscriptions, visit:
https://lab.dpdk.org/results/dashboard/preferences/subscriptions/
^ permalink raw reply [flat|nested] 12+ messages in thread
* |SUCCESS| pw155545-155557 [PATCH] [v12,13/13] net/sxe: add virtual f
[not found] <20250728090517.1811244-13-liujie5@linkdatatechnology.com>
` (7 preceding siblings ...)
2025-07-28 17:14 ` dpdklab
@ 2025-07-28 17:26 ` dpdklab
2025-07-28 18:02 ` dpdklab
` (2 subsequent siblings)
11 siblings, 0 replies; 12+ messages in thread
From: dpdklab @ 2025-07-28 17:26 UTC (permalink / raw)
To: Test Report; +Cc: dpdk-test-reports
Test-Label: iol-unit-arm64-testing
Test-Status: SUCCESS
http://dpdk.org/patch/155557
_Testing PASS_
Submitter: Jie Liu <liujie5@linkdatatechnology.com>
Date: Monday, July 28 2025 09:05:17
DPDK git baseline: Repo:dpdk
Branch: master
CommitID:38543d33bd47fc0ee21f59db80a8763620741879
155545-155557 --> testing pass
Upstream job id: Generic-Unit-Test-DPDK#358513
Test environment and result as below:
+------------------------------+------------------------------+---------------------------+--------------+----------------+
| Environment | cryptodev_sw_snow3g_autotest | cryptodev_sw_zuc_autotest | lpm_autotest | dpdk_unit_test |
+==============================+==============================+===========================+==============+================+
| Debian 12 (arm) | PASS | PASS | SKIPPED | SKIPPED |
+------------------------------+------------------------------+---------------------------+--------------+----------------+
| Ubuntu 20.04 | SKIPPED | SKIPPED | PASS | PASS |
+------------------------------+------------------------------+---------------------------+--------------+----------------+
| Debian GNU/Linux 12 | SKIPPED | SKIPPED | SKIPPED | PASS |
+------------------------------+------------------------------+---------------------------+--------------+----------------+
| CentOS Stream 9 | SKIPPED | SKIPPED | SKIPPED | PASS |
+------------------------------+------------------------------+---------------------------+--------------+----------------+
| CentOS Stream 10 | SKIPPED | SKIPPED | SKIPPED | PASS |
+------------------------------+------------------------------+---------------------------+--------------+----------------+
| Fedora Linux 41 | SKIPPED | SKIPPED | SKIPPED | PASS |
+------------------------------+------------------------------+---------------------------+--------------+----------------+
| Red Hat Enterprise Linux 9.5 | SKIPPED | SKIPPED | SKIPPED | PASS |
+------------------------------+------------------------------+---------------------------+--------------+----------------+
| Fedora Linux 40 | SKIPPED | SKIPPED | SKIPPED | PASS |
+------------------------------+------------------------------+---------------------------+--------------+----------------+
| Ubuntu 22.04 | SKIPPED | SKIPPED | SKIPPED | PASS |
+------------------------------+------------------------------+---------------------------+--------------+----------------+
| Ubuntu 24.04 | SKIPPED | SKIPPED | SKIPPED | PASS |
+------------------------------+------------------------------+---------------------------+--------------+----------------+
Debian 12 (arm)
Kernel: Depends on container host
Compiler: gcc (Debian 12.2.0-14) 12.2.0
Ubuntu 20.04
Kernel: 5.4
Compiler: gcc gcc (Ubuntu 9.4.0-1ubuntu1~20.04.2) 9.4.0
Debian GNU/Linux 12
Kernel: 5.4
Compiler: gcc gcc (Debian 12.2.0-14+deb12u1) 12.2.0
CentOS Stream 9
Kernel: 5.4
Compiler: gcc gcc (GCC) 11.5.0 20240719 (Red Hat 11.5.0-7)
CentOS Stream 10
Kernel: 5.4
Compiler: gcc gcc (GCC) 14.2.1 20250110 (Red Hat 14.2.1-8)
Fedora Linux 41
Kernel: 5.4
Compiler: gcc gcc (GCC) 14.3.1 20250523 (Red Hat 14.3.1-1)
Red Hat Enterprise Linux 9.5
Kernel: 5.4
Compiler: gcc gcc (GCC) 11.5.0 20240719 (Red Hat 11.5.0-2)
Fedora Linux 40
Kernel: 5.4
Compiler: clang gcc (GCC) 14.2.1 20240912 (Red Hat 14.2.1-3)
Ubuntu 22.04
Kernel: 5.4
Compiler: gcc gcc (Ubuntu 11.4.0-1ubuntu1~22.04) 11.4.0
Ubuntu 24.04
Kernel: 5.4
Compiler: gcc gcc (Ubuntu 13.3.0-6ubuntu2~24.04) 13.3.0
To view detailed results, visit:
https://lab.dpdk.org/results/dashboard/patchsets/33758/
UNH-IOL DPDK Community Lab
To manage your email subscriptions, visit:
https://lab.dpdk.org/results/dashboard/preferences/subscriptions/
^ permalink raw reply [flat|nested] 12+ messages in thread
* |SUCCESS| pw155545-155557 [PATCH] [v12,13/13] net/sxe: add virtual f
[not found] <20250728090517.1811244-13-liujie5@linkdatatechnology.com>
` (8 preceding siblings ...)
2025-07-28 17:26 ` dpdklab
@ 2025-07-28 18:02 ` dpdklab
2025-07-28 18:35 ` |PENDING| " dpdklab
2025-07-28 19:59 ` |WARNING| " dpdklab
11 siblings, 0 replies; 12+ messages in thread
From: dpdklab @ 2025-07-28 18:02 UTC (permalink / raw)
To: Test Report; +Cc: dpdk-test-reports
Test-Label: iol-unit-amd64-testing
Test-Status: SUCCESS
http://dpdk.org/patch/155557
_Testing PASS_
Submitter: Jie Liu <liujie5@linkdatatechnology.com>
Date: Monday, July 28 2025 09:05:17
DPDK git baseline: Repo:dpdk
Branch: master
CommitID:38543d33bd47fc0ee21f59db80a8763620741879
155545-155557 --> testing pass
Upstream job id: Generic-VM-Unit-Test-DPDK#30195
Test environment and result as below:
+-------------------------------+----------------+
| Environment | dpdk_unit_test |
+===============================+================+
| CentOS Stream 9 | PASS |
+-------------------------------+----------------+
| Debian GNU/Linux 12 | PASS |
+-------------------------------+----------------+
| CentOS Stream 10 | PASS |
+-------------------------------+----------------+
| Fedora Linux 40 | PASS |
+-------------------------------+----------------+
| Fedora Linux 41 | PASS |
+-------------------------------+----------------+
| Red Hat Enterprise Linux 8.10 | PASS |
+-------------------------------+----------------+
| Red Hat Enterprise Linux 9.5 | PASS |
+-------------------------------+----------------+
| Ubuntu 20.04 | PASS |
+-------------------------------+----------------+
| Ubuntu 22.04 | PASS |
+-------------------------------+----------------+
| Ubuntu 24.04 | PASS |
+-------------------------------+----------------+
| Windows Server 2022 | PASS |
+-------------------------------+----------------+
CentOS Stream 9
Kernel: 5.15
Compiler: gcc gcc (GCC) 11.5.0 20240719 (Red Hat 11.5.0-7)
Debian GNU/Linux 12
Kernel: 5.15
Compiler: gcc gcc (Debian 12.2.0-14+deb12u1) 12.2.0
CentOS Stream 10
Kernel: 5.15
Compiler: gcc gcc (GCC) 14.2.1 20250110 (Red Hat 14.2.1-8)
Fedora Linux 40
Kernel: 5.15
Compiler: gcc gcc (GCC) 14.2.1 20240912 (Red Hat 14.2.1-3)
Fedora Linux 41
Kernel: 5.15
Compiler: gcc gcc (GCC) 14.3.1 20250523 (Red Hat 14.3.1-1)
Red Hat Enterprise Linux 8.10
Kernel: 5.15
Compiler: gcc gcc (GCC) 8.5.0 20210514 (Red Hat 8.5.0-22)
Red Hat Enterprise Linux 9.5
Kernel: 5.15
Compiler: gcc gcc (GCC) 11.5.0 20240719 (Red Hat 11.5.0-2)
Ubuntu 20.04
Kernel: 5.15
Compiler: gcc gcc (Ubuntu 9.4.0-1ubuntu1~20.04.2) 9.4.0
Ubuntu 22.04
Kernel: 5.15
Compiler: gcc gcc (Ubuntu 11.4.0-1ubuntu1~22.04) 11.4.0
Ubuntu 24.04
Kernel: 5.15
Compiler: gcc gcc (Ubuntu 13.3.0-6ubuntu2~24.04) 13.3.0
Windows Server 2022
Kernel: 10.0.20348.2031
Compiler: clang 15.0.7, gcc 14.1.0 (MinGW), and MSVC VS 19.39.33521
To view detailed results, visit:
https://lab.dpdk.org/results/dashboard/patchsets/33758/
UNH-IOL DPDK Community Lab
To manage your email subscriptions, visit:
https://lab.dpdk.org/results/dashboard/preferences/subscriptions/
^ permalink raw reply [flat|nested] 12+ messages in thread
* |PENDING| pw155545-155557 [PATCH] [v12,13/13] net/sxe: add virtual f
[not found] <20250728090517.1811244-13-liujie5@linkdatatechnology.com>
` (9 preceding siblings ...)
2025-07-28 18:02 ` dpdklab
@ 2025-07-28 18:35 ` dpdklab
2025-07-28 19:59 ` |WARNING| " dpdklab
11 siblings, 0 replies; 12+ messages in thread
From: dpdklab @ 2025-07-28 18:35 UTC (permalink / raw)
To: Test Report; +Cc: dpdk-test-reports
Test-Label: iol-compile-arm64-testing
Test-Status: PENDING
http://dpdk.org/patch/155557
_Testing pending_
Submitter: Jie Liu <liujie5@linkdatatechnology.com>
Date: Monday, July 28 2025 09:05:17
DPDK git baseline: Repo:dpdk
Branch: master
CommitID:38543d33bd47fc0ee21f59db80a8763620741879
155545-155557 --> testing pending
Upstream job id: Generic-DPDK-Compile-Meson#412534
Test environment and result as below:
+------------------------------+--------------------+
| Environment | dpdk_meson_compile |
+==============================+====================+
| Red Hat Enterprise Linux 9.5 | PEND |
+------------------------------+--------------------+
| Ubuntu 20.04 | PEND |
+------------------------------+--------------------+
| Debian GNU/Linux 12 | PEND |
+------------------------------+--------------------+
| Fedora Linux 41 | PEND |
+------------------------------+--------------------+
| Ubuntu 22.04 | PEND |
+------------------------------+--------------------+
| Ubuntu 24.04 | PEND |
+------------------------------+--------------------+
| CentOS Stream 9 | PEND |
+------------------------------+--------------------+
| Fedora Linux 40 | PEND |
+------------------------------+--------------------+
| CentOS Stream 10 | PEND |
+------------------------------+--------------------+
Red Hat Enterprise Linux 9.5
Kernel: 5.4
Compiler: gcc gcc (GCC) 11.5.0 20240719 (Red Hat 11.5.0-2)
Ubuntu 20.04
Kernel: 5.4
Compiler: gcc gcc (Ubuntu 9.4.0-1ubuntu1~20.04.2) 9.4.0
Debian GNU/Linux 12
Kernel: 5.4
Compiler: gcc gcc (Debian 12.2.0-14+deb12u1) 12.2.0
Fedora Linux 41
Kernel: 5.4
Compiler: gcc gcc (GCC) 14.3.1 20250523 (Red Hat 14.3.1-1)
Ubuntu 22.04
Kernel: 5.4
Compiler: gcc gcc (Ubuntu 11.4.0-1ubuntu1~22.04) 11.4.0
Ubuntu 24.04
Kernel: 5.4
Compiler: gcc gcc (Ubuntu 13.3.0-6ubuntu2~24.04) 13.3.0
CentOS Stream 9
Kernel: 5.4
Compiler: gcc gcc (GCC) 11.5.0 20240719 (Red Hat 11.5.0-7)
Fedora Linux 40
Kernel: 5.4
Compiler: clang gcc (GCC) 14.2.1 20240912 (Red Hat 14.2.1-3)
CentOS Stream 10
Kernel: 5.4
Compiler: gcc gcc (GCC) 14.2.1 20250110 (Red Hat 14.2.1-8)
To view detailed results, visit:
https://lab.dpdk.org/results/dashboard/patchsets/33758/
UNH-IOL DPDK Community Lab
To manage your email subscriptions, visit:
https://lab.dpdk.org/results/dashboard/preferences/subscriptions/
^ permalink raw reply [flat|nested] 12+ messages in thread
* |WARNING| pw155545-155557 [PATCH] [v12,13/13] net/sxe: add virtual f
[not found] <20250728090517.1811244-13-liujie5@linkdatatechnology.com>
` (10 preceding siblings ...)
2025-07-28 18:35 ` |PENDING| " dpdklab
@ 2025-07-28 19:59 ` dpdklab
11 siblings, 0 replies; 12+ messages in thread
From: dpdklab @ 2025-07-28 19:59 UTC (permalink / raw)
To: Test Report; +Cc: dpdk-test-reports
Test-Label: iol-sample-apps-testing
Test-Status: WARNING
http://dpdk.org/patch/155557
_Testing issues_
Submitter: Jie Liu <liujie5@linkdatatechnology.com>
Date: Monday, July 28 2025 09:05:17
DPDK git baseline: Repo:dpdk
Branch: master
CommitID:38543d33bd47fc0ee21f59db80a8763620741879
155545-155557 --> testing issues
Upstream job id: ACVP-FIPS-testing#10628
Test environment and result as below:
+--------------+----------------------+
| Environment | dpdk_fips_validation |
+==============+======================+
| Ubuntu 20.04 | WARN |
+--------------+----------------------+
==== 20 line log output for Ubuntu 20.04 (dpdk_fips_validation): ====
INFO:root:Vector set verdict not ready, waiting 30 seconds...
INFO:root:Vector set verdict not ready, waiting 30 seconds...
INFO:root:Done
INFO:root:Using response file...
INFO:root:Uploading response file...
INFO:root:Fetching verdict...
INFO:root:Downloading verdict for vector set 3264565
INFO:root:Vector set verdict not ready, waiting 30 seconds...
INFO:root:Vector set verdict not ready, waiting 30 seconds...
INFO:root:Vector set verdict not ready, waiting 30 seconds...
INFO:root:Vector set verdict not ready, waiting 30 seconds...
INFO:root:Vector set verdict not ready, waiting 30 seconds...
INFO:root:Vector set verdict not ready, waiting 30 seconds...
INFO:root:Vector set verdict not ready, waiting 30 seconds...
INFO:root:Vector set verdict not ready, waiting 30 seconds...
INFO:root:Vector set verdict not ready, waiting 30 seconds...
INFO:root:Vector set verdict not ready, waiting 30 seconds...
INFO:root:Vector set verdict not ready, waiting 30 seconds...
INFO:root:Vector set verdict not ready, waiting 30 seconds...
INFO:root:Done
==== End log output ====
Ubuntu 20.04
Kernel: 5.15
Compiler: gcc gcc (Ubuntu 9.4.0-1ubuntu1~20.04.2) 9.4.0
To view detailed results, visit:
https://lab.dpdk.org/results/dashboard/patchsets/33758/
UNH-IOL DPDK Community Lab
To manage your email subscriptions, visit:
https://lab.dpdk.org/results/dashboard/preferences/subscriptions/
^ permalink raw reply [flat|nested] 12+ messages in thread
end of thread, other threads:[~2025-07-28 19:59 UTC | newest]
Thread overview: 12+ messages (download: mbox.gz / follow: Atom feed)
-- links below jump to the message on this page --
[not found] <20250728090517.1811244-13-liujie5@linkdatatechnology.com>
2025-07-28 8:36 ` |SUCCESS| pw155545-155557 [PATCH v12 13/13] net/sxe: add virtual function qemudev
2025-07-28 8:40 ` qemudev
2025-07-28 9:09 ` |WARNING| pw155557 " checkpatch
2025-07-28 10:24 ` |SUCCESS| " 0-day Robot
2025-07-28 16:14 ` |PENDING| pw155545-155557 [PATCH] [v12,13/13] net/sxe: add virtual f dpdklab
2025-07-28 16:17 ` dpdklab
2025-07-28 16:46 ` |SUCCESS| " dpdklab
2025-07-28 17:14 ` dpdklab
2025-07-28 17:26 ` dpdklab
2025-07-28 18:02 ` dpdklab
2025-07-28 18:35 ` |PENDING| " dpdklab
2025-07-28 19:59 ` |WARNING| " dpdklab
This is a public inbox, see mirroring instructions
for how to clone and mirror all data and code used for this inbox;
as well as URLs for NNTP newsgroup(s).