automatic DPDK test reports
 help / color / mirror / Atom feed
From: qemudev@loongson.cn
To: test-report@dpdk.org
Subject: |SUCCESS| pw156946-156952 [PATCH v4 7/7] power: separate public and driver headers
Date: Thu, 25 Sep 2025 19:59:57 +0800	[thread overview]
Message-ID: <202509251159.58PBxvqb825013@localhost.localdomain> (raw)
In-Reply-To: <20250925123150.3063298-8-david.marchand@redhat.com>

Test-Label: loongarch-compilation
Test-Status: SUCCESS
http://dpdk.org/patch/156952

_Compilation OK_

Submitter: David Marchand <david.marchand@redhat.com>
Date: Thu, 25 Sep 2025 14:31:43 +0200
DPDK git baseline: Repo:dpdk
  Branch: main
  CommitID: 441861b4a30e6b6b6aca07367dd487657b1f50e8

156946-156952 --> meson & ninja build successfully

Test environment and result as below:

+---------------------+----------------+
|     Environment     | compilation    |
+---------------------+----------------+
| Loongnix-Server 8.3 | PASS           |
+---------------------+----------------+

Loongnix-Server 8.3
    Kernel: 4.19.190+
    Compiler: gcc 8.3


       reply	other threads:[~2025-09-25 12:36 UTC|newest]

Thread overview: 23+ messages / expand[flat|nested]  mbox.gz  Atom feed  top
     [not found] <20250925123150.3063298-8-david.marchand@redhat.com>
2025-09-25 11:59 ` qemudev [this message]
2025-09-25 12:04 ` qemudev
2025-09-25 12:31 ` |SUCCESS| pw156952 " checkpatch
2025-09-25 13:03 ` |PENDING| pw156946-156952 [PATCH] [v4,7/7] power: separate public an dpdklab
2025-09-25 13:06 ` |SUCCESS| " dpdklab
2025-09-25 13:10 ` dpdklab
2025-09-25 13:15 ` |PENDING| " dpdklab
2025-09-25 13:16 ` dpdklab
2025-09-25 13:24 ` |SUCCESS| " dpdklab
2025-09-25 13:27 ` dpdklab
2025-09-25 13:27 ` dpdklab
2025-09-25 13:36 ` |PENDING| " dpdklab
2025-09-25 13:43 ` |WARNING| " dpdklab
2025-09-25 13:53 ` |SUCCESS| " dpdklab
2025-09-25 13:58 ` |SUCCESS| pw156952 [PATCH v4 7/7] power: separate public and driver headers 0-day Robot
2025-09-25 13:58 ` 0-day Robot
2025-09-25 13:58 ` |SUCCESS| pw156946-156952 [PATCH] [v4,7/7] power: separate public an dpdklab
2025-09-25 14:04 ` |WARNING| " dpdklab
2025-09-25 14:07 ` |SUCCESS| " dpdklab
2025-09-25 14:30 ` dpdklab
2025-09-25 17:45 ` dpdklab
2025-09-26  6:48 ` dpdklab
2025-09-27  3:43 ` dpdklab

Reply instructions:

You may reply publicly to this message via plain-text email
using any one of the following methods:

* Save the following mbox file, import it into your mail client,
  and reply-to-all from there: mbox

  Avoid top-posting and favor interleaved quoting:
  https://en.wikipedia.org/wiki/Posting_style#Interleaved_style

* Reply using the --to, --cc, and --in-reply-to
  switches of git-send-email(1):

  git send-email \
    --in-reply-to=202509251159.58PBxvqb825013@localhost.localdomain \
    --to=qemudev@loongson.cn \
    --cc=test-report@dpdk.org \
    /path/to/YOUR_REPLY

  https://kernel.org/pub/software/scm/git/docs/git-send-email.html

* If your mail client supports setting the In-Reply-To header
  via mailto: links, try the mailto: link
Be sure your reply has a Subject: header at the top and a blank line before the message body.
This is a public inbox, see mirroring instructions
for how to clone and mirror all data and code used for this inbox;
as well as URLs for NNTP newsgroup(s).