automatic DPDK test reports
 help / color / mirror / Atom feed
* |SUCCESS| pw157297 [PATCH] net/intel/e1000: reduce the optimization level for gcc > 11
       [not found] <20251006124506.388456-1-thierry.herbelot@6wind.com>
@ 2025-10-06 12:11 ` qemudev
  2025-10-06 12:16 ` qemudev
                   ` (18 subsequent siblings)
  19 siblings, 0 replies; 20+ messages in thread
From: qemudev @ 2025-10-06 12:11 UTC (permalink / raw)
  To: test-report

Test-Label: loongarch-compilation
Test-Status: SUCCESS
http://dpdk.org/patch/157297

_Compilation OK_

Submitter: Thierry Herbelot <thierry.herbelot@6wind.com>
Date: Mon,  6 Oct 2025 14:45:06 +0200
DPDK git baseline: Repo:dpdk-next-net-intel
  Branch: main
  CommitID: e7d8cc7ef4df3552575525697079d3c957cfcdaf

157297 --> meson & ninja build successfully

Test environment and result as below:

+---------------------+----------------+
|     Environment     | compilation    |
+---------------------+----------------+
| Loongnix-Server 8.3 | PASS           |
+---------------------+----------------+

Loongnix-Server 8.3
    Kernel: 4.19.190+
    Compiler: gcc 8.3


^ permalink raw reply	[flat|nested] 20+ messages in thread

* |SUCCESS| pw157297 [PATCH] net/intel/e1000: reduce the optimization level for gcc > 11
       [not found] <20251006124506.388456-1-thierry.herbelot@6wind.com>
  2025-10-06 12:11 ` |SUCCESS| pw157297 [PATCH] net/intel/e1000: reduce the optimization level for gcc > 11 qemudev
@ 2025-10-06 12:16 ` qemudev
  2025-10-06 12:46 ` |WARNING| " checkpatch
                   ` (17 subsequent siblings)
  19 siblings, 0 replies; 20+ messages in thread
From: qemudev @ 2025-10-06 12:16 UTC (permalink / raw)
  To: test-report

Test-Label: loongarch-unit-testing
Test-Status: SUCCESS
http://dpdk.org/patch/157297

_Unit Testing PASS_

Submitter: Thierry Herbelot <thierry.herbelot@6wind.com>
Date: Mon,  6 Oct 2025 14:45:06 +0200
DPDK git baseline: Repo:dpdk-next-net-intel
  Branch: main
  CommitID: e7d8cc7ef4df3552575525697079d3c957cfcdaf

157297 --> testing pass

Test environment and result as below:

+---------------------+----------------+
|     Environment     | dpdk_unit_test |
+---------------------+----------------+
| Loongnix-Server 8.3 | PASS           |
+---------------------+----------------+

Loongnix-Server 8.3
    Kernel: 4.19.190+
    Compiler: gcc 8.3


Test result details:
  1/120 DPDK:fast-tests / acl_autotest                            OK              3.26s
  2/120 DPDK:fast-tests / alarm_autotest                          OK              1.61s
  3/120 DPDK:fast-tests / argparse_autotest                       OK              0.61s
  4/120 DPDK:fast-tests / atomic_autotest                         OK              7.30s
  5/120 DPDK:fast-tests / bitcount_autotest                       OK              0.63s
  6/120 DPDK:fast-tests / bitmap_autotest                         OK              0.62s
  7/120 DPDK:fast-tests / bitops_autotest                         OK              2.10s
  8/120 DPDK:fast-tests / bitratestats_autotest                   OK              0.58s
  9/120 DPDK:fast-tests / bitset_autotest                         OK              3.39s
 10/120 DPDK:fast-tests / bpf_autotest                            OK              0.60s
 11/120 DPDK:fast-tests / bpf_convert_autotest                    OK              0.62s
 12/120 DPDK:fast-tests / byteorder_autotest                      OK              0.61s
 13/120 DPDK:fast-tests / cfgfile_autotest                        OK              0.61s
 14/120 DPDK:fast-tests / cksum_autotest                          OK              0.61s
 15/120 DPDK:fast-tests / cmdline_autotest                        OK              0.61s
 16/120 DPDK:fast-tests / common_autotest                         OK              1.50s
 17/120 DPDK:fast-tests / compressdev_autotest                    SKIP            0.07s   exit status 77
 18/120 DPDK:fast-tests / cpuflags_autotest                       OK              0.62s
 19/120 DPDK:fast-tests / crc_autotest                            OK              0.61s
 20/120 DPDK:fast-tests / user_delay_us                           OK              0.59s
 21/120 DPDK:fast-tests / debug_autotest                          OK             19.29s
 22/120 DPDK:fast-tests / devargs_autotest                        OK              0.62s
 23/120 DPDK:fast-tests / dispatcher_autotest                     OK              2.52s
 24/120 DPDK:fast-tests / distributor_autotest                    OK              1.21s
 25/120 DPDK:fast-tests / eal_flags_c_opt_autotest                OK              0.79s
 26/120 DPDK:fast-tests / eal_flags_main_opt_autotest             OK              0.23s
 27/120 DPDK:fast-tests / eal_flags_n_opt_autotest                OK              0.21s
 28/120 DPDK:fast-tests / eal_flags_hpet_autotest                 OK              0.14s
 29/120 DPDK:fast-tests / eal_flags_no_huge_autotest              OK              0.23s
 30/120 DPDK:fast-tests / eal_flags_a_opt_autotest                OK              0.30s
 31/120 DPDK:fast-tests / eal_flags_b_opt_autotest                OK              0.25s
 32/120 DPDK:fast-tests / eal_flags_vdev_opt_autotest             OK              0.20s
 33/120 DPDK:fast-tests / eal_flags_r_opt_autotest                OK              0.19s
 34/120 DPDK:fast-tests / eal_flags_mem_autotest                  OK              0.60s
 35/120 DPDK:fast-tests / eal_flags_file_prefix_autotest          OK             22.28s
 36/120 DPDK:fast-tests / eal_flags_misc_autotest                 OK              1.05s
 37/120 DPDK:fast-tests / eal_fs_autotest                         OK              0.43s
 38/120 DPDK:fast-tests / errno_autotest                          OK              0.43s
 39/120 DPDK:fast-tests / ethdev_link_status                      OK              0.43s
 40/120 DPDK:fast-tests / event_eth_tx_adapter_autotest           OK              1.69s
 41/120 DPDK:fast-tests / event_ring_autotest                     OK              0.44s
 42/120 DPDK:fast-tests / eventdev_common_autotest                OK              0.44s
 43/120 DPDK:fast-tests / eventdev_selftest_sw                    OK              7.20s
 44/120 DPDK:fast-tests / fbarray_autotest                        OK              0.44s
 45/120 DPDK:fast-tests / fib_autotest                            OK              1.48s
 46/120 DPDK:fast-tests / fib6_autotest                           OK              1.27s
 47/120 DPDK:fast-tests / func_reentrancy_autotest                OK              2.33s
 48/120 DPDK:fast-tests / graph_autotest                          OK              0.31s
 49/120 DPDK:fast-tests / node_list_dump                          OK              0.30s
 50/120 DPDK:fast-tests / graph_feature_arc_autotest              OK              0.31s
 51/120 DPDK:fast-tests / hash_autotest                           OK              0.93s
 52/120 DPDK:fast-tests / hash_readwrite_func_autotest            OK              6.37s
 53/120 DPDK:fast-tests / interrupt_autotest                      OK              1.61s
 54/120 DPDK:fast-tests / ipfrag_autotest                         OK              0.07s
 55/120 DPDK:fast-tests / ipsec_autotest                          SKIP            0.31s   exit status 77
 56/120 DPDK:fast-tests / kvargs_autotest                         OK              0.31s
 57/120 DPDK:fast-tests / latencystats_autotest                   OK              0.31s
 58/120 DPDK:fast-tests / lcore_var_autotest                      OK              0.45s
 59/120 DPDK:fast-tests / lcores_autotest                         OK              5.12s
 60/120 DPDK:fast-tests / logs_autotest                           OK              0.31s
 61/120 DPDK:fast-tests / lpm_autotest                            OK              2.35s
 62/120 DPDK:fast-tests / lpm6_autotest                           OK              5.48s
 63/120 DPDK:fast-tests / malloc_autotest                         OK             62.10s
 64/120 DPDK:fast-tests / mbuf_autotest                           OK              4.86s
 65/120 DPDK:fast-tests / mcslock_autotest                        OK              2.67s
 66/120 DPDK:fast-tests / member_autotest                         OK              1.51s
 67/120 DPDK:fast-tests / memcpy_autotest                         OK              7.02s
 68/120 DPDK:fast-tests / memory_autotest                         OK              0.08s
 69/120 DPDK:fast-tests / mempool_autotest                        OK              0.43s
 70/120 DPDK:fast-tests / memzone_autotest                        OK              0.14s
 71/120 DPDK:fast-tests / meter_autotest                          OK              0.30s
 72/120 DPDK:fast-tests / metrics_autotest                        OK              0.31s
 73/120 DPDK:fast-tests / multiprocess_autotest                   OK              0.18s
 74/120 DPDK:fast-tests / net_ether_autotest                      OK              0.96s
 75/120 DPDK:fast-tests / net_ipv6_autotest                       OK              0.31s
 76/120 DPDK:fast-tests / pcapng_autotest                         OK              7.26s
 77/120 DPDK:fast-tests / pdcp_autotest                           SKIP            0.06s   exit status 77
 78/120 DPDK:fast-tests / pdump_autotest                          OK              0.42s
 79/120 DPDK:fast-tests / per_lcore_autotest                      OK              0.41s
 80/120 DPDK:fast-tests / pflock_autotest                         OK              1.11s
 81/120 DPDK:fast-tests / pie_autotest                            OK              0.31s
 82/120 DPDK:fast-tests / ring_pmd_autotest                       OK              0.31s
 83/120 DPDK:fast-tests / power_autotest                          OK              0.31s
 84/120 DPDK:fast-tests / power_cpufreq_autotest                  SKIP            0.06s   exit status 77
 85/120 DPDK:fast-tests / power_intel_uncore_autotest             SKIP            0.30s   exit status 77
 86/120 DPDK:fast-tests / power_kvm_vm_autotest                   SKIP            0.06s   exit status 77
 87/120 DPDK:fast-tests / prefetch_autotest                       OK              0.62s
 88/120 DPDK:fast-tests / ptr_compress_autotest                   OK              0.50s
 89/120 DPDK:fast-tests / rawdev_autotest                         OK              0.50s
 90/120 DPDK:fast-tests / rcu_qsbr_autotest                       OK              1.01s
 91/120 DPDK:fast-tests / reorder_autotest                        OK              0.55s
 92/120 DPDK:fast-tests / rib_autotest                            OK              9.14s
 93/120 DPDK:fast-tests / rib6_autotest                           OK              9.13s
 94/120 DPDK:fast-tests / ring_autotest                           OK              0.53s
 95/120 DPDK:fast-tests / rwlock_test1_autotest                   OK              1.24s
 96/120 DPDK:fast-tests / rwlock_rda_autotest                     OK              5.50s
 97/120 DPDK:fast-tests / rwlock_rds_wrm_autotest                 OK              5.50s
 98/120 DPDK:fast-tests / rwlock_rde_wro_autotest                 OK              5.50s
 99/120 DPDK:fast-tests / sched_autotest                          OK              0.50s
100/120 DPDK:fast-tests / security_autotest                       OK              0.06s
101/120 DPDK:fast-tests / seqlock_autotest                        OK              2.31s
102/120 DPDK:fast-tests / service_autotest                        OK              3.01s
103/120 DPDK:fast-tests / soring_autotest                         OK              0.31s
104/120 DPDK:fast-tests / spinlock_autotest                       OK              0.38s
105/120 DPDK:fast-tests / stack_autotest                          OK              0.86s
106/120 DPDK:fast-tests / stack_lf_autotest                       SKIP            0.05s   exit status 77
107/120 DPDK:fast-tests / string_autotest                         OK              0.30s
108/120 DPDK:fast-tests / table_autotest                          OK              7.49s
109/120 DPDK:fast-tests / tailq_autotest                          OK              0.30s
110/120 DPDK:fast-tests / telemetry_data_autotest                 OK              0.31s
111/120 DPDK:fast-tests / telemetry_json_autotest                 OK              0.31s
112/120 DPDK:fast-tests / thash_autotest                          OK              0.32s
113/120 DPDK:fast-tests / threads_autotest                        OK              0.49s
114/120 DPDK:fast-tests / ticketlock_autotest                     OK              0.46s
115/120 DPDK:fast-tests / timer_autotest                          OK              3.86s
116/120 DPDK:fast-tests / trace_autotest                          OK              0.53s
117/120 DPDK:fast-tests / trace_autotest_with_traces              OK              0.42s
118/120 DPDK:fast-tests / vdev_autotest                           OK              0.41s
119/120 DPDK:fast-tests / version_autotest                        OK              0.42s
120/120 DPDK:fast-tests / telemetry_all                           OK             20.06s


Ok:                 113
Expected Fail:      0
Fail:               0
Unexpected Pass:    0
Skipped:            7
Timeout:            0


^ permalink raw reply	[flat|nested] 20+ messages in thread

* |WARNING| pw157297 [PATCH] net/intel/e1000: reduce the optimization level for gcc > 11
       [not found] <20251006124506.388456-1-thierry.herbelot@6wind.com>
  2025-10-06 12:11 ` |SUCCESS| pw157297 [PATCH] net/intel/e1000: reduce the optimization level for gcc > 11 qemudev
  2025-10-06 12:16 ` qemudev
@ 2025-10-06 12:46 ` checkpatch
  2025-10-06 13:09 ` |PENDING| pw157297 [PATCH] net/intel/e1000: reduce the optimization dpdklab
                   ` (16 subsequent siblings)
  19 siblings, 0 replies; 20+ messages in thread
From: checkpatch @ 2025-10-06 12:46 UTC (permalink / raw)
  To: test-report; +Cc: Thierry Herbelot

Test-Label: checkpatch
Test-Status: WARNING
http://dpdk.org/patch/157297

_coding style issues_


WARNING:COMMIT_LOG_LONG_LINE: Prefer a maximum 75 chars per line (possible unwrapped commit description?)
#100: 
#0  rte_read32_relaxed (addr=0x1100800e00) at ../sources/lib/eal/include/generic/rte_io.h:290

WARNING:COMMIT_COMMENT_SYMBOL: Commit log lines starting with '#' are dropped by git as comments
#100: 
#0  rte_read32_relaxed (addr=0x1100800e00) at ../sources/lib/eal/include/generic/rte_io.h:290

WARNING:COMMIT_COMMENT_SYMBOL: Commit log lines starting with '#' are dropped by git as comments
#101: 
#1  rte_read32 (addr=0x1100800e00) at ../sources/lib/eal/include/generic/rte_io.h:345

WARNING:COMMIT_COMMENT_SYMBOL: Commit log lines starting with '#' are dropped by git as comments
#102: 
#2  e1000_read_addr (addr=0x1100800e00) at ../sources/drivers/net/intel/e1000/base/e1000_osdep.h:106

WARNING:COMMIT_COMMENT_SYMBOL: Commit log lines starting with '#' are dropped by git as comments
#103: 
#3  e1000_id_led_init_generic (hw=0x1586788c0) at ../sources/drivers/net/intel/e1000/base/e1000_mac.c:1844

WARNING:COMMIT_COMMENT_SYMBOL: Commit log lines starting with '#' are dropped by git as comments
#104: 
#4  0x000062aaf653c85f in e1000_init_hw_82540 (hw=0x1586788c0)

WARNING:COMMIT_COMMENT_SYMBOL: Commit log lines starting with '#' are dropped by git as comments
#106: 
#5  0x000062aaf6db8227 in em_hardware_init (hw=hw@entry=0x1586788c0)

WARNING:COMMIT_COMMENT_SYMBOL: Commit log lines starting with '#' are dropped by git as comments
#108: 
#6  0x000062aaf65340ff in em_hw_init (hw=0x1586788c0) at ../sources/drivers/net/intel/e1000/em_ethdev.c:445

WARNING:COMMIT_COMMENT_SYMBOL: Commit log lines starting with '#' are dropped by git as comments
#109: 
#7  eth_em_dev_init (eth_dev=eth_dev@entry=0x62aaff346000 <rte_eth_devices>)

WARNING:COMMIT_COMMENT_SYMBOL: Commit log lines starting with '#' are dropped by git as comments
#111: 
#8  0x000062aaf6db8b71 in rte_eth_dev_pci_generic_probe (private_data_size=11240,

WARNING:COMMIT_COMMENT_SYMBOL: Commit log lines starting with '#' are dropped by git as comments
#113: 
#9  eth_em_pci_probe (pci_drv=<optimized out>, pci_dev=0x62ab2853dd90)

WARNING:COMMIT_COMMENT_SYMBOL: Commit log lines starting with '#' are dropped by git as comments
#115: 
#10 0x000062aaf646adf5 in rte_pci_probe_one_driver (dr=dr@entry=0x62aaf82d8020 <rte_em_pmd>,

WARNING:COMMIT_COMMENT_SYMBOL: Commit log lines starting with '#' are dropped by git as comments
#117: 
#11 0x000062aaf6a15f7d in pci_probe_all_drivers (dev=0x62ab2853dd90) at ../sources/drivers/bus/pci/pci_common.c:383

WARNING:COMMIT_COMMENT_SYMBOL: Commit log lines starting with '#' are dropped by git as comments
#118: 
#12 pci_probe () at ../sources/drivers/bus/pci/pci_common.c:410

WARNING:COMMIT_COMMENT_SYMBOL: Commit log lines starting with '#' are dropped by git as comments
#119: 
#13 0x000062aaf7a485f3 in rte_bus_probe () at ../sources/lib/eal/common/eal_common_bus.c:84

WARNING:COMMIT_COMMENT_SYMBOL: Commit log lines starting with '#' are dropped by git as comments
#120: 
#14 0x000062aaf670585d in rte_eal_init (argc=argc@entry=146, argv=argv@entry=0x7fffca468898)

WARNING:TYPO_SPELLING: 'uner' may be misspelled - perhaps 'under'?
#123: 
The crash is linked to the use of gcc-13: uner Ubuntu-24.04 testpmd
                                          ^^^^

total: 0 errors, 17 warnings, 0 checks, 15 lines checked

^ permalink raw reply	[flat|nested] 20+ messages in thread

* |PENDING| pw157297 [PATCH] net/intel/e1000: reduce the optimization
       [not found] <20251006124506.388456-1-thierry.herbelot@6wind.com>
                   ` (2 preceding siblings ...)
  2025-10-06 12:46 ` |WARNING| " checkpatch
@ 2025-10-06 13:09 ` dpdklab
  2025-10-06 13:11 ` dpdklab
                   ` (15 subsequent siblings)
  19 siblings, 0 replies; 20+ messages in thread
From: dpdklab @ 2025-10-06 13:09 UTC (permalink / raw)
  To: Test Report; +Cc: dpdk-test-reports

Test-Label: iol-compile-amd64-testing
Test-Status: PENDING
http://dpdk.org/patch/157297

_Testing pending_

Submitter: Thierry Herbelot <thierry.herbelot@6wind.com>
Date: Monday, October 06 2025 12:45:06 
DPDK git baseline: Repo:dpdk-next-net-intel
  Branch: master
  CommitID:e7d8cc7ef4df3552575525697079d3c957cfcdaf

157297 --> testing pending

Upstream job id: Generic-VM-DPDK-Compile-Meson#38810

Test environment and result as below:

+---------------------+--------------------+-------------------------+-------------------+
|     Environment     | dpdk_meson_compile | dpdk_llvm_clang_compile | dpdk_msvc_compile |
+=====================+====================+=========================+===================+
| Ubuntu 20.04        | PASS               | SKIPPED                 | SKIPPED           |
+---------------------+--------------------+-------------------------+-------------------+
| FreeBSD 14.2        | PEND               | SKIPPED                 | SKIPPED           |
+---------------------+--------------------+-------------------------+-------------------+
| Windows Server 2022 | SKIPPED            | PEND                    | PEND              |
+---------------------+--------------------+-------------------------+-------------------+


Ubuntu 20.04
	Kernel: 4.19
	Compiler: gcc gcc (Ubuntu 9.4.0-1ubuntu1~20.04.2) 9.4.0

FreeBSD 14.2
	Kernel: 14.2-RELEASE
	Compiler: clang 18.1.6

Windows Server 2022
	Kernel: 10.0.20348.2031
	Compiler: clang 15.0.7, gcc 14.1.0 (MinGW), and MSVC VS 19.39.33521

To view detailed results, visit:
https://lab.dpdk.org/results/dashboard/patchsets/34222/

UNH-IOL DPDK Community Lab

To manage your email subscriptions, visit: 
https://lab.dpdk.org/results/dashboard/preferences/subscriptions/

^ permalink raw reply	[flat|nested] 20+ messages in thread

* |PENDING| pw157297 [PATCH] net/intel/e1000: reduce the optimization
       [not found] <20251006124506.388456-1-thierry.herbelot@6wind.com>
                   ` (3 preceding siblings ...)
  2025-10-06 13:09 ` |PENDING| pw157297 [PATCH] net/intel/e1000: reduce the optimization dpdklab
@ 2025-10-06 13:11 ` dpdklab
  2025-10-06 13:13 ` |SUCCESS| " dpdklab
                   ` (14 subsequent siblings)
  19 siblings, 0 replies; 20+ messages in thread
From: dpdklab @ 2025-10-06 13:11 UTC (permalink / raw)
  To: Test Report; +Cc: dpdk-test-reports

Test-Label: iol-unit-amd64-testing
Test-Status: PENDING
http://dpdk.org/patch/157297

_Testing pending_

Submitter: Thierry Herbelot <thierry.herbelot@6wind.com>
Date: Monday, October 06 2025 12:45:06 
DPDK git baseline: Repo:dpdk-next-net-intel
  Branch: master
  CommitID:e7d8cc7ef4df3552575525697079d3c957cfcdaf

157297 --> testing pending

Upstream job id: Generic-Unit-Test-DPDK#378862

Test environment and result as below:

+-------------------------------+----------------+
|          Environment          | dpdk_unit_test |
+===============================+================+
| Fedora Linux 41               | PEND           |
+-------------------------------+----------------+
| Debian GNU/Linux 12           | PEND           |
+-------------------------------+----------------+
| Fedora Linux 40               | PEND           |
+-------------------------------+----------------+
| CentOS Stream 10              | PASS           |
+-------------------------------+----------------+
| CentOS Stream 9               | PEND           |
+-------------------------------+----------------+
| Fedora Linux 42               | PEND           |
+-------------------------------+----------------+
| Red Hat Enterprise Linux 8.10 | PEND           |
+-------------------------------+----------------+
| Red Hat Enterprise Linux 9.5  | PEND           |
+-------------------------------+----------------+
| Windows Server 2022           | PEND           |
+-------------------------------+----------------+
| Ubuntu 20.04                  | PEND           |
+-------------------------------+----------------+
| Ubuntu 22.04                  | PEND           |
+-------------------------------+----------------+
| Ubuntu 24.04                  | PEND           |
+-------------------------------+----------------+


Fedora Linux 41
	Kernel: 5.15
	Compiler: clang gcc (GCC) 14.3.1 20250523 (Red Hat 14.3.1-1)

Debian GNU/Linux 12
	Kernel: 5.15
	Compiler: gcc gcc (Debian 12.2.0-14+deb12u1) 12.2.0

Fedora Linux 40
	Kernel: 5.15
	Compiler: clang gcc (GCC) 14.2.1 20240912 (Red Hat 14.2.1-3)

CentOS Stream 10
	Kernel: 5.15
	Compiler: gcc gcc (GCC) 14.2.1 20250110 (Red Hat 14.2.1-8)

CentOS Stream 9
	Kernel: 5.15
	Compiler: gcc gcc (GCC) 11.5.0 20240719 (Red Hat 11.5.0-11)

Fedora Linux 42
	Kernel: 5.15
	Compiler: gcc gcc (GCC) 15.2.1 20250808 (Red Hat 15.2.1-1)

Red Hat Enterprise Linux 8.10
	Kernel: 5.15
	Compiler: gcc gcc (GCC) 8.5.0 20210514 (Red Hat 8.5.0-22)

Red Hat Enterprise Linux 9.5
	Kernel: 5.15
	Compiler: gcc gcc (GCC) 11.5.0 20240719 (Red Hat 11.5.0-2)

Windows Server 2022
	Kernel: 10.0.20348.2031
	Compiler: clang 15.0.7, gcc 14.1.0 (MinGW), and MSVC VS 19.39.33521

Ubuntu 20.04
	Kernel: 5.15
	Compiler: gcc gcc (Ubuntu 9.4.0-1ubuntu1~20.04.2) 9.4.0

Ubuntu 22.04
	Kernel: 5.15
	Compiler: gcc gcc (Ubuntu 11.4.0-1ubuntu1~22.04) 11.4.0

Ubuntu 24.04
	Kernel: 5.15
	Compiler: gcc gcc (Ubuntu 13.3.0-6ubuntu2~24.04) 13.3.0

To view detailed results, visit:
https://lab.dpdk.org/results/dashboard/patchsets/34222/

UNH-IOL DPDK Community Lab

To manage your email subscriptions, visit: 
https://lab.dpdk.org/results/dashboard/preferences/subscriptions/

^ permalink raw reply	[flat|nested] 20+ messages in thread

* |SUCCESS| pw157297 [PATCH] net/intel/e1000: reduce the optimization
       [not found] <20251006124506.388456-1-thierry.herbelot@6wind.com>
                   ` (4 preceding siblings ...)
  2025-10-06 13:11 ` dpdklab
@ 2025-10-06 13:13 ` dpdklab
  2025-10-06 13:17 ` dpdklab
                   ` (13 subsequent siblings)
  19 siblings, 0 replies; 20+ messages in thread
From: dpdklab @ 2025-10-06 13:13 UTC (permalink / raw)
  To: Test Report; +Cc: dpdk-test-reports, Bruce Richardson

Test-Label: iol-mellanox-Functional
Test-Status: SUCCESS
http://dpdk.org/patch/157297

_Functional Testing PASS_

Submitter: Thierry Herbelot <thierry.herbelot@6wind.com>
Date: Monday, October 06 2025 12:45:06 
DPDK git baseline: Repo:dpdk-next-net-intel
  Branch: master
  CommitID:e7d8cc7ef4df3552575525697079d3c957cfcdaf

157297 --> functional testing pass

Upstream job id: Template-DPDK-DTS-Pipeline#2324

Test environment and result as below:

Ubuntu 24.04
Kernel: 6.8.0-55-generic
Compiler: gcc 13.3.0
NIC: Mellanox ConnectX-5 100000 Mbps

Aggregate Results by Test Suite
+---------------------------------+--------+
|           Test Suite            | Result |
+=================================+========+
| blocklist                       |  PASS  |
+---------------------------------+--------+
| promisc_support                 |  PASS  |
+---------------------------------+--------+
| uni_pkt                         |  PASS  |
+---------------------------------+--------+
| dynamic_config                  |  PASS  |
+---------------------------------+--------+
| hello_world                     |  PASS  |
+---------------------------------+--------+
| l2fwd                           |  PASS  |
+---------------------------------+--------+
| port_restart_config_persistency |  PASS  |
+---------------------------------+--------+
| softnic                         |  PASS  |
+---------------------------------+--------+
| vlan                            |  PASS  |
+---------------------------------+--------+


To view detailed results, visit:
https://lab.dpdk.org/results/dashboard/patchsets/34222/

UNH-IOL DPDK Community Lab

To manage your email subscriptions, visit: 
https://lab.dpdk.org/results/dashboard/preferences/subscriptions/

^ permalink raw reply	[flat|nested] 20+ messages in thread

* |SUCCESS| pw157297 [PATCH] net/intel/e1000: reduce the optimization
       [not found] <20251006124506.388456-1-thierry.herbelot@6wind.com>
                   ` (5 preceding siblings ...)
  2025-10-06 13:13 ` |SUCCESS| " dpdklab
@ 2025-10-06 13:17 ` dpdklab
  2025-10-06 13:21 ` |PENDING| " dpdklab
                   ` (12 subsequent siblings)
  19 siblings, 0 replies; 20+ messages in thread
From: dpdklab @ 2025-10-06 13:17 UTC (permalink / raw)
  To: Test Report; +Cc: dpdk-test-reports, Bruce Richardson

Test-Label: iol-marvell-Functional
Test-Status: SUCCESS
http://dpdk.org/patch/157297

_Functional Testing PASS_

Submitter: Thierry Herbelot <thierry.herbelot@6wind.com>
Date: Monday, October 06 2025 12:45:06 
DPDK git baseline: Repo:dpdk-next-net-intel
  Branch: master
  CommitID:e7d8cc7ef4df3552575525697079d3c957cfcdaf

157297 --> functional testing pass

Upstream job id: Template-DTS-Pipeline#248044

Test environment and result as below:

Ubuntu 20.04.6
Kernel: 5.4.105
Compiler: gcc 9.4
NIC: Marvell CN106XX 50000 Mbps
Target: arm64-native-linuxapp-gcc

Aggregate Results by Test Suite
+----------------+--------+
|   Test Suite   | Result |
+================+========+
| cmdline        |  PASS  |
+----------------+--------+
| rxtx_callbacks |  PASS  |
+----------------+--------+


To view detailed results, visit:
https://lab.dpdk.org/results/dashboard/patchsets/34222/

UNH-IOL DPDK Community Lab

To manage your email subscriptions, visit: 
https://lab.dpdk.org/results/dashboard/preferences/subscriptions/

^ permalink raw reply	[flat|nested] 20+ messages in thread

* |PENDING| pw157297 [PATCH] net/intel/e1000: reduce the optimization
       [not found] <20251006124506.388456-1-thierry.herbelot@6wind.com>
                   ` (6 preceding siblings ...)
  2025-10-06 13:17 ` dpdklab
@ 2025-10-06 13:21 ` dpdklab
  2025-10-06 13:31 ` |SUCCESS| " dpdklab
                   ` (11 subsequent siblings)
  19 siblings, 0 replies; 20+ messages in thread
From: dpdklab @ 2025-10-06 13:21 UTC (permalink / raw)
  To: Test Report; +Cc: dpdk-test-reports

Test-Label: iol-sample-apps-testing
Test-Status: PENDING
http://dpdk.org/patch/157297

_Testing pending_

Submitter: Thierry Herbelot <thierry.herbelot@6wind.com>
Date: Monday, October 06 2025 12:45:06 
DPDK git baseline: Repo:dpdk-next-net-intel
  Branch: master
  CommitID:e7d8cc7ef4df3552575525697079d3c957cfcdaf

157297 --> testing pending

Upstream job id: Template-DTS-Pipeline#248046

Test environment and result as below:

+--------------+----------------------+----------------------+
| Environment  | dpdk_fips_validation | compressdev_zlib_pmd |
+==============+======================+======================+
| Ubuntu 20.04 | PEND                 | SKIPPED              |
+--------------+----------------------+----------------------+
| Ubuntu 22.04 | SKIPPED              | PASS                 |
+--------------+----------------------+----------------------+


Ubuntu 20.04
	Kernel: 5.15
	Compiler: gcc gcc (Ubuntu 9.4.0-1ubuntu1~20.04.2) 9.4.0

Ubuntu 22.04
	Kernel: 5.15
	Compiler: gcc gcc (Ubuntu 11.4.0-1ubuntu1~22.04.2) 11.4.0

To view detailed results, visit:
https://lab.dpdk.org/results/dashboard/patchsets/34222/

UNH-IOL DPDK Community Lab

To manage your email subscriptions, visit: 
https://lab.dpdk.org/results/dashboard/preferences/subscriptions/

^ permalink raw reply	[flat|nested] 20+ messages in thread

* |SUCCESS| pw157297 [PATCH] net/intel/e1000: reduce the optimization
       [not found] <20251006124506.388456-1-thierry.herbelot@6wind.com>
                   ` (7 preceding siblings ...)
  2025-10-06 13:21 ` |PENDING| " dpdklab
@ 2025-10-06 13:31 ` dpdklab
  2025-10-06 13:31 ` |PENDING| " dpdklab
                   ` (10 subsequent siblings)
  19 siblings, 0 replies; 20+ messages in thread
From: dpdklab @ 2025-10-06 13:31 UTC (permalink / raw)
  To: Test Report; +Cc: dpdk-test-reports, Bruce Richardson

Test-Label: iol-intel-Functional
Test-Status: SUCCESS
http://dpdk.org/patch/157297

_Functional Testing PASS_

Submitter: Thierry Herbelot <thierry.herbelot@6wind.com>
Date: Monday, October 06 2025 12:45:06 
DPDK git baseline: Repo:dpdk-next-net-intel
  Branch: master
  CommitID:e7d8cc7ef4df3552575525697079d3c957cfcdaf

157297 --> functional testing pass

Upstream job id: Template-DTS-Pipeline#248047

Test environment and result as below:

Ubuntu 24.04 LTS
Kernel: 6.8.0-44-generic
Compiler: gcc 13.2.0
NIC: Intel Corporation Ethernet Controller XL710 for 40GbE QSFP+ 40 Mbps

Aggregate Results by Test Suite
+--------------------+--------+
|     Test Suite     | Result |
+====================+========+
| blocklist          |  PASS  |
+--------------------+--------+
| promisc_support    |  PASS  |
+--------------------+--------+
| uni_pkt            |  PASS  |
+--------------------+--------+
| dynamic_config     |  PASS  |
+--------------------+--------+
| dynamic_queue_conf |  PASS  |
+--------------------+--------+
| hello_world        |  PASS  |
+--------------------+--------+
| l2fwd              |  PASS  |
+--------------------+--------+
| softnic            |  PASS  |
+--------------------+--------+
| vlan               |  PASS  |
+--------------------+--------+


Ubuntu 24.04
Kernel: 6.8
Compiler: gcc gcc (Ubuntu 13.3.0-6ubuntu2~24.04) 13.3.0
NIC: Intel Corporation 4xxx Series QAT 0 Mbps

Aggregate Results by Test Suite
+----------------------------+--------+
|         Test Suite         | Result |
+============================+========+
| crypto_perf_cryptodev_perf |  PASS  |
+----------------------------+--------+


To view detailed results, visit:
https://lab.dpdk.org/results/dashboard/patchsets/34222/

UNH-IOL DPDK Community Lab

To manage your email subscriptions, visit: 
https://lab.dpdk.org/results/dashboard/preferences/subscriptions/

^ permalink raw reply	[flat|nested] 20+ messages in thread

* |PENDING| pw157297 [PATCH] net/intel/e1000: reduce the optimization
       [not found] <20251006124506.388456-1-thierry.herbelot@6wind.com>
                   ` (8 preceding siblings ...)
  2025-10-06 13:31 ` |SUCCESS| " dpdklab
@ 2025-10-06 13:31 ` dpdklab
  2025-10-06 13:38 ` |SUCCESS| " dpdklab
                   ` (9 subsequent siblings)
  19 siblings, 0 replies; 20+ messages in thread
From: dpdklab @ 2025-10-06 13:31 UTC (permalink / raw)
  To: Test Report; +Cc: dpdk-test-reports

Test-Label: iol-unit-arm64-testing
Test-Status: PENDING
http://dpdk.org/patch/157297

_Testing pending_

Submitter: Thierry Herbelot <thierry.herbelot@6wind.com>
Date: Monday, October 06 2025 12:45:06 
DPDK git baseline: Repo:dpdk-next-net-intel
  Branch: master
  CommitID:e7d8cc7ef4df3552575525697079d3c957cfcdaf

157297 --> testing pending

Upstream job id: Aarch32-Unit-Test#7752

Test environment and result as below:

+------------------------------+----------------+------------------------------+---------------------------+--------------+
|         Environment          | dpdk_unit_test | cryptodev_sw_snow3g_autotest | cryptodev_sw_zuc_autotest | lpm_autotest |
+==============================+================+==============================+===========================+==============+
| Fedora Linux 41              | PEND           | SKIPPED                      | SKIPPED                   | SKIPPED      |
+------------------------------+----------------+------------------------------+---------------------------+--------------+
| CentOS Stream 9              | PEND           | SKIPPED                      | SKIPPED                   | SKIPPED      |
+------------------------------+----------------+------------------------------+---------------------------+--------------+
| Fedora Linux 40              | PEND           | SKIPPED                      | SKIPPED                   | SKIPPED      |
+------------------------------+----------------+------------------------------+---------------------------+--------------+
| Debian GNU/Linux 12          | PEND           | SKIPPED                      | SKIPPED                   | SKIPPED      |
+------------------------------+----------------+------------------------------+---------------------------+--------------+
| Fedora Linux 42              | PEND           | SKIPPED                      | SKIPPED                   | SKIPPED      |
+------------------------------+----------------+------------------------------+---------------------------+--------------+
| Ubuntu 22.04                 | PEND           | SKIPPED                      | SKIPPED                   | SKIPPED      |
+------------------------------+----------------+------------------------------+---------------------------+--------------+
| Ubuntu 20.04                 | PEND           | SKIPPED                      | SKIPPED                   | PEND         |
+------------------------------+----------------+------------------------------+---------------------------+--------------+
| CentOS Stream 10             | PEND           | SKIPPED                      | SKIPPED                   | SKIPPED      |
+------------------------------+----------------+------------------------------+---------------------------+--------------+
| Red Hat Enterprise Linux 9.5 | PEND           | SKIPPED                      | SKIPPED                   | SKIPPED      |
+------------------------------+----------------+------------------------------+---------------------------+--------------+
| Ubuntu 24.04                 | PEND           | SKIPPED                      | SKIPPED                   | SKIPPED      |
+------------------------------+----------------+------------------------------+---------------------------+--------------+
| Debian 12 (arm)              | SKIPPED        | PEND                         | PEND                      | SKIPPED      |
+------------------------------+----------------+------------------------------+---------------------------+--------------+


Fedora Linux 41
	Kernel: 5.4
	Compiler: clang gcc (GCC) 14.3.1 20250523 (Red Hat 14.3.1-1)

CentOS Stream 9
	Kernel: 5.4
	Compiler: gcc gcc (GCC) 11.5.0 20240719 (Red Hat 11.5.0-11)

Fedora Linux 40
	Kernel: 5.4
	Compiler: clang gcc (GCC) 14.2.1 20240912 (Red Hat 14.2.1-3)

Debian GNU/Linux 12
	Kernel: 5.4
	Compiler: gcc gcc (Debian 12.2.0-14+deb12u1) 12.2.0

Fedora Linux 42
	Kernel: 5.4
	Compiler: gcc gcc (GCC) 15.2.1 20250808 (Red Hat 15.2.1-1)

Ubuntu 22.04
	Kernel: 5.15
	Compiler: gcc gcc (Ubuntu 11.4.0-1ubuntu1~22.04.2) 11.4.0

Ubuntu 20.04
	Kernel: 5.4
	Compiler: gcc gcc (Ubuntu 9.4.0-1ubuntu1~20.04.2) 9.4.0

CentOS Stream 10
	Kernel: 5.4
	Compiler: gcc gcc (GCC) 14.2.1 20250110 (Red Hat 14.2.1-8)

Red Hat Enterprise Linux 9.5
	Kernel: 5.4
	Compiler: gcc gcc (GCC) 11.5.0 20240719 (Red Hat 11.5.0-2)

Ubuntu 24.04
	Kernel: 5.4
	Compiler: gcc gcc (Ubuntu 13.3.0-6ubuntu2~24.04) 13.3.0

Debian 12 (arm)
	Kernel: Depends on container host
	Compiler: gcc (Debian 12.2.0-14) 12.2.0

To view detailed results, visit:
https://lab.dpdk.org/results/dashboard/patchsets/34222/

UNH-IOL DPDK Community Lab

To manage your email subscriptions, visit: 
https://lab.dpdk.org/results/dashboard/preferences/subscriptions/

^ permalink raw reply	[flat|nested] 20+ messages in thread

* |SUCCESS| pw157297 [PATCH] net/intel/e1000: reduce the optimization
       [not found] <20251006124506.388456-1-thierry.herbelot@6wind.com>
                   ` (9 preceding siblings ...)
  2025-10-06 13:31 ` |PENDING| " dpdklab
@ 2025-10-06 13:38 ` dpdklab
  2025-10-06 13:46 ` dpdklab
                   ` (8 subsequent siblings)
  19 siblings, 0 replies; 20+ messages in thread
From: dpdklab @ 2025-10-06 13:38 UTC (permalink / raw)
  To: Test Report; +Cc: dpdk-test-reports, Bruce Richardson

Test-Label: iol-sample-apps-testing
Test-Status: SUCCESS
http://dpdk.org/patch/157297

_Testing PASS_

Submitter: Thierry Herbelot <thierry.herbelot@6wind.com>
Date: Monday, October 06 2025 12:45:06 
DPDK git baseline: Repo:dpdk-next-net-intel
  Branch: master
  CommitID:e7d8cc7ef4df3552575525697079d3c957cfcdaf

157297 --> testing pass

Upstream job id: ACVP-FIPS-testing#11336

Test environment and result as below:

+--------------+----------------------+----------------------+
| Environment  | dpdk_fips_validation | compressdev_zlib_pmd |
+==============+======================+======================+
| Ubuntu 20.04 | PASS                 | SKIPPED              |
+--------------+----------------------+----------------------+
| Ubuntu 22.04 | SKIPPED              | PASS                 |
+--------------+----------------------+----------------------+


Ubuntu 20.04
	Kernel: 5.15
	Compiler: gcc gcc (Ubuntu 9.4.0-1ubuntu1~20.04.2) 9.4.0

Ubuntu 22.04
	Kernel: 5.15
	Compiler: gcc gcc (Ubuntu 11.4.0-1ubuntu1~22.04.2) 11.4.0

To view detailed results, visit:
https://lab.dpdk.org/results/dashboard/patchsets/34222/

UNH-IOL DPDK Community Lab

To manage your email subscriptions, visit: 
https://lab.dpdk.org/results/dashboard/preferences/subscriptions/

^ permalink raw reply	[flat|nested] 20+ messages in thread

* |SUCCESS| pw157297 [PATCH] net/intel/e1000: reduce the optimization
       [not found] <20251006124506.388456-1-thierry.herbelot@6wind.com>
                   ` (10 preceding siblings ...)
  2025-10-06 13:38 ` |SUCCESS| " dpdklab
@ 2025-10-06 13:46 ` dpdklab
  2025-10-06 13:46 ` |SUCCESS| pw157297 [PATCH] net/intel/e1000: reduce the optimization level for gcc > 11 0-day Robot
                   ` (7 subsequent siblings)
  19 siblings, 0 replies; 20+ messages in thread
From: dpdklab @ 2025-10-06 13:46 UTC (permalink / raw)
  To: Test Report; +Cc: dpdk-test-reports, Bruce Richardson

Test-Label: iol-compile-amd64-testing
Test-Status: SUCCESS
http://dpdk.org/patch/157297

_Testing PASS_

Submitter: Thierry Herbelot <thierry.herbelot@6wind.com>
Date: Monday, October 06 2025 12:45:06 
DPDK git baseline: Repo:dpdk-next-net-intel
  Branch: master
  CommitID:e7d8cc7ef4df3552575525697079d3c957cfcdaf

157297 --> testing pass

Upstream job id: Windows-Compile-DPDK-Native#31446

Test environment and result as below:

+---------------------+--------------------+-------------------------+-------------------+----------------------+
|     Environment     | dpdk_meson_compile | dpdk_llvm_clang_compile | dpdk_msvc_compile | dpdk_mingw64_compile |
+=====================+====================+=========================+===================+======================+
| Ubuntu 20.04        | PASS               | SKIPPED                 | SKIPPED           | SKIPPED              |
+---------------------+--------------------+-------------------------+-------------------+----------------------+
| FreeBSD 14.2        | PASS               | SKIPPED                 | SKIPPED           | SKIPPED              |
+---------------------+--------------------+-------------------------+-------------------+----------------------+
| Windows Server 2022 | SKIPPED            | PASS                    | PASS              | PASS                 |
+---------------------+--------------------+-------------------------+-------------------+----------------------+


Ubuntu 20.04
	Kernel: 4.19
	Compiler: gcc gcc (Ubuntu 9.4.0-1ubuntu1~20.04.2) 9.4.0

FreeBSD 14.2
	Kernel: 14.2-RELEASE
	Compiler: clang 18.1.6

Windows Server 2022
	Kernel: 10.0.20348.2031
	Compiler: clang 15.0.7, gcc 14.1.0 (MinGW), and MSVC VS 19.39.33521

To view detailed results, visit:
https://lab.dpdk.org/results/dashboard/patchsets/34222/

UNH-IOL DPDK Community Lab

To manage your email subscriptions, visit: 
https://lab.dpdk.org/results/dashboard/preferences/subscriptions/

^ permalink raw reply	[flat|nested] 20+ messages in thread

* |SUCCESS| pw157297 [PATCH] net/intel/e1000: reduce the optimization level for gcc > 11
       [not found] <20251006124506.388456-1-thierry.herbelot@6wind.com>
                   ` (11 preceding siblings ...)
  2025-10-06 13:46 ` dpdklab
@ 2025-10-06 13:46 ` 0-day Robot
  2025-10-06 13:47 ` 0-day Robot
                   ` (6 subsequent siblings)
  19 siblings, 0 replies; 20+ messages in thread
From: 0-day Robot @ 2025-10-06 13:46 UTC (permalink / raw)
  To: test-report; +Cc: robot

From: robot@bytheb.org

Test-Label: github-robot: build
Test-Status: SUCCESS
http://patchwork.dpdk.org/patch/157297/

_github build: passed_
Build URL: https://github.com/ovsrobot/dpdk/actions/runs/18281922817

^ permalink raw reply	[flat|nested] 20+ messages in thread

* |SUCCESS| pw157297 [PATCH] net/intel/e1000: reduce the optimization level for gcc > 11
       [not found] <20251006124506.388456-1-thierry.herbelot@6wind.com>
                   ` (12 preceding siblings ...)
  2025-10-06 13:46 ` |SUCCESS| pw157297 [PATCH] net/intel/e1000: reduce the optimization level for gcc > 11 0-day Robot
@ 2025-10-06 13:47 ` 0-day Robot
  2025-10-06 13:52 ` |SUCCESS| pw157297 [PATCH] net/intel/e1000: reduce the optimization dpdklab
                   ` (5 subsequent siblings)
  19 siblings, 0 replies; 20+ messages in thread
From: 0-day Robot @ 2025-10-06 13:47 UTC (permalink / raw)
  To: test-report; +Cc: robot

From: robot@bytheb.org

Test-Label: github-robot-post
Test-Status: SUCCESS
http://patchwork.dpdk.org/patch/157297/

_github post: success_
HTML Link: https://github.com/ovsrobot/dpdk/pull/144

^ permalink raw reply	[flat|nested] 20+ messages in thread

* |SUCCESS| pw157297 [PATCH] net/intel/e1000: reduce the optimization
       [not found] <20251006124506.388456-1-thierry.herbelot@6wind.com>
                   ` (13 preceding siblings ...)
  2025-10-06 13:47 ` 0-day Robot
@ 2025-10-06 13:52 ` dpdklab
  2025-10-06 13:58 ` dpdklab
                   ` (4 subsequent siblings)
  19 siblings, 0 replies; 20+ messages in thread
From: dpdklab @ 2025-10-06 13:52 UTC (permalink / raw)
  To: Test Report; +Cc: dpdk-test-reports, Bruce Richardson

Test-Label: iol-sample-apps-testing
Test-Status: SUCCESS
http://dpdk.org/patch/157297

_Testing PASS_

Submitter: Thierry Herbelot <thierry.herbelot@6wind.com>
Date: Monday, October 06 2025 12:45:06 
DPDK git baseline: Repo:dpdk-next-net-intel
  Branch: master
  CommitID:e7d8cc7ef4df3552575525697079d3c957cfcdaf

157297 --> testing pass

Upstream job id: Template-DTS-Pipeline#248045

Test environment and result as below:

+--------------+----------------------+----------------------+
| Environment  | dpdk_fips_validation | compressdev_zlib_pmd |
+==============+======================+======================+
| Ubuntu 20.04 | PASS                 | SKIPPED              |
+--------------+----------------------+----------------------+
| Ubuntu 22.04 | SKIPPED              | PASS                 |
+--------------+----------------------+----------------------+


Ubuntu 20.04
	Kernel: 5.15
	Compiler: gcc gcc (Ubuntu 9.4.0-1ubuntu1~20.04.2) 9.4.0

Ubuntu 22.04
	Kernel: 5.15
	Compiler: gcc gcc (Ubuntu 11.4.0-1ubuntu1~22.04.2) 11.4.0

To view detailed results, visit:
https://lab.dpdk.org/results/dashboard/patchsets/34222/

UNH-IOL DPDK Community Lab

To manage your email subscriptions, visit: 
https://lab.dpdk.org/results/dashboard/preferences/subscriptions/

^ permalink raw reply	[flat|nested] 20+ messages in thread

* |SUCCESS| pw157297 [PATCH] net/intel/e1000: reduce the optimization
       [not found] <20251006124506.388456-1-thierry.herbelot@6wind.com>
                   ` (14 preceding siblings ...)
  2025-10-06 13:52 ` |SUCCESS| pw157297 [PATCH] net/intel/e1000: reduce the optimization dpdklab
@ 2025-10-06 13:58 ` dpdklab
  2025-10-06 13:58 ` dpdklab
                   ` (3 subsequent siblings)
  19 siblings, 0 replies; 20+ messages in thread
From: dpdklab @ 2025-10-06 13:58 UTC (permalink / raw)
  To: Test Report; +Cc: dpdk-test-reports, Bruce Richardson

Test-Label: iol-broadcom-Performance
Test-Status: SUCCESS
http://dpdk.org/patch/157297

_Performance Testing PASS_

Submitter: Thierry Herbelot <thierry.herbelot@6wind.com>
Date: Monday, October 06 2025 12:45:06 
DPDK git baseline: Repo:dpdk-next-net-intel
  Branch: master
  CommitID:e7d8cc7ef4df3552575525697079d3c957cfcdaf

157297 --> performance testing pass

Upstream job id: Template-DTS-Pipeline#248039

Test environment and result as below:

Ubuntu 22.04
Kernel: 5.15
Compiler: gcc gcc (Ubuntu 11.4.0-1ubuntu1~22.04) 11.4.0
NIC: Broadcom Inc. and subsidiaries BCM57414 NetXtreme-E 10Gb/25Gb RDMA Ethernet Controller 16d7 25 Mbps
Fail/Total: 0/3

Detail performance results: 
+------------+---------+----------+-------------+------------------------------+
| frame_size | txd/rxd | num_cpus | num_threads |  throughput difference from  |
|            |         |          |             |           expected           |
+============+=========+==========+=============+==============================+
| 64         | 128     | 1        | 1           | 0.6%                         |
+------------+---------+----------+-------------+------------------------------+
| 64         | 512     | 1        | 1           | -0.5%                        |
+------------+---------+----------+-------------+------------------------------+
| 64         | 2048    | 1        | 1           | -0.1%                        |
+------------+---------+----------+-------------+------------------------------+

Ubuntu 22.04
Kernel: 5.15
Compiler: gcc gcc (Ubuntu 11.4.0-1ubuntu1~22.04.2) 11.4.0
NIC: Arm Broadcom Inc. brcm_57414 25000 Mbps
Fail/Total: 0/2

Detail performance results: 
+------------+---------+----------+-------------+------------------------------+
| frame_size | txd/rxd | num_cpus | num_threads |  throughput difference from  |
|            |         |          |             |           expected           |
+============+=========+==========+=============+==============================+
| 64         | 512     | 1        | 1           | 0.1%                         |
+------------+---------+----------+-------------+------------------------------+
| 64         | 2048    | 1        | 1           | -0.4%                        |
+------------+---------+----------+-------------+------------------------------+

To view detailed results, visit:
https://lab.dpdk.org/results/dashboard/patchsets/34222/

UNH-IOL DPDK Community Lab

To manage your email subscriptions, visit: 
https://lab.dpdk.org/results/dashboard/preferences/subscriptions/

^ permalink raw reply	[flat|nested] 20+ messages in thread

* |SUCCESS| pw157297 [PATCH] net/intel/e1000: reduce the optimization
       [not found] <20251006124506.388456-1-thierry.herbelot@6wind.com>
                   ` (15 preceding siblings ...)
  2025-10-06 13:58 ` dpdklab
@ 2025-10-06 13:58 ` dpdklab
  2025-10-06 14:02 ` dpdklab
                   ` (2 subsequent siblings)
  19 siblings, 0 replies; 20+ messages in thread
From: dpdklab @ 2025-10-06 13:58 UTC (permalink / raw)
  To: Test Report; +Cc: dpdk-test-reports, Bruce Richardson

Test-Label: iol-unit-amd64-testing
Test-Status: SUCCESS
http://dpdk.org/patch/157297

_Testing PASS_

Submitter: Thierry Herbelot <thierry.herbelot@6wind.com>
Date: Monday, October 06 2025 12:45:06 
DPDK git baseline: Repo:dpdk-next-net-intel
  Branch: master
  CommitID:e7d8cc7ef4df3552575525697079d3c957cfcdaf

157297 --> testing pass

Upstream job id: Generic-Unit-Test-DPDK#378877

Test environment and result as below:

+-------------------------------+----------------+
|          Environment          | dpdk_unit_test |
+===============================+================+
| Fedora Linux 41               | PASS           |
+-------------------------------+----------------+
| Debian GNU/Linux 12           | PASS           |
+-------------------------------+----------------+
| Fedora Linux 40               | PASS           |
+-------------------------------+----------------+
| CentOS Stream 10              | PASS           |
+-------------------------------+----------------+
| CentOS Stream 9               | PASS           |
+-------------------------------+----------------+
| Fedora Linux 42               | PASS           |
+-------------------------------+----------------+
| Red Hat Enterprise Linux 8.10 | PASS           |
+-------------------------------+----------------+
| Red Hat Enterprise Linux 9.5  | PASS           |
+-------------------------------+----------------+
| Windows Server 2022           | PASS           |
+-------------------------------+----------------+
| Ubuntu 20.04                  | PASS           |
+-------------------------------+----------------+
| Ubuntu 22.04                  | PASS           |
+-------------------------------+----------------+
| Ubuntu 24.04                  | PASS           |
+-------------------------------+----------------+


Fedora Linux 41
	Kernel: 5.15
	Compiler: clang gcc (GCC) 14.3.1 20250523 (Red Hat 14.3.1-1)

Debian GNU/Linux 12
	Kernel: 5.15
	Compiler: gcc gcc (Debian 12.2.0-14+deb12u1) 12.2.0

Fedora Linux 40
	Kernel: 5.15
	Compiler: clang gcc (GCC) 14.2.1 20240912 (Red Hat 14.2.1-3)

CentOS Stream 10
	Kernel: 5.15
	Compiler: gcc gcc (GCC) 14.2.1 20250110 (Red Hat 14.2.1-8)

CentOS Stream 9
	Kernel: 5.15
	Compiler: gcc gcc (GCC) 11.5.0 20240719 (Red Hat 11.5.0-11)

Fedora Linux 42
	Kernel: 5.15
	Compiler: gcc gcc (GCC) 15.2.1 20250808 (Red Hat 15.2.1-1)

Red Hat Enterprise Linux 8.10
	Kernel: 5.15
	Compiler: gcc gcc (GCC) 8.5.0 20210514 (Red Hat 8.5.0-22)

Red Hat Enterprise Linux 9.5
	Kernel: 5.15
	Compiler: gcc gcc (GCC) 11.5.0 20240719 (Red Hat 11.5.0-2)

Windows Server 2022
	Kernel: 10.0.20348.2031
	Compiler: clang 15.0.7, gcc 14.1.0 (MinGW), and MSVC VS 19.39.33521

Ubuntu 20.04
	Kernel: 5.15
	Compiler: gcc gcc (Ubuntu 9.4.0-1ubuntu1~20.04.2) 9.4.0

Ubuntu 22.04
	Kernel: 5.15
	Compiler: gcc gcc (Ubuntu 11.4.0-1ubuntu1~22.04) 11.4.0

Ubuntu 24.04
	Kernel: 5.15
	Compiler: gcc gcc (Ubuntu 13.3.0-6ubuntu2~24.04) 13.3.0

To view detailed results, visit:
https://lab.dpdk.org/results/dashboard/patchsets/34222/

UNH-IOL DPDK Community Lab

To manage your email subscriptions, visit: 
https://lab.dpdk.org/results/dashboard/preferences/subscriptions/

^ permalink raw reply	[flat|nested] 20+ messages in thread

* |SUCCESS| pw157297 [PATCH] net/intel/e1000: reduce the optimization
       [not found] <20251006124506.388456-1-thierry.herbelot@6wind.com>
                   ` (16 preceding siblings ...)
  2025-10-06 13:58 ` dpdklab
@ 2025-10-06 14:02 ` dpdklab
  2025-10-06 14:18 ` dpdklab
  2025-10-06 14:37 ` dpdklab
  19 siblings, 0 replies; 20+ messages in thread
From: dpdklab @ 2025-10-06 14:02 UTC (permalink / raw)
  To: Test Report; +Cc: dpdk-test-reports, Bruce Richardson

Test-Label: iol-intel-Functional
Test-Status: SUCCESS
http://dpdk.org/patch/157297

_Functional Testing PASS_

Submitter: Thierry Herbelot <thierry.herbelot@6wind.com>
Date: Monday, October 06 2025 12:45:06 
DPDK git baseline: Repo:dpdk-next-net-intel
  Branch: master
  CommitID:e7d8cc7ef4df3552575525697079d3c957cfcdaf

157297 --> functional testing pass

Upstream job id: Template-DTS-Pipeline#248041

Test environment and result as below:

Ubuntu 24.04 LTS
Kernel: 6.8.0-44-generic
Compiler: gcc 13.2.0
NIC: Intel Corporation Ethernet Controller XL710 for 40GbE QSFP+ 40 Mbps

Aggregate Results by Test Suite
+--------------------+--------+
|     Test Suite     | Result |
+====================+========+
| blocklist          |  PASS  |
+--------------------+--------+
| promisc_support    |  PASS  |
+--------------------+--------+
| uni_pkt            |  PASS  |
+--------------------+--------+
| dynamic_config     |  PASS  |
+--------------------+--------+
| dynamic_queue_conf |  PASS  |
+--------------------+--------+
| hello_world        |  PASS  |
+--------------------+--------+
| l2fwd              |  PASS  |
+--------------------+--------+
| softnic            |  PASS  |
+--------------------+--------+
| vlan               |  PASS  |
+--------------------+--------+


Ubuntu 24.04
Kernel: 6.8
Compiler: gcc gcc (Ubuntu 13.3.0-6ubuntu2~24.04) 13.3.0
NIC: Intel Corporation 4xxx Series QAT 0 Mbps

Aggregate Results by Test Suite
+----------------------------+--------+
|         Test Suite         | Result |
+============================+========+
| crypto_perf_cryptodev_perf |  PASS  |
+----------------------------+--------+


Ubuntu 20.04
Kernel: 5.4
Compiler: gcc gcc (Ubuntu 9.4.0-1ubuntu1~20.04.1) 9.4.0
NIC: Intel Corporation Ethernet Converged Network Adapter XL710-QDA2 40000 Mbps

Aggregate Results by Test Suite
+-----------------------------+--------+
|         Test Suite          | Result |
+=============================+========+
| unit_tests_mbuf             |  PASS  |
+-----------------------------+--------+
| vhost_virtio_user_interrupt |  PASS  |
+-----------------------------+--------+
| virtio_smoke                |  PASS  |
+-----------------------------+--------+


To view detailed results, visit:
https://lab.dpdk.org/results/dashboard/patchsets/34222/

UNH-IOL DPDK Community Lab

To manage your email subscriptions, visit: 
https://lab.dpdk.org/results/dashboard/preferences/subscriptions/

^ permalink raw reply	[flat|nested] 20+ messages in thread

* |SUCCESS| pw157297 [PATCH] net/intel/e1000: reduce the optimization
       [not found] <20251006124506.388456-1-thierry.herbelot@6wind.com>
                   ` (17 preceding siblings ...)
  2025-10-06 14:02 ` dpdklab
@ 2025-10-06 14:18 ` dpdklab
  2025-10-06 14:37 ` dpdklab
  19 siblings, 0 replies; 20+ messages in thread
From: dpdklab @ 2025-10-06 14:18 UTC (permalink / raw)
  To: Test Report; +Cc: dpdk-test-reports, Bruce Richardson

Test-Label: iol-intel-Functional
Test-Status: SUCCESS
http://dpdk.org/patch/157297

_Functional Testing PASS_

Submitter: Thierry Herbelot <thierry.herbelot@6wind.com>
Date: Monday, October 06 2025 12:45:06 
DPDK git baseline: Repo:dpdk-next-net-intel
  Branch: master
  CommitID:e7d8cc7ef4df3552575525697079d3c957cfcdaf

157297 --> functional testing pass

Upstream job id: Template-DTS-Pipeline#248043

Test environment and result as below:

Ubuntu 24.04 LTS
Kernel: 6.8.0-44-generic
Compiler: gcc 13.2.0
NIC: Intel Corporation Ethernet Controller XL710 for 40GbE QSFP+ 40 Mbps

Aggregate Results by Test Suite
+--------------------+--------+
|     Test Suite     | Result |
+====================+========+
| blocklist          |  PASS  |
+--------------------+--------+
| promisc_support    |  PASS  |
+--------------------+--------+
| uni_pkt            |  PASS  |
+--------------------+--------+
| dynamic_config     |  PASS  |
+--------------------+--------+
| dynamic_queue_conf |  PASS  |
+--------------------+--------+
| hello_world        |  PASS  |
+--------------------+--------+
| l2fwd              |  PASS  |
+--------------------+--------+
| softnic            |  PASS  |
+--------------------+--------+
| vlan               |  PASS  |
+--------------------+--------+


Ubuntu 24.04
Kernel: 6.8
Compiler: gcc gcc (Ubuntu 13.3.0-6ubuntu2~24.04) 13.3.0
NIC: Intel Corporation 4xxx Series QAT 0 Mbps

Aggregate Results by Test Suite
+----------------------------+--------+
|         Test Suite         | Result |
+============================+========+
| crypto_perf_cryptodev_perf |  PASS  |
+----------------------------+--------+


Ubuntu 22.04
Kernel: 5.15
Compiler: gcc gcc (Ubuntu 11.4.0-1ubuntu1~22.04.2) 11.4.0
NIC: Intel Corporation QAT 8970 0 Mbps

Aggregate Results by Test Suite
+----------------------------+--------+
|         Test Suite         | Result |
+============================+========+
| crypto_perf_cryptodev_perf |  PASS  |
+----------------------------+--------+


Ubuntu 20.04
Kernel: 5.4
Compiler: gcc gcc (Ubuntu 9.4.0-1ubuntu1~20.04.1) 9.4.0
NIC: Intel Corporation Ethernet Converged Network Adapter XL710-QDA2 40000 Mbps

Aggregate Results by Test Suite
+-----------------------------+--------+
|         Test Suite          | Result |
+=============================+========+
| unit_tests_mbuf             |  PASS  |
+-----------------------------+--------+
| vhost_virtio_user_interrupt |  PASS  |
+-----------------------------+--------+
| virtio_smoke                |  PASS  |
+-----------------------------+--------+


To view detailed results, visit:
https://lab.dpdk.org/results/dashboard/patchsets/34222/

UNH-IOL DPDK Community Lab

To manage your email subscriptions, visit: 
https://lab.dpdk.org/results/dashboard/preferences/subscriptions/

^ permalink raw reply	[flat|nested] 20+ messages in thread

* |SUCCESS| pw157297 [PATCH] net/intel/e1000: reduce the optimization
       [not found] <20251006124506.388456-1-thierry.herbelot@6wind.com>
                   ` (18 preceding siblings ...)
  2025-10-06 14:18 ` dpdklab
@ 2025-10-06 14:37 ` dpdklab
  19 siblings, 0 replies; 20+ messages in thread
From: dpdklab @ 2025-10-06 14:37 UTC (permalink / raw)
  To: Test Report; +Cc: dpdk-test-reports, Bruce Richardson

Test-Label: iol-intel-Performance
Test-Status: SUCCESS
http://dpdk.org/patch/157297

_Performance Testing PASS_

Submitter: Thierry Herbelot <thierry.herbelot@6wind.com>
Date: Monday, October 06 2025 12:45:06 
DPDK git baseline: Repo:dpdk-next-net-intel
  Branch: master
  CommitID:e7d8cc7ef4df3552575525697079d3c957cfcdaf

157297 --> performance testing pass

Upstream job id: Template-DTS-Pipeline#248040

Test environment and result as below:

Ubuntu 22.04
Kernel: 5.15
Compiler: gcc gcc (Ubuntu 11.4.0-1ubuntu1~22.04.2) 11.4.0
NIC: Intel E810 100000 Mbps
Fail/Total: 0/2

Detail performance results: 
+------------+---------+----------+-------------+------------------------------+
| frame_size | txd/rxd | num_cpus | num_threads |  throughput difference from  |
|            |         |          |             |           expected           |
+============+=========+==========+=============+==============================+
| 64         | 512     | 1        | 1           | 0.2%                         |
+------------+---------+----------+-------------+------------------------------+
| 64         | 2048    | 1        | 1           | -0.1%                        |
+------------+---------+----------+-------------+------------------------------+

Ubuntu 24.04
Kernel: 6.8
Compiler: gcc gcc (Ubuntu 13.3.0-6ubuntu2~24.04) 13.3.0
NIC: Intel E810 (Arm Grace Server) 100000 Mbps
Fail/Total: 0/2

Detail performance results: 
+------------+---------+----------+-------------+------------------------------+
| frame_size | txd/rxd | num_cpus | num_threads |  throughput difference from  |
|            |         |          |             |           expected           |
+============+=========+==========+=============+==============================+
| 64         | 512     | 1        | 1           | 40.5%                        |
+------------+---------+----------+-------------+------------------------------+
| 64         | 2048    | 1        | 1           | 25.6%                        |
+------------+---------+----------+-------------+------------------------------+

Ubuntu 20.04
Kernel: 5.4
Compiler: gcc gcc (Ubuntu 9.4.0-1ubuntu1~20.04.1) 9.4.0
NIC: Intel Corporation Ethernet Converged Network Adapter XL710-QDA2 40000 Mbps
Fail/Total: 0/4

Detail performance results: 
+----------+-------------+---------+------------+------------------------------+
| num_cpus | num_threads | txd/rxd | frame_size |  throughput difference from  |
|          |             |         |            |           expected           |
+==========+=============+=========+============+==============================+
| 1        | 2           | 512     | 64         | 0.7%                         |
+----------+-------------+---------+------------+------------------------------+
| 1        | 2           | 2048    | 64         | -0.4%                        |
+----------+-------------+---------+------------+------------------------------+
| 1        | 1           | 512     | 64         | 1.2%                         |
+----------+-------------+---------+------------+------------------------------+
| 1        | 1           | 2048    | 64         | -1.3%                        |
+----------+-------------+---------+------------+------------------------------+

To view detailed results, visit:
https://lab.dpdk.org/results/dashboard/patchsets/34222/

UNH-IOL DPDK Community Lab

To manage your email subscriptions, visit: 
https://lab.dpdk.org/results/dashboard/preferences/subscriptions/

^ permalink raw reply	[flat|nested] 20+ messages in thread

end of thread, other threads:[~2025-10-06 14:37 UTC | newest]

Thread overview: 20+ messages (download: mbox.gz / follow: Atom feed)
-- links below jump to the message on this page --
     [not found] <20251006124506.388456-1-thierry.herbelot@6wind.com>
2025-10-06 12:11 ` |SUCCESS| pw157297 [PATCH] net/intel/e1000: reduce the optimization level for gcc > 11 qemudev
2025-10-06 12:16 ` qemudev
2025-10-06 12:46 ` |WARNING| " checkpatch
2025-10-06 13:09 ` |PENDING| pw157297 [PATCH] net/intel/e1000: reduce the optimization dpdklab
2025-10-06 13:11 ` dpdklab
2025-10-06 13:13 ` |SUCCESS| " dpdklab
2025-10-06 13:17 ` dpdklab
2025-10-06 13:21 ` |PENDING| " dpdklab
2025-10-06 13:31 ` |SUCCESS| " dpdklab
2025-10-06 13:31 ` |PENDING| " dpdklab
2025-10-06 13:38 ` |SUCCESS| " dpdklab
2025-10-06 13:46 ` dpdklab
2025-10-06 13:46 ` |SUCCESS| pw157297 [PATCH] net/intel/e1000: reduce the optimization level for gcc > 11 0-day Robot
2025-10-06 13:47 ` 0-day Robot
2025-10-06 13:52 ` |SUCCESS| pw157297 [PATCH] net/intel/e1000: reduce the optimization dpdklab
2025-10-06 13:58 ` dpdklab
2025-10-06 13:58 ` dpdklab
2025-10-06 14:02 ` dpdklab
2025-10-06 14:18 ` dpdklab
2025-10-06 14:37 ` dpdklab

This is a public inbox, see mirroring instructions
for how to clone and mirror all data and code used for this inbox;
as well as URLs for NNTP newsgroup(s).